{"text_format":"1","workbook":"xlsx","n_sheets":18,"sheets":["Vorigpunt","KWJbil","Home","Instellingen","Wedstrijdoverzicht","Gespeeld","Wedstrijdschema","Werk1","Import","Leden","Schema1","Rang1","Uitslagen","Uitslagen1","Lidformat","Wedstijden","Releases","Web"],"not_rendered":{"charts":1,"images":5,"macros":1,"external_links":0,"defined_names":31,"comments":6,"pivot_tables":0},"unopened":[],"bounds":{"document_bytes":16777216,"sheet_cells":100000,"rows_first":2000,"rows_last":500,"rows_between":2000,"halvings":0,"cell_chars":16384,"cell_head_chars":4096},"cells_cut":0,"cells_raw":0,"read":"whole","date_system":"1900"}

{"sheet":"Vorigpunt","index":0,"n_rows":41,"n_cols":12,"rows_kept":41,"cut":false,"hidden":true,"merged":[[1,9,1,10],[32,1,32,10]]}
["Overzicht ranglijst eventuele eerdere competities die meetelt in de ranglijst"]
["Naam","Nummer","gespeeld","gewonnen","gelijk","verloren","punten","Hoogste","OverallGem","Goed gevuld?",null,"Geïmporteerde Competities"]
[{"$f":"IF(+Leden!A3=\"\",\"\",Leden!A3)","v":""},{"$f":"IF(+Leden!B3=\"\",\"\",Leden!B3)","v":""},null,null,null,null,null,null,null,{"$f":"IF(A3=\"\",\"\",IF(SUM(D3:F3)<>C3,\"wedstrijden fout\",\"Oké\"))","v":""},{"$f":"IF(J3=\"\",0,IF(J3=\"Oké\",0,1))","v":0}]
[{"$f":"IF(+Leden!A4=\"\",\"\",Leden!A4)","v":""},{"$f":"IF(+Leden!B4=\"\",\"\",Leden!B4)","v":""},null,null,null,null,null,null,null,{"$f":"IF(A4=\"\",\"\",IF(SUM(D4:F4)<>C4,\"wedstrijden fout\",\"Oké\"))","v":""},0]
[{"$f":"IF(+Leden!A5=\"\",\"\",Leden!A5)","v":""},{"$f":"IF(+Leden!B5=\"\",\"\",Leden!B5)","v":""},null,null,null,null,null,null,null,"",0]
[{"$f":"IF(+Leden!A6=\"\",\"\",Leden!A6)","v":""},{"$f":"IF(+Leden!B6=\"\",\"\",Leden!B6)","v":""},null,null,null,null,null,null,null,"",0]
[{"$f":"IF(+Leden!A7=\"\",\"\",Leden!A7)","v":""},{"$f":"IF(+Leden!B7=\"\",\"\",Leden!B7)","v":""},null,null,null,null,null,null,null,"",0]
[{"$f":"IF(+Leden!A8=\"\",\"\",Leden!A8)","v":""},{"$f":"IF(+Leden!B8=\"\",\"\",Leden!B8)","v":""},null,null,null,null,null,null,null,"",0]
[{"$f":"IF(+Leden!A9=\"\",\"\",Leden!A9)","v":""},{"$f":"IF(+Leden!B9=\"\",\"\",Leden!B9)","v":""},null,null,null,null,null,null,null,"",0]
[{"$f":"IF(+Leden!A10=\"\",\"\",Leden!A10)","v":""},{"$f":"IF(+Leden!B10=\"\",\"\",Leden!B10)","v":""},null,null,null,null,null,null,null,"",0]
[{"$f":"IF(+Leden!A11=\"\",\"\",Leden!A11)","v":""},{"$f":"IF(+Leden!B11=\"\",\"\",Leden!B11)","v":""},null,null,null,null,null,null,null,"",0]
[{"$f":"IF(+Leden!A12=\"\",\"\",Leden!A12)","v":""},{"$f":"IF(+Leden!B12=\"\",\"\",Leden!B12)","v":""},null,null,null,null,null,null,null,"",0]
[{"$f":"IF(+Leden!A13=\"\",\"\",Leden!A13)","v":""},{"$f":"IF(+Leden!B13=\"\",\"\",Leden!B13)","v":""},null,null,null,null,null,null,null,"",0]
[{"$f":"IF(+Leden!A14=\"\",\"\",Leden!A14)","v":""},{"$f":"IF(+Leden!B14=\"\",\"\",Leden!B14)","v":""},null,null,null,null,null,null,null,"",0]
[{"$f":"IF(+Leden!A15=\"\",\"\",Leden!A15)","v":""},{"$f":"IF(+Leden!B15=\"\",\"\",Leden!B15)","v":""},null,null,null,null,null,null,null,"",0]
[{"$f":"IF(+Leden!A16=\"\",\"\",Leden!A16)","v":""},{"$f":"IF(+Leden!B16=\"\",\"\",Leden!B16)","v":""},null,null,null,null,null,null,null,"",0]
[{"$f":"IF(+Leden!A17=\"\",\"\",Leden!A17)","v":""},{"$f":"IF(+Leden!B17=\"\",\"\",Leden!B17)","v":""},null,null,null,null,null,null,null,"",0]
[{"$f":"IF(+Leden!A18=\"\",\"\",Leden!A18)","v":""},{"$f":"IF(+Leden!B18=\"\",\"\",Leden!B18)","v":""},null,null,null,null,null,null,null,"",0]
[{"$f":"IF(+Leden!A19=\"\",\"\",Leden!A19)","v":""},{"$f":"IF(+Leden!B19=\"\",\"\",Leden!B19)","v":""},null,null,null,null,null,null,null,"",0]
[{"$f":"IF(+Leden!A20=\"\",\"\",Leden!A20)","v":""},{"$f":"IF(+Leden!B20=\"\",\"\",Leden!B20)","v":""},null,null,null,null,null,null,null,"",0]
[{"$f":"IF(+Leden!A21=\"\",\"\",Leden!A21)","v":""},{"$f":"IF(+Leden!B21=\"\",\"\",Leden!B21)","v":""},null,null,null,null,null,null,null,"",0]
[{"$f":"IF(+Leden!A22=\"\",\"\",Leden!A22)","v":""},{"$f":"IF(+Leden!B22=\"\",\"\",Leden!B22)","v":""},null,null,null,null,null,null,null,"",0]
[null,null,null,null,null,null,"Hashtot.",{"$f":"SUM(C3:H22)","v":0},null,null,{"$f":"SUM(K3:K22)","v":0}]
[]
[null,null,null,null,null,null,null,null,null,null,null,"Let op!!."]
[null,null,null,null,null,null,null,null,null,null,null,"Bij verversen worden aale gegevens eerdere competities "]
[null,null,null,null,null,null,null,null,null,null,null,"overschreven door actuele gegevens van Bestand waaruit geïmporteerd moet worden"]
[]
["Hieronder heeft u de mogelijkheid gegevens van andere comptities in te voeren."]
["Invoeren kan handmatig, maar kan ook via het selecteren van het bestand en daarna button            Ophalen.   Er wordt doorgeteld m.a.w. bij meerdere keren ophalen ziet u de som."]
["                         ",null,null,null,null,null,null,null,null,"        Alleen bij de hoogste serie wordt het maximum vermeld."]
[]
[null,null,null,null,null,null,null,null,null,null,null," Bestand waaruit geïmporteerd moet worden"]
[]
["  Nadat Bestand geselecteerd is kunt u de gegevens van de vorige competitie ophalen!!!"]
["  Er wordt opgeteld, dus bij schone lei eerst ",null,null,null,"Gegevens verwijderen     !!! Uitvoeren"]
[]
["  LET OP!!!. U mag ook gegevens handmatig inbrengen. "]
["                  U kunt daardoor de gegevens echter ernstig verstoren."]
["                  Het is daarom verstandig eerst handmatig in te brengen en daarna via het automatisch ophalen proces."]
["                  Geef wel even aan onder Geïmporteerde competities wat u gedaan hebt."]

{"sheet":"KWJbil","index":1,"n_rows":5,"n_cols":32,"rows_kept":5,"cut":false,"hidden":false,"merged":[]}
[null,null,null,null,null,null,null,null,null,null,null,null,null,null,null,null,null,null,null,null,null,null,null,null,null,null,null,null,null,null,null,"Bestandsnaam excl. Extensie t.b.v. Titel"]
[null,null,null,null,null,null,null,null,null,null,null,null,null,null,null,null,null,null,null,null,null,null,null,null,null,null,null,null,null,null,null,{"$f":"LEFT(RIGHT(CELL(\"bestandsnaam\",A2),(LEN(CELL(\"bestandsnaam\",A2))-FIND(\"[\",CELL(\"bestandsnaam\",A2),1))),SEARCH(\"]\",RIGHT(CELL(\"bestandsnaam\",A2),(LEN(CELL(\"bestandsnaam\",A2))-FIND(\"[\",CELL(\"bestandsnaam\",A2),1))))-1)","v":"KWJbil_v19.7.0.xlsm"}]
[null,null,null,null,null,null,null,null,null,null,null,null,null,null,null,null,null,null,null,null,null,null,null,null,null,null,null,null,null,null,null,{"$f":"LEFT(AF2,IF(AF4>0,AF4-1,AF5-1))","v":"KWJbil_v19.7.0"}]
[null,null,null,null,null,null,null,null,null,null,null,null,null,null,null,null,null,null,null,null,null,null,null,null,null,null,null,null,null,null,null,{"$f":"IF(ISERROR(FIND(\".xls\",AF2))=TRUE,0,FIND(\".xls\",AF2))","v":15}]
[null,null,null,null,null,null,null,null,null,null,null,null,null,null,null,null,null,null,null,null,null,null,null,null,null,null,null,null,null,null,null,{"$f":"IF(ISERROR(FIND(\".xlsm\",AF2))=TRUE,0,FIND(\".xlsm\",AF2))","v":15}]

{"sheet":"Home","index":2,"n_rows":8,"n_cols":27,"rows_kept":8,"cut":false,"hidden":true,"merged":[]}
[null,null,null,null,null,null,null,null,null,null,null,null,null,null,null,null,null,null,null,null,null,null,null,null,"Instellingen",null,"Web"]
[]
[]
[]
[]
[]
[]
[null,"inhoud"]

{"sheet":"Instellingen","index":3,"n_rows":53,"n_cols":32,"rows_kept":53,"cut":false,"hidden":true,"merged":[[0,30,1,30],[2,20,2,21],[0,15,0,18],[0,20,1,20],[0,21,1,21],[0,2,0,6],[2,1,2,6],[9,1,9,6],[21,1,21,6],[10,1,10,6],[22,1,22,6],[17,1,17,6],[18,1,18,6],[11,1,11,6],[12,1,12,6],[14,1,14,6],[31,1,31,6],[1,15,1,16],[20,1,20,6],[4,1,4,6],[6,1,6,6],[13,1,13,6],[1,1,1,6],[5,9,5,14],[5,1,5,6],[15,1,15,6],[16,1,16,6],[4,9,4,14],[7,1,7,6],[8,1,8,6],[3,1,3,6],[23,1,23,6],[43,1,43,2],[19,1,19,6],[33,1,33,6],[34,1,34,6],[35,1,35,6],[38,1,38,6],[30,1,30,6],[25,1,25,6],[29,1,29,6],[27,1,27,6],[24,1,24,6],[32,1,32,6],[36,1,36,6],[26,1,26,6],[37,1,37,6],[28,1,28,6],[39,10,39,13],[36,10,36,14],[34,10,34,14],[35,10,35,14],[33,10,33,14],[38,10,38,14]]}
["Foutboodschappen:",null,2,null,null,null,null,"hulp bij fout",{"$f":"VLOOKUP(Werk1!B9,Instellingen!A2:G40,2,FALSE)","v":{"$error":"#N/A"}},null,null,null,null,null,null,"KNBB libre klein C-kl. (2023)",null,null,null,null,"KNBB libre klein C-kl. (2023)","EIGEN 30 bij 30 beurten",null,null,"Instellingen","Controle","Ja","Ja",null,"Hulp","EIGEN 30 bij 30 beurten","Was tabel"]
["Uitslag-1","Uitslag bestaat al, kan gegevens niet invoeren!!",null,null,null,null,null,null,null,null,null,null,null,null,null,"interval",null,"Afgeleide",{"$f":"IF(tabelcode=1,U1,V1)","v":"KNBB libre klein C-kl. (2023)"},null,null,null,null,null,"hulp bij",null,null,"Nee",null,null,null,"2024-02-12"]
["Uitslag-2","Namen beide spelers gelijk, kan niet!!",null,null,null,null,null,null,null,null,null,null,null,null,null,"van","tot/met","caramboles","caramboles",null,"caramboles",null,null,null,"formulier",null,null,null,null,null,"Caramboles","wordt niet genruikt!!"]
["Uitslag-3","Caramboles 1e speler te hoog!!",null,null,null,null,null,null,"Instellingen voor kopregels:",null,null,null,null,null,null,0,0.19,{"$f":"ROUNDUP(S4*$L$33,0)","v":17},{"$f":"IF(tabelcode=1,U4,V4)","v":17},null,17,14,null,null,null,"Gem/perc",1,0,null,null,14,14]
["Uitslag-4","Caramboles 2e speler te hoog!!",null,null,null,null,null,null,"Titel Schema",null,null,null,null,null,null,0.2,0.24,{"$f":"ROUNDUP(S5*$L$33,0)","v":18},18,null,18,15,null,null,null,null,null,1,null,null,15,15]
["Uitslag-5","Naam 1e speler niet gevuld!!.",null,null,null,null,null,null,"Titel Ranglijst,incl vorige",null,null,null,null,null,null,0.25,0.28999999999999998,19,19,null,19,16,null,null,null,"punten",2,1,null,null,16,16]
["Uitslag-6","Naam 2e speler niet gevuld!!",null,null,null,null,null,null,null,null,null,null,null,null,null,0.3,0.33999999999999997,20,20,null,20,17,null,null,null,null,2,1,null,null,17,17]
["Uitslag-7","Beurten niet gevuld!!",null,null,null,null,null,null,null,null,null,null,null,null,null,0.35,0.39,21,21,null,21,18,null,null,null,"Corr.KNBB",1,null,null,null,18,18]
["Uitslag-8","Hoogste serie 1e speler groter dan caramboles!!",null,null,null,null,null,null,null,null,null,null,null,null,null,0.4,0.49,23,23,null,23,20,null,null,null,"Belgisch","Nee","Ja",null,null,20,20]
["Uitslag-9","Hoogste serie 2e speler groter dan caramboles!!",null,null,null,null,null,null,null,null,null,null,null,null,null,0.5,0.59,25,25,null,25,22,null,null,null,null,null,"Nee",null,null,22,22]
["Uitslag-10","Caramboles 1e speler niet gevuld!!",null,null,null,null,null,null,null,null,"Punten inbrengen begin competitie!!!!!",null,null,null,null,0.6,0.69,27,27,null,27,24,null,null,null,"ExtraPtn",null,null,null,null,24,24]
["Uitslag-11","Caramboles 2e speler niet gevuld!!",null,null,null,null,null,null,null,null,"Gespeelde wedstrijden worden nl. niet herrekend",null,null,null,null,0.7,0.79,29,29,null,29,26,null,null,null,"Toepassen","Nee","Ja",null,null,26,26]
["Uitslag-12","Hoogste serie 1e speler niet gevuld!!",null,null,null,null,null,null,null,null,"soort","overwinning","gelijk",null,null,0.8,0.89,31,31,null,31,28,null,null,null,"Hoeveel ptn",1,"Nee",null,null,28,28]
["Uitslag-13","Hoogste serie 2e speler niet gevuld!!",null,null,null,null,null,null,null,null,"0 en 1",2,1,null,null,0.9,0.99,33,33,null,33,30,"terug 3 verspringend ",null,null,"Hoger dan",10," %",null,null,30,30]
["Uitslag-14","Datum niet gevuld!!!",null,null,null,null,null,null,null,null,2,2,1,null,null,1,1.0900000000000001,35,35,null,35,33,"vanaf hier -2 op KNBB",null,null,null,null,null,null,null,33,33]
["Uitslag-15","Speler 1 beurten x hoogste serie is kleiner dan caramboles!!",null,null,null,null,null,null,null,null,null,null,null,null,null,1.1000000000000001,1.19,37,37,null,37,35,null,null,null,"progr.code",4,1,null,null,35,35]
["Uitslag-16","Speler 2 beurten x hoogste serie is kleiner dan caramboles!!",null,null,null,null,null,null,null,null,"0 = dertig punten partij",null,null,null,null,1.2,1.29,39,39,null,39,37,null,null,null,null,null,2,null,null,37,37]
["Lid-1","Lid gegevens zijn reeds aanwezig. Gegevens niet ingevoerd.!!",null,null,null,null,null,null,null,null,"1 = normaal",null,null,null,null,1.3,1.39,41,41,null,41,39,null,null,null,null,null,3,null,null,39,39]
["Lid-2","Naam niet gevuld !!",null,null,null,null,null,null,null,null,"2 = geen controle op behaalde caramboles",null,null,null,null,1.4,1.49,43,43,null,43,41,null,null,null,null,null,4,null,null,41,41]
["Lid-3","Caramboles niet gevuld. Bij niet bekend 0(nul) vullen!!",null,null,null,null,null,null,null,null,"Optie 2 zichtbaar/mogelijk……",null,null,"Ja",null,1.5,1.59,45,45,null,45,43,null,null,null,null,null,null,null,null,43,43]
["Lid-4","Gemiddelde niet gevuld. Bij niet bekend 0(nul) vullen!!",null,null,null,null,null,null,null,null,"Bij Nee is deze optie bij uitslagen inbrengen ",null,null,null,null,1.6,1.69,47,47,null,47,45,null,null,null,"Tabelcode",1,1,null,null,45,45]
["Uitslag-17","Partij moet uit 30 beurten bestaan. Een v.d. spelers heeft geen moyenne!!",null,null,null,null,null,null,null,null,"niet zichtbaar!!!!!",null,null,null,null,1.7,1.79,49,49,null,49,47,null,null,null,null,null,2,null,null,47,47]
["Uitslag-18","Een van beide spelers moet zijn/haar caramboles gehaald hebben!!!.",null,null,null,null,null,null,null,null,null,null,null,null,null,1.8,1.89,51,51,null,51,49,null,null,null,null,null,null,null,null,49,49]
["Uitslag-19","Speler 1 is geen actief lid. Uitslag niet mogelijk!!",null,null,null,null,null,null,null,null,"Ranglijst: ",null,null,null,null,1.9,1.99,53,53,null,53,51,null,null,null,"Thuis",1,1,null,null,51,51]
["Uitslag-20","Speler 2 is geen actief lid. Uitslag niet mogelijk!!",null,null,null,null,null,null,null,null,"Bij de ranglijst kan het zo ingesteld worden dat als ",null,null,null,null,2,2.1900000000000004,55,55,null,55,53,null,null,null,null,null,2,null,null,53,53]
[null,null,null,null,null,null,null,null,null,null,"derde sorteermogelijkheid het overall-gemiddelde of",null,null,null,null,2.2000000000000002,2.39,60,60,null,60,58,null,null,null,null,null,null,null,null,58,58]
[null,null,null,null,null,null,null,null,null,null,"het overall-percentage t.o.v. je eigen moyenne.",null,null,null,null,2.4,2.5900000000000003,65,65,null,65,63,null,null,null,null,null,null,null,null,63,63]
[null,null,null,null,null,null,null,null,null,null,"Keus",1," 0 = gemiddelde; 1 = percentage",null,null,2.6,2.79,70,70,null,70,68,null,null,null,null,null,null,null,null,68,68]
[null,null,null,null,null,null,null,null,null,null,null,null,null,null,null,2.8,2.99,75,75,null,75,73,null,null,null,null,null,null,null,null,73,73]
[null,null,null,null,null,null,null,null,null,null,"Aanpassing caramboles KNBB:",null,null,null,null,3,3.49,80,80,null,80,78,null,null,null,null,null,null,null,null,78,78]
[null,null,null,null,null,null,null,null,null,null,"Via deze optie is het mogelijk de door de KNBB vast-",null,null,null,null,3.5,3.99,90,90,null,90,88,null,null,null,null,null,null,null,null,88,88]
[null,null,null,null,null,null,null,null,null,null,"gestelde caramboles te wijzigen middels een factor",null,null,null,null,4,4.49,100,100,null,100,98,null,null,null,null,null,null,null,null,98,98]
[null,null,null,null,null,null,null,null,null,null,"Factor",1,null,null,null,4.5,4.99,110,110,null,110,108,null,null,null,null,null,null,null,null,108,108]
[null,null,null,null,null,null,null,null,null,null,"Telling volgens Belgische methode",null,null,null,null,5,5.49,120,120,null,120,118,null,null,null,null,null,null,null,null,118,118]
[null,null,null,null,null,null,null,null,null,null,"dit betekent dat bij overwinningspunten hierboven",null,null,null,null,5.5,5.99,130,130,null,130,128,null,null,null,null,null,null,null,null,128,128]
[null,null,null,null,null,null,null,null,null,null,"opgeteld worden score*10/moyenne uitkomst ",null,null,null,null,6,6.49,140,140,null,140,138,null,null,null,null,null,null,null,null,138,138]
[null,null,null,null,null,null,null,null,null,null,"word afgekapt achter de komma.",null,null,null,null,6.5,6.99,150,150,null,150,148,null,null,null,null,null,null,null,null,148,148]
[null,null,null,null,null,null,null,null,null,null,"Belgisch","Nee",null,null,null,7,7.99,160,160,null,160,158,null,null,null,null,null,null,null,null,158,158]
[null,null,null,null,null,null,null,null,null,null,"Bij Ja veel hogere puntentelling. Zelfs de verliezer",null,null,null,null,8,8.99,170,170,null,170,168,null,null,null,null,null,null,null,null,168,168]
[null,null,null,null,null,null,null,null,null,null,"krijgt punten",null,null,null,null,9,9.99,180,180,null,180,178,null,null,null,null,null,null,null,null,178,178]
[null,null,null,null,null,null,null,null,null,null,"Extra punt(en) bij hoger gemiddelde.",null,null,null,null,10,10.99,200,200,null,200,198,null,null,null,null,null,null,null,null,198,198]
["Versie hieronder aangeven d.m.v. de volledige naam. ",null,null,null,null,null,null,null,null,null,"Toepassen","Nee",null,null,null,11,12.99,220,220,null,220,218,null,null,null,null,null,null,null,null,218,218]
["Als bij afsluiten progammanaam anders is als hieronder dan automatisch gesaved!!!!",null,null,null,null,null,null,null,null,null,"Hoeveel ptn",1," Alleen bij Ja!!",null,null,13,14.99,250,250,null,250,248,null,null,null,null,null,null,null,null,248,248]
[null,"KWJbil_v19.7.0.xlsm",null," extensie",{"$f":"RIGHT(B44,LEN(B44)-FIND(\"x\",B44)+2)","v":".xlsm"},null,null,null,null,null,"Hoger dan",10," %. Wordt berekend door caramboles te",null,null,15,19.989999999999998,300,300,null,300,298,null,null,null,null,null,null,null,null,298,298]
[null,{"$f":"CONCATENATE(\"KWJ-Development       versie \",B44)","v":"KWJ-Development       versie KWJbil_v19.7.0.xlsm"},null,null,null,null,null,null,null,null,null,null,"delen op 30 vs score/wedstrijd beurten"]
[null,null,null,null,null,null,null,null,null,null,"Soort programma:"]
[null,null,null,null,null,null,null,null,null,null,"Er zijn 4 keuzes  1=h&w van beneden;2=bot;3=top; 4=h&7w van boven"]
[null,null,null,null,null,null,null,null,null,null,"4 is default"]
[null,null,null,null,null,null,null,null,null,null,"Progr.code",4,"Uit/thuis",1,"1=thuis;2=uit"]
[null,null,null,null,null,null,null,null,null,null,"Soort Carambole tabel:"]
[null,null,null,null,null,null,null,null,null,null,"Er zijn 2 keuzes  1=KNVB Klein Libre;2=Eigen gebaseerd op 30 bij 30 beurten"]
[null,null,null,null,null,null,null,null,null,null,"1 is default"]
[null,null,null,null,null,null,null,null,null,null,"Tabel code",1]

{"sheet":"Wedstrijdoverzicht","index":4,"n_rows":193,"n_cols":19,"rows_kept":193,"cut":false,"hidden":true,"merged":[[0,2,0,5],[0,9,0,12]]}
["Nummer","Spelersnamen",{"$f":"+Instellingen!J5","v":0},null,null,null,null,null,null,{"$f":"\"nog te spelen wedstrijden na : \"&TEXT(Werk1!P5,\"dd-mm-jjjj\")","v":"nog te spelen wedstrijden na : 00-01-1900"},null,null,null,"Hulp tijdens draaien makro ",null,null,"Speler",1,"actief/inactief"]
[1,{"$f":"IF(Leden!$A3=\"\",\"\",Leden!$A3 &\"(\"&Leden!$C3&\")\")","v":""},"Wedstrijd",null,"woensdag: 01-11-2023",null,null,null,null,"Wedstrijd","Speler-1",null,"Speler-2",null,null,null,{"$f":"+B2","v":""},null,{"$f":"IF(Leden!$A3=\"\",\"\",Leden!$C3)","v":""}]
[2,{"$f":"IF(Leden!$A4=\"\",\"\",Leden!$A4 &\"(\"&Leden!$C4&\")\")","v":""},1,null,null,null,null,null,null,{"$f":"IF(K3=\"\",\"\",ROW()-2)","v":""},null,null,null,null,null,null,{"$f":"+B3","v":""},null,{"$f":"IF(Leden!$A4=\"\",\"\",Leden!$C4)","v":""}]
[3,{"$f":"IF(Leden!$A5=\"\",\"\",Leden!$A5 &\"(\"&Leden!$C5&\")\")","v":""},2,null,null,null,null,null,null,{"$f":"IF(K4=\"\",\"\",ROW()-2)","v":""},null,null,null,null,null,null,"",null,{"$f":"IF(Leden!$A5=\"\",\"\",Leden!$C5)","v":""}]
[4,{"$f":"IF(Leden!$A6=\"\",\"\",Leden!$A6 &\"(\"&Leden!$C6&\")\")","v":""},3,null,null,null,null,null,null,{"$f":"IF(K5=\"\",\"\",ROW()-2)","v":""},null,null,null,null,null,null,"",null,{"$f":"IF(Leden!$A6=\"\",\"\",Leden!$C6)","v":""}]
[5,{"$f":"IF(Leden!$A7=\"\",\"\",Leden!$A7 &\"(\"&Leden!$C7&\")\")","v":""},"--",null,null,null,null,null,null,"",null,null,null,null,null,null,"",null,{"$f":"IF(Leden!$A7=\"\",\"\",Leden!$C7)","v":""}]
[6,{"$f":"IF(Leden!$A8=\"\",\"\",Leden!$A8 &\"(\"&Leden!$C8&\")\")","v":""},"--",null,null,null,null,null,null,"",null,null,null,null,null,null,"",null,{"$f":"IF(Leden!$A8=\"\",\"\",Leden!$C8)","v":""}]
[7,{"$f":"IF(Leden!$A9=\"\",\"\",Leden!$A9 &\"(\"&Leden!$C9&\")\")","v":""},null,null,null,null,null,null,null,"",null,null,null,null,null,null,"",null,{"$f":"IF(Leden!$A9=\"\",\"\",Leden!$C9)","v":""}]
[8,{"$f":"IF(Leden!$A10=\"\",\"\",Leden!$A10 &\"(\"&Leden!$C10&\")\")","v":""},null,null,null,null,null,null,null,"",null,null,null,null,null,null,"",null,{"$f":"IF(Leden!$A10=\"\",\"\",Leden!$C10)","v":""}]
[9,{"$f":"IF(Leden!$A11=\"\",\"\",Leden!$A11 &\"(\"&Leden!$C11&\")\")","v":""},1,null,null,null,null,null,null,"",null,null,null,null,null,null,"",null,{"$f":"IF(Leden!$A11=\"\",\"\",Leden!$C11)","v":""}]
[10,{"$f":"IF(Leden!$A12=\"\",\"\",Leden!$A12 &\"(\"&Leden!$C12&\")\")","v":""},2,null,null,null,null,null,null,"",null,null,null,null,null,null,"",null,{"$f":"IF(Leden!$A12=\"\",\"\",Leden!$C12)","v":""}]
[{"$f":"A11+1","v":11},{"$f":"IF(Leden!$A13=\"\",\"\",Leden!$A13 &\"(\"&Leden!$C13&\")\")","v":""},3,null,null,null,null,null,null,"",null,null,null,null,null,null,"",null,{"$f":"IF(Leden!$A13=\"\",\"\",Leden!$C13)","v":""}]
[{"$f":"A12+1","v":12},{"$f":"IF(Leden!$A14=\"\",\"\",Leden!$A14 &\"(\"&Leden!$C14&\")\")","v":""},"--",null,null,null,null,null,null,"",null,null,null,null,null,null,"",null,{"$f":"IF(Leden!$A14=\"\",\"\",Leden!$C14)","v":""}]
[13,{"$f":"IF(Leden!$A15=\"\",\"\",Leden!$A15 &\"(\"&Leden!$C15&\")\")","v":""},"--",null,null,null,null,null,null,"",null,null,null,null,null,null,"",null,{"$f":"IF(Leden!$A15=\"\",\"\",Leden!$C15)","v":""}]
[14,{"$f":"IF(Leden!$A16=\"\",\"\",Leden!$A16 &\"(\"&Leden!$C16&\")\")","v":""},null,null,null,null,null,null,null,"",null,null,null,null,null,null,"",null,{"$f":"IF(Leden!$A16=\"\",\"\",Leden!$C16)","v":""}]
[15,{"$f":"IF(Leden!$A17=\"\",\"\",Leden!$A17 &\"(\"&Leden!$C17&\")\")","v":""},null,null,null,null,null,null,null,"",null,null,null,null,null,null,"",null,{"$f":"IF(Leden!$A17=\"\",\"\",Leden!$C17)","v":""}]
[16,{"$f":"IF(Leden!$A18=\"\",\"\",Leden!$A18 &\"(\"&Leden!$C18&\")\")","v":""},1,null,null,null,null,null,null,"",null,null,null,null,null,null,"",null,{"$f":"IF(Leden!$A18=\"\",\"\",Leden!$C18)","v":""}]
[17,{"$f":"IF(Leden!$A19=\"\",\"\",Leden!$A19 &\"(\"&Leden!$C19&\")\")","v":""},2,null,null,null,null,null,null,"",null,null,null,null,null,null,"",null,{"$f":"IF(Leden!$A19=\"\",\"\",Leden!$C19)","v":""}]
[18,{"$f":"IF(Leden!$A20=\"\",\"\",Leden!$A20 &\"(\"&Leden!$C20&\")\")","v":""},3,null,null,null,null,null,null,"",null,null,null,null,null,null,"",null,{"$f":"IF(Leden!$A20=\"\",\"\",Leden!$C20)","v":""}]
[19,{"$f":"IF(Leden!$A21=\"\",\"\",Leden!$A21 &\"(\"&Leden!$C21&\")\")","v":""},"--",null,null,null,null,null,null,"",null,null,null,null,null,null,"",null,{"$f":"IF(Leden!$A21=\"\",\"\",Leden!$C21)","v":""}]
[20,{"$f":"IF(Leden!$A22=\"\",\"\",Leden!$A22 &\"(\"&Leden!$C22&\")\")","v":""},"--",null,null,null,null,null,null,"",null,null,null,null,null,null,"",null,{"$f":"IF(Leden!$A22=\"\",\"\",Leden!$C22)","v":""}]
[null,null,null,null,null,null,null,null,null,""]
["Op dit moment :",null,null,null,null,null,null,null,null,""]
[{"$f":"\" - reeds gespeeld   :  \"&  +Gespeeld!C3 & \" wedstrijden\"","v":" - reeds gespeeld   :  0 wedstrijden"},null,1,null,null,null,null,null,null,""]
[{"$f":"\" - nog te spelen     : \"& Wedstrijdschema!D3 & \" wedstrijden\"","v":" - nog te spelen     : 0 wedstrijden"},null,2,null,null,null,null,null,null,""]
[null,null,3,null,null,null,null,null,null,""]
[null,null,"--",null,null,null,null,null,null,""]
["Datum","2023-11-01","--",null,null,null,null,null,null,""]
[null,null,null,null,null,null,null,null,null,""]
[null,null,null,null,null,null,null,null,null,""]
[null,null,1,null,null,null,null,null,null,""]
[null,null,2,null,null,null,null,null,null,""]
[null,null,3,null,null,null,null,null,null,""]
[null,null,"--",null,null,null,null,null,null,""]
[null,null,"--",null,null,null,null,null,null,""]
[null,null,null,null,null,null,null,null,null,""]
[null,null,null,null,null,null,null,null,null,""]
[null,null,1,null,null,null,null,null,null,""]
[null,null,2,null,null,null,null,null,null,""]
[null,null,"--",null,null,null,null,null,null,""]
[null,null,"--",null,null,null,null,null,null,""]
[null,null,"--",null,null,null,null,null,null,""]
[null,null,"--",null,null,null,null,null,null,""]
[null,null,null,null,null,null,null,null,null,""]
[null,null,null,null,null,null,null,null,null,""]
[null,null,1,null,null,null,null,null,null,""]
[null,null,2,null,null,null,null,null,null,""]
[null,null,"--",null,null,null,null,null,null,""]
[null,null,"--",null,null,null,null,null,null,""]
[null,null,"--",null,null,null,null,null,null,""]
[null,null,"--",null,null,null,null,null,null,""]
[null,null,null,null,null,null,null,null,null,""]
[null,null,null,null,null,null,null,null,null,""]
[null,null,null,null,null,null,null,null,null,""]
[null,null,null,null,null,null,null,null,null,""]
[null,null,null,null,null,null,null,null,null,""]
[null,null,null,null,null,null,null,null,null,""]
[null,null,null,null,null,null,null,null,null,""]
[null,null,null,null,null,null,null,null,null,""]
[null,null,null,null,null,null,null,null,null,""]
[null,null,null,null,null,null,null,null,null,""]
[null,null,null,null,null,null,null,null,null,""]
[null,null,null,null,null,null,null,null,null,""]
[null,null,null,null,null,null,null,null,null,""]
[null,null,null,null,null,null,null,null,null,""]
[null,null,null,null,null,null,null,null,null,""]
[null,null,null,null,null,null,null,null,null,""]
[null,null,null,null,null,null,null,null,null,""]
[null,null,null,null,null,null,null,null,null,{"$f":"IF(K69=\"\",\"\",ROW()-2)","v":""}]
[null,null,null,null,null,null,null,null,null,""]
[null,null,null,null,null,null,null,null,null,""]
[null,null,null,null,null,null,null,null,null,""]
[null,null,null,null,null,null,null,null,null,""]
[null,null,null,null,null,null,null,null,null,""]
[null,null,null,null,null,null,null,null,null,""]
[null,null,null,null,null,null,null,null,null,""]
[null,null,null,null,null,null,null,null,null,""]
[null,null,null,null,null,null,null,null,null,""]
[null,null,null,null,null,null,null,null,null,""]
[null,null,null,null,null,null,null,null,null,""]
[null,null,null,null,null,null,null,null,null,""]
[null,null,null,null,null,null,null,null,null,""]
[null,null,null,null,null,null,null,null,null,""]
[null,null,null,null,null,null,null,null,null,""]
[null,null,null,null,null,null,null,null,null,""]
[null,null,null,null,null,null,null,null,null,""]
[null,null,null,null,null,null,null,null,null,""]
[null,null,null,null,null,null,null,null,null,""]
[null,null,null,null,null,null,null,null,null,""]
[null,null,null,null,null,null,null,null,null,""]
[null,null,null,null,null,null,null,null,null,""]
[null,null,null,null,null,null,null,null,null,""]
[null,null,null,null,null,null,null,null,null,""]
[null,null,null,null,null,null,null,null,null,""]
[null,null,null,null,null,null,null,null,null,""]
[null,null,null,null,null,null,null,null,null,""]
[null,null,null,null,null,null,null,null,null,""]
[null,null,null,null,null,null,null,null,null,""]
[null,null,null,null,null,null,null,null,null,""]
[null,null,null,null,null,null,null,null,null,""]
[null,null,null,null,null,null,null,null,null,""]
[null,null,null,null,null,null,null,null,null,""]
[null,null,null,null,null,null,null,null,null,""]
[null,null,null,null,null,null,null,null,null,""]
[null,null,null,null,null,null,null,null,null,""]
[null,null,null,null,null,null,null,null,null,""]
[null,null,null,null,null,null,null,null,null,""]
[null,null,null,null,null,null,null,null,null,""]
[null,null,null,null,null,null,null,null,null,""]
[null,null,null,null,null,null,null,null,null,""]
[null,null,null,null,null,null,null,null,null,""]
[null,null,null,null,null,null,null,null,null,""]
[null,null,null,null,null,null,null,null,null,""]
[null,null,null,null,null,null,null,null,null,""]
[null,null,null,null,null,null,null,null,null,""]
[null,null,null,null,null,null,null,null,null,""]
[null,null,null,null,null,null,null,null,null,""]
[null,null,null,null,null,null,null,null,null,""]
[null,null,null,null,null,null,null,null,null,""]
[null,null,null,null,null,null,null,null,null,""]
[null,null,null,null,null,null,null,null,null,""]
[null,null,null,null,null,null,null,null,null,""]
[null,null,null,null,null,null,null,null,null,""]
[null,null,null,null,null,null,null,null,null,""]
[null,null,null,null,null,null,null,null,null,""]
[null,null,null,null,null,null,null,null,null,""]
[null,null,null,null,null,null,null,null,null,""]
[null,null,null,null,null,null,null,null,null,""]
[null,null,null,null,null,null,null,null,null,""]
[null,null,null,null,null,null,null,null,null,""]
[null,null,null,null,null,null,null,null,null,""]
[null,null,null,null,null,null,null,null,null,""]
[null,null,null,null,null,null,null,null,null,{"$f":"IF(K133=\"\",\"\",ROW()-2)","v":""}]
[null,null,null,null,null,null,null,null,null,""]
[null,null,null,null,null,null,null,null,null,""]
[null,null,null,null,null,null,null,null,null,""]
[null,null,null,null,null,null,null,null,null,""]
[null,null,null,null,null,null,null,null,null,""]
[null,null,null,null,null,null,null,null,null,""]
[null,null,null,null,null,null,null,null,null,""]
[null,null,null,null,null,null,null,null,null,""]
[null,null,null,null,null,null,null,null,null,""]
[null,null,null,null,null,null,null,null,null,""]
[null,null,null,null,null,null,null,null,null,""]
[null,null,null,null,null,null,null,null,null,""]
[null,null,null,null,null,null,null,null,null,""]
[null,null,null,null,null,null,null,null,null,""]
[null,null,null,null,null,null,null,null,null,""]
[null,null,null,null,null,null,null,null,null,""]
[null,null,null,null,null,null,null,null,null,""]
[null,null,null,null,null,null,null,null,null,""]
[null,null,null,null,null,null,null,null,null,""]
[null,null,null,null,null,null,null,null,null,""]
[null,null,null,null,null,null,null,null,null,""]
[null,null,null,null,null,null,null,null,null,""]
[null,null,null,null,null,null,null,null,null,""]
[null,null,null,null,null,null,null,null,null,""]
[null,null,null,null,null,null,null,null,null,""]
[null,null,null,null,null,null,null,null,null,""]
[null,null,null,null,null,null,null,null,null,""]
[null,null,null,null,null,null,null,null,null,""]
[null,null,null,null,null,null,null,null,null,""]
[null,null,null,null,null,null,null,null,null,""]
[null,null,null,null,null,null,null,null,null,""]
[null,null,null,null,null,null,null,null,null,""]
[null,null,null,null,null,null,null,null,null,""]
[null,null,null,null,null,null,null,null,null,""]
[null,null,null,null,null,null,null,null,null,""]
[null,null,null,null,null,null,null,null,null,""]
[null,null,null,null,null,null,null,null,null,""]
[null,null,null,null,null,null,null,null,null,""]
[null,null,null,null,null,null,null,null,null,""]
[null,null,null,null,null,null,null,null,null,""]
[null,null,null,null,null,null,null,null,null,""]
[null,null,null,null,null,null,null,null,null,""]
[null,null,null,null,null,null,null,null,null,""]
[null,null,null,null,null,null,null,null,null,""]
[null,null,null,null,null,null,null,null,null,""]
[null,null,null,null,null,null,null,null,null,""]
[null,null,null,null,null,null,null,null,null,""]
[null,null,null,null,null,null,null,null,null,""]
[null,null,null,null,null,null,null,null,null,""]
[null,null,null,null,null,null,null,null,null,""]
[null,null,null,null,null,null,null,null,null,""]
[null,null,null,null,null,null,null,null,null,""]
[null,null,null,null,null,null,null,null,null,""]
[null,null,null,null,null,null,null,null,null,""]
[null,null,null,null,null,null,null,null,null,""]
[null,null,null,null,null,null,null,null,null,""]
[null,null,null,null,null,null,null,null,null,""]
[null,null,null,null,null,null,null,null,null,""]
[null,null,null,null,null,null,null,null,null,""]
[null,null,null,null,null,null,null,null,null,""]

{"sheet":"Gespeeld","index":5,"n_rows":196,"n_cols":11,"rows_kept":196,"cut":false,"hidden":true,"merged":[]}
["Reeds gespeelde wedstrijden"]
[]
["Gespeeld",null,{"$f":"SUMPRODUCT(D7:D196,H7:H196)","v":0}]
[]
[null,null,null,null,null,null,null,"T.b.v. rekenen en ophalen"]
["Speler-1",null,"Speler-2","? Gespeeld (1= gespeeld/inactief)",null,null,null,"Hulp","Wedstrijd","inactief","Niet in programma"]
[{"$f":"IF(ISERROR(VLOOKUP(+Wedstrijdschema!A7,Wedstrijdoverzicht!$A$2:$B$21,2,FALSE)),\"\",VLOOKUP(+Wedstrijdschema!A7,Wedstrijdoverzicht!$A$2:$B$21,2,FALSE))","v":""}," - ",{"$f":"IF(ISERROR(VLOOKUP(+Wedstrijdschema!B7,Wedstrijdoverzicht!$A$2:$B$21,2,FALSE)),\"\",VLOOKUP(+Wedstrijdschema!B7,Wedstrijdoverzicht!$A$2:$B$21,2,FALSE))","v":""},{"$f":"IF(A7=\"\",\"\",IF(H7=1,VLOOKUP(I7,Werk1!$V$2:$W$191,2,FALSE),0)+J7+K7)","v":""},null,null,null,{"$f":"IF(A7<>\"\",1,0)","v":0},{"$f":"Wedstrijdschema!A7&\"-\"&Wedstrijdschema!B7","v":{"$error":"#VALUE!"}},{"$f":"IF(A7=\"\",0,IF(VLOOKUP(Wedstrijdschema!A7,Leden!$B$3:$J$22,8,FALSE)=-1,1,IF(VLOOKUP(Wedstrijdschema!B7,Leden!$B$3:$J$22,8,FALSE)=-1,1,0)))","v":0},{"$f":"IF(A7=\"\",0,IF(VLOOKUP(Wedstrijdschema!A7,Leden!$B$3:$S$22,18,FALSE)=\"nee\",1,IF(VLOOKUP(Wedstrijdschema!B7,Leden!$B$3:$S$22,18,FALSE)=\"nee\",1,0)))","v":0}]
[{"$f":"IF(ISERROR(VLOOKUP(+Wedstrijdschema!A8,Wedstrijdoverzicht!$A$2:$B$21,2,FALSE)),\"\",VLOOKUP(+Wedstrijdschema!A8,Wedstrijdoverzicht!$A$2:$B$21,2,FALSE))","v":""}," - ",{"$f":"IF(ISERROR(VLOOKUP(+Wedstrijdschema!B8,Wedstrijdoverzicht!$A$2:$B$21,2,FALSE)),\"\",VLOOKUP(+Wedstrijdschema!B8,Wedstrijdoverzicht!$A$2:$B$21,2,FALSE))","v":""},{"$f":"IF(A8=\"\",\"\",IF(H8=1,VLOOKUP(I8,Werk1!$V$2:$W$191,2,FALSE),0)+J8+K8)","v":""},null,null,null,0,{"$f":"Wedstrijdschema!A8&\"-\"&Wedstrijdschema!B8","v":{"$error":"#VALUE!"}},{"$f":"IF(A8=\"\",0,IF(VLOOKUP(Wedstrijdschema!A8,Leden!$B$3:$J$22,8,FALSE)=-1,1,IF(VLOOKUP(Wedstrijdschema!B8,Leden!$B$3:$J$22,8,FALSE)=-1,1,0)))","v":0},{"$f":"IF(A8=\"\",0,IF(VLOOKUP(Wedstrijdschema!A8,Leden!$B$3:$S$22,18,FALSE)=\"nee\",1,IF(VLOOKUP(Wedstrijdschema!B8,Leden!$B$3:$S$22,18,FALSE)=\"nee\",1,0)))","v":0}]
[{"$f":"IF(ISERROR(VLOOKUP(+Wedstrijdschema!A9,Wedstrijdoverzicht!$A$2:$B$21,2,FALSE)),\"\",VLOOKUP(+Wedstrijdschema!A9,Wedstrijdoverzicht!$A$2:$B$21,2,FALSE))","v":""}," - ",{"$f":"IF(ISERROR(VLOOKUP(+Wedstrijdschema!B9,Wedstrijdoverzicht!$A$2:$B$21,2,FALSE)),\"\",VLOOKUP(+Wedstrijdschema!B9,Wedstrijdoverzicht!$A$2:$B$21,2,FALSE))","v":""},{"$f":"IF(A9=\"\",\"\",IF(H9=1,VLOOKUP(I9,Werk1!$V$2:$W$191,2,FALSE),0)+J9+K9)","v":""},null,null,null,0,{"$f":"Wedstrijdschema!A9&\"-\"&Wedstrijdschema!B9","v":{"$error":"#VALUE!"}},{"$f":"IF(A9=\"\",0,IF(VLOOKUP(Wedstrijdschema!A9,Leden!$B$3:$J$22,8,FALSE)=-1,1,IF(VLOOKUP(Wedstrijdschema!B9,Leden!$B$3:$J$22,8,FALSE)=-1,1,0)))","v":0},{"$f":"IF(A9=\"\",0,IF(VLOOKUP(Wedstrijdschema!A9,Leden!$B$3:$S$22,18,FALSE)=\"nee\",1,IF(VLOOKUP(Wedstrijdschema!B9,Leden!$B$3:$S$22,18,FALSE)=\"nee\",1,0)))","v":0}]
[{"$f":"IF(ISERROR(VLOOKUP(+Wedstrijdschema!A10,Wedstrijdoverzicht!$A$2:$B$21,2,FALSE)),\"\",VLOOKUP(+Wedstrijdschema!A10,Wedstrijdoverzicht!$A$2:$B$21,2,FALSE))","v":""}," - ",{"$f":"IF(ISERROR(VLOOKUP(+Wedstrijdschema!B10,Wedstrijdoverzicht!$A$2:$B$21,2,FALSE)),\"\",VLOOKUP(+Wedstrijdschema!B10,Wedstrijdoverzicht!$A$2:$B$21,2,FALSE))","v":""},{"$f":"IF(A10=\"\",\"\",IF(H10=1,VLOOKUP(I10,Werk1!$V$2:$W$191,2,FALSE),0)+J10+K10)","v":""},null,null,null,0,{"$f":"Wedstrijdschema!A10&\"-\"&Wedstrijdschema!B10","v":{"$error":"#VALUE!"}},{"$f":"IF(A10=\"\",0,IF(VLOOKUP(Wedstrijdschema!A10,Leden!$B$3:$J$22,8,FALSE)=-1,1,IF(VLOOKUP(Wedstrijdschema!B10,Leden!$B$3:$J$22,8,FALSE)=-1,1,0)))","v":0},{"$f":"IF(A10=\"\",0,IF(VLOOKUP(Wedstrijdschema!A10,Leden!$B$3:$S$22,18,FALSE)=\"nee\",1,IF(VLOOKUP(Wedstrijdschema!B10,Leden!$B$3:$S$22,18,FALSE)=\"nee\",1,0)))","v":0}]
[{"$f":"IF(ISERROR(VLOOKUP(+Wedstrijdschema!A11,Wedstrijdoverzicht!$A$2:$B$21,2,FALSE)),\"\",VLOOKUP(+Wedstrijdschema!A11,Wedstrijdoverzicht!$A$2:$B$21,2,FALSE))","v":""}," - ",{"$f":"IF(ISERROR(VLOOKUP(+Wedstrijdschema!B11,Wedstrijdoverzicht!$A$2:$B$21,2,FALSE)),\"\",VLOOKUP(+Wedstrijdschema!B11,Wedstrijdoverzicht!$A$2:$B$21,2,FALSE))","v":""},{"$f":"IF(A11=\"\",\"\",IF(H11=1,VLOOKUP(I11,Werk1!$V$2:$W$191,2,FALSE),0)+J11+K11)","v":""},null,null,null,0,{"$f":"Wedstrijdschema!A11&\"-\"&Wedstrijdschema!B11","v":{"$error":"#VALUE!"}},{"$f":"IF(A11=\"\",0,IF(VLOOKUP(Wedstrijdschema!A11,Leden!$B$3:$J$22,8,FALSE)=-1,1,IF(VLOOKUP(Wedstrijdschema!B11,Leden!$B$3:$J$22,8,FALSE)=-1,1,0)))","v":0},{"$f":"IF(A11=\"\",0,IF(VLOOKUP(Wedstrijdschema!A11,Leden!$B$3:$S$22,18,FALSE)=\"nee\",1,IF(VLOOKUP(Wedstrijdschema!B11,Leden!$B$3:$S$22,18,FALSE)=\"nee\",1,0)))","v":0}]
[{"$f":"IF(ISERROR(VLOOKUP(+Wedstrijdschema!A12,Wedstrijdoverzicht!$A$2:$B$21,2,FALSE)),\"\",VLOOKUP(+Wedstrijdschema!A12,Wedstrijdoverzicht!$A$2:$B$21,2,FALSE))","v":""}," - ",{"$f":"IF(ISERROR(VLOOKUP(+Wedstrijdschema!B12,Wedstrijdoverzicht!$A$2:$B$21,2,FALSE)),\"\",VLOOKUP(+Wedstrijdschema!B12,Wedstrijdoverzicht!$A$2:$B$21,2,FALSE))","v":""},{"$f":"IF(A12=\"\",\"\",IF(H12=1,VLOOKUP(I12,Werk1!$V$2:$W$191,2,FALSE),0)+J12+K12)","v":""},null,null,null,0,{"$f":"Wedstrijdschema!A12&\"-\"&Wedstrijdschema!B12","v":{"$error":"#VALUE!"}},{"$f":"IF(A12=\"\",0,IF(VLOOKUP(Wedstrijdschema!A12,Leden!$B$3:$J$22,8,FALSE)=-1,1,IF(VLOOKUP(Wedstrijdschema!B12,Leden!$B$3:$J$22,8,FALSE)=-1,1,0)))","v":0},{"$f":"IF(A12=\"\",0,IF(VLOOKUP(Wedstrijdschema!A12,Leden!$B$3:$S$22,18,FALSE)=\"nee\",1,IF(VLOOKUP(Wedstrijdschema!B12,Leden!$B$3:$S$22,18,FALSE)=\"nee\",1,0)))","v":0}]
[{"$f":"IF(ISERROR(VLOOKUP(+Wedstrijdschema!A13,Wedstrijdoverzicht!$A$2:$B$21,2,FALSE)),\"\",VLOOKUP(+Wedstrijdschema!A13,Wedstrijdoverzicht!$A$2:$B$21,2,FALSE))","v":""}," - ",{"$f":"IF(ISERROR(VLOOKUP(+Wedstrijdschema!B13,Wedstrijdoverzicht!$A$2:$B$21,2,FALSE)),\"\",VLOOKUP(+Wedstrijdschema!B13,Wedstrijdoverzicht!$A$2:$B$21,2,FALSE))","v":""},{"$f":"IF(A13=\"\",\"\",IF(H13=1,VLOOKUP(I13,Werk1!$V$2:$W$191,2,FALSE),0)+J13+K13)","v":""},null,null,null,0,{"$f":"Wedstrijdschema!A13&\"-\"&Wedstrijdschema!B13","v":{"$error":"#VALUE!"}},{"$f":"IF(A13=\"\",0,IF(VLOOKUP(Wedstrijdschema!A13,Leden!$B$3:$J$22,8,FALSE)=-1,1,IF(VLOOKUP(Wedstrijdschema!B13,Leden!$B$3:$J$22,8,FALSE)=-1,1,0)))","v":0},{"$f":"IF(A13=\"\",0,IF(VLOOKUP(Wedstrijdschema!A13,Leden!$B$3:$S$22,18,FALSE)=\"nee\",1,IF(VLOOKUP(Wedstrijdschema!B13,Leden!$B$3:$S$22,18,FALSE)=\"nee\",1,0)))","v":0}]
[{"$f":"IF(ISERROR(VLOOKUP(+Wedstrijdschema!A14,Wedstrijdoverzicht!$A$2:$B$21,2,FALSE)),\"\",VLOOKUP(+Wedstrijdschema!A14,Wedstrijdoverzicht!$A$2:$B$21,2,FALSE))","v":""}," - ",{"$f":"IF(ISERROR(VLOOKUP(+Wedstrijdschema!B14,Wedstrijdoverzicht!$A$2:$B$21,2,FALSE)),\"\",VLOOKUP(+Wedstrijdschema!B14,Wedstrijdoverzicht!$A$2:$B$21,2,FALSE))","v":""},{"$f":"IF(A14=\"\",\"\",IF(H14=1,VLOOKUP(I14,Werk1!$V$2:$W$191,2,FALSE),0)+J14+K14)","v":""},null,null,null,0,{"$f":"Wedstrijdschema!A14&\"-\"&Wedstrijdschema!B14","v":{"$error":"#VALUE!"}},{"$f":"IF(A14=\"\",0,IF(VLOOKUP(Wedstrijdschema!A14,Leden!$B$3:$J$22,8,FALSE)=-1,1,IF(VLOOKUP(Wedstrijdschema!B14,Leden!$B$3:$J$22,8,FALSE)=-1,1,0)))","v":0},{"$f":"IF(A14=\"\",0,IF(VLOOKUP(Wedstrijdschema!A14,Leden!$B$3:$S$22,18,FALSE)=\"nee\",1,IF(VLOOKUP(Wedstrijdschema!B14,Leden!$B$3:$S$22,18,FALSE)=\"nee\",1,0)))","v":0}]
[{"$f":"IF(ISERROR(VLOOKUP(+Wedstrijdschema!A15,Wedstrijdoverzicht!$A$2:$B$21,2,FALSE)),\"\",VLOOKUP(+Wedstrijdschema!A15,Wedstrijdoverzicht!$A$2:$B$21,2,FALSE))","v":""}," - ",{"$f":"IF(ISERROR(VLOOKUP(+Wedstrijdschema!B15,Wedstrijdoverzicht!$A$2:$B$21,2,FALSE)),\"\",VLOOKUP(+Wedstrijdschema!B15,Wedstrijdoverzicht!$A$2:$B$21,2,FALSE))","v":""},{"$f":"IF(A15=\"\",\"\",IF(H15=1,VLOOKUP(I15,Werk1!$V$2:$W$191,2,FALSE),0)+J15+K15)","v":""},null,null,null,0,{"$f":"Wedstrijdschema!A15&\"-\"&Wedstrijdschema!B15","v":{"$error":"#VALUE!"}},{"$f":"IF(A15=\"\",0,IF(VLOOKUP(Wedstrijdschema!A15,Leden!$B$3:$J$22,8,FALSE)=-1,1,IF(VLOOKUP(Wedstrijdschema!B15,Leden!$B$3:$J$22,8,FALSE)=-1,1,0)))","v":0},{"$f":"IF(A15=\"\",0,IF(VLOOKUP(Wedstrijdschema!A15,Leden!$B$3:$S$22,18,FALSE)=\"nee\",1,IF(VLOOKUP(Wedstrijdschema!B15,Leden!$B$3:$S$22,18,FALSE)=\"nee\",1,0)))","v":0}]
[{"$f":"IF(ISERROR(VLOOKUP(+Wedstrijdschema!A16,Wedstrijdoverzicht!$A$2:$B$21,2,FALSE)),\"\",VLOOKUP(+Wedstrijdschema!A16,Wedstrijdoverzicht!$A$2:$B$21,2,FALSE))","v":""}," - ",{"$f":"IF(ISERROR(VLOOKUP(+Wedstrijdschema!B16,Wedstrijdoverzicht!$A$2:$B$21,2,FALSE)),\"\",VLOOKUP(+Wedstrijdschema!B16,Wedstrijdoverzicht!$A$2:$B$21,2,FALSE))","v":""},{"$f":"IF(A16=\"\",\"\",IF(H16=1,VLOOKUP(I16,Werk1!$V$2:$W$191,2,FALSE),0)+J16+K16)","v":""},null,null,null,0,{"$f":"Wedstrijdschema!A16&\"-\"&Wedstrijdschema!B16","v":{"$error":"#VALUE!"}},{"$f":"IF(A16=\"\",0,IF(VLOOKUP(Wedstrijdschema!A16,Leden!$B$3:$J$22,8,FALSE)=-1,1,IF(VLOOKUP(Wedstrijdschema!B16,Leden!$B$3:$J$22,8,FALSE)=-1,1,0)))","v":0},{"$f":"IF(A16=\"\",0,IF(VLOOKUP(Wedstrijdschema!A16,Leden!$B$3:$S$22,18,FALSE)=\"nee\",1,IF(VLOOKUP(Wedstrijdschema!B16,Leden!$B$3:$S$22,18,FALSE)=\"nee\",1,0)))","v":0}]
[{"$f":"IF(ISERROR(VLOOKUP(+Wedstrijdschema!A17,Wedstrijdoverzicht!$A$2:$B$21,2,FALSE)),\"\",VLOOKUP(+Wedstrijdschema!A17,Wedstrijdoverzicht!$A$2:$B$21,2,FALSE))","v":""}," - ",{"$f":"IF(ISERROR(VLOOKUP(+Wedstrijdschema!B17,Wedstrijdoverzicht!$A$2:$B$21,2,FALSE)),\"\",VLOOKUP(+Wedstrijdschema!B17,Wedstrijdoverzicht!$A$2:$B$21,2,FALSE))","v":""},{"$f":"IF(A17=\"\",\"\",IF(H17=1,VLOOKUP(I17,Werk1!$V$2:$W$191,2,FALSE),0)+J17+K17)","v":""},null,null,null,0,{"$f":"Wedstrijdschema!A17&\"-\"&Wedstrijdschema!B17","v":{"$error":"#VALUE!"}},{"$f":"IF(A17=\"\",0,IF(VLOOKUP(Wedstrijdschema!A17,Leden!$B$3:$J$22,8,FALSE)=-1,1,IF(VLOOKUP(Wedstrijdschema!B17,Leden!$B$3:$J$22,8,FALSE)=-1,1,0)))","v":0},{"$f":"IF(A17=\"\",0,IF(VLOOKUP(Wedstrijdschema!A17,Leden!$B$3:$S$22,18,FALSE)=\"nee\",1,IF(VLOOKUP(Wedstrijdschema!B17,Leden!$B$3:$S$22,18,FALSE)=\"nee\",1,0)))","v":0}]
[{"$f":"IF(ISERROR(VLOOKUP(+Wedstrijdschema!A18,Wedstrijdoverzicht!$A$2:$B$21,2,FALSE)),\"\",VLOOKUP(+Wedstrijdschema!A18,Wedstrijdoverzicht!$A$2:$B$21,2,FALSE))","v":""}," - ",{"$f":"IF(ISERROR(VLOOKUP(+Wedstrijdschema!B18,Wedstrijdoverzicht!$A$2:$B$21,2,FALSE)),\"\",VLOOKUP(+Wedstrijdschema!B18,Wedstrijdoverzicht!$A$2:$B$21,2,FALSE))","v":""},{"$f":"IF(A18=\"\",\"\",IF(H18=1,VLOOKUP(I18,Werk1!$V$2:$W$191,2,FALSE),0)+J18+K18)","v":""},null,null,null,0,{"$f":"Wedstrijdschema!A18&\"-\"&Wedstrijdschema!B18","v":{"$error":"#VALUE!"}},{"$f":"IF(A18=\"\",0,IF(VLOOKUP(Wedstrijdschema!A18,Leden!$B$3:$J$22,8,FALSE)=-1,1,IF(VLOOKUP(Wedstrijdschema!B18,Leden!$B$3:$J$22,8,FALSE)=-1,1,0)))","v":0},{"$f":"IF(A18=\"\",0,IF(VLOOKUP(Wedstrijdschema!A18,Leden!$B$3:$S$22,18,FALSE)=\"nee\",1,IF(VLOOKUP(Wedstrijdschema!B18,Leden!$B$3:$S$22,18,FALSE)=\"nee\",1,0)))","v":0}]
[{"$f":"IF(ISERROR(VLOOKUP(+Wedstrijdschema!A19,Wedstrijdoverzicht!$A$2:$B$21,2,FALSE)),\"\",VLOOKUP(+Wedstrijdschema!A19,Wedstrijdoverzicht!$A$2:$B$21,2,FALSE))","v":""}," - ",{"$f":"IF(ISERROR(VLOOKUP(+Wedstrijdschema!B19,Wedstrijdoverzicht!$A$2:$B$21,2,FALSE)),\"\",VLOOKUP(+Wedstrijdschema!B19,Wedstrijdoverzicht!$A$2:$B$21,2,FALSE))","v":""},{"$f":"IF(A19=\"\",\"\",IF(H19=1,VLOOKUP(I19,Werk1!$V$2:$W$191,2,FALSE),0)+J19+K19)","v":""},null,null,null,0,{"$f":"Wedstrijdschema!A19&\"-\"&Wedstrijdschema!B19","v":{"$error":"#VALUE!"}},{"$f":"IF(A19=\"\",0,IF(VLOOKUP(Wedstrijdschema!A19,Leden!$B$3:$J$22,8,FALSE)=-1,1,IF(VLOOKUP(Wedstrijdschema!B19,Leden!$B$3:$J$22,8,FALSE)=-1,1,0)))","v":0},{"$f":"IF(A19=\"\",0,IF(VLOOKUP(Wedstrijdschema!A19,Leden!$B$3:$S$22,18,FALSE)=\"nee\",1,IF(VLOOKUP(Wedstrijdschema!B19,Leden!$B$3:$S$22,18,FALSE)=\"nee\",1,0)))","v":0}]
[{"$f":"IF(ISERROR(VLOOKUP(+Wedstrijdschema!A20,Wedstrijdoverzicht!$A$2:$B$21,2,FALSE)),\"\",VLOOKUP(+Wedstrijdschema!A20,Wedstrijdoverzicht!$A$2:$B$21,2,FALSE))","v":""}," - ",{"$f":"IF(ISERROR(VLOOKUP(+Wedstrijdschema!B20,Wedstrijdoverzicht!$A$2:$B$21,2,FALSE)),\"\",VLOOKUP(+Wedstrijdschema!B20,Wedstrijdoverzicht!$A$2:$B$21,2,FALSE))","v":""},{"$f":"IF(A20=\"\",\"\",IF(H20=1,VLOOKUP(I20,Werk1!$V$2:$W$191,2,FALSE),0)+J20+K20)","v":""},null,null,null,0,{"$f":"Wedstrijdschema!A20&\"-\"&Wedstrijdschema!B20","v":{"$error":"#VALUE!"}},{"$f":"IF(A20=\"\",0,IF(VLOOKUP(Wedstrijdschema!A20,Leden!$B$3:$J$22,8,FALSE)=-1,1,IF(VLOOKUP(Wedstrijdschema!B20,Leden!$B$3:$J$22,8,FALSE)=-1,1,0)))","v":0},{"$f":"IF(A20=\"\",0,IF(VLOOKUP(Wedstrijdschema!A20,Leden!$B$3:$S$22,18,FALSE)=\"nee\",1,IF(VLOOKUP(Wedstrijdschema!B20,Leden!$B$3:$S$22,18,FALSE)=\"nee\",1,0)))","v":0}]
[{"$f":"IF(ISERROR(VLOOKUP(+Wedstrijdschema!A21,Wedstrijdoverzicht!$A$2:$B$21,2,FALSE)),\"\",VLOOKUP(+Wedstrijdschema!A21,Wedstrijdoverzicht!$A$2:$B$21,2,FALSE))","v":""}," - ",{"$f":"IF(ISERROR(VLOOKUP(+Wedstrijdschema!B21,Wedstrijdoverzicht!$A$2:$B$21,2,FALSE)),\"\",VLOOKUP(+Wedstrijdschema!B21,Wedstrijdoverzicht!$A$2:$B$21,2,FALSE))","v":""},{"$f":"IF(A21=\"\",\"\",IF(H21=1,VLOOKUP(I21,Werk1!$V$2:$W$191,2,FALSE),0)+J21+K21)","v":""},null,null,null,0,{"$f":"Wedstrijdschema!A21&\"-\"&Wedstrijdschema!B21","v":{"$error":"#VALUE!"}},{"$f":"IF(A21=\"\",0,IF(VLOOKUP(Wedstrijdschema!A21,Leden!$B$3:$J$22,8,FALSE)=-1,1,IF(VLOOKUP(Wedstrijdschema!B21,Leden!$B$3:$J$22,8,FALSE)=-1,1,0)))","v":0},{"$f":"IF(A21=\"\",0,IF(VLOOKUP(Wedstrijdschema!A21,Leden!$B$3:$S$22,18,FALSE)=\"nee\",1,IF(VLOOKUP(Wedstrijdschema!B21,Leden!$B$3:$S$22,18,FALSE)=\"nee\",1,0)))","v":0}]
[{"$f":"IF(ISERROR(VLOOKUP(+Wedstrijdschema!A22,Wedstrijdoverzicht!$A$2:$B$21,2,FALSE)),\"\",VLOOKUP(+Wedstrijdschema!A22,Wedstrijdoverzicht!$A$2:$B$21,2,FALSE))","v":""}," - ",{"$f":"IF(ISERROR(VLOOKUP(+Wedstrijdschema!B22,Wedstrijdoverzicht!$A$2:$B$21,2,FALSE)),\"\",VLOOKUP(+Wedstrijdschema!B22,Wedstrijdoverzicht!$A$2:$B$21,2,FALSE))","v":""},{"$f":"IF(A22=\"\",\"\",IF(H22=1,VLOOKUP(I22,Werk1!$V$2:$W$191,2,FALSE),0)+J22+K22)","v":""},null,null,null,0,{"$f":"Wedstrijdschema!A22&\"-\"&Wedstrijdschema!B22","v":{"$error":"#VALUE!"}},{"$f":"IF(A22=\"\",0,IF(VLOOKUP(Wedstrijdschema!A22,Leden!$B$3:$J$22,8,FALSE)=-1,1,IF(VLOOKUP(Wedstrijdschema!B22,Leden!$B$3:$J$22,8,FALSE)=-1,1,0)))","v":0},{"$f":"IF(A22=\"\",0,IF(VLOOKUP(Wedstrijdschema!A22,Leden!$B$3:$S$22,18,FALSE)=\"nee\",1,IF(VLOOKUP(Wedstrijdschema!B22,Leden!$B$3:$S$22,18,FALSE)=\"nee\",1,0)))","v":0}]
[{"$f":"IF(ISERROR(VLOOKUP(+Wedstrijdschema!A23,Wedstrijdoverzicht!$A$2:$B$21,2,FALSE)),\"\",VLOOKUP(+Wedstrijdschema!A23,Wedstrijdoverzicht!$A$2:$B$21,2,FALSE))","v":""}," - ",{"$f":"IF(ISERROR(VLOOKUP(+Wedstrijdschema!B23,Wedstrijdoverzicht!$A$2:$B$21,2,FALSE)),\"\",VLOOKUP(+Wedstrijdschema!B23,Wedstrijdoverzicht!$A$2:$B$21,2,FALSE))","v":""},{"$f":"IF(A23=\"\",\"\",IF(H23=1,VLOOKUP(I23,Werk1!$V$2:$W$191,2,FALSE),0)+J23+K23)","v":""},null,null,null,0,{"$f":"Wedstrijdschema!A23&\"-\"&Wedstrijdschema!B23","v":{"$error":"#VALUE!"}},{"$f":"IF(A23=\"\",0,IF(VLOOKUP(Wedstrijdschema!A23,Leden!$B$3:$J$22,8,FALSE)=-1,1,IF(VLOOKUP(Wedstrijdschema!B23,Leden!$B$3:$J$22,8,FALSE)=-1,1,0)))","v":0},{"$f":"IF(A23=\"\",0,IF(VLOOKUP(Wedstrijdschema!A23,Leden!$B$3:$S$22,18,FALSE)=\"nee\",1,IF(VLOOKUP(Wedstrijdschema!B23,Leden!$B$3:$S$22,18,FALSE)=\"nee\",1,0)))","v":0}]
[{"$f":"IF(ISERROR(VLOOKUP(+Wedstrijdschema!A24,Wedstrijdoverzicht!$A$2:$B$21,2,FALSE)),\"\",VLOOKUP(+Wedstrijdschema!A24,Wedstrijdoverzicht!$A$2:$B$21,2,FALSE))","v":""}," - ",{"$f":"IF(ISERROR(VLOOKUP(+Wedstrijdschema!B24,Wedstrijdoverzicht!$A$2:$B$21,2,FALSE)),\"\",VLOOKUP(+Wedstrijdschema!B24,Wedstrijdoverzicht!$A$2:$B$21,2,FALSE))","v":""},{"$f":"IF(A24=\"\",\"\",IF(H24=1,VLOOKUP(I24,Werk1!$V$2:$W$191,2,FALSE),0)+J24+K24)","v":""},null,null,null,0,{"$f":"Wedstrijdschema!A24&\"-\"&Wedstrijdschema!B24","v":{"$error":"#VALUE!"}},{"$f":"IF(A24=\"\",0,IF(VLOOKUP(Wedstrijdschema!A24,Leden!$B$3:$J$22,8,FALSE)=-1,1,IF(VLOOKUP(Wedstrijdschema!B24,Leden!$B$3:$J$22,8,FALSE)=-1,1,0)))","v":0},{"$f":"IF(A24=\"\",0,IF(VLOOKUP(Wedstrijdschema!A24,Leden!$B$3:$S$22,18,FALSE)=\"nee\",1,IF(VLOOKUP(Wedstrijdschema!B24,Leden!$B$3:$S$22,18,FALSE)=\"nee\",1,0)))","v":0}]
[{"$f":"IF(ISERROR(VLOOKUP(+Wedstrijdschema!A25,Wedstrijdoverzicht!$A$2:$B$21,2,FALSE)),\"\",VLOOKUP(+Wedstrijdschema!A25,Wedstrijdoverzicht!$A$2:$B$21,2,FALSE))","v":""}," - ",{"$f":"IF(ISERROR(VLOOKUP(+Wedstrijdschema!B25,Wedstrijdoverzicht!$A$2:$B$21,2,FALSE)),\"\",VLOOKUP(+Wedstrijdschema!B25,Wedstrijdoverzicht!$A$2:$B$21,2,FALSE))","v":""},{"$f":"IF(A25=\"\",\"\",IF(H25=1,VLOOKUP(I25,Werk1!$V$2:$W$191,2,FALSE),0)+J25+K25)","v":""},null,null,null,0,{"$f":"Wedstrijdschema!A25&\"-\"&Wedstrijdschema!B25","v":{"$error":"#VALUE!"}},{"$f":"IF(A25=\"\",0,IF(VLOOKUP(Wedstrijdschema!A25,Leden!$B$3:$J$22,8,FALSE)=-1,1,IF(VLOOKUP(Wedstrijdschema!B25,Leden!$B$3:$J$22,8,FALSE)=-1,1,0)))","v":0},{"$f":"IF(A25=\"\",0,IF(VLOOKUP(Wedstrijdschema!A25,Leden!$B$3:$S$22,18,FALSE)=\"nee\",1,IF(VLOOKUP(Wedstrijdschema!B25,Leden!$B$3:$S$22,18,FALSE)=\"nee\",1,0)))","v":0}]
[{"$f":"IF(ISERROR(VLOOKUP(+Wedstrijdschema!A26,Wedstrijdoverzicht!$A$2:$B$21,2,FALSE)),\"\",VLOOKUP(+Wedstrijdschema!A26,Wedstrijdoverzicht!$A$2:$B$21,2,FALSE))","v":""}," - ",{"$f":"IF(ISERROR(VLOOKUP(+Wedstrijdschema!B26,Wedstrijdoverzicht!$A$2:$B$21,2,FALSE)),\"\",VLOOKUP(+Wedstrijdschema!B26,Wedstrijdoverzicht!$A$2:$B$21,2,FALSE))","v":""},{"$f":"IF(A26=\"\",\"\",IF(H26=1,VLOOKUP(I26,Werk1!$V$2:$W$191,2,FALSE),0)+J26+K26)","v":""},null,null,null,0,{"$f":"Wedstrijdschema!A26&\"-\"&Wedstrijdschema!B26","v":{"$error":"#VALUE!"}},{"$f":"IF(A26=\"\",0,IF(VLOOKUP(Wedstrijdschema!A26,Leden!$B$3:$J$22,8,FALSE)=-1,1,IF(VLOOKUP(Wedstrijdschema!B26,Leden!$B$3:$J$22,8,FALSE)=-1,1,0)))","v":0},{"$f":"IF(A26=\"\",0,IF(VLOOKUP(Wedstrijdschema!A26,Leden!$B$3:$S$22,18,FALSE)=\"nee\",1,IF(VLOOKUP(Wedstrijdschema!B26,Leden!$B$3:$S$22,18,FALSE)=\"nee\",1,0)))","v":0}]
[{"$f":"IF(ISERROR(VLOOKUP(+Wedstrijdschema!A27,Wedstrijdoverzicht!$A$2:$B$21,2,FALSE)),\"\",VLOOKUP(+Wedstrijdschema!A27,Wedstrijdoverzicht!$A$2:$B$21,2,FALSE))","v":""}," - ",{"$f":"IF(ISERROR(VLOOKUP(+Wedstrijdschema!B27,Wedstrijdoverzicht!$A$2:$B$21,2,FALSE)),\"\",VLOOKUP(+Wedstrijdschema!B27,Wedstrijdoverzicht!$A$2:$B$21,2,FALSE))","v":""},{"$f":"IF(A27=\"\",\"\",IF(H27=1,VLOOKUP(I27,Werk1!$V$2:$W$191,2,FALSE),0)+J27+K27)","v":""},null,null,null,0,{"$f":"Wedstrijdschema!A27&\"-\"&Wedstrijdschema!B27","v":{"$error":"#VALUE!"}},{"$f":"IF(A27=\"\",0,IF(VLOOKUP(Wedstrijdschema!A27,Leden!$B$3:$J$22,8,FALSE)=-1,1,IF(VLOOKUP(Wedstrijdschema!B27,Leden!$B$3:$J$22,8,FALSE)=-1,1,0)))","v":0},{"$f":"IF(A27=\"\",0,IF(VLOOKUP(Wedstrijdschema!A27,Leden!$B$3:$S$22,18,FALSE)=\"nee\",1,IF(VLOOKUP(Wedstrijdschema!B27,Leden!$B$3:$S$22,18,FALSE)=\"nee\",1,0)))","v":0}]
[{"$f":"IF(ISERROR(VLOOKUP(+Wedstrijdschema!A28,Wedstrijdoverzicht!$A$2:$B$21,2,FALSE)),\"\",VLOOKUP(+Wedstrijdschema!A28,Wedstrijdoverzicht!$A$2:$B$21,2,FALSE))","v":""}," - ",{"$f":"IF(ISERROR(VLOOKUP(+Wedstrijdschema!B28,Wedstrijdoverzicht!$A$2:$B$21,2,FALSE)),\"\",VLOOKUP(+Wedstrijdschema!B28,Wedstrijdoverzicht!$A$2:$B$21,2,FALSE))","v":""},{"$f":"IF(A28=\"\",\"\",IF(H28=1,VLOOKUP(I28,Werk1!$V$2:$W$191,2,FALSE),0)+J28+K28)","v":""},null,null,null,0,{"$f":"Wedstrijdschema!A28&\"-\"&Wedstrijdschema!B28","v":{"$error":"#VALUE!"}},{"$f":"IF(A28=\"\",0,IF(VLOOKUP(Wedstrijdschema!A28,Leden!$B$3:$J$22,8,FALSE)=-1,1,IF(VLOOKUP(Wedstrijdschema!B28,Leden!$B$3:$J$22,8,FALSE)=-1,1,0)))","v":0},{"$f":"IF(A28=\"\",0,IF(VLOOKUP(Wedstrijdschema!A28,Leden!$B$3:$S$22,18,FALSE)=\"nee\",1,IF(VLOOKUP(Wedstrijdschema!B28,Leden!$B$3:$S$22,18,FALSE)=\"nee\",1,0)))","v":0}]
[{"$f":"IF(ISERROR(VLOOKUP(+Wedstrijdschema!A29,Wedstrijdoverzicht!$A$2:$B$21,2,FALSE)),\"\",VLOOKUP(+Wedstrijdschema!A29,Wedstrijdoverzicht!$A$2:$B$21,2,FALSE))","v":""}," - ",{"$f":"IF(ISERROR(VLOOKUP(+Wedstrijdschema!B29,Wedstrijdoverzicht!$A$2:$B$21,2,FALSE)),\"\",VLOOKUP(+Wedstrijdschema!B29,Wedstrijdoverzicht!$A$2:$B$21,2,FALSE))","v":""},{"$f":"IF(A29=\"\",\"\",IF(H29=1,VLOOKUP(I29,Werk1!$V$2:$W$191,2,FALSE),0)+J29+K29)","v":""},null,null,null,0,{"$f":"Wedstrijdschema!A29&\"-\"&Wedstrijdschema!B29","v":{"$error":"#VALUE!"}},{"$f":"IF(A29=\"\",0,IF(VLOOKUP(Wedstrijdschema!A29,Leden!$B$3:$J$22,8,FALSE)=-1,1,IF(VLOOKUP(Wedstrijdschema!B29,Leden!$B$3:$J$22,8,FALSE)=-1,1,0)))","v":0},{"$f":"IF(A29=\"\",0,IF(VLOOKUP(Wedstrijdschema!A29,Leden!$B$3:$S$22,18,FALSE)=\"nee\",1,IF(VLOOKUP(Wedstrijdschema!B29,Leden!$B$3:$S$22,18,FALSE)=\"nee\",1,0)))","v":0}]
[{"$f":"IF(ISERROR(VLOOKUP(+Wedstrijdschema!A30,Wedstrijdoverzicht!$A$2:$B$21,2,FALSE)),\"\",VLOOKUP(+Wedstrijdschema!A30,Wedstrijdoverzicht!$A$2:$B$21,2,FALSE))","v":""}," - ",{"$f":"IF(ISERROR(VLOOKUP(+Wedstrijdschema!B30,Wedstrijdoverzicht!$A$2:$B$21,2,FALSE)),\"\",VLOOKUP(+Wedstrijdschema!B30,Wedstrijdoverzicht!$A$2:$B$21,2,FALSE))","v":""},{"$f":"IF(A30=\"\",\"\",IF(H30=1,VLOOKUP(I30,Werk1!$V$2:$W$191,2,FALSE),0)+J30+K30)","v":""},null,null,null,0,{"$f":"Wedstrijdschema!A30&\"-\"&Wedstrijdschema!B30","v":{"$error":"#VALUE!"}},{"$f":"IF(A30=\"\",0,IF(VLOOKUP(Wedstrijdschema!A30,Leden!$B$3:$J$22,8,FALSE)=-1,1,IF(VLOOKUP(Wedstrijdschema!B30,Leden!$B$3:$J$22,8,FALSE)=-1,1,0)))","v":0},{"$f":"IF(A30=\"\",0,IF(VLOOKUP(Wedstrijdschema!A30,Leden!$B$3:$S$22,18,FALSE)=\"nee\",1,IF(VLOOKUP(Wedstrijdschema!B30,Leden!$B$3:$S$22,18,FALSE)=\"nee\",1,0)))","v":0}]
[{"$f":"IF(ISERROR(VLOOKUP(+Wedstrijdschema!A31,Wedstrijdoverzicht!$A$2:$B$21,2,FALSE)),\"\",VLOOKUP(+Wedstrijdschema!A31,Wedstrijdoverzicht!$A$2:$B$21,2,FALSE))","v":""}," - ",{"$f":"IF(ISERROR(VLOOKUP(+Wedstrijdschema!B31,Wedstrijdoverzicht!$A$2:$B$21,2,FALSE)),\"\",VLOOKUP(+Wedstrijdschema!B31,Wedstrijdoverzicht!$A$2:$B$21,2,FALSE))","v":""},{"$f":"IF(A31=\"\",\"\",IF(H31=1,VLOOKUP(I31,Werk1!$V$2:$W$191,2,FALSE),0)+J31+K31)","v":""},null,null,null,0,{"$f":"Wedstrijdschema!A31&\"-\"&Wedstrijdschema!B31","v":{"$error":"#VALUE!"}},{"$f":"IF(A31=\"\",0,IF(VLOOKUP(Wedstrijdschema!A31,Leden!$B$3:$J$22,8,FALSE)=-1,1,IF(VLOOKUP(Wedstrijdschema!B31,Leden!$B$3:$J$22,8,FALSE)=-1,1,0)))","v":0},{"$f":"IF(A31=\"\",0,IF(VLOOKUP(Wedstrijdschema!A31,Leden!$B$3:$S$22,18,FALSE)=\"nee\",1,IF(VLOOKUP(Wedstrijdschema!B31,Leden!$B$3:$S$22,18,FALSE)=\"nee\",1,0)))","v":0}]
[{"$f":"IF(ISERROR(VLOOKUP(+Wedstrijdschema!A32,Wedstrijdoverzicht!$A$2:$B$21,2,FALSE)),\"\",VLOOKUP(+Wedstrijdschema!A32,Wedstrijdoverzicht!$A$2:$B$21,2,FALSE))","v":""}," - ",{"$f":"IF(ISERROR(VLOOKUP(+Wedstrijdschema!B32,Wedstrijdoverzicht!$A$2:$B$21,2,FALSE)),\"\",VLOOKUP(+Wedstrijdschema!B32,Wedstrijdoverzicht!$A$2:$B$21,2,FALSE))","v":""},{"$f":"IF(A32=\"\",\"\",IF(H32=1,VLOOKUP(I32,Werk1!$V$2:$W$191,2,FALSE),0)+J32+K32)","v":""},null,null,null,0,{"$f":"Wedstrijdschema!A32&\"-\"&Wedstrijdschema!B32","v":{"$error":"#VALUE!"}},{"$f":"IF(A32=\"\",0,IF(VLOOKUP(Wedstrijdschema!A32,Leden!$B$3:$J$22,8,FALSE)=-1,1,IF(VLOOKUP(Wedstrijdschema!B32,Leden!$B$3:$J$22,8,FALSE)=-1,1,0)))","v":0},{"$f":"IF(A32=\"\",0,IF(VLOOKUP(Wedstrijdschema!A32,Leden!$B$3:$S$22,18,FALSE)=\"nee\",1,IF(VLOOKUP(Wedstrijdschema!B32,Leden!$B$3:$S$22,18,FALSE)=\"nee\",1,0)))","v":0}]
[{"$f":"IF(ISERROR(VLOOKUP(+Wedstrijdschema!A33,Wedstrijdoverzicht!$A$2:$B$21,2,FALSE)),\"\",VLOOKUP(+Wedstrijdschema!A33,Wedstrijdoverzicht!$A$2:$B$21,2,FALSE))","v":""}," - ",{"$f":"IF(ISERROR(VLOOKUP(+Wedstrijdschema!B33,Wedstrijdoverzicht!$A$2:$B$21,2,FALSE)),\"\",VLOOKUP(+Wedstrijdschema!B33,Wedstrijdoverzicht!$A$2:$B$21,2,FALSE))","v":""},{"$f":"IF(A33=\"\",\"\",IF(H33=1,VLOOKUP(I33,Werk1!$V$2:$W$191,2,FALSE),0)+J33+K33)","v":""},null,null,null,0,{"$f":"Wedstrijdschema!A33&\"-\"&Wedstrijdschema!B33","v":{"$error":"#VALUE!"}},{"$f":"IF(A33=\"\",0,IF(VLOOKUP(Wedstrijdschema!A33,Leden!$B$3:$J$22,8,FALSE)=-1,1,IF(VLOOKUP(Wedstrijdschema!B33,Leden!$B$3:$J$22,8,FALSE)=-1,1,0)))","v":0},{"$f":"IF(A33=\"\",0,IF(VLOOKUP(Wedstrijdschema!A33,Leden!$B$3:$S$22,18,FALSE)=\"nee\",1,IF(VLOOKUP(Wedstrijdschema!B33,Leden!$B$3:$S$22,18,FALSE)=\"nee\",1,0)))","v":0}]
[{"$f":"IF(ISERROR(VLOOKUP(+Wedstrijdschema!A34,Wedstrijdoverzicht!$A$2:$B$21,2,FALSE)),\"\",VLOOKUP(+Wedstrijdschema!A34,Wedstrijdoverzicht!$A$2:$B$21,2,FALSE))","v":""}," - ",{"$f":"IF(ISERROR(VLOOKUP(+Wedstrijdschema!B34,Wedstrijdoverzicht!$A$2:$B$21,2,FALSE)),\"\",VLOOKUP(+Wedstrijdschema!B34,Wedstrijdoverzicht!$A$2:$B$21,2,FALSE))","v":""},{"$f":"IF(A34=\"\",\"\",IF(H34=1,VLOOKUP(I34,Werk1!$V$2:$W$191,2,FALSE),0)+J34+K34)","v":""},null,null,null,0,{"$f":"Wedstrijdschema!A34&\"-\"&Wedstrijdschema!B34","v":{"$error":"#VALUE!"}},{"$f":"IF(A34=\"\",0,IF(VLOOKUP(Wedstrijdschema!A34,Leden!$B$3:$J$22,8,FALSE)=-1,1,IF(VLOOKUP(Wedstrijdschema!B34,Leden!$B$3:$J$22,8,FALSE)=-1,1,0)))","v":0},{"$f":"IF(A34=\"\",0,IF(VLOOKUP(Wedstrijdschema!A34,Leden!$B$3:$S$22,18,FALSE)=\"nee\",1,IF(VLOOKUP(Wedstrijdschema!B34,Leden!$B$3:$S$22,18,FALSE)=\"nee\",1,0)))","v":0}]
[{"$f":"IF(ISERROR(VLOOKUP(+Wedstrijdschema!A35,Wedstrijdoverzicht!$A$2:$B$21,2,FALSE)),\"\",VLOOKUP(+Wedstrijdschema!A35,Wedstrijdoverzicht!$A$2:$B$21,2,FALSE))","v":""}," - ",{"$f":"IF(ISERROR(VLOOKUP(+Wedstrijdschema!B35,Wedstrijdoverzicht!$A$2:$B$21,2,FALSE)),\"\",VLOOKUP(+Wedstrijdschema!B35,Wedstrijdoverzicht!$A$2:$B$21,2,FALSE))","v":""},{"$f":"IF(A35=\"\",\"\",IF(H35=1,VLOOKUP(I35,Werk1!$V$2:$W$191,2,FALSE),0)+J35+K35)","v":""},null,null,null,0,{"$f":"Wedstrijdschema!A35&\"-\"&Wedstrijdschema!B35","v":{"$error":"#VALUE!"}},{"$f":"IF(A35=\"\",0,IF(VLOOKUP(Wedstrijdschema!A35,Leden!$B$3:$J$22,8,FALSE)=-1,1,IF(VLOOKUP(Wedstrijdschema!B35,Leden!$B$3:$J$22,8,FALSE)=-1,1,0)))","v":0},{"$f":"IF(A35=\"\",0,IF(VLOOKUP(Wedstrijdschema!A35,Leden!$B$3:$S$22,18,FALSE)=\"nee\",1,IF(VLOOKUP(Wedstrijdschema!B35,Leden!$B$3:$S$22,18,FALSE)=\"nee\",1,0)))","v":0}]
[{"$f":"IF(ISERROR(VLOOKUP(+Wedstrijdschema!A36,Wedstrijdoverzicht!$A$2:$B$21,2,FALSE)),\"\",VLOOKUP(+Wedstrijdschema!A36,Wedstrijdoverzicht!$A$2:$B$21,2,FALSE))","v":""}," - ",{"$f":"IF(ISERROR(VLOOKUP(+Wedstrijdschema!B36,Wedstrijdoverzicht!$A$2:$B$21,2,FALSE)),\"\",VLOOKUP(+Wedstrijdschema!B36,Wedstrijdoverzicht!$A$2:$B$21,2,FALSE))","v":""},{"$f":"IF(A36=\"\",\"\",IF(H36=1,VLOOKUP(I36,Werk1!$V$2:$W$191,2,FALSE),0)+J36+K36)","v":""},null,null,null,0,{"$f":"Wedstrijdschema!A36&\"-\"&Wedstrijdschema!B36","v":{"$error":"#VALUE!"}},{"$f":"IF(A36=\"\",0,IF(VLOOKUP(Wedstrijdschema!A36,Leden!$B$3:$J$22,8,FALSE)=-1,1,IF(VLOOKUP(Wedstrijdschema!B36,Leden!$B$3:$J$22,8,FALSE)=-1,1,0)))","v":0},{"$f":"IF(A36=\"\",0,IF(VLOOKUP(Wedstrijdschema!A36,Leden!$B$3:$S$22,18,FALSE)=\"nee\",1,IF(VLOOKUP(Wedstrijdschema!B36,Leden!$B$3:$S$22,18,FALSE)=\"nee\",1,0)))","v":0}]
[{"$f":"IF(ISERROR(VLOOKUP(+Wedstrijdschema!A37,Wedstrijdoverzicht!$A$2:$B$21,2,FALSE)),\"\",VLOOKUP(+Wedstrijdschema!A37,Wedstrijdoverzicht!$A$2:$B$21,2,FALSE))","v":""}," - ",{"$f":"IF(ISERROR(VLOOKUP(+Wedstrijdschema!B37,Wedstrijdoverzicht!$A$2:$B$21,2,FALSE)),\"\",VLOOKUP(+Wedstrijdschema!B37,Wedstrijdoverzicht!$A$2:$B$21,2,FALSE))","v":""},{"$f":"IF(A37=\"\",\"\",IF(H37=1,VLOOKUP(I37,Werk1!$V$2:$W$191,2,FALSE),0)+J37+K37)","v":""},null,null,null,0,{"$f":"Wedstrijdschema!A37&\"-\"&Wedstrijdschema!B37","v":{"$error":"#VALUE!"}},{"$f":"IF(A37=\"\",0,IF(VLOOKUP(Wedstrijdschema!A37,Leden!$B$3:$J$22,8,FALSE)=-1,1,IF(VLOOKUP(Wedstrijdschema!B37,Leden!$B$3:$J$22,8,FALSE)=-1,1,0)))","v":0},{"$f":"IF(A37=\"\",0,IF(VLOOKUP(Wedstrijdschema!A37,Leden!$B$3:$S$22,18,FALSE)=\"nee\",1,IF(VLOOKUP(Wedstrijdschema!B37,Leden!$B$3:$S$22,18,FALSE)=\"nee\",1,0)))","v":0}]
[{"$f":"IF(ISERROR(VLOOKUP(+Wedstrijdschema!A38,Wedstrijdoverzicht!$A$2:$B$21,2,FALSE)),\"\",VLOOKUP(+Wedstrijdschema!A38,Wedstrijdoverzicht!$A$2:$B$21,2,FALSE))","v":""}," - ",{"$f":"IF(ISERROR(VLOOKUP(+Wedstrijdschema!B38,Wedstrijdoverzicht!$A$2:$B$21,2,FALSE)),\"\",VLOOKUP(+Wedstrijdschema!B38,Wedstrijdoverzicht!$A$2:$B$21,2,FALSE))","v":""},{"$f":"IF(A38=\"\",\"\",IF(H38=1,VLOOKUP(I38,Werk1!$V$2:$W$191,2,FALSE),0)+J38+K38)","v":""},null,null,null,0,{"$f":"Wedstrijdschema!A38&\"-\"&Wedstrijdschema!B38","v":{"$error":"#VALUE!"}},{"$f":"IF(A38=\"\",0,IF(VLOOKUP(Wedstrijdschema!A38,Leden!$B$3:$J$22,8,FALSE)=-1,1,IF(VLOOKUP(Wedstrijdschema!B38,Leden!$B$3:$J$22,8,FALSE)=-1,1,0)))","v":0},{"$f":"IF(A38=\"\",0,IF(VLOOKUP(Wedstrijdschema!A38,Leden!$B$3:$S$22,18,FALSE)=\"nee\",1,IF(VLOOKUP(Wedstrijdschema!B38,Leden!$B$3:$S$22,18,FALSE)=\"nee\",1,0)))","v":0}]
[{"$f":"IF(ISERROR(VLOOKUP(+Wedstrijdschema!A39,Wedstrijdoverzicht!$A$2:$B$21,2,FALSE)),\"\",VLOOKUP(+Wedstrijdschema!A39,Wedstrijdoverzicht!$A$2:$B$21,2,FALSE))","v":""}," - ",{"$f":"IF(ISERROR(VLOOKUP(+Wedstrijdschema!B39,Wedstrijdoverzicht!$A$2:$B$21,2,FALSE)),\"\",VLOOKUP(+Wedstrijdschema!B39,Wedstrijdoverzicht!$A$2:$B$21,2,FALSE))","v":""},{"$f":"IF(A39=\"\",\"\",IF(H39=1,VLOOKUP(I39,Werk1!$V$2:$W$191,2,FALSE),0)+J39+K39)","v":""},null,null,null,0,{"$f":"Wedstrijdschema!A39&\"-\"&Wedstrijdschema!B39","v":{"$error":"#VALUE!"}},{"$f":"IF(A39=\"\",0,IF(VLOOKUP(Wedstrijdschema!A39,Leden!$B$3:$J$22,8,FALSE)=-1,1,IF(VLOOKUP(Wedstrijdschema!B39,Leden!$B$3:$J$22,8,FALSE)=-1,1,0)))","v":0},{"$f":"IF(A39=\"\",0,IF(VLOOKUP(Wedstrijdschema!A39,Leden!$B$3:$S$22,18,FALSE)=\"nee\",1,IF(VLOOKUP(Wedstrijdschema!B39,Leden!$B$3:$S$22,18,FALSE)=\"nee\",1,0)))","v":0}]
[{"$f":"IF(ISERROR(VLOOKUP(+Wedstrijdschema!A40,Wedstrijdoverzicht!$A$2:$B$21,2,FALSE)),\"\",VLOOKUP(+Wedstrijdschema!A40,Wedstrijdoverzicht!$A$2:$B$21,2,FALSE))","v":""}," - ",{"$f":"IF(ISERROR(VLOOKUP(+Wedstrijdschema!B40,Wedstrijdoverzicht!$A$2:$B$21,2,FALSE)),\"\",VLOOKUP(+Wedstrijdschema!B40,Wedstrijdoverzicht!$A$2:$B$21,2,FALSE))","v":""},{"$f":"IF(A40=\"\",\"\",IF(H40=1,VLOOKUP(I40,Werk1!$V$2:$W$191,2,FALSE),0)+J40+K40)","v":""},null,null,null,0,{"$f":"Wedstrijdschema!A40&\"-\"&Wedstrijdschema!B40","v":{"$error":"#VALUE!"}},{"$f":"IF(A40=\"\",0,IF(VLOOKUP(Wedstrijdschema!A40,Leden!$B$3:$J$22,8,FALSE)=-1,1,IF(VLOOKUP(Wedstrijdschema!B40,Leden!$B$3:$J$22,8,FALSE)=-1,1,0)))","v":0},{"$f":"IF(A40=\"\",0,IF(VLOOKUP(Wedstrijdschema!A40,Leden!$B$3:$S$22,18,FALSE)=\"nee\",1,IF(VLOOKUP(Wedstrijdschema!B40,Leden!$B$3:$S$22,18,FALSE)=\"nee\",1,0)))","v":0}]
[{"$f":"IF(ISERROR(VLOOKUP(+Wedstrijdschema!A41,Wedstrijdoverzicht!$A$2:$B$21,2,FALSE)),\"\",VLOOKUP(+Wedstrijdschema!A41,Wedstrijdoverzicht!$A$2:$B$21,2,FALSE))","v":""}," - ",{"$f":"IF(ISERROR(VLOOKUP(+Wedstrijdschema!B41,Wedstrijdoverzicht!$A$2:$B$21,2,FALSE)),\"\",VLOOKUP(+Wedstrijdschema!B41,Wedstrijdoverzicht!$A$2:$B$21,2,FALSE))","v":""},{"$f":"IF(A41=\"\",\"\",IF(H41=1,VLOOKUP(I41,Werk1!$V$2:$W$191,2,FALSE),0)+J41+K41)","v":""},null,null,null,0,{"$f":"Wedstrijdschema!A41&\"-\"&Wedstrijdschema!B41","v":{"$error":"#VALUE!"}},{"$f":"IF(A41=\"\",0,IF(VLOOKUP(Wedstrijdschema!A41,Leden!$B$3:$J$22,8,FALSE)=-1,1,IF(VLOOKUP(Wedstrijdschema!B41,Leden!$B$3:$J$22,8,FALSE)=-1,1,0)))","v":0},{"$f":"IF(A41=\"\",0,IF(VLOOKUP(Wedstrijdschema!A41,Leden!$B$3:$S$22,18,FALSE)=\"nee\",1,IF(VLOOKUP(Wedstrijdschema!B41,Leden!$B$3:$S$22,18,FALSE)=\"nee\",1,0)))","v":0}]
[{"$f":"IF(ISERROR(VLOOKUP(+Wedstrijdschema!A42,Wedstrijdoverzicht!$A$2:$B$21,2,FALSE)),\"\",VLOOKUP(+Wedstrijdschema!A42,Wedstrijdoverzicht!$A$2:$B$21,2,FALSE))","v":""}," - ",{"$f":"IF(ISERROR(VLOOKUP(+Wedstrijdschema!B42,Wedstrijdoverzicht!$A$2:$B$21,2,FALSE)),\"\",VLOOKUP(+Wedstrijdschema!B42,Wedstrijdoverzicht!$A$2:$B$21,2,FALSE))","v":""},{"$f":"IF(A42=\"\",\"\",IF(H42=1,VLOOKUP(I42,Werk1!$V$2:$W$191,2,FALSE),0)+J42+K42)","v":""},null,null,null,0,{"$f":"Wedstrijdschema!A42&\"-\"&Wedstrijdschema!B42","v":{"$error":"#VALUE!"}},{"$f":"IF(A42=\"\",0,IF(VLOOKUP(Wedstrijdschema!A42,Leden!$B$3:$J$22,8,FALSE)=-1,1,IF(VLOOKUP(Wedstrijdschema!B42,Leden!$B$3:$J$22,8,FALSE)=-1,1,0)))","v":0},{"$f":"IF(A42=\"\",0,IF(VLOOKUP(Wedstrijdschema!A42,Leden!$B$3:$S$22,18,FALSE)=\"nee\",1,IF(VLOOKUP(Wedstrijdschema!B42,Leden!$B$3:$S$22,18,FALSE)=\"nee\",1,0)))","v":0}]
[{"$f":"IF(ISERROR(VLOOKUP(+Wedstrijdschema!A43,Wedstrijdoverzicht!$A$2:$B$21,2,FALSE)),\"\",VLOOKUP(+Wedstrijdschema!A43,Wedstrijdoverzicht!$A$2:$B$21,2,FALSE))","v":""}," - ",{"$f":"IF(ISERROR(VLOOKUP(+Wedstrijdschema!B43,Wedstrijdoverzicht!$A$2:$B$21,2,FALSE)),\"\",VLOOKUP(+Wedstrijdschema!B43,Wedstrijdoverzicht!$A$2:$B$21,2,FALSE))","v":""},{"$f":"IF(A43=\"\",\"\",IF(H43=1,VLOOKUP(I43,Werk1!$V$2:$W$191,2,FALSE),0)+J43+K43)","v":""},null,null,null,0,{"$f":"Wedstrijdschema!A43&\"-\"&Wedstrijdschema!B43","v":{"$error":"#VALUE!"}},{"$f":"IF(A43=\"\",0,IF(VLOOKUP(Wedstrijdschema!A43,Leden!$B$3:$J$22,8,FALSE)=-1,1,IF(VLOOKUP(Wedstrijdschema!B43,Leden!$B$3:$J$22,8,FALSE)=-1,1,0)))","v":0},{"$f":"IF(A43=\"\",0,IF(VLOOKUP(Wedstrijdschema!A43,Leden!$B$3:$S$22,18,FALSE)=\"nee\",1,IF(VLOOKUP(Wedstrijdschema!B43,Leden!$B$3:$S$22,18,FALSE)=\"nee\",1,0)))","v":0}]
[{"$f":"IF(ISERROR(VLOOKUP(+Wedstrijdschema!A44,Wedstrijdoverzicht!$A$2:$B$21,2,FALSE)),\"\",VLOOKUP(+Wedstrijdschema!A44,Wedstrijdoverzicht!$A$2:$B$21,2,FALSE))","v":""}," - ",{"$f":"IF(ISERROR(VLOOKUP(+Wedstrijdschema!B44,Wedstrijdoverzicht!$A$2:$B$21,2,FALSE)),\"\",VLOOKUP(+Wedstrijdschema!B44,Wedstrijdoverzicht!$A$2:$B$21,2,FALSE))","v":""},{"$f":"IF(A44=\"\",\"\",IF(H44=1,VLOOKUP(I44,Werk1!$V$2:$W$191,2,FALSE),0)+J44+K44)","v":""},null,null,null,0,{"$f":"Wedstrijdschema!A44&\"-\"&Wedstrijdschema!B44","v":{"$error":"#VALUE!"}},{"$f":"IF(A44=\"\",0,IF(VLOOKUP(Wedstrijdschema!A44,Leden!$B$3:$J$22,8,FALSE)=-1,1,IF(VLOOKUP(Wedstrijdschema!B44,Leden!$B$3:$J$22,8,FALSE)=-1,1,0)))","v":0},{"$f":"IF(A44=\"\",0,IF(VLOOKUP(Wedstrijdschema!A44,Leden!$B$3:$S$22,18,FALSE)=\"nee\",1,IF(VLOOKUP(Wedstrijdschema!B44,Leden!$B$3:$S$22,18,FALSE)=\"nee\",1,0)))","v":0}]
[{"$f":"IF(ISERROR(VLOOKUP(+Wedstrijdschema!A45,Wedstrijdoverzicht!$A$2:$B$21,2,FALSE)),\"\",VLOOKUP(+Wedstrijdschema!A45,Wedstrijdoverzicht!$A$2:$B$21,2,FALSE))","v":""}," - ",{"$f":"IF(ISERROR(VLOOKUP(+Wedstrijdschema!B45,Wedstrijdoverzicht!$A$2:$B$21,2,FALSE)),\"\",VLOOKUP(+Wedstrijdschema!B45,Wedstrijdoverzicht!$A$2:$B$21,2,FALSE))","v":""},{"$f":"IF(A45=\"\",\"\",IF(H45=1,VLOOKUP(I45,Werk1!$V$2:$W$191,2,FALSE),0)+J45+K45)","v":""},null,null,null,0,{"$f":"Wedstrijdschema!A45&\"-\"&Wedstrijdschema!B45","v":{"$error":"#VALUE!"}},{"$f":"IF(A45=\"\",0,IF(VLOOKUP(Wedstrijdschema!A45,Leden!$B$3:$J$22,8,FALSE)=-1,1,IF(VLOOKUP(Wedstrijdschema!B45,Leden!$B$3:$J$22,8,FALSE)=-1,1,0)))","v":0},{"$f":"IF(A45=\"\",0,IF(VLOOKUP(Wedstrijdschema!A45,Leden!$B$3:$S$22,18,FALSE)=\"nee\",1,IF(VLOOKUP(Wedstrijdschema!B45,Leden!$B$3:$S$22,18,FALSE)=\"nee\",1,0)))","v":0}]
[{"$f":"IF(ISERROR(VLOOKUP(+Wedstrijdschema!A46,Wedstrijdoverzicht!$A$2:$B$21,2,FALSE)),\"\",VLOOKUP(+Wedstrijdschema!A46,Wedstrijdoverzicht!$A$2:$B$21,2,FALSE))","v":""}," - ",{"$f":"IF(ISERROR(VLOOKUP(+Wedstrijdschema!B46,Wedstrijdoverzicht!$A$2:$B$21,2,FALSE)),\"\",VLOOKUP(+Wedstrijdschema!B46,Wedstrijdoverzicht!$A$2:$B$21,2,FALSE))","v":""},{"$f":"IF(A46=\"\",\"\",IF(H46=1,VLOOKUP(I46,Werk1!$V$2:$W$191,2,FALSE),0)+J46+K46)","v":""},null,null,null,0,{"$f":"Wedstrijdschema!A46&\"-\"&Wedstrijdschema!B46","v":{"$error":"#VALUE!"}},{"$f":"IF(A46=\"\",0,IF(VLOOKUP(Wedstrijdschema!A46,Leden!$B$3:$J$22,8,FALSE)=-1,1,IF(VLOOKUP(Wedstrijdschema!B46,Leden!$B$3:$J$22,8,FALSE)=-1,1,0)))","v":0},{"$f":"IF(A46=\"\",0,IF(VLOOKUP(Wedstrijdschema!A46,Leden!$B$3:$S$22,18,FALSE)=\"nee\",1,IF(VLOOKUP(Wedstrijdschema!B46,Leden!$B$3:$S$22,18,FALSE)=\"nee\",1,0)))","v":0}]
[{"$f":"IF(ISERROR(VLOOKUP(+Wedstrijdschema!A47,Wedstrijdoverzicht!$A$2:$B$21,2,FALSE)),\"\",VLOOKUP(+Wedstrijdschema!A47,Wedstrijdoverzicht!$A$2:$B$21,2,FALSE))","v":""}," - ",{"$f":"IF(ISERROR(VLOOKUP(+Wedstrijdschema!B47,Wedstrijdoverzicht!$A$2:$B$21,2,FALSE)),\"\",VLOOKUP(+Wedstrijdschema!B47,Wedstrijdoverzicht!$A$2:$B$21,2,FALSE))","v":""},{"$f":"IF(A47=\"\",\"\",IF(H47=1,VLOOKUP(I47,Werk1!$V$2:$W$191,2,FALSE),0)+J47+K47)","v":""},null,null,null,0,{"$f":"Wedstrijdschema!A47&\"-\"&Wedstrijdschema!B47","v":{"$error":"#VALUE!"}},{"$f":"IF(A47=\"\",0,IF(VLOOKUP(Wedstrijdschema!A47,Leden!$B$3:$J$22,8,FALSE)=-1,1,IF(VLOOKUP(Wedstrijdschema!B47,Leden!$B$3:$J$22,8,FALSE)=-1,1,0)))","v":0},{"$f":"IF(A47=\"\",0,IF(VLOOKUP(Wedstrijdschema!A47,Leden!$B$3:$S$22,18,FALSE)=\"nee\",1,IF(VLOOKUP(Wedstrijdschema!B47,Leden!$B$3:$S$22,18,FALSE)=\"nee\",1,0)))","v":0}]
[{"$f":"IF(ISERROR(VLOOKUP(+Wedstrijdschema!A48,Wedstrijdoverzicht!$A$2:$B$21,2,FALSE)),\"\",VLOOKUP(+Wedstrijdschema!A48,Wedstrijdoverzicht!$A$2:$B$21,2,FALSE))","v":""}," - ",{"$f":"IF(ISERROR(VLOOKUP(+Wedstrijdschema!B48,Wedstrijdoverzicht!$A$2:$B$21,2,FALSE)),\"\",VLOOKUP(+Wedstrijdschema!B48,Wedstrijdoverzicht!$A$2:$B$21,2,FALSE))","v":""},{"$f":"IF(A48=\"\",\"\",IF(H48=1,VLOOKUP(I48,Werk1!$V$2:$W$191,2,FALSE),0)+J48+K48)","v":""},null,null,null,0,{"$f":"Wedstrijdschema!A48&\"-\"&Wedstrijdschema!B48","v":{"$error":"#VALUE!"}},{"$f":"IF(A48=\"\",0,IF(VLOOKUP(Wedstrijdschema!A48,Leden!$B$3:$J$22,8,FALSE)=-1,1,IF(VLOOKUP(Wedstrijdschema!B48,Leden!$B$3:$J$22,8,FALSE)=-1,1,0)))","v":0},{"$f":"IF(A48=\"\",0,IF(VLOOKUP(Wedstrijdschema!A48,Leden!$B$3:$S$22,18,FALSE)=\"nee\",1,IF(VLOOKUP(Wedstrijdschema!B48,Leden!$B$3:$S$22,18,FALSE)=\"nee\",1,0)))","v":0}]
[{"$f":"IF(ISERROR(VLOOKUP(+Wedstrijdschema!A49,Wedstrijdoverzicht!$A$2:$B$21,2,FALSE)),\"\",VLOOKUP(+Wedstrijdschema!A49,Wedstrijdoverzicht!$A$2:$B$21,2,FALSE))","v":""}," - ",{"$f":"IF(ISERROR(VLOOKUP(+Wedstrijdschema!B49,Wedstrijdoverzicht!$A$2:$B$21,2,FALSE)),\"\",VLOOKUP(+Wedstrijdschema!B49,Wedstrijdoverzicht!$A$2:$B$21,2,FALSE))","v":""},{"$f":"IF(A49=\"\",\"\",IF(H49=1,VLOOKUP(I49,Werk1!$V$2:$W$191,2,FALSE),0)+J49+K49)","v":""},null,null,null,0,{"$f":"Wedstrijdschema!A49&\"-\"&Wedstrijdschema!B49","v":{"$error":"#VALUE!"}},{"$f":"IF(A49=\"\",0,IF(VLOOKUP(Wedstrijdschema!A49,Leden!$B$3:$J$22,8,FALSE)=-1,1,IF(VLOOKUP(Wedstrijdschema!B49,Leden!$B$3:$J$22,8,FALSE)=-1,1,0)))","v":0},{"$f":"IF(A49=\"\",0,IF(VLOOKUP(Wedstrijdschema!A49,Leden!$B$3:$S$22,18,FALSE)=\"nee\",1,IF(VLOOKUP(Wedstrijdschema!B49,Leden!$B$3:$S$22,18,FALSE)=\"nee\",1,0)))","v":0}]
[{"$f":"IF(ISERROR(VLOOKUP(+Wedstrijdschema!A50,Wedstrijdoverzicht!$A$2:$B$21,2,FALSE)),\"\",VLOOKUP(+Wedstrijdschema!A50,Wedstrijdoverzicht!$A$2:$B$21,2,FALSE))","v":""}," - ",{"$f":"IF(ISERROR(VLOOKUP(+Wedstrijdschema!B50,Wedstrijdoverzicht!$A$2:$B$21,2,FALSE)),\"\",VLOOKUP(+Wedstrijdschema!B50,Wedstrijdoverzicht!$A$2:$B$21,2,FALSE))","v":""},{"$f":"IF(A50=\"\",\"\",IF(H50=1,VLOOKUP(I50,Werk1!$V$2:$W$191,2,FALSE),0)+J50+K50)","v":""},null,null,null,0,{"$f":"Wedstrijdschema!A50&\"-\"&Wedstrijdschema!B50","v":{"$error":"#VALUE!"}},{"$f":"IF(A50=\"\",0,IF(VLOOKUP(Wedstrijdschema!A50,Leden!$B$3:$J$22,8,FALSE)=-1,1,IF(VLOOKUP(Wedstrijdschema!B50,Leden!$B$3:$J$22,8,FALSE)=-1,1,0)))","v":0},{"$f":"IF(A50=\"\",0,IF(VLOOKUP(Wedstrijdschema!A50,Leden!$B$3:$S$22,18,FALSE)=\"nee\",1,IF(VLOOKUP(Wedstrijdschema!B50,Leden!$B$3:$S$22,18,FALSE)=\"nee\",1,0)))","v":0}]
[{"$f":"IF(ISERROR(VLOOKUP(+Wedstrijdschema!A51,Wedstrijdoverzicht!$A$2:$B$21,2,FALSE)),\"\",VLOOKUP(+Wedstrijdschema!A51,Wedstrijdoverzicht!$A$2:$B$21,2,FALSE))","v":""}," - ",{"$f":"IF(ISERROR(VLOOKUP(+Wedstrijdschema!B51,Wedstrijdoverzicht!$A$2:$B$21,2,FALSE)),\"\",VLOOKUP(+Wedstrijdschema!B51,Wedstrijdoverzicht!$A$2:$B$21,2,FALSE))","v":""},{"$f":"IF(A51=\"\",\"\",IF(H51=1,VLOOKUP(I51,Werk1!$V$2:$W$191,2,FALSE),0)+J51+K51)","v":""},null,null,null,0,{"$f":"Wedstrijdschema!A51&\"-\"&Wedstrijdschema!B51","v":{"$error":"#VALUE!"}},{"$f":"IF(A51=\"\",0,IF(VLOOKUP(Wedstrijdschema!A51,Leden!$B$3:$J$22,8,FALSE)=-1,1,IF(VLOOKUP(Wedstrijdschema!B51,Leden!$B$3:$J$22,8,FALSE)=-1,1,0)))","v":0},{"$f":"IF(A51=\"\",0,IF(VLOOKUP(Wedstrijdschema!A51,Leden!$B$3:$S$22,18,FALSE)=\"nee\",1,IF(VLOOKUP(Wedstrijdschema!B51,Leden!$B$3:$S$22,18,FALSE)=\"nee\",1,0)))","v":0}]
[{"$f":"IF(ISERROR(VLOOKUP(+Wedstrijdschema!A52,Wedstrijdoverzicht!$A$2:$B$21,2,FALSE)),\"\",VLOOKUP(+Wedstrijdschema!A52,Wedstrijdoverzicht!$A$2:$B$21,2,FALSE))","v":""}," - ",{"$f":"IF(ISERROR(VLOOKUP(+Wedstrijdschema!B52,Wedstrijdoverzicht!$A$2:$B$21,2,FALSE)),\"\",VLOOKUP(+Wedstrijdschema!B52,Wedstrijdoverzicht!$A$2:$B$21,2,FALSE))","v":""},{"$f":"IF(A52=\"\",\"\",IF(H52=1,VLOOKUP(I52,Werk1!$V$2:$W$191,2,FALSE),0)+J52+K52)","v":""},null,null,null,0,{"$f":"Wedstrijdschema!A52&\"-\"&Wedstrijdschema!B52","v":{"$error":"#VALUE!"}},{"$f":"IF(A52=\"\",0,IF(VLOOKUP(Wedstrijdschema!A52,Leden!$B$3:$J$22,8,FALSE)=-1,1,IF(VLOOKUP(Wedstrijdschema!B52,Leden!$B$3:$J$22,8,FALSE)=-1,1,0)))","v":0},{"$f":"IF(A52=\"\",0,IF(VLOOKUP(Wedstrijdschema!A52,Leden!$B$3:$S$22,18,FALSE)=\"nee\",1,IF(VLOOKUP(Wedstrijdschema!B52,Leden!$B$3:$S$22,18,FALSE)=\"nee\",1,0)))","v":0}]
[{"$f":"IF(ISERROR(VLOOKUP(+Wedstrijdschema!A53,Wedstrijdoverzicht!$A$2:$B$21,2,FALSE)),\"\",VLOOKUP(+Wedstrijdschema!A53,Wedstrijdoverzicht!$A$2:$B$21,2,FALSE))","v":""}," - ",{"$f":"IF(ISERROR(VLOOKUP(+Wedstrijdschema!B53,Wedstrijdoverzicht!$A$2:$B$21,2,FALSE)),\"\",VLOOKUP(+Wedstrijdschema!B53,Wedstrijdoverzicht!$A$2:$B$21,2,FALSE))","v":""},{"$f":"IF(A53=\"\",\"\",IF(H53=1,VLOOKUP(I53,Werk1!$V$2:$W$191,2,FALSE),0)+J53+K53)","v":""},null,null,null,0,{"$f":"Wedstrijdschema!A53&\"-\"&Wedstrijdschema!B53","v":{"$error":"#VALUE!"}},{"$f":"IF(A53=\"\",0,IF(VLOOKUP(Wedstrijdschema!A53,Leden!$B$3:$J$22,8,FALSE)=-1,1,IF(VLOOKUP(Wedstrijdschema!B53,Leden!$B$3:$J$22,8,FALSE)=-1,1,0)))","v":0},{"$f":"IF(A53=\"\",0,IF(VLOOKUP(Wedstrijdschema!A53,Leden!$B$3:$S$22,18,FALSE)=\"nee\",1,IF(VLOOKUP(Wedstrijdschema!B53,Leden!$B$3:$S$22,18,FALSE)=\"nee\",1,0)))","v":0}]
[{"$f":"IF(ISERROR(VLOOKUP(+Wedstrijdschema!A54,Wedstrijdoverzicht!$A$2:$B$21,2,FALSE)),\"\",VLOOKUP(+Wedstrijdschema!A54,Wedstrijdoverzicht!$A$2:$B$21,2,FALSE))","v":""}," - ",{"$f":"IF(ISERROR(VLOOKUP(+Wedstrijdschema!B54,Wedstrijdoverzicht!$A$2:$B$21,2,FALSE)),\"\",VLOOKUP(+Wedstrijdschema!B54,Wedstrijdoverzicht!$A$2:$B$21,2,FALSE))","v":""},{"$f":"IF(A54=\"\",\"\",IF(H54=1,VLOOKUP(I54,Werk1!$V$2:$W$191,2,FALSE),0)+J54+K54)","v":""},null,null,null,0,{"$f":"Wedstrijdschema!A54&\"-\"&Wedstrijdschema!B54","v":{"$error":"#VALUE!"}},{"$f":"IF(A54=\"\",0,IF(VLOOKUP(Wedstrijdschema!A54,Leden!$B$3:$J$22,8,FALSE)=-1,1,IF(VLOOKUP(Wedstrijdschema!B54,Leden!$B$3:$J$22,8,FALSE)=-1,1,0)))","v":0},{"$f":"IF(A54=\"\",0,IF(VLOOKUP(Wedstrijdschema!A54,Leden!$B$3:$S$22,18,FALSE)=\"nee\",1,IF(VLOOKUP(Wedstrijdschema!B54,Leden!$B$3:$S$22,18,FALSE)=\"nee\",1,0)))","v":0}]
[{"$f":"IF(ISERROR(VLOOKUP(+Wedstrijdschema!A55,Wedstrijdoverzicht!$A$2:$B$21,2,FALSE)),\"\",VLOOKUP(+Wedstrijdschema!A55,Wedstrijdoverzicht!$A$2:$B$21,2,FALSE))","v":""}," - ",{"$f":"IF(ISERROR(VLOOKUP(+Wedstrijdschema!B55,Wedstrijdoverzicht!$A$2:$B$21,2,FALSE)),\"\",VLOOKUP(+Wedstrijdschema!B55,Wedstrijdoverzicht!$A$2:$B$21,2,FALSE))","v":""},{"$f":"IF(A55=\"\",\"\",IF(H55=1,VLOOKUP(I55,Werk1!$V$2:$W$191,2,FALSE),0)+J55+K55)","v":""},null,null,null,0,{"$f":"Wedstrijdschema!A55&\"-\"&Wedstrijdschema!B55","v":{"$error":"#VALUE!"}},{"$f":"IF(A55=\"\",0,IF(VLOOKUP(Wedstrijdschema!A55,Leden!$B$3:$J$22,8,FALSE)=-1,1,IF(VLOOKUP(Wedstrijdschema!B55,Leden!$B$3:$J$22,8,FALSE)=-1,1,0)))","v":0},{"$f":"IF(A55=\"\",0,IF(VLOOKUP(Wedstrijdschema!A55,Leden!$B$3:$S$22,18,FALSE)=\"nee\",1,IF(VLOOKUP(Wedstrijdschema!B55,Leden!$B$3:$S$22,18,FALSE)=\"nee\",1,0)))","v":0}]
[{"$f":"IF(ISERROR(VLOOKUP(+Wedstrijdschema!A56,Wedstrijdoverzicht!$A$2:$B$21,2,FALSE)),\"\",VLOOKUP(+Wedstrijdschema!A56,Wedstrijdoverzicht!$A$2:$B$21,2,FALSE))","v":""}," - ",{"$f":"IF(ISERROR(VLOOKUP(+Wedstrijdschema!B56,Wedstrijdoverzicht!$A$2:$B$21,2,FALSE)),\"\",VLOOKUP(+Wedstrijdschema!B56,Wedstrijdoverzicht!$A$2:$B$21,2,FALSE))","v":""},{"$f":"IF(A56=\"\",\"\",IF(H56=1,VLOOKUP(I56,Werk1!$V$2:$W$191,2,FALSE),0)+J56+K56)","v":""},null,null,null,0,{"$f":"Wedstrijdschema!A56&\"-\"&Wedstrijdschema!B56","v":{"$error":"#VALUE!"}},{"$f":"IF(A56=\"\",0,IF(VLOOKUP(Wedstrijdschema!A56,Leden!$B$3:$J$22,8,FALSE)=-1,1,IF(VLOOKUP(Wedstrijdschema!B56,Leden!$B$3:$J$22,8,FALSE)=-1,1,0)))","v":0},{"$f":"IF(A56=\"\",0,IF(VLOOKUP(Wedstrijdschema!A56,Leden!$B$3:$S$22,18,FALSE)=\"nee\",1,IF(VLOOKUP(Wedstrijdschema!B56,Leden!$B$3:$S$22,18,FALSE)=\"nee\",1,0)))","v":0}]
[{"$f":"IF(ISERROR(VLOOKUP(+Wedstrijdschema!A57,Wedstrijdoverzicht!$A$2:$B$21,2,FALSE)),\"\",VLOOKUP(+Wedstrijdschema!A57,Wedstrijdoverzicht!$A$2:$B$21,2,FALSE))","v":""}," - ",{"$f":"IF(ISERROR(VLOOKUP(+Wedstrijdschema!B57,Wedstrijdoverzicht!$A$2:$B$21,2,FALSE)),\"\",VLOOKUP(+Wedstrijdschema!B57,Wedstrijdoverzicht!$A$2:$B$21,2,FALSE))","v":""},{"$f":"IF(A57=\"\",\"\",IF(H57=1,VLOOKUP(I57,Werk1!$V$2:$W$191,2,FALSE),0)+J57+K57)","v":""},null,null,null,0,{"$f":"Wedstrijdschema!A57&\"-\"&Wedstrijdschema!B57","v":{"$error":"#VALUE!"}},{"$f":"IF(A57=\"\",0,IF(VLOOKUP(Wedstrijdschema!A57,Leden!$B$3:$J$22,8,FALSE)=-1,1,IF(VLOOKUP(Wedstrijdschema!B57,Leden!$B$3:$J$22,8,FALSE)=-1,1,0)))","v":0},{"$f":"IF(A57=\"\",0,IF(VLOOKUP(Wedstrijdschema!A57,Leden!$B$3:$S$22,18,FALSE)=\"nee\",1,IF(VLOOKUP(Wedstrijdschema!B57,Leden!$B$3:$S$22,18,FALSE)=\"nee\",1,0)))","v":0}]
[{"$f":"IF(ISERROR(VLOOKUP(+Wedstrijdschema!A58,Wedstrijdoverzicht!$A$2:$B$21,2,FALSE)),\"\",VLOOKUP(+Wedstrijdschema!A58,Wedstrijdoverzicht!$A$2:$B$21,2,FALSE))","v":""}," - ",{"$f":"IF(ISERROR(VLOOKUP(+Wedstrijdschema!B58,Wedstrijdoverzicht!$A$2:$B$21,2,FALSE)),\"\",VLOOKUP(+Wedstrijdschema!B58,Wedstrijdoverzicht!$A$2:$B$21,2,FALSE))","v":""},{"$f":"IF(A58=\"\",\"\",IF(H58=1,VLOOKUP(I58,Werk1!$V$2:$W$191,2,FALSE),0)+J58+K58)","v":""},null,null,null,0,{"$f":"Wedstrijdschema!A58&\"-\"&Wedstrijdschema!B58","v":{"$error":"#VALUE!"}},{"$f":"IF(A58=\"\",0,IF(VLOOKUP(Wedstrijdschema!A58,Leden!$B$3:$J$22,8,FALSE)=-1,1,IF(VLOOKUP(Wedstrijdschema!B58,Leden!$B$3:$J$22,8,FALSE)=-1,1,0)))","v":0},{"$f":"IF(A58=\"\",0,IF(VLOOKUP(Wedstrijdschema!A58,Leden!$B$3:$S$22,18,FALSE)=\"nee\",1,IF(VLOOKUP(Wedstrijdschema!B58,Leden!$B$3:$S$22,18,FALSE)=\"nee\",1,0)))","v":0}]
[{"$f":"IF(ISERROR(VLOOKUP(+Wedstrijdschema!A59,Wedstrijdoverzicht!$A$2:$B$21,2,FALSE)),\"\",VLOOKUP(+Wedstrijdschema!A59,Wedstrijdoverzicht!$A$2:$B$21,2,FALSE))","v":""}," - ",{"$f":"IF(ISERROR(VLOOKUP(+Wedstrijdschema!B59,Wedstrijdoverzicht!$A$2:$B$21,2,FALSE)),\"\",VLOOKUP(+Wedstrijdschema!B59,Wedstrijdoverzicht!$A$2:$B$21,2,FALSE))","v":""},{"$f":"IF(A59=\"\",\"\",IF(H59=1,VLOOKUP(I59,Werk1!$V$2:$W$191,2,FALSE),0)+J59+K59)","v":""},null,null,null,0,{"$f":"Wedstrijdschema!A59&\"-\"&Wedstrijdschema!B59","v":{"$error":"#VALUE!"}},{"$f":"IF(A59=\"\",0,IF(VLOOKUP(Wedstrijdschema!A59,Leden!$B$3:$J$22,8,FALSE)=-1,1,IF(VLOOKUP(Wedstrijdschema!B59,Leden!$B$3:$J$22,8,FALSE)=-1,1,0)))","v":0},{"$f":"IF(A59=\"\",0,IF(VLOOKUP(Wedstrijdschema!A59,Leden!$B$3:$S$22,18,FALSE)=\"nee\",1,IF(VLOOKUP(Wedstrijdschema!B59,Leden!$B$3:$S$22,18,FALSE)=\"nee\",1,0)))","v":0}]
[{"$f":"IF(ISERROR(VLOOKUP(+Wedstrijdschema!A60,Wedstrijdoverzicht!$A$2:$B$21,2,FALSE)),\"\",VLOOKUP(+Wedstrijdschema!A60,Wedstrijdoverzicht!$A$2:$B$21,2,FALSE))","v":""}," - ",{"$f":"IF(ISERROR(VLOOKUP(+Wedstrijdschema!B60,Wedstrijdoverzicht!$A$2:$B$21,2,FALSE)),\"\",VLOOKUP(+Wedstrijdschema!B60,Wedstrijdoverzicht!$A$2:$B$21,2,FALSE))","v":""},{"$f":"IF(A60=\"\",\"\",IF(H60=1,VLOOKUP(I60,Werk1!$V$2:$W$191,2,FALSE),0)+J60+K60)","v":""},null,null,null,0,{"$f":"Wedstrijdschema!A60&\"-\"&Wedstrijdschema!B60","v":{"$error":"#VALUE!"}},{"$f":"IF(A60=\"\",0,IF(VLOOKUP(Wedstrijdschema!A60,Leden!$B$3:$J$22,8,FALSE)=-1,1,IF(VLOOKUP(Wedstrijdschema!B60,Leden!$B$3:$J$22,8,FALSE)=-1,1,0)))","v":0},{"$f":"IF(A60=\"\",0,IF(VLOOKUP(Wedstrijdschema!A60,Leden!$B$3:$S$22,18,FALSE)=\"nee\",1,IF(VLOOKUP(Wedstrijdschema!B60,Leden!$B$3:$S$22,18,FALSE)=\"nee\",1,0)))","v":0}]
[{"$f":"IF(ISERROR(VLOOKUP(+Wedstrijdschema!A61,Wedstrijdoverzicht!$A$2:$B$21,2,FALSE)),\"\",VLOOKUP(+Wedstrijdschema!A61,Wedstrijdoverzicht!$A$2:$B$21,2,FALSE))","v":""}," - ",{"$f":"IF(ISERROR(VLOOKUP(+Wedstrijdschema!B61,Wedstrijdoverzicht!$A$2:$B$21,2,FALSE)),\"\",VLOOKUP(+Wedstrijdschema!B61,Wedstrijdoverzicht!$A$2:$B$21,2,FALSE))","v":""},{"$f":"IF(A61=\"\",\"\",IF(H61=1,VLOOKUP(I61,Werk1!$V$2:$W$191,2,FALSE),0)+J61+K61)","v":""},null,null,null,0,{"$f":"Wedstrijdschema!A61&\"-\"&Wedstrijdschema!B61","v":{"$error":"#VALUE!"}},{"$f":"IF(A61=\"\",0,IF(VLOOKUP(Wedstrijdschema!A61,Leden!$B$3:$J$22,8,FALSE)=-1,1,IF(VLOOKUP(Wedstrijdschema!B61,Leden!$B$3:$J$22,8,FALSE)=-1,1,0)))","v":0},{"$f":"IF(A61=\"\",0,IF(VLOOKUP(Wedstrijdschema!A61,Leden!$B$3:$S$22,18,FALSE)=\"nee\",1,IF(VLOOKUP(Wedstrijdschema!B61,Leden!$B$3:$S$22,18,FALSE)=\"nee\",1,0)))","v":0}]
[{"$f":"IF(ISERROR(VLOOKUP(+Wedstrijdschema!A62,Wedstrijdoverzicht!$A$2:$B$21,2,FALSE)),\"\",VLOOKUP(+Wedstrijdschema!A62,Wedstrijdoverzicht!$A$2:$B$21,2,FALSE))","v":""}," - ",{"$f":"IF(ISERROR(VLOOKUP(+Wedstrijdschema!B62,Wedstrijdoverzicht!$A$2:$B$21,2,FALSE)),\"\",VLOOKUP(+Wedstrijdschema!B62,Wedstrijdoverzicht!$A$2:$B$21,2,FALSE))","v":""},{"$f":"IF(A62=\"\",\"\",IF(H62=1,VLOOKUP(I62,Werk1!$V$2:$W$191,2,FALSE),0)+J62+K62)","v":""},null,null,null,0,{"$f":"Wedstrijdschema!A62&\"-\"&Wedstrijdschema!B62","v":{"$error":"#VALUE!"}},{"$f":"IF(A62=\"\",0,IF(VLOOKUP(Wedstrijdschema!A62,Leden!$B$3:$J$22,8,FALSE)=-1,1,IF(VLOOKUP(Wedstrijdschema!B62,Leden!$B$3:$J$22,8,FALSE)=-1,1,0)))","v":0},{"$f":"IF(A62=\"\",0,IF(VLOOKUP(Wedstrijdschema!A62,Leden!$B$3:$S$22,18,FALSE)=\"nee\",1,IF(VLOOKUP(Wedstrijdschema!B62,Leden!$B$3:$S$22,18,FALSE)=\"nee\",1,0)))","v":0}]
[{"$f":"IF(ISERROR(VLOOKUP(+Wedstrijdschema!A63,Wedstrijdoverzicht!$A$2:$B$21,2,FALSE)),\"\",VLOOKUP(+Wedstrijdschema!A63,Wedstrijdoverzicht!$A$2:$B$21,2,FALSE))","v":""}," - ",{"$f":"IF(ISERROR(VLOOKUP(+Wedstrijdschema!B63,Wedstrijdoverzicht!$A$2:$B$21,2,FALSE)),\"\",VLOOKUP(+Wedstrijdschema!B63,Wedstrijdoverzicht!$A$2:$B$21,2,FALSE))","v":""},{"$f":"IF(A63=\"\",\"\",IF(H63=1,VLOOKUP(I63,Werk1!$V$2:$W$191,2,FALSE),0)+J63+K63)","v":""},null,null,null,0,{"$f":"Wedstrijdschema!A63&\"-\"&Wedstrijdschema!B63","v":{"$error":"#VALUE!"}},{"$f":"IF(A63=\"\",0,IF(VLOOKUP(Wedstrijdschema!A63,Leden!$B$3:$J$22,8,FALSE)=-1,1,IF(VLOOKUP(Wedstrijdschema!B63,Leden!$B$3:$J$22,8,FALSE)=-1,1,0)))","v":0},{"$f":"IF(A63=\"\",0,IF(VLOOKUP(Wedstrijdschema!A63,Leden!$B$3:$S$22,18,FALSE)=\"nee\",1,IF(VLOOKUP(Wedstrijdschema!B63,Leden!$B$3:$S$22,18,FALSE)=\"nee\",1,0)))","v":0}]
[{"$f":"IF(ISERROR(VLOOKUP(+Wedstrijdschema!A64,Wedstrijdoverzicht!$A$2:$B$21,2,FALSE)),\"\",VLOOKUP(+Wedstrijdschema!A64,Wedstrijdoverzicht!$A$2:$B$21,2,FALSE))","v":""}," - ",{"$f":"IF(ISERROR(VLOOKUP(+Wedstrijdschema!B64,Wedstrijdoverzicht!$A$2:$B$21,2,FALSE)),\"\",VLOOKUP(+Wedstrijdschema!B64,Wedstrijdoverzicht!$A$2:$B$21,2,FALSE))","v":""},{"$f":"IF(A64=\"\",\"\",IF(H64=1,VLOOKUP(I64,Werk1!$V$2:$W$191,2,FALSE),0)+J64+K64)","v":""},null,null,null,0,{"$f":"Wedstrijdschema!A64&\"-\"&Wedstrijdschema!B64","v":{"$error":"#VALUE!"}},{"$f":"IF(A64=\"\",0,IF(VLOOKUP(Wedstrijdschema!A64,Leden!$B$3:$J$22,8,FALSE)=-1,1,IF(VLOOKUP(Wedstrijdschema!B64,Leden!$B$3:$J$22,8,FALSE)=-1,1,0)))","v":0},{"$f":"IF(A64=\"\",0,IF(VLOOKUP(Wedstrijdschema!A64,Leden!$B$3:$S$22,18,FALSE)=\"nee\",1,IF(VLOOKUP(Wedstrijdschema!B64,Leden!$B$3:$S$22,18,FALSE)=\"nee\",1,0)))","v":0}]
[{"$f":"IF(ISERROR(VLOOKUP(+Wedstrijdschema!A65,Wedstrijdoverzicht!$A$2:$B$21,2,FALSE)),\"\",VLOOKUP(+Wedstrijdschema!A65,Wedstrijdoverzicht!$A$2:$B$21,2,FALSE))","v":""}," - ",{"$f":"IF(ISERROR(VLOOKUP(+Wedstrijdschema!B65,Wedstrijdoverzicht!$A$2:$B$21,2,FALSE)),\"\",VLOOKUP(+Wedstrijdschema!B65,Wedstrijdoverzicht!$A$2:$B$21,2,FALSE))","v":""},{"$f":"IF(A65=\"\",\"\",IF(H65=1,VLOOKUP(I65,Werk1!$V$2:$W$191,2,FALSE),0)+J65+K65)","v":""},null,null,null,0,{"$f":"Wedstrijdschema!A65&\"-\"&Wedstrijdschema!B65","v":{"$error":"#VALUE!"}},{"$f":"IF(A65=\"\",0,IF(VLOOKUP(Wedstrijdschema!A65,Leden!$B$3:$J$22,8,FALSE)=-1,1,IF(VLOOKUP(Wedstrijdschema!B65,Leden!$B$3:$J$22,8,FALSE)=-1,1,0)))","v":0},{"$f":"IF(A65=\"\",0,IF(VLOOKUP(Wedstrijdschema!A65,Leden!$B$3:$S$22,18,FALSE)=\"nee\",1,IF(VLOOKUP(Wedstrijdschema!B65,Leden!$B$3:$S$22,18,FALSE)=\"nee\",1,0)))","v":0}]
[{"$f":"IF(ISERROR(VLOOKUP(+Wedstrijdschema!A66,Wedstrijdoverzicht!$A$2:$B$21,2,FALSE)),\"\",VLOOKUP(+Wedstrijdschema!A66,Wedstrijdoverzicht!$A$2:$B$21,2,FALSE))","v":""}," - ",{"$f":"IF(ISERROR(VLOOKUP(+Wedstrijdschema!B66,Wedstrijdoverzicht!$A$2:$B$21,2,FALSE)),\"\",VLOOKUP(+Wedstrijdschema!B66,Wedstrijdoverzicht!$A$2:$B$21,2,FALSE))","v":""},{"$f":"IF(A66=\"\",\"\",IF(H66=1,VLOOKUP(I66,Werk1!$V$2:$W$191,2,FALSE),0)+J66+K66)","v":""},null,null,null,0,{"$f":"Wedstrijdschema!A66&\"-\"&Wedstrijdschema!B66","v":{"$error":"#VALUE!"}},{"$f":"IF(A66=\"\",0,IF(VLOOKUP(Wedstrijdschema!A66,Leden!$B$3:$J$22,8,FALSE)=-1,1,IF(VLOOKUP(Wedstrijdschema!B66,Leden!$B$3:$J$22,8,FALSE)=-1,1,0)))","v":0},{"$f":"IF(A66=\"\",0,IF(VLOOKUP(Wedstrijdschema!A66,Leden!$B$3:$S$22,18,FALSE)=\"nee\",1,IF(VLOOKUP(Wedstrijdschema!B66,Leden!$B$3:$S$22,18,FALSE)=\"nee\",1,0)))","v":0}]
[{"$f":"IF(ISERROR(VLOOKUP(+Wedstrijdschema!A67,Wedstrijdoverzicht!$A$2:$B$21,2,FALSE)),\"\",VLOOKUP(+Wedstrijdschema!A67,Wedstrijdoverzicht!$A$2:$B$21,2,FALSE))","v":""}," - ",{"$f":"IF(ISERROR(VLOOKUP(+Wedstrijdschema!B67,Wedstrijdoverzicht!$A$2:$B$21,2,FALSE)),\"\",VLOOKUP(+Wedstrijdschema!B67,Wedstrijdoverzicht!$A$2:$B$21,2,FALSE))","v":""},{"$f":"IF(A67=\"\",\"\",IF(H67=1,VLOOKUP(I67,Werk1!$V$2:$W$191,2,FALSE),0)+J67+K67)","v":""},null,null,null,0,{"$f":"Wedstrijdschema!A67&\"-\"&Wedstrijdschema!B67","v":{"$error":"#VALUE!"}},{"$f":"IF(A67=\"\",0,IF(VLOOKUP(Wedstrijdschema!A67,Leden!$B$3:$J$22,8,FALSE)=-1,1,IF(VLOOKUP(Wedstrijdschema!B67,Leden!$B$3:$J$22,8,FALSE)=-1,1,0)))","v":0},{"$f":"IF(A67=\"\",0,IF(VLOOKUP(Wedstrijdschema!A67,Leden!$B$3:$S$22,18,FALSE)=\"nee\",1,IF(VLOOKUP(Wedstrijdschema!B67,Leden!$B$3:$S$22,18,FALSE)=\"nee\",1,0)))","v":0}]
[{"$f":"IF(ISERROR(VLOOKUP(+Wedstrijdschema!A68,Wedstrijdoverzicht!$A$2:$B$21,2,FALSE)),\"\",VLOOKUP(+Wedstrijdschema!A68,Wedstrijdoverzicht!$A$2:$B$21,2,FALSE))","v":""}," - ",{"$f":"IF(ISERROR(VLOOKUP(+Wedstrijdschema!B68,Wedstrijdoverzicht!$A$2:$B$21,2,FALSE)),\"\",VLOOKUP(+Wedstrijdschema!B68,Wedstrijdoverzicht!$A$2:$B$21,2,FALSE))","v":""},{"$f":"IF(A68=\"\",\"\",IF(H68=1,VLOOKUP(I68,Werk1!$V$2:$W$191,2,FALSE),0)+J68+K68)","v":""},null,null,null,0,{"$f":"Wedstrijdschema!A68&\"-\"&Wedstrijdschema!B68","v":{"$error":"#VALUE!"}},{"$f":"IF(A68=\"\",0,IF(VLOOKUP(Wedstrijdschema!A68,Leden!$B$3:$J$22,8,FALSE)=-1,1,IF(VLOOKUP(Wedstrijdschema!B68,Leden!$B$3:$J$22,8,FALSE)=-1,1,0)))","v":0},{"$f":"IF(A68=\"\",0,IF(VLOOKUP(Wedstrijdschema!A68,Leden!$B$3:$S$22,18,FALSE)=\"nee\",1,IF(VLOOKUP(Wedstrijdschema!B68,Leden!$B$3:$S$22,18,FALSE)=\"nee\",1,0)))","v":0}]
[{"$f":"IF(ISERROR(VLOOKUP(+Wedstrijdschema!A69,Wedstrijdoverzicht!$A$2:$B$21,2,FALSE)),\"\",VLOOKUP(+Wedstrijdschema!A69,Wedstrijdoverzicht!$A$2:$B$21,2,FALSE))","v":""}," - ",{"$f":"IF(ISERROR(VLOOKUP(+Wedstrijdschema!B69,Wedstrijdoverzicht!$A$2:$B$21,2,FALSE)),\"\",VLOOKUP(+Wedstrijdschema!B69,Wedstrijdoverzicht!$A$2:$B$21,2,FALSE))","v":""},{"$f":"IF(A69=\"\",\"\",IF(H69=1,VLOOKUP(I69,Werk1!$V$2:$W$191,2,FALSE),0)+J69+K69)","v":""},null,null,null,0,{"$f":"Wedstrijdschema!A69&\"-\"&Wedstrijdschema!B69","v":{"$error":"#VALUE!"}},{"$f":"IF(A69=\"\",0,IF(VLOOKUP(Wedstrijdschema!A69,Leden!$B$3:$J$22,8,FALSE)=-1,1,IF(VLOOKUP(Wedstrijdschema!B69,Leden!$B$3:$J$22,8,FALSE)=-1,1,0)))","v":0},{"$f":"IF(A69=\"\",0,IF(VLOOKUP(Wedstrijdschema!A69,Leden!$B$3:$S$22,18,FALSE)=\"nee\",1,IF(VLOOKUP(Wedstrijdschema!B69,Leden!$B$3:$S$22,18,FALSE)=\"nee\",1,0)))","v":0}]
[{"$f":"IF(ISERROR(VLOOKUP(+Wedstrijdschema!A70,Wedstrijdoverzicht!$A$2:$B$21,2,FALSE)),\"\",VLOOKUP(+Wedstrijdschema!A70,Wedstrijdoverzicht!$A$2:$B$21,2,FALSE))","v":""}," - ",{"$f":"IF(ISERROR(VLOOKUP(+Wedstrijdschema!B70,Wedstrijdoverzicht!$A$2:$B$21,2,FALSE)),\"\",VLOOKUP(+Wedstrijdschema!B70,Wedstrijdoverzicht!$A$2:$B$21,2,FALSE))","v":""},{"$f":"IF(A70=\"\",\"\",IF(H70=1,VLOOKUP(I70,Werk1!$V$2:$W$191,2,FALSE),0)+J70+K70)","v":""},null,null,null,0,{"$f":"Wedstrijdschema!A70&\"-\"&Wedstrijdschema!B70","v":{"$error":"#VALUE!"}},{"$f":"IF(A70=\"\",0,IF(VLOOKUP(Wedstrijdschema!A70,Leden!$B$3:$J$22,8,FALSE)=-1,1,IF(VLOOKUP(Wedstrijdschema!B70,Leden!$B$3:$J$22,8,FALSE)=-1,1,0)))","v":0},{"$f":"IF(A70=\"\",0,IF(VLOOKUP(Wedstrijdschema!A70,Leden!$B$3:$S$22,18,FALSE)=\"nee\",1,IF(VLOOKUP(Wedstrijdschema!B70,Leden!$B$3:$S$22,18,FALSE)=\"nee\",1,0)))","v":0}]
[{"$f":"IF(ISERROR(VLOOKUP(+Wedstrijdschema!A71,Wedstrijdoverzicht!$A$2:$B$21,2,FALSE)),\"\",VLOOKUP(+Wedstrijdschema!A71,Wedstrijdoverzicht!$A$2:$B$21,2,FALSE))","v":""}," - ",{"$f":"IF(ISERROR(VLOOKUP(+Wedstrijdschema!B71,Wedstrijdoverzicht!$A$2:$B$21,2,FALSE)),\"\",VLOOKUP(+Wedstrijdschema!B71,Wedstrijdoverzicht!$A$2:$B$21,2,FALSE))","v":""},{"$f":"IF(A71=\"\",\"\",IF(H71=1,VLOOKUP(I71,Werk1!$V$2:$W$191,2,FALSE),0)+J71+K71)","v":""},null,null,null,{"$f":"IF(A71<>\"\",1,0)","v":0},{"$f":"Wedstrijdschema!A71&\"-\"&Wedstrijdschema!B71","v":{"$error":"#VALUE!"}},{"$f":"IF(A71=\"\",0,IF(VLOOKUP(Wedstrijdschema!A71,Leden!$B$3:$J$22,8,FALSE)=-1,1,IF(VLOOKUP(Wedstrijdschema!B71,Leden!$B$3:$J$22,8,FALSE)=-1,1,0)))","v":0},{"$f":"IF(A71=\"\",0,IF(VLOOKUP(Wedstrijdschema!A71,Leden!$B$3:$S$22,18,FALSE)=\"nee\",1,IF(VLOOKUP(Wedstrijdschema!B71,Leden!$B$3:$S$22,18,FALSE)=\"nee\",1,0)))","v":0}]
[{"$f":"IF(ISERROR(VLOOKUP(+Wedstrijdschema!A72,Wedstrijdoverzicht!$A$2:$B$21,2,FALSE)),\"\",VLOOKUP(+Wedstrijdschema!A72,Wedstrijdoverzicht!$A$2:$B$21,2,FALSE))","v":""}," - ",{"$f":"IF(ISERROR(VLOOKUP(+Wedstrijdschema!B72,Wedstrijdoverzicht!$A$2:$B$21,2,FALSE)),\"\",VLOOKUP(+Wedstrijdschema!B72,Wedstrijdoverzicht!$A$2:$B$21,2,FALSE))","v":""},{"$f":"IF(A72=\"\",\"\",IF(H72=1,VLOOKUP(I72,Werk1!$V$2:$W$191,2,FALSE),0)+J72+K72)","v":""},null,null,null,0,{"$f":"Wedstrijdschema!A72&\"-\"&Wedstrijdschema!B72","v":{"$error":"#VALUE!"}},{"$f":"IF(A72=\"\",0,IF(VLOOKUP(Wedstrijdschema!A72,Leden!$B$3:$J$22,8,FALSE)=-1,1,IF(VLOOKUP(Wedstrijdschema!B72,Leden!$B$3:$J$22,8,FALSE)=-1,1,0)))","v":0},{"$f":"IF(A72=\"\",0,IF(VLOOKUP(Wedstrijdschema!A72,Leden!$B$3:$S$22,18,FALSE)=\"nee\",1,IF(VLOOKUP(Wedstrijdschema!B72,Leden!$B$3:$S$22,18,FALSE)=\"nee\",1,0)))","v":0}]
[{"$f":"IF(ISERROR(VLOOKUP(+Wedstrijdschema!A73,Wedstrijdoverzicht!$A$2:$B$21,2,FALSE)),\"\",VLOOKUP(+Wedstrijdschema!A73,Wedstrijdoverzicht!$A$2:$B$21,2,FALSE))","v":""}," - ",{"$f":"IF(ISERROR(VLOOKUP(+Wedstrijdschema!B73,Wedstrijdoverzicht!$A$2:$B$21,2,FALSE)),\"\",VLOOKUP(+Wedstrijdschema!B73,Wedstrijdoverzicht!$A$2:$B$21,2,FALSE))","v":""},{"$f":"IF(A73=\"\",\"\",IF(H73=1,VLOOKUP(I73,Werk1!$V$2:$W$191,2,FALSE),0)+J73+K73)","v":""},null,null,null,0,{"$f":"Wedstrijdschema!A73&\"-\"&Wedstrijdschema!B73","v":{"$error":"#VALUE!"}},{"$f":"IF(A73=\"\",0,IF(VLOOKUP(Wedstrijdschema!A73,Leden!$B$3:$J$22,8,FALSE)=-1,1,IF(VLOOKUP(Wedstrijdschema!B73,Leden!$B$3:$J$22,8,FALSE)=-1,1,0)))","v":0},{"$f":"IF(A73=\"\",0,IF(VLOOKUP(Wedstrijdschema!A73,Leden!$B$3:$S$22,18,FALSE)=\"nee\",1,IF(VLOOKUP(Wedstrijdschema!B73,Leden!$B$3:$S$22,18,FALSE)=\"nee\",1,0)))","v":0}]
[{"$f":"IF(ISERROR(VLOOKUP(+Wedstrijdschema!A74,Wedstrijdoverzicht!$A$2:$B$21,2,FALSE)),\"\",VLOOKUP(+Wedstrijdschema!A74,Wedstrijdoverzicht!$A$2:$B$21,2,FALSE))","v":""}," - ",{"$f":"IF(ISERROR(VLOOKUP(+Wedstrijdschema!B74,Wedstrijdoverzicht!$A$2:$B$21,2,FALSE)),\"\",VLOOKUP(+Wedstrijdschema!B74,Wedstrijdoverzicht!$A$2:$B$21,2,FALSE))","v":""},{"$f":"IF(A74=\"\",\"\",IF(H74=1,VLOOKUP(I74,Werk1!$V$2:$W$191,2,FALSE),0)+J74+K74)","v":""},null,null,null,0,{"$f":"Wedstrijdschema!A74&\"-\"&Wedstrijdschema!B74","v":{"$error":"#VALUE!"}},{"$f":"IF(A74=\"\",0,IF(VLOOKUP(Wedstrijdschema!A74,Leden!$B$3:$J$22,8,FALSE)=-1,1,IF(VLOOKUP(Wedstrijdschema!B74,Leden!$B$3:$J$22,8,FALSE)=-1,1,0)))","v":0},{"$f":"IF(A74=\"\",0,IF(VLOOKUP(Wedstrijdschema!A74,Leden!$B$3:$S$22,18,FALSE)=\"nee\",1,IF(VLOOKUP(Wedstrijdschema!B74,Leden!$B$3:$S$22,18,FALSE)=\"nee\",1,0)))","v":0}]
[{"$f":"IF(ISERROR(VLOOKUP(+Wedstrijdschema!A75,Wedstrijdoverzicht!$A$2:$B$21,2,FALSE)),\"\",VLOOKUP(+Wedstrijdschema!A75,Wedstrijdoverzicht!$A$2:$B$21,2,FALSE))","v":""}," - ",{"$f":"IF(ISERROR(VLOOKUP(+Wedstrijdschema!B75,Wedstrijdoverzicht!$A$2:$B$21,2,FALSE)),\"\",VLOOKUP(+Wedstrijdschema!B75,Wedstrijdoverzicht!$A$2:$B$21,2,FALSE))","v":""},{"$f":"IF(A75=\"\",\"\",IF(H75=1,VLOOKUP(I75,Werk1!$V$2:$W$191,2,FALSE),0)+J75+K75)","v":""},null,null,null,0,{"$f":"Wedstrijdschema!A75&\"-\"&Wedstrijdschema!B75","v":{"$error":"#VALUE!"}},{"$f":"IF(A75=\"\",0,IF(VLOOKUP(Wedstrijdschema!A75,Leden!$B$3:$J$22,8,FALSE)=-1,1,IF(VLOOKUP(Wedstrijdschema!B75,Leden!$B$3:$J$22,8,FALSE)=-1,1,0)))","v":0},{"$f":"IF(A75=\"\",0,IF(VLOOKUP(Wedstrijdschema!A75,Leden!$B$3:$S$22,18,FALSE)=\"nee\",1,IF(VLOOKUP(Wedstrijdschema!B75,Leden!$B$3:$S$22,18,FALSE)=\"nee\",1,0)))","v":0}]
[{"$f":"IF(ISERROR(VLOOKUP(+Wedstrijdschema!A76,Wedstrijdoverzicht!$A$2:$B$21,2,FALSE)),\"\",VLOOKUP(+Wedstrijdschema!A76,Wedstrijdoverzicht!$A$2:$B$21,2,FALSE))","v":""}," - ",{"$f":"IF(ISERROR(VLOOKUP(+Wedstrijdschema!B76,Wedstrijdoverzicht!$A$2:$B$21,2,FALSE)),\"\",VLOOKUP(+Wedstrijdschema!B76,Wedstrijdoverzicht!$A$2:$B$21,2,FALSE))","v":""},{"$f":"IF(A76=\"\",\"\",IF(H76=1,VLOOKUP(I76,Werk1!$V$2:$W$191,2,FALSE),0)+J76+K76)","v":""},null,null,null,0,{"$f":"Wedstrijdschema!A76&\"-\"&Wedstrijdschema!B76","v":{"$error":"#VALUE!"}},{"$f":"IF(A76=\"\",0,IF(VLOOKUP(Wedstrijdschema!A76,Leden!$B$3:$J$22,8,FALSE)=-1,1,IF(VLOOKUP(Wedstrijdschema!B76,Leden!$B$3:$J$22,8,FALSE)=-1,1,0)))","v":0},{"$f":"IF(A76=\"\",0,IF(VLOOKUP(Wedstrijdschema!A76,Leden!$B$3:$S$22,18,FALSE)=\"nee\",1,IF(VLOOKUP(Wedstrijdschema!B76,Leden!$B$3:$S$22,18,FALSE)=\"nee\",1,0)))","v":0}]
[{"$f":"IF(ISERROR(VLOOKUP(+Wedstrijdschema!A77,Wedstrijdoverzicht!$A$2:$B$21,2,FALSE)),\"\",VLOOKUP(+Wedstrijdschema!A77,Wedstrijdoverzicht!$A$2:$B$21,2,FALSE))","v":""}," - ",{"$f":"IF(ISERROR(VLOOKUP(+Wedstrijdschema!B77,Wedstrijdoverzicht!$A$2:$B$21,2,FALSE)),\"\",VLOOKUP(+Wedstrijdschema!B77,Wedstrijdoverzicht!$A$2:$B$21,2,FALSE))","v":""},{"$f":"IF(A77=\"\",\"\",IF(H77=1,VLOOKUP(I77,Werk1!$V$2:$W$191,2,FALSE),0)+J77+K77)","v":""},null,null,null,0,{"$f":"Wedstrijdschema!A77&\"-\"&Wedstrijdschema!B77","v":{"$error":"#VALUE!"}},{"$f":"IF(A77=\"\",0,IF(VLOOKUP(Wedstrijdschema!A77,Leden!$B$3:$J$22,8,FALSE)=-1,1,IF(VLOOKUP(Wedstrijdschema!B77,Leden!$B$3:$J$22,8,FALSE)=-1,1,0)))","v":0},{"$f":"IF(A77=\"\",0,IF(VLOOKUP(Wedstrijdschema!A77,Leden!$B$3:$S$22,18,FALSE)=\"nee\",1,IF(VLOOKUP(Wedstrijdschema!B77,Leden!$B$3:$S$22,18,FALSE)=\"nee\",1,0)))","v":0}]
[{"$f":"IF(ISERROR(VLOOKUP(+Wedstrijdschema!A78,Wedstrijdoverzicht!$A$2:$B$21,2,FALSE)),\"\",VLOOKUP(+Wedstrijdschema!A78,Wedstrijdoverzicht!$A$2:$B$21,2,FALSE))","v":""}," - ",{"$f":"IF(ISERROR(VLOOKUP(+Wedstrijdschema!B78,Wedstrijdoverzicht!$A$2:$B$21,2,FALSE)),\"\",VLOOKUP(+Wedstrijdschema!B78,Wedstrijdoverzicht!$A$2:$B$21,2,FALSE))","v":""},{"$f":"IF(A78=\"\",\"\",IF(H78=1,VLOOKUP(I78,Werk1!$V$2:$W$191,2,FALSE),0)+J78+K78)","v":""},null,null,null,0,{"$f":"Wedstrijdschema!A78&\"-\"&Wedstrijdschema!B78","v":{"$error":"#VALUE!"}},{"$f":"IF(A78=\"\",0,IF(VLOOKUP(Wedstrijdschema!A78,Leden!$B$3:$J$22,8,FALSE)=-1,1,IF(VLOOKUP(Wedstrijdschema!B78,Leden!$B$3:$J$22,8,FALSE)=-1,1,0)))","v":0},{"$f":"IF(A78=\"\",0,IF(VLOOKUP(Wedstrijdschema!A78,Leden!$B$3:$S$22,18,FALSE)=\"nee\",1,IF(VLOOKUP(Wedstrijdschema!B78,Leden!$B$3:$S$22,18,FALSE)=\"nee\",1,0)))","v":0}]
[{"$f":"IF(ISERROR(VLOOKUP(+Wedstrijdschema!A79,Wedstrijdoverzicht!$A$2:$B$21,2,FALSE)),\"\",VLOOKUP(+Wedstrijdschema!A79,Wedstrijdoverzicht!$A$2:$B$21,2,FALSE))","v":""}," - ",{"$f":"IF(ISERROR(VLOOKUP(+Wedstrijdschema!B79,Wedstrijdoverzicht!$A$2:$B$21,2,FALSE)),\"\",VLOOKUP(+Wedstrijdschema!B79,Wedstrijdoverzicht!$A$2:$B$21,2,FALSE))","v":""},{"$f":"IF(A79=\"\",\"\",IF(H79=1,VLOOKUP(I79,Werk1!$V$2:$W$191,2,FALSE),0)+J79+K79)","v":""},null,null,null,0,{"$f":"Wedstrijdschema!A79&\"-\"&Wedstrijdschema!B79","v":{"$error":"#VALUE!"}},{"$f":"IF(A79=\"\",0,IF(VLOOKUP(Wedstrijdschema!A79,Leden!$B$3:$J$22,8,FALSE)=-1,1,IF(VLOOKUP(Wedstrijdschema!B79,Leden!$B$3:$J$22,8,FALSE)=-1,1,0)))","v":0},{"$f":"IF(A79=\"\",0,IF(VLOOKUP(Wedstrijdschema!A79,Leden!$B$3:$S$22,18,FALSE)=\"nee\",1,IF(VLOOKUP(Wedstrijdschema!B79,Leden!$B$3:$S$22,18,FALSE)=\"nee\",1,0)))","v":0}]
[{"$f":"IF(ISERROR(VLOOKUP(+Wedstrijdschema!A80,Wedstrijdoverzicht!$A$2:$B$21,2,FALSE)),\"\",VLOOKUP(+Wedstrijdschema!A80,Wedstrijdoverzicht!$A$2:$B$21,2,FALSE))","v":""}," - ",{"$f":"IF(ISERROR(VLOOKUP(+Wedstrijdschema!B80,Wedstrijdoverzicht!$A$2:$B$21,2,FALSE)),\"\",VLOOKUP(+Wedstrijdschema!B80,Wedstrijdoverzicht!$A$2:$B$21,2,FALSE))","v":""},{"$f":"IF(A80=\"\",\"\",IF(H80=1,VLOOKUP(I80,Werk1!$V$2:$W$191,2,FALSE),0)+J80+K80)","v":""},null,null,null,0,{"$f":"Wedstrijdschema!A80&\"-\"&Wedstrijdschema!B80","v":{"$error":"#VALUE!"}},{"$f":"IF(A80=\"\",0,IF(VLOOKUP(Wedstrijdschema!A80,Leden!$B$3:$J$22,8,FALSE)=-1,1,IF(VLOOKUP(Wedstrijdschema!B80,Leden!$B$3:$J$22,8,FALSE)=-1,1,0)))","v":0},{"$f":"IF(A80=\"\",0,IF(VLOOKUP(Wedstrijdschema!A80,Leden!$B$3:$S$22,18,FALSE)=\"nee\",1,IF(VLOOKUP(Wedstrijdschema!B80,Leden!$B$3:$S$22,18,FALSE)=\"nee\",1,0)))","v":0}]
[{"$f":"IF(ISERROR(VLOOKUP(+Wedstrijdschema!A81,Wedstrijdoverzicht!$A$2:$B$21,2,FALSE)),\"\",VLOOKUP(+Wedstrijdschema!A81,Wedstrijdoverzicht!$A$2:$B$21,2,FALSE))","v":""}," - ",{"$f":"IF(ISERROR(VLOOKUP(+Wedstrijdschema!B81,Wedstrijdoverzicht!$A$2:$B$21,2,FALSE)),\"\",VLOOKUP(+Wedstrijdschema!B81,Wedstrijdoverzicht!$A$2:$B$21,2,FALSE))","v":""},{"$f":"IF(A81=\"\",\"\",IF(H81=1,VLOOKUP(I81,Werk1!$V$2:$W$191,2,FALSE),0)+J81+K81)","v":""},null,null,null,0,{"$f":"Wedstrijdschema!A81&\"-\"&Wedstrijdschema!B81","v":{"$error":"#VALUE!"}},{"$f":"IF(A81=\"\",0,IF(VLOOKUP(Wedstrijdschema!A81,Leden!$B$3:$J$22,8,FALSE)=-1,1,IF(VLOOKUP(Wedstrijdschema!B81,Leden!$B$3:$J$22,8,FALSE)=-1,1,0)))","v":0},{"$f":"IF(A81=\"\",0,IF(VLOOKUP(Wedstrijdschema!A81,Leden!$B$3:$S$22,18,FALSE)=\"nee\",1,IF(VLOOKUP(Wedstrijdschema!B81,Leden!$B$3:$S$22,18,FALSE)=\"nee\",1,0)))","v":0}]
[{"$f":"IF(ISERROR(VLOOKUP(+Wedstrijdschema!A82,Wedstrijdoverzicht!$A$2:$B$21,2,FALSE)),\"\",VLOOKUP(+Wedstrijdschema!A82,Wedstrijdoverzicht!$A$2:$B$21,2,FALSE))","v":""}," - ",{"$f":"IF(ISERROR(VLOOKUP(+Wedstrijdschema!B82,Wedstrijdoverzicht!$A$2:$B$21,2,FALSE)),\"\",VLOOKUP(+Wedstrijdschema!B82,Wedstrijdoverzicht!$A$2:$B$21,2,FALSE))","v":""},{"$f":"IF(A82=\"\",\"\",IF(H82=1,VLOOKUP(I82,Werk1!$V$2:$W$191,2,FALSE),0)+J82+K82)","v":""},null,null,null,0,{"$f":"Wedstrijdschema!A82&\"-\"&Wedstrijdschema!B82","v":{"$error":"#VALUE!"}},{"$f":"IF(A82=\"\",0,IF(VLOOKUP(Wedstrijdschema!A82,Leden!$B$3:$J$22,8,FALSE)=-1,1,IF(VLOOKUP(Wedstrijdschema!B82,Leden!$B$3:$J$22,8,FALSE)=-1,1,0)))","v":0},{"$f":"IF(A82=\"\",0,IF(VLOOKUP(Wedstrijdschema!A82,Leden!$B$3:$S$22,18,FALSE)=\"nee\",1,IF(VLOOKUP(Wedstrijdschema!B82,Leden!$B$3:$S$22,18,FALSE)=\"nee\",1,0)))","v":0}]
[{"$f":"IF(ISERROR(VLOOKUP(+Wedstrijdschema!A83,Wedstrijdoverzicht!$A$2:$B$21,2,FALSE)),\"\",VLOOKUP(+Wedstrijdschema!A83,Wedstrijdoverzicht!$A$2:$B$21,2,FALSE))","v":""}," - ",{"$f":"IF(ISERROR(VLOOKUP(+Wedstrijdschema!B83,Wedstrijdoverzicht!$A$2:$B$21,2,FALSE)),\"\",VLOOKUP(+Wedstrijdschema!B83,Wedstrijdoverzicht!$A$2:$B$21,2,FALSE))","v":""},{"$f":"IF(A83=\"\",\"\",IF(H83=1,VLOOKUP(I83,Werk1!$V$2:$W$191,2,FALSE),0)+J83+K83)","v":""},null,null,null,0,{"$f":"Wedstrijdschema!A83&\"-\"&Wedstrijdschema!B83","v":{"$error":"#VALUE!"}},{"$f":"IF(A83=\"\",0,IF(VLOOKUP(Wedstrijdschema!A83,Leden!$B$3:$J$22,8,FALSE)=-1,1,IF(VLOOKUP(Wedstrijdschema!B83,Leden!$B$3:$J$22,8,FALSE)=-1,1,0)))","v":0},{"$f":"IF(A83=\"\",0,IF(VLOOKUP(Wedstrijdschema!A83,Leden!$B$3:$S$22,18,FALSE)=\"nee\",1,IF(VLOOKUP(Wedstrijdschema!B83,Leden!$B$3:$S$22,18,FALSE)=\"nee\",1,0)))","v":0}]
[{"$f":"IF(ISERROR(VLOOKUP(+Wedstrijdschema!A84,Wedstrijdoverzicht!$A$2:$B$21,2,FALSE)),\"\",VLOOKUP(+Wedstrijdschema!A84,Wedstrijdoverzicht!$A$2:$B$21,2,FALSE))","v":""}," - ",{"$f":"IF(ISERROR(VLOOKUP(+Wedstrijdschema!B84,Wedstrijdoverzicht!$A$2:$B$21,2,FALSE)),\"\",VLOOKUP(+Wedstrijdschema!B84,Wedstrijdoverzicht!$A$2:$B$21,2,FALSE))","v":""},{"$f":"IF(A84=\"\",\"\",IF(H84=1,VLOOKUP(I84,Werk1!$V$2:$W$191,2,FALSE),0)+J84+K84)","v":""},null,null,null,0,{"$f":"Wedstrijdschema!A84&\"-\"&Wedstrijdschema!B84","v":{"$error":"#VALUE!"}},{"$f":"IF(A84=\"\",0,IF(VLOOKUP(Wedstrijdschema!A84,Leden!$B$3:$J$22,8,FALSE)=-1,1,IF(VLOOKUP(Wedstrijdschema!B84,Leden!$B$3:$J$22,8,FALSE)=-1,1,0)))","v":0},{"$f":"IF(A84=\"\",0,IF(VLOOKUP(Wedstrijdschema!A84,Leden!$B$3:$S$22,18,FALSE)=\"nee\",1,IF(VLOOKUP(Wedstrijdschema!B84,Leden!$B$3:$S$22,18,FALSE)=\"nee\",1,0)))","v":0}]
[{"$f":"IF(ISERROR(VLOOKUP(+Wedstrijdschema!A85,Wedstrijdoverzicht!$A$2:$B$21,2,FALSE)),\"\",VLOOKUP(+Wedstrijdschema!A85,Wedstrijdoverzicht!$A$2:$B$21,2,FALSE))","v":""}," - ",{"$f":"IF(ISERROR(VLOOKUP(+Wedstrijdschema!B85,Wedstrijdoverzicht!$A$2:$B$21,2,FALSE)),\"\",VLOOKUP(+Wedstrijdschema!B85,Wedstrijdoverzicht!$A$2:$B$21,2,FALSE))","v":""},{"$f":"IF(A85=\"\",\"\",IF(H85=1,VLOOKUP(I85,Werk1!$V$2:$W$191,2,FALSE),0)+J85+K85)","v":""},null,null,null,0,{"$f":"Wedstrijdschema!A85&\"-\"&Wedstrijdschema!B85","v":{"$error":"#VALUE!"}},{"$f":"IF(A85=\"\",0,IF(VLOOKUP(Wedstrijdschema!A85,Leden!$B$3:$J$22,8,FALSE)=-1,1,IF(VLOOKUP(Wedstrijdschema!B85,Leden!$B$3:$J$22,8,FALSE)=-1,1,0)))","v":0},{"$f":"IF(A85=\"\",0,IF(VLOOKUP(Wedstrijdschema!A85,Leden!$B$3:$S$22,18,FALSE)=\"nee\",1,IF(VLOOKUP(Wedstrijdschema!B85,Leden!$B$3:$S$22,18,FALSE)=\"nee\",1,0)))","v":0}]
[{"$f":"IF(ISERROR(VLOOKUP(+Wedstrijdschema!A86,Wedstrijdoverzicht!$A$2:$B$21,2,FALSE)),\"\",VLOOKUP(+Wedstrijdschema!A86,Wedstrijdoverzicht!$A$2:$B$21,2,FALSE))","v":""}," - ",{"$f":"IF(ISERROR(VLOOKUP(+Wedstrijdschema!B86,Wedstrijdoverzicht!$A$2:$B$21,2,FALSE)),\"\",VLOOKUP(+Wedstrijdschema!B86,Wedstrijdoverzicht!$A$2:$B$21,2,FALSE))","v":""},{"$f":"IF(A86=\"\",\"\",IF(H86=1,VLOOKUP(I86,Werk1!$V$2:$W$191,2,FALSE),0)+J86+K86)","v":""},null,null,null,0,{"$f":"Wedstrijdschema!A86&\"-\"&Wedstrijdschema!B86","v":{"$error":"#VALUE!"}},{"$f":"IF(A86=\"\",0,IF(VLOOKUP(Wedstrijdschema!A86,Leden!$B$3:$J$22,8,FALSE)=-1,1,IF(VLOOKUP(Wedstrijdschema!B86,Leden!$B$3:$J$22,8,FALSE)=-1,1,0)))","v":0},{"$f":"IF(A86=\"\",0,IF(VLOOKUP(Wedstrijdschema!A86,Leden!$B$3:$S$22,18,FALSE)=\"nee\",1,IF(VLOOKUP(Wedstrijdschema!B86,Leden!$B$3:$S$22,18,FALSE)=\"nee\",1,0)))","v":0}]
[{"$f":"IF(ISERROR(VLOOKUP(+Wedstrijdschema!A87,Wedstrijdoverzicht!$A$2:$B$21,2,FALSE)),\"\",VLOOKUP(+Wedstrijdschema!A87,Wedstrijdoverzicht!$A$2:$B$21,2,FALSE))","v":""}," - ",{"$f":"IF(ISERROR(VLOOKUP(+Wedstrijdschema!B87,Wedstrijdoverzicht!$A$2:$B$21,2,FALSE)),\"\",VLOOKUP(+Wedstrijdschema!B87,Wedstrijdoverzicht!$A$2:$B$21,2,FALSE))","v":""},{"$f":"IF(A87=\"\",\"\",IF(H87=1,VLOOKUP(I87,Werk1!$V$2:$W$191,2,FALSE),0)+J87+K87)","v":""},null,null,null,0,{"$f":"Wedstrijdschema!A87&\"-\"&Wedstrijdschema!B87","v":{"$error":"#VALUE!"}},{"$f":"IF(A87=\"\",0,IF(VLOOKUP(Wedstrijdschema!A87,Leden!$B$3:$J$22,8,FALSE)=-1,1,IF(VLOOKUP(Wedstrijdschema!B87,Leden!$B$3:$J$22,8,FALSE)=-1,1,0)))","v":0},{"$f":"IF(A87=\"\",0,IF(VLOOKUP(Wedstrijdschema!A87,Leden!$B$3:$S$22,18,FALSE)=\"nee\",1,IF(VLOOKUP(Wedstrijdschema!B87,Leden!$B$3:$S$22,18,FALSE)=\"nee\",1,0)))","v":0}]
[{"$f":"IF(ISERROR(VLOOKUP(+Wedstrijdschema!A88,Wedstrijdoverzicht!$A$2:$B$21,2,FALSE)),\"\",VLOOKUP(+Wedstrijdschema!A88,Wedstrijdoverzicht!$A$2:$B$21,2,FALSE))","v":""}," - ",{"$f":"IF(ISERROR(VLOOKUP(+Wedstrijdschema!B88,Wedstrijdoverzicht!$A$2:$B$21,2,FALSE)),\"\",VLOOKUP(+Wedstrijdschema!B88,Wedstrijdoverzicht!$A$2:$B$21,2,FALSE))","v":""},{"$f":"IF(A88=\"\",\"\",IF(H88=1,VLOOKUP(I88,Werk1!$V$2:$W$191,2,FALSE),0)+J88+K88)","v":""},null,null,null,0,{"$f":"Wedstrijdschema!A88&\"-\"&Wedstrijdschema!B88","v":{"$error":"#VALUE!"}},{"$f":"IF(A88=\"\",0,IF(VLOOKUP(Wedstrijdschema!A88,Leden!$B$3:$J$22,8,FALSE)=-1,1,IF(VLOOKUP(Wedstrijdschema!B88,Leden!$B$3:$J$22,8,FALSE)=-1,1,0)))","v":0},{"$f":"IF(A88=\"\",0,IF(VLOOKUP(Wedstrijdschema!A88,Leden!$B$3:$S$22,18,FALSE)=\"nee\",1,IF(VLOOKUP(Wedstrijdschema!B88,Leden!$B$3:$S$22,18,FALSE)=\"nee\",1,0)))","v":0}]
[{"$f":"IF(ISERROR(VLOOKUP(+Wedstrijdschema!A89,Wedstrijdoverzicht!$A$2:$B$21,2,FALSE)),\"\",VLOOKUP(+Wedstrijdschema!A89,Wedstrijdoverzicht!$A$2:$B$21,2,FALSE))","v":""}," - ",{"$f":"IF(ISERROR(VLOOKUP(+Wedstrijdschema!B89,Wedstrijdoverzicht!$A$2:$B$21,2,FALSE)),\"\",VLOOKUP(+Wedstrijdschema!B89,Wedstrijdoverzicht!$A$2:$B$21,2,FALSE))","v":""},{"$f":"IF(A89=\"\",\"\",IF(H89=1,VLOOKUP(I89,Werk1!$V$2:$W$191,2,FALSE),0)+J89+K89)","v":""},null,null,null,0,{"$f":"Wedstrijdschema!A89&\"-\"&Wedstrijdschema!B89","v":{"$error":"#VALUE!"}},{"$f":"IF(A89=\"\",0,IF(VLOOKUP(Wedstrijdschema!A89,Leden!$B$3:$J$22,8,FALSE)=-1,1,IF(VLOOKUP(Wedstrijdschema!B89,Leden!$B$3:$J$22,8,FALSE)=-1,1,0)))","v":0},{"$f":"IF(A89=\"\",0,IF(VLOOKUP(Wedstrijdschema!A89,Leden!$B$3:$S$22,18,FALSE)=\"nee\",1,IF(VLOOKUP(Wedstrijdschema!B89,Leden!$B$3:$S$22,18,FALSE)=\"nee\",1,0)))","v":0}]
[{"$f":"IF(ISERROR(VLOOKUP(+Wedstrijdschema!A90,Wedstrijdoverzicht!$A$2:$B$21,2,FALSE)),\"\",VLOOKUP(+Wedstrijdschema!A90,Wedstrijdoverzicht!$A$2:$B$21,2,FALSE))","v":""}," - ",{"$f":"IF(ISERROR(VLOOKUP(+Wedstrijdschema!B90,Wedstrijdoverzicht!$A$2:$B$21,2,FALSE)),\"\",VLOOKUP(+Wedstrijdschema!B90,Wedstrijdoverzicht!$A$2:$B$21,2,FALSE))","v":""},{"$f":"IF(A90=\"\",\"\",IF(H90=1,VLOOKUP(I90,Werk1!$V$2:$W$191,2,FALSE),0)+J90+K90)","v":""},null,null,null,0,{"$f":"Wedstrijdschema!A90&\"-\"&Wedstrijdschema!B90","v":{"$error":"#VALUE!"}},{"$f":"IF(A90=\"\",0,IF(VLOOKUP(Wedstrijdschema!A90,Leden!$B$3:$J$22,8,FALSE)=-1,1,IF(VLOOKUP(Wedstrijdschema!B90,Leden!$B$3:$J$22,8,FALSE)=-1,1,0)))","v":0},{"$f":"IF(A90=\"\",0,IF(VLOOKUP(Wedstrijdschema!A90,Leden!$B$3:$S$22,18,FALSE)=\"nee\",1,IF(VLOOKUP(Wedstrijdschema!B90,Leden!$B$3:$S$22,18,FALSE)=\"nee\",1,0)))","v":0}]
[{"$f":"IF(ISERROR(VLOOKUP(+Wedstrijdschema!A91,Wedstrijdoverzicht!$A$2:$B$21,2,FALSE)),\"\",VLOOKUP(+Wedstrijdschema!A91,Wedstrijdoverzicht!$A$2:$B$21,2,FALSE))","v":""}," - ",{"$f":"IF(ISERROR(VLOOKUP(+Wedstrijdschema!B91,Wedstrijdoverzicht!$A$2:$B$21,2,FALSE)),\"\",VLOOKUP(+Wedstrijdschema!B91,Wedstrijdoverzicht!$A$2:$B$21,2,FALSE))","v":""},{"$f":"IF(A91=\"\",\"\",IF(H91=1,VLOOKUP(I91,Werk1!$V$2:$W$191,2,FALSE),0)+J91+K91)","v":""},null,null,null,0,{"$f":"Wedstrijdschema!A91&\"-\"&Wedstrijdschema!B91","v":{"$error":"#VALUE!"}},{"$f":"IF(A91=\"\",0,IF(VLOOKUP(Wedstrijdschema!A91,Leden!$B$3:$J$22,8,FALSE)=-1,1,IF(VLOOKUP(Wedstrijdschema!B91,Leden!$B$3:$J$22,8,FALSE)=-1,1,0)))","v":0},{"$f":"IF(A91=\"\",0,IF(VLOOKUP(Wedstrijdschema!A91,Leden!$B$3:$S$22,18,FALSE)=\"nee\",1,IF(VLOOKUP(Wedstrijdschema!B91,Leden!$B$3:$S$22,18,FALSE)=\"nee\",1,0)))","v":0}]
[{"$f":"IF(ISERROR(VLOOKUP(+Wedstrijdschema!A92,Wedstrijdoverzicht!$A$2:$B$21,2,FALSE)),\"\",VLOOKUP(+Wedstrijdschema!A92,Wedstrijdoverzicht!$A$2:$B$21,2,FALSE))","v":""}," - ",{"$f":"IF(ISERROR(VLOOKUP(+Wedstrijdschema!B92,Wedstrijdoverzicht!$A$2:$B$21,2,FALSE)),\"\",VLOOKUP(+Wedstrijdschema!B92,Wedstrijdoverzicht!$A$2:$B$21,2,FALSE))","v":""},{"$f":"IF(A92=\"\",\"\",IF(H92=1,VLOOKUP(I92,Werk1!$V$2:$W$191,2,FALSE),0)+J92+K92)","v":""},null,null,null,0,{"$f":"Wedstrijdschema!A92&\"-\"&Wedstrijdschema!B92","v":{"$error":"#VALUE!"}},{"$f":"IF(A92=\"\",0,IF(VLOOKUP(Wedstrijdschema!A92,Leden!$B$3:$J$22,8,FALSE)=-1,1,IF(VLOOKUP(Wedstrijdschema!B92,Leden!$B$3:$J$22,8,FALSE)=-1,1,0)))","v":0},{"$f":"IF(A92=\"\",0,IF(VLOOKUP(Wedstrijdschema!A92,Leden!$B$3:$S$22,18,FALSE)=\"nee\",1,IF(VLOOKUP(Wedstrijdschema!B92,Leden!$B$3:$S$22,18,FALSE)=\"nee\",1,0)))","v":0}]
[{"$f":"IF(ISERROR(VLOOKUP(+Wedstrijdschema!A93,Wedstrijdoverzicht!$A$2:$B$21,2,FALSE)),\"\",VLOOKUP(+Wedstrijdschema!A93,Wedstrijdoverzicht!$A$2:$B$21,2,FALSE))","v":""}," - ",{"$f":"IF(ISERROR(VLOOKUP(+Wedstrijdschema!B93,Wedstrijdoverzicht!$A$2:$B$21,2,FALSE)),\"\",VLOOKUP(+Wedstrijdschema!B93,Wedstrijdoverzicht!$A$2:$B$21,2,FALSE))","v":""},{"$f":"IF(A93=\"\",\"\",IF(H93=1,VLOOKUP(I93,Werk1!$V$2:$W$191,2,FALSE),0)+J93+K93)","v":""},null,null,null,0,{"$f":"Wedstrijdschema!A93&\"-\"&Wedstrijdschema!B93","v":{"$error":"#VALUE!"}},{"$f":"IF(A93=\"\",0,IF(VLOOKUP(Wedstrijdschema!A93,Leden!$B$3:$J$22,8,FALSE)=-1,1,IF(VLOOKUP(Wedstrijdschema!B93,Leden!$B$3:$J$22,8,FALSE)=-1,1,0)))","v":0},{"$f":"IF(A93=\"\",0,IF(VLOOKUP(Wedstrijdschema!A93,Leden!$B$3:$S$22,18,FALSE)=\"nee\",1,IF(VLOOKUP(Wedstrijdschema!B93,Leden!$B$3:$S$22,18,FALSE)=\"nee\",1,0)))","v":0}]
[{"$f":"IF(ISERROR(VLOOKUP(+Wedstrijdschema!A94,Wedstrijdoverzicht!$A$2:$B$21,2,FALSE)),\"\",VLOOKUP(+Wedstrijdschema!A94,Wedstrijdoverzicht!$A$2:$B$21,2,FALSE))","v":""}," - ",{"$f":"IF(ISERROR(VLOOKUP(+Wedstrijdschema!B94,Wedstrijdoverzicht!$A$2:$B$21,2,FALSE)),\"\",VLOOKUP(+Wedstrijdschema!B94,Wedstrijdoverzicht!$A$2:$B$21,2,FALSE))","v":""},{"$f":"IF(A94=\"\",\"\",IF(H94=1,VLOOKUP(I94,Werk1!$V$2:$W$191,2,FALSE),0)+J94+K94)","v":""},null,null,null,0,{"$f":"Wedstrijdschema!A94&\"-\"&Wedstrijdschema!B94","v":{"$error":"#VALUE!"}},{"$f":"IF(A94=\"\",0,IF(VLOOKUP(Wedstrijdschema!A94,Leden!$B$3:$J$22,8,FALSE)=-1,1,IF(VLOOKUP(Wedstrijdschema!B94,Leden!$B$3:$J$22,8,FALSE)=-1,1,0)))","v":0},{"$f":"IF(A94=\"\",0,IF(VLOOKUP(Wedstrijdschema!A94,Leden!$B$3:$S$22,18,FALSE)=\"nee\",1,IF(VLOOKUP(Wedstrijdschema!B94,Leden!$B$3:$S$22,18,FALSE)=\"nee\",1,0)))","v":0}]
[{"$f":"IF(ISERROR(VLOOKUP(+Wedstrijdschema!A95,Wedstrijdoverzicht!$A$2:$B$21,2,FALSE)),\"\",VLOOKUP(+Wedstrijdschema!A95,Wedstrijdoverzicht!$A$2:$B$21,2,FALSE))","v":""}," - ",{"$f":"IF(ISERROR(VLOOKUP(+Wedstrijdschema!B95,Wedstrijdoverzicht!$A$2:$B$21,2,FALSE)),\"\",VLOOKUP(+Wedstrijdschema!B95,Wedstrijdoverzicht!$A$2:$B$21,2,FALSE))","v":""},{"$f":"IF(A95=\"\",\"\",IF(H95=1,VLOOKUP(I95,Werk1!$V$2:$W$191,2,FALSE),0)+J95+K95)","v":""},null,null,null,0,{"$f":"Wedstrijdschema!A95&\"-\"&Wedstrijdschema!B95","v":{"$error":"#VALUE!"}},{"$f":"IF(A95=\"\",0,IF(VLOOKUP(Wedstrijdschema!A95,Leden!$B$3:$J$22,8,FALSE)=-1,1,IF(VLOOKUP(Wedstrijdschema!B95,Leden!$B$3:$J$22,8,FALSE)=-1,1,0)))","v":0},{"$f":"IF(A95=\"\",0,IF(VLOOKUP(Wedstrijdschema!A95,Leden!$B$3:$S$22,18,FALSE)=\"nee\",1,IF(VLOOKUP(Wedstrijdschema!B95,Leden!$B$3:$S$22,18,FALSE)=\"nee\",1,0)))","v":0}]
[{"$f":"IF(ISERROR(VLOOKUP(+Wedstrijdschema!A96,Wedstrijdoverzicht!$A$2:$B$21,2,FALSE)),\"\",VLOOKUP(+Wedstrijdschema!A96,Wedstrijdoverzicht!$A$2:$B$21,2,FALSE))","v":""}," - ",{"$f":"IF(ISERROR(VLOOKUP(+Wedstrijdschema!B96,Wedstrijdoverzicht!$A$2:$B$21,2,FALSE)),\"\",VLOOKUP(+Wedstrijdschema!B96,Wedstrijdoverzicht!$A$2:$B$21,2,FALSE))","v":""},{"$f":"IF(A96=\"\",\"\",IF(H96=1,VLOOKUP(I96,Werk1!$V$2:$W$191,2,FALSE),0)+J96+K96)","v":""},null,null,null,0,{"$f":"Wedstrijdschema!A96&\"-\"&Wedstrijdschema!B96","v":{"$error":"#VALUE!"}},{"$f":"IF(A96=\"\",0,IF(VLOOKUP(Wedstrijdschema!A96,Leden!$B$3:$J$22,8,FALSE)=-1,1,IF(VLOOKUP(Wedstrijdschema!B96,Leden!$B$3:$J$22,8,FALSE)=-1,1,0)))","v":0},{"$f":"IF(A96=\"\",0,IF(VLOOKUP(Wedstrijdschema!A96,Leden!$B$3:$S$22,18,FALSE)=\"nee\",1,IF(VLOOKUP(Wedstrijdschema!B96,Leden!$B$3:$S$22,18,FALSE)=\"nee\",1,0)))","v":0}]
[{"$f":"IF(ISERROR(VLOOKUP(+Wedstrijdschema!A97,Wedstrijdoverzicht!$A$2:$B$21,2,FALSE)),\"\",VLOOKUP(+Wedstrijdschema!A97,Wedstrijdoverzicht!$A$2:$B$21,2,FALSE))","v":""}," - ",{"$f":"IF(ISERROR(VLOOKUP(+Wedstrijdschema!B97,Wedstrijdoverzicht!$A$2:$B$21,2,FALSE)),\"\",VLOOKUP(+Wedstrijdschema!B97,Wedstrijdoverzicht!$A$2:$B$21,2,FALSE))","v":""},{"$f":"IF(A97=\"\",\"\",IF(H97=1,VLOOKUP(I97,Werk1!$V$2:$W$191,2,FALSE),0)+J97+K97)","v":""},null,null,null,0,{"$f":"Wedstrijdschema!A97&\"-\"&Wedstrijdschema!B97","v":{"$error":"#VALUE!"}},{"$f":"IF(A97=\"\",0,IF(VLOOKUP(Wedstrijdschema!A97,Leden!$B$3:$J$22,8,FALSE)=-1,1,IF(VLOOKUP(Wedstrijdschema!B97,Leden!$B$3:$J$22,8,FALSE)=-1,1,0)))","v":0},{"$f":"IF(A97=\"\",0,IF(VLOOKUP(Wedstrijdschema!A97,Leden!$B$3:$S$22,18,FALSE)=\"nee\",1,IF(VLOOKUP(Wedstrijdschema!B97,Leden!$B$3:$S$22,18,FALSE)=\"nee\",1,0)))","v":0}]
[{"$f":"IF(ISERROR(VLOOKUP(+Wedstrijdschema!A98,Wedstrijdoverzicht!$A$2:$B$21,2,FALSE)),\"\",VLOOKUP(+Wedstrijdschema!A98,Wedstrijdoverzicht!$A$2:$B$21,2,FALSE))","v":""}," - ",{"$f":"IF(ISERROR(VLOOKUP(+Wedstrijdschema!B98,Wedstrijdoverzicht!$A$2:$B$21,2,FALSE)),\"\",VLOOKUP(+Wedstrijdschema!B98,Wedstrijdoverzicht!$A$2:$B$21,2,FALSE))","v":""},{"$f":"IF(A98=\"\",\"\",IF(H98=1,VLOOKUP(I98,Werk1!$V$2:$W$191,2,FALSE),0)+J98+K98)","v":""},null,null,null,0,{"$f":"Wedstrijdschema!A98&\"-\"&Wedstrijdschema!B98","v":{"$error":"#VALUE!"}},{"$f":"IF(A98=\"\",0,IF(VLOOKUP(Wedstrijdschema!A98,Leden!$B$3:$J$22,8,FALSE)=-1,1,IF(VLOOKUP(Wedstrijdschema!B98,Leden!$B$3:$J$22,8,FALSE)=-1,1,0)))","v":0},{"$f":"IF(A98=\"\",0,IF(VLOOKUP(Wedstrijdschema!A98,Leden!$B$3:$S$22,18,FALSE)=\"nee\",1,IF(VLOOKUP(Wedstrijdschema!B98,Leden!$B$3:$S$22,18,FALSE)=\"nee\",1,0)))","v":0}]
[{"$f":"IF(ISERROR(VLOOKUP(+Wedstrijdschema!A99,Wedstrijdoverzicht!$A$2:$B$21,2,FALSE)),\"\",VLOOKUP(+Wedstrijdschema!A99,Wedstrijdoverzicht!$A$2:$B$21,2,FALSE))","v":""}," - ",{"$f":"IF(ISERROR(VLOOKUP(+Wedstrijdschema!B99,Wedstrijdoverzicht!$A$2:$B$21,2,FALSE)),\"\",VLOOKUP(+Wedstrijdschema!B99,Wedstrijdoverzicht!$A$2:$B$21,2,FALSE))","v":""},{"$f":"IF(A99=\"\",\"\",IF(H99=1,VLOOKUP(I99,Werk1!$V$2:$W$191,2,FALSE),0)+J99+K99)","v":""},null,null,null,0,{"$f":"Wedstrijdschema!A99&\"-\"&Wedstrijdschema!B99","v":{"$error":"#VALUE!"}},{"$f":"IF(A99=\"\",0,IF(VLOOKUP(Wedstrijdschema!A99,Leden!$B$3:$J$22,8,FALSE)=-1,1,IF(VLOOKUP(Wedstrijdschema!B99,Leden!$B$3:$J$22,8,FALSE)=-1,1,0)))","v":0},{"$f":"IF(A99=\"\",0,IF(VLOOKUP(Wedstrijdschema!A99,Leden!$B$3:$S$22,18,FALSE)=\"nee\",1,IF(VLOOKUP(Wedstrijdschema!B99,Leden!$B$3:$S$22,18,FALSE)=\"nee\",1,0)))","v":0}]
[{"$f":"IF(ISERROR(VLOOKUP(+Wedstrijdschema!A100,Wedstrijdoverzicht!$A$2:$B$21,2,FALSE)),\"\",VLOOKUP(+Wedstrijdschema!A100,Wedstrijdoverzicht!$A$2:$B$21,2,FALSE))","v":""}," - ",{"$f":"IF(ISERROR(VLOOKUP(+Wedstrijdschema!B100,Wedstrijdoverzicht!$A$2:$B$21,2,FALSE)),\"\",VLOOKUP(+Wedstrijdschema!B100,Wedstrijdoverzicht!$A$2:$B$21,2,FALSE))","v":""},{"$f":"IF(A100=\"\",\"\",IF(H100=1,VLOOKUP(I100,Werk1!$V$2:$W$191,2,FALSE),0)+J100+K100)","v":""},null,null,null,0,{"$f":"Wedstrijdschema!A100&\"-\"&Wedstrijdschema!B100","v":{"$error":"#VALUE!"}},{"$f":"IF(A100=\"\",0,IF(VLOOKUP(Wedstrijdschema!A100,Leden!$B$3:$J$22,8,FALSE)=-1,1,IF(VLOOKUP(Wedstrijdschema!B100,Leden!$B$3:$J$22,8,FALSE)=-1,1,0)))","v":0},{"$f":"IF(A100=\"\",0,IF(VLOOKUP(Wedstrijdschema!A100,Leden!$B$3:$S$22,18,FALSE)=\"nee\",1,IF(VLOOKUP(Wedstrijdschema!B100,Leden!$B$3:$S$22,18,FALSE)=\"nee\",1,0)))","v":0}]
[{"$f":"IF(ISERROR(VLOOKUP(+Wedstrijdschema!A101,Wedstrijdoverzicht!$A$2:$B$21,2,FALSE)),\"\",VLOOKUP(+Wedstrijdschema!A101,Wedstrijdoverzicht!$A$2:$B$21,2,FALSE))","v":""}," - ",{"$f":"IF(ISERROR(VLOOKUP(+Wedstrijdschema!B101,Wedstrijdoverzicht!$A$2:$B$21,2,FALSE)),\"\",VLOOKUP(+Wedstrijdschema!B101,Wedstrijdoverzicht!$A$2:$B$21,2,FALSE))","v":""},{"$f":"IF(A101=\"\",\"\",IF(H101=1,VLOOKUP(I101,Werk1!$V$2:$W$191,2,FALSE),0)+J101+K101)","v":""},null,null,null,0,{"$f":"Wedstrijdschema!A101&\"-\"&Wedstrijdschema!B101","v":{"$error":"#VALUE!"}},{"$f":"IF(A101=\"\",0,IF(VLOOKUP(Wedstrijdschema!A101,Leden!$B$3:$J$22,8,FALSE)=-1,1,IF(VLOOKUP(Wedstrijdschema!B101,Leden!$B$3:$J$22,8,FALSE)=-1,1,0)))","v":0},{"$f":"IF(A101=\"\",0,IF(VLOOKUP(Wedstrijdschema!A101,Leden!$B$3:$S$22,18,FALSE)=\"nee\",1,IF(VLOOKUP(Wedstrijdschema!B101,Leden!$B$3:$S$22,18,FALSE)=\"nee\",1,0)))","v":0}]
[{"$f":"IF(ISERROR(VLOOKUP(+Wedstrijdschema!A102,Wedstrijdoverzicht!$A$2:$B$21,2,FALSE)),\"\",VLOOKUP(+Wedstrijdschema!A102,Wedstrijdoverzicht!$A$2:$B$21,2,FALSE))","v":""}," - ",{"$f":"IF(ISERROR(VLOOKUP(+Wedstrijdschema!B102,Wedstrijdoverzicht!$A$2:$B$21,2,FALSE)),\"\",VLOOKUP(+Wedstrijdschema!B102,Wedstrijdoverzicht!$A$2:$B$21,2,FALSE))","v":""},{"$f":"IF(A102=\"\",\"\",IF(H102=1,VLOOKUP(I102,Werk1!$V$2:$W$191,2,FALSE),0)+J102+K102)","v":""},null,null,null,0,{"$f":"Wedstrijdschema!A102&\"-\"&Wedstrijdschema!B102","v":{"$error":"#VALUE!"}},{"$f":"IF(A102=\"\",0,IF(VLOOKUP(Wedstrijdschema!A102,Leden!$B$3:$J$22,8,FALSE)=-1,1,IF(VLOOKUP(Wedstrijdschema!B102,Leden!$B$3:$J$22,8,FALSE)=-1,1,0)))","v":0},{"$f":"IF(A102=\"\",0,IF(VLOOKUP(Wedstrijdschema!A102,Leden!$B$3:$S$22,18,FALSE)=\"nee\",1,IF(VLOOKUP(Wedstrijdschema!B102,Leden!$B$3:$S$22,18,FALSE)=\"nee\",1,0)))","v":0}]
[{"$f":"IF(ISERROR(VLOOKUP(+Wedstrijdschema!A103,Wedstrijdoverzicht!$A$2:$B$21,2,FALSE)),\"\",VLOOKUP(+Wedstrijdschema!A103,Wedstrijdoverzicht!$A$2:$B$21,2,FALSE))","v":""}," - ",{"$f":"IF(ISERROR(VLOOKUP(+Wedstrijdschema!B103,Wedstrijdoverzicht!$A$2:$B$21,2,FALSE)),\"\",VLOOKUP(+Wedstrijdschema!B103,Wedstrijdoverzicht!$A$2:$B$21,2,FALSE))","v":""},{"$f":"IF(A103=\"\",\"\",IF(H103=1,VLOOKUP(I103,Werk1!$V$2:$W$191,2,FALSE),0)+J103+K103)","v":""},null,null,null,0,{"$f":"Wedstrijdschema!A103&\"-\"&Wedstrijdschema!B103","v":{"$error":"#VALUE!"}},{"$f":"IF(A103=\"\",0,IF(VLOOKUP(Wedstrijdschema!A103,Leden!$B$3:$J$22,8,FALSE)=-1,1,IF(VLOOKUP(Wedstrijdschema!B103,Leden!$B$3:$J$22,8,FALSE)=-1,1,0)))","v":0},{"$f":"IF(A103=\"\",0,IF(VLOOKUP(Wedstrijdschema!A103,Leden!$B$3:$S$22,18,FALSE)=\"nee\",1,IF(VLOOKUP(Wedstrijdschema!B103,Leden!$B$3:$S$22,18,FALSE)=\"nee\",1,0)))","v":0}]
[{"$f":"IF(ISERROR(VLOOKUP(+Wedstrijdschema!A104,Wedstrijdoverzicht!$A$2:$B$21,2,FALSE)),\"\",VLOOKUP(+Wedstrijdschema!A104,Wedstrijdoverzicht!$A$2:$B$21,2,FALSE))","v":""}," - ",{"$f":"IF(ISERROR(VLOOKUP(+Wedstrijdschema!B104,Wedstrijdoverzicht!$A$2:$B$21,2,FALSE)),\"\",VLOOKUP(+Wedstrijdschema!B104,Wedstrijdoverzicht!$A$2:$B$21,2,FALSE))","v":""},{"$f":"IF(A104=\"\",\"\",IF(H104=1,VLOOKUP(I104,Werk1!$V$2:$W$191,2,FALSE),0)+J104+K104)","v":""},null,null,null,0,{"$f":"Wedstrijdschema!A104&\"-\"&Wedstrijdschema!B104","v":{"$error":"#VALUE!"}},{"$f":"IF(A104=\"\",0,IF(VLOOKUP(Wedstrijdschema!A104,Leden!$B$3:$J$22,8,FALSE)=-1,1,IF(VLOOKUP(Wedstrijdschema!B104,Leden!$B$3:$J$22,8,FALSE)=-1,1,0)))","v":0},{"$f":"IF(A104=\"\",0,IF(VLOOKUP(Wedstrijdschema!A104,Leden!$B$3:$S$22,18,FALSE)=\"nee\",1,IF(VLOOKUP(Wedstrijdschema!B104,Leden!$B$3:$S$22,18,FALSE)=\"nee\",1,0)))","v":0}]
[{"$f":"IF(ISERROR(VLOOKUP(+Wedstrijdschema!A105,Wedstrijdoverzicht!$A$2:$B$21,2,FALSE)),\"\",VLOOKUP(+Wedstrijdschema!A105,Wedstrijdoverzicht!$A$2:$B$21,2,FALSE))","v":""}," - ",{"$f":"IF(ISERROR(VLOOKUP(+Wedstrijdschema!B105,Wedstrijdoverzicht!$A$2:$B$21,2,FALSE)),\"\",VLOOKUP(+Wedstrijdschema!B105,Wedstrijdoverzicht!$A$2:$B$21,2,FALSE))","v":""},{"$f":"IF(A105=\"\",\"\",IF(H105=1,VLOOKUP(I105,Werk1!$V$2:$W$191,2,FALSE),0)+J105+K105)","v":""},null,null,null,0,{"$f":"Wedstrijdschema!A105&\"-\"&Wedstrijdschema!B105","v":{"$error":"#VALUE!"}},{"$f":"IF(A105=\"\",0,IF(VLOOKUP(Wedstrijdschema!A105,Leden!$B$3:$J$22,8,FALSE)=-1,1,IF(VLOOKUP(Wedstrijdschema!B105,Leden!$B$3:$J$22,8,FALSE)=-1,1,0)))","v":0},{"$f":"IF(A105=\"\",0,IF(VLOOKUP(Wedstrijdschema!A105,Leden!$B$3:$S$22,18,FALSE)=\"nee\",1,IF(VLOOKUP(Wedstrijdschema!B105,Leden!$B$3:$S$22,18,FALSE)=\"nee\",1,0)))","v":0}]
[{"$f":"IF(ISERROR(VLOOKUP(+Wedstrijdschema!A106,Wedstrijdoverzicht!$A$2:$B$21,2,FALSE)),\"\",VLOOKUP(+Wedstrijdschema!A106,Wedstrijdoverzicht!$A$2:$B$21,2,FALSE))","v":""}," - ",{"$f":"IF(ISERROR(VLOOKUP(+Wedstrijdschema!B106,Wedstrijdoverzicht!$A$2:$B$21,2,FALSE)),\"\",VLOOKUP(+Wedstrijdschema!B106,Wedstrijdoverzicht!$A$2:$B$21,2,FALSE))","v":""},{"$f":"IF(A106=\"\",\"\",IF(H106=1,VLOOKUP(I106,Werk1!$V$2:$W$191,2,FALSE),0)+J106+K106)","v":""},null,null,null,0,{"$f":"Wedstrijdschema!A106&\"-\"&Wedstrijdschema!B106","v":{"$error":"#VALUE!"}},{"$f":"IF(A106=\"\",0,IF(VLOOKUP(Wedstrijdschema!A106,Leden!$B$3:$J$22,8,FALSE)=-1,1,IF(VLOOKUP(Wedstrijdschema!B106,Leden!$B$3:$J$22,8,FALSE)=-1,1,0)))","v":0},{"$f":"IF(A106=\"\",0,IF(VLOOKUP(Wedstrijdschema!A106,Leden!$B$3:$S$22,18,FALSE)=\"nee\",1,IF(VLOOKUP(Wedstrijdschema!B106,Leden!$B$3:$S$22,18,FALSE)=\"nee\",1,0)))","v":0}]
[{"$f":"IF(ISERROR(VLOOKUP(+Wedstrijdschema!A107,Wedstrijdoverzicht!$A$2:$B$21,2,FALSE)),\"\",VLOOKUP(+Wedstrijdschema!A107,Wedstrijdoverzicht!$A$2:$B$21,2,FALSE))","v":""}," - ",{"$f":"IF(ISERROR(VLOOKUP(+Wedstrijdschema!B107,Wedstrijdoverzicht!$A$2:$B$21,2,FALSE)),\"\",VLOOKUP(+Wedstrijdschema!B107,Wedstrijdoverzicht!$A$2:$B$21,2,FALSE))","v":""},{"$f":"IF(A107=\"\",\"\",IF(H107=1,VLOOKUP(I107,Werk1!$V$2:$W$191,2,FALSE),0)+J107+K107)","v":""},null,null,null,0,{"$f":"Wedstrijdschema!A107&\"-\"&Wedstrijdschema!B107","v":{"$error":"#VALUE!"}},{"$f":"IF(A107=\"\",0,IF(VLOOKUP(Wedstrijdschema!A107,Leden!$B$3:$J$22,8,FALSE)=-1,1,IF(VLOOKUP(Wedstrijdschema!B107,Leden!$B$3:$J$22,8,FALSE)=-1,1,0)))","v":0},{"$f":"IF(A107=\"\",0,IF(VLOOKUP(Wedstrijdschema!A107,Leden!$B$3:$S$22,18,FALSE)=\"nee\",1,IF(VLOOKUP(Wedstrijdschema!B107,Leden!$B$3:$S$22,18,FALSE)=\"nee\",1,0)))","v":0}]
[{"$f":"IF(ISERROR(VLOOKUP(+Wedstrijdschema!A108,Wedstrijdoverzicht!$A$2:$B$21,2,FALSE)),\"\",VLOOKUP(+Wedstrijdschema!A108,Wedstrijdoverzicht!$A$2:$B$21,2,FALSE))","v":""}," - ",{"$f":"IF(ISERROR(VLOOKUP(+Wedstrijdschema!B108,Wedstrijdoverzicht!$A$2:$B$21,2,FALSE)),\"\",VLOOKUP(+Wedstrijdschema!B108,Wedstrijdoverzicht!$A$2:$B$21,2,FALSE))","v":""},{"$f":"IF(A108=\"\",\"\",IF(H108=1,VLOOKUP(I108,Werk1!$V$2:$W$191,2,FALSE),0)+J108+K108)","v":""},null,null,null,0,{"$f":"Wedstrijdschema!A108&\"-\"&Wedstrijdschema!B108","v":{"$error":"#VALUE!"}},{"$f":"IF(A108=\"\",0,IF(VLOOKUP(Wedstrijdschema!A108,Leden!$B$3:$J$22,8,FALSE)=-1,1,IF(VLOOKUP(Wedstrijdschema!B108,Leden!$B$3:$J$22,8,FALSE)=-1,1,0)))","v":0},{"$f":"IF(A108=\"\",0,IF(VLOOKUP(Wedstrijdschema!A108,Leden!$B$3:$S$22,18,FALSE)=\"nee\",1,IF(VLOOKUP(Wedstrijdschema!B108,Leden!$B$3:$S$22,18,FALSE)=\"nee\",1,0)))","v":0}]
[{"$f":"IF(ISERROR(VLOOKUP(+Wedstrijdschema!A109,Wedstrijdoverzicht!$A$2:$B$21,2,FALSE)),\"\",VLOOKUP(+Wedstrijdschema!A109,Wedstrijdoverzicht!$A$2:$B$21,2,FALSE))","v":""}," - ",{"$f":"IF(ISERROR(VLOOKUP(+Wedstrijdschema!B109,Wedstrijdoverzicht!$A$2:$B$21,2,FALSE)),\"\",VLOOKUP(+Wedstrijdschema!B109,Wedstrijdoverzicht!$A$2:$B$21,2,FALSE))","v":""},{"$f":"IF(A109=\"\",\"\",IF(H109=1,VLOOKUP(I109,Werk1!$V$2:$W$191,2,FALSE),0)+J109+K109)","v":""},null,null,null,0,{"$f":"Wedstrijdschema!A109&\"-\"&Wedstrijdschema!B109","v":{"$error":"#VALUE!"}},{"$f":"IF(A109=\"\",0,IF(VLOOKUP(Wedstrijdschema!A109,Leden!$B$3:$J$22,8,FALSE)=-1,1,IF(VLOOKUP(Wedstrijdschema!B109,Leden!$B$3:$J$22,8,FALSE)=-1,1,0)))","v":0},{"$f":"IF(A109=\"\",0,IF(VLOOKUP(Wedstrijdschema!A109,Leden!$B$3:$S$22,18,FALSE)=\"nee\",1,IF(VLOOKUP(Wedstrijdschema!B109,Leden!$B$3:$S$22,18,FALSE)=\"nee\",1,0)))","v":0}]
[{"$f":"IF(ISERROR(VLOOKUP(+Wedstrijdschema!A110,Wedstrijdoverzicht!$A$2:$B$21,2,FALSE)),\"\",VLOOKUP(+Wedstrijdschema!A110,Wedstrijdoverzicht!$A$2:$B$21,2,FALSE))","v":""}," - ",{"$f":"IF(ISERROR(VLOOKUP(+Wedstrijdschema!B110,Wedstrijdoverzicht!$A$2:$B$21,2,FALSE)),\"\",VLOOKUP(+Wedstrijdschema!B110,Wedstrijdoverzicht!$A$2:$B$21,2,FALSE))","v":""},{"$f":"IF(A110=\"\",\"\",IF(H110=1,VLOOKUP(I110,Werk1!$V$2:$W$191,2,FALSE),0)+J110+K110)","v":""},null,null,null,0,{"$f":"Wedstrijdschema!A110&\"-\"&Wedstrijdschema!B110","v":{"$error":"#VALUE!"}},{"$f":"IF(A110=\"\",0,IF(VLOOKUP(Wedstrijdschema!A110,Leden!$B$3:$J$22,8,FALSE)=-1,1,IF(VLOOKUP(Wedstrijdschema!B110,Leden!$B$3:$J$22,8,FALSE)=-1,1,0)))","v":0},{"$f":"IF(A110=\"\",0,IF(VLOOKUP(Wedstrijdschema!A110,Leden!$B$3:$S$22,18,FALSE)=\"nee\",1,IF(VLOOKUP(Wedstrijdschema!B110,Leden!$B$3:$S$22,18,FALSE)=\"nee\",1,0)))","v":0}]
[{"$f":"IF(ISERROR(VLOOKUP(+Wedstrijdschema!A111,Wedstrijdoverzicht!$A$2:$B$21,2,FALSE)),\"\",VLOOKUP(+Wedstrijdschema!A111,Wedstrijdoverzicht!$A$2:$B$21,2,FALSE))","v":""}," - ",{"$f":"IF(ISERROR(VLOOKUP(+Wedstrijdschema!B111,Wedstrijdoverzicht!$A$2:$B$21,2,FALSE)),\"\",VLOOKUP(+Wedstrijdschema!B111,Wedstrijdoverzicht!$A$2:$B$21,2,FALSE))","v":""},{"$f":"IF(A111=\"\",\"\",IF(H111=1,VLOOKUP(I111,Werk1!$V$2:$W$191,2,FALSE),0)+J111+K111)","v":""},null,null,null,0,{"$f":"Wedstrijdschema!A111&\"-\"&Wedstrijdschema!B111","v":{"$error":"#VALUE!"}},{"$f":"IF(A111=\"\",0,IF(VLOOKUP(Wedstrijdschema!A111,Leden!$B$3:$J$22,8,FALSE)=-1,1,IF(VLOOKUP(Wedstrijdschema!B111,Leden!$B$3:$J$22,8,FALSE)=-1,1,0)))","v":0},{"$f":"IF(A111=\"\",0,IF(VLOOKUP(Wedstrijdschema!A111,Leden!$B$3:$S$22,18,FALSE)=\"nee\",1,IF(VLOOKUP(Wedstrijdschema!B111,Leden!$B$3:$S$22,18,FALSE)=\"nee\",1,0)))","v":0}]
[{"$f":"IF(ISERROR(VLOOKUP(+Wedstrijdschema!A112,Wedstrijdoverzicht!$A$2:$B$21,2,FALSE)),\"\",VLOOKUP(+Wedstrijdschema!A112,Wedstrijdoverzicht!$A$2:$B$21,2,FALSE))","v":""}," - ",{"$f":"IF(ISERROR(VLOOKUP(+Wedstrijdschema!B112,Wedstrijdoverzicht!$A$2:$B$21,2,FALSE)),\"\",VLOOKUP(+Wedstrijdschema!B112,Wedstrijdoverzicht!$A$2:$B$21,2,FALSE))","v":""},{"$f":"IF(A112=\"\",\"\",IF(H112=1,VLOOKUP(I112,Werk1!$V$2:$W$191,2,FALSE),0)+J112+K112)","v":""},null,null,null,0,{"$f":"Wedstrijdschema!A112&\"-\"&Wedstrijdschema!B112","v":{"$error":"#VALUE!"}},{"$f":"IF(A112=\"\",0,IF(VLOOKUP(Wedstrijdschema!A112,Leden!$B$3:$J$22,8,FALSE)=-1,1,IF(VLOOKUP(Wedstrijdschema!B112,Leden!$B$3:$J$22,8,FALSE)=-1,1,0)))","v":0},{"$f":"IF(A112=\"\",0,IF(VLOOKUP(Wedstrijdschema!A112,Leden!$B$3:$S$22,18,FALSE)=\"nee\",1,IF(VLOOKUP(Wedstrijdschema!B112,Leden!$B$3:$S$22,18,FALSE)=\"nee\",1,0)))","v":0}]
[{"$f":"IF(ISERROR(VLOOKUP(+Wedstrijdschema!A113,Wedstrijdoverzicht!$A$2:$B$21,2,FALSE)),\"\",VLOOKUP(+Wedstrijdschema!A113,Wedstrijdoverzicht!$A$2:$B$21,2,FALSE))","v":""}," - ",{"$f":"IF(ISERROR(VLOOKUP(+Wedstrijdschema!B113,Wedstrijdoverzicht!$A$2:$B$21,2,FALSE)),\"\",VLOOKUP(+Wedstrijdschema!B113,Wedstrijdoverzicht!$A$2:$B$21,2,FALSE))","v":""},{"$f":"IF(A113=\"\",\"\",IF(H113=1,VLOOKUP(I113,Werk1!$V$2:$W$191,2,FALSE),0)+J113+K113)","v":""},null,null,null,0,{"$f":"Wedstrijdschema!A113&\"-\"&Wedstrijdschema!B113","v":{"$error":"#VALUE!"}},{"$f":"IF(A113=\"\",0,IF(VLOOKUP(Wedstrijdschema!A113,Leden!$B$3:$J$22,8,FALSE)=-1,1,IF(VLOOKUP(Wedstrijdschema!B113,Leden!$B$3:$J$22,8,FALSE)=-1,1,0)))","v":0},{"$f":"IF(A113=\"\",0,IF(VLOOKUP(Wedstrijdschema!A113,Leden!$B$3:$S$22,18,FALSE)=\"nee\",1,IF(VLOOKUP(Wedstrijdschema!B113,Leden!$B$3:$S$22,18,FALSE)=\"nee\",1,0)))","v":0}]
[{"$f":"IF(ISERROR(VLOOKUP(+Wedstrijdschema!A114,Wedstrijdoverzicht!$A$2:$B$21,2,FALSE)),\"\",VLOOKUP(+Wedstrijdschema!A114,Wedstrijdoverzicht!$A$2:$B$21,2,FALSE))","v":""}," - ",{"$f":"IF(ISERROR(VLOOKUP(+Wedstrijdschema!B114,Wedstrijdoverzicht!$A$2:$B$21,2,FALSE)),\"\",VLOOKUP(+Wedstrijdschema!B114,Wedstrijdoverzicht!$A$2:$B$21,2,FALSE))","v":""},{"$f":"IF(A114=\"\",\"\",IF(H114=1,VLOOKUP(I114,Werk1!$V$2:$W$191,2,FALSE),0)+J114+K114)","v":""},null,null,null,0,{"$f":"Wedstrijdschema!A114&\"-\"&Wedstrijdschema!B114","v":{"$error":"#VALUE!"}},{"$f":"IF(A114=\"\",0,IF(VLOOKUP(Wedstrijdschema!A114,Leden!$B$3:$J$22,8,FALSE)=-1,1,IF(VLOOKUP(Wedstrijdschema!B114,Leden!$B$3:$J$22,8,FALSE)=-1,1,0)))","v":0},{"$f":"IF(A114=\"\",0,IF(VLOOKUP(Wedstrijdschema!A114,Leden!$B$3:$S$22,18,FALSE)=\"nee\",1,IF(VLOOKUP(Wedstrijdschema!B114,Leden!$B$3:$S$22,18,FALSE)=\"nee\",1,0)))","v":0}]
[{"$f":"IF(ISERROR(VLOOKUP(+Wedstrijdschema!A115,Wedstrijdoverzicht!$A$2:$B$21,2,FALSE)),\"\",VLOOKUP(+Wedstrijdschema!A115,Wedstrijdoverzicht!$A$2:$B$21,2,FALSE))","v":""}," - ",{"$f":"IF(ISERROR(VLOOKUP(+Wedstrijdschema!B115,Wedstrijdoverzicht!$A$2:$B$21,2,FALSE)),\"\",VLOOKUP(+Wedstrijdschema!B115,Wedstrijdoverzicht!$A$2:$B$21,2,FALSE))","v":""},{"$f":"IF(A115=\"\",\"\",IF(H115=1,VLOOKUP(I115,Werk1!$V$2:$W$191,2,FALSE),0)+J115+K115)","v":""},null,null,null,0,{"$f":"Wedstrijdschema!A115&\"-\"&Wedstrijdschema!B115","v":{"$error":"#VALUE!"}},{"$f":"IF(A115=\"\",0,IF(VLOOKUP(Wedstrijdschema!A115,Leden!$B$3:$J$22,8,FALSE)=-1,1,IF(VLOOKUP(Wedstrijdschema!B115,Leden!$B$3:$J$22,8,FALSE)=-1,1,0)))","v":0},{"$f":"IF(A115=\"\",0,IF(VLOOKUP(Wedstrijdschema!A115,Leden!$B$3:$S$22,18,FALSE)=\"nee\",1,IF(VLOOKUP(Wedstrijdschema!B115,Leden!$B$3:$S$22,18,FALSE)=\"nee\",1,0)))","v":0}]
[{"$f":"IF(ISERROR(VLOOKUP(+Wedstrijdschema!A116,Wedstrijdoverzicht!$A$2:$B$21,2,FALSE)),\"\",VLOOKUP(+Wedstrijdschema!A116,Wedstrijdoverzicht!$A$2:$B$21,2,FALSE))","v":""}," - ",{"$f":"IF(ISERROR(VLOOKUP(+Wedstrijdschema!B116,Wedstrijdoverzicht!$A$2:$B$21,2,FALSE)),\"\",VLOOKUP(+Wedstrijdschema!B116,Wedstrijdoverzicht!$A$2:$B$21,2,FALSE))","v":""},{"$f":"IF(A116=\"\",\"\",IF(H116=1,VLOOKUP(I116,Werk1!$V$2:$W$191,2,FALSE),0)+J116+K116)","v":""},null,null,null,0,{"$f":"Wedstrijdschema!A116&\"-\"&Wedstrijdschema!B116","v":{"$error":"#VALUE!"}},{"$f":"IF(A116=\"\",0,IF(VLOOKUP(Wedstrijdschema!A116,Leden!$B$3:$J$22,8,FALSE)=-1,1,IF(VLOOKUP(Wedstrijdschema!B116,Leden!$B$3:$J$22,8,FALSE)=-1,1,0)))","v":0},{"$f":"IF(A116=\"\",0,IF(VLOOKUP(Wedstrijdschema!A116,Leden!$B$3:$S$22,18,FALSE)=\"nee\",1,IF(VLOOKUP(Wedstrijdschema!B116,Leden!$B$3:$S$22,18,FALSE)=\"nee\",1,0)))","v":0}]
[{"$f":"IF(ISERROR(VLOOKUP(+Wedstrijdschema!A117,Wedstrijdoverzicht!$A$2:$B$21,2,FALSE)),\"\",VLOOKUP(+Wedstrijdschema!A117,Wedstrijdoverzicht!$A$2:$B$21,2,FALSE))","v":""}," - ",{"$f":"IF(ISERROR(VLOOKUP(+Wedstrijdschema!B117,Wedstrijdoverzicht!$A$2:$B$21,2,FALSE)),\"\",VLOOKUP(+Wedstrijdschema!B117,Wedstrijdoverzicht!$A$2:$B$21,2,FALSE))","v":""},{"$f":"IF(A117=\"\",\"\",IF(H117=1,VLOOKUP(I117,Werk1!$V$2:$W$191,2,FALSE),0)+J117+K117)","v":""},null,null,null,0,{"$f":"Wedstrijdschema!A117&\"-\"&Wedstrijdschema!B117","v":{"$error":"#VALUE!"}},{"$f":"IF(A117=\"\",0,IF(VLOOKUP(Wedstrijdschema!A117,Leden!$B$3:$J$22,8,FALSE)=-1,1,IF(VLOOKUP(Wedstrijdschema!B117,Leden!$B$3:$J$22,8,FALSE)=-1,1,0)))","v":0},{"$f":"IF(A117=\"\",0,IF(VLOOKUP(Wedstrijdschema!A117,Leden!$B$3:$S$22,18,FALSE)=\"nee\",1,IF(VLOOKUP(Wedstrijdschema!B117,Leden!$B$3:$S$22,18,FALSE)=\"nee\",1,0)))","v":0}]
[{"$f":"IF(ISERROR(VLOOKUP(+Wedstrijdschema!A118,Wedstrijdoverzicht!$A$2:$B$21,2,FALSE)),\"\",VLOOKUP(+Wedstrijdschema!A118,Wedstrijdoverzicht!$A$2:$B$21,2,FALSE))","v":""}," - ",{"$f":"IF(ISERROR(VLOOKUP(+Wedstrijdschema!B118,Wedstrijdoverzicht!$A$2:$B$21,2,FALSE)),\"\",VLOOKUP(+Wedstrijdschema!B118,Wedstrijdoverzicht!$A$2:$B$21,2,FALSE))","v":""},{"$f":"IF(A118=\"\",\"\",IF(H118=1,VLOOKUP(I118,Werk1!$V$2:$W$191,2,FALSE),0)+J118+K118)","v":""},null,null,null,0,{"$f":"Wedstrijdschema!A118&\"-\"&Wedstrijdschema!B118","v":{"$error":"#VALUE!"}},{"$f":"IF(A118=\"\",0,IF(VLOOKUP(Wedstrijdschema!A118,Leden!$B$3:$J$22,8,FALSE)=-1,1,IF(VLOOKUP(Wedstrijdschema!B118,Leden!$B$3:$J$22,8,FALSE)=-1,1,0)))","v":0},{"$f":"IF(A118=\"\",0,IF(VLOOKUP(Wedstrijdschema!A118,Leden!$B$3:$S$22,18,FALSE)=\"nee\",1,IF(VLOOKUP(Wedstrijdschema!B118,Leden!$B$3:$S$22,18,FALSE)=\"nee\",1,0)))","v":0}]
[{"$f":"IF(ISERROR(VLOOKUP(+Wedstrijdschema!A119,Wedstrijdoverzicht!$A$2:$B$21,2,FALSE)),\"\",VLOOKUP(+Wedstrijdschema!A119,Wedstrijdoverzicht!$A$2:$B$21,2,FALSE))","v":""}," - ",{"$f":"IF(ISERROR(VLOOKUP(+Wedstrijdschema!B119,Wedstrijdoverzicht!$A$2:$B$21,2,FALSE)),\"\",VLOOKUP(+Wedstrijdschema!B119,Wedstrijdoverzicht!$A$2:$B$21,2,FALSE))","v":""},{"$f":"IF(A119=\"\",\"\",IF(H119=1,VLOOKUP(I119,Werk1!$V$2:$W$191,2,FALSE),0)+J119+K119)","v":""},null,null,null,0,{"$f":"Wedstrijdschema!A119&\"-\"&Wedstrijdschema!B119","v":{"$error":"#VALUE!"}},{"$f":"IF(A119=\"\",0,IF(VLOOKUP(Wedstrijdschema!A119,Leden!$B$3:$J$22,8,FALSE)=-1,1,IF(VLOOKUP(Wedstrijdschema!B119,Leden!$B$3:$J$22,8,FALSE)=-1,1,0)))","v":0},{"$f":"IF(A119=\"\",0,IF(VLOOKUP(Wedstrijdschema!A119,Leden!$B$3:$S$22,18,FALSE)=\"nee\",1,IF(VLOOKUP(Wedstrijdschema!B119,Leden!$B$3:$S$22,18,FALSE)=\"nee\",1,0)))","v":0}]
[{"$f":"IF(ISERROR(VLOOKUP(+Wedstrijdschema!A120,Wedstrijdoverzicht!$A$2:$B$21,2,FALSE)),\"\",VLOOKUP(+Wedstrijdschema!A120,Wedstrijdoverzicht!$A$2:$B$21,2,FALSE))","v":""}," - ",{"$f":"IF(ISERROR(VLOOKUP(+Wedstrijdschema!B120,Wedstrijdoverzicht!$A$2:$B$21,2,FALSE)),\"\",VLOOKUP(+Wedstrijdschema!B120,Wedstrijdoverzicht!$A$2:$B$21,2,FALSE))","v":""},{"$f":"IF(A120=\"\",\"\",IF(H120=1,VLOOKUP(I120,Werk1!$V$2:$W$191,2,FALSE),0)+J120+K120)","v":""},null,null,null,0,{"$f":"Wedstrijdschema!A120&\"-\"&Wedstrijdschema!B120","v":{"$error":"#VALUE!"}},{"$f":"IF(A120=\"\",0,IF(VLOOKUP(Wedstrijdschema!A120,Leden!$B$3:$J$22,8,FALSE)=-1,1,IF(VLOOKUP(Wedstrijdschema!B120,Leden!$B$3:$J$22,8,FALSE)=-1,1,0)))","v":0},{"$f":"IF(A120=\"\",0,IF(VLOOKUP(Wedstrijdschema!A120,Leden!$B$3:$S$22,18,FALSE)=\"nee\",1,IF(VLOOKUP(Wedstrijdschema!B120,Leden!$B$3:$S$22,18,FALSE)=\"nee\",1,0)))","v":0}]
[{"$f":"IF(ISERROR(VLOOKUP(+Wedstrijdschema!A121,Wedstrijdoverzicht!$A$2:$B$21,2,FALSE)),\"\",VLOOKUP(+Wedstrijdschema!A121,Wedstrijdoverzicht!$A$2:$B$21,2,FALSE))","v":""}," - ",{"$f":"IF(ISERROR(VLOOKUP(+Wedstrijdschema!B121,Wedstrijdoverzicht!$A$2:$B$21,2,FALSE)),\"\",VLOOKUP(+Wedstrijdschema!B121,Wedstrijdoverzicht!$A$2:$B$21,2,FALSE))","v":""},{"$f":"IF(A121=\"\",\"\",IF(H121=1,VLOOKUP(I121,Werk1!$V$2:$W$191,2,FALSE),0)+J121+K121)","v":""},null,null,null,0,{"$f":"Wedstrijdschema!A121&\"-\"&Wedstrijdschema!B121","v":{"$error":"#VALUE!"}},{"$f":"IF(A121=\"\",0,IF(VLOOKUP(Wedstrijdschema!A121,Leden!$B$3:$J$22,8,FALSE)=-1,1,IF(VLOOKUP(Wedstrijdschema!B121,Leden!$B$3:$J$22,8,FALSE)=-1,1,0)))","v":0},{"$f":"IF(A121=\"\",0,IF(VLOOKUP(Wedstrijdschema!A121,Leden!$B$3:$S$22,18,FALSE)=\"nee\",1,IF(VLOOKUP(Wedstrijdschema!B121,Leden!$B$3:$S$22,18,FALSE)=\"nee\",1,0)))","v":0}]
[{"$f":"IF(ISERROR(VLOOKUP(+Wedstrijdschema!A122,Wedstrijdoverzicht!$A$2:$B$21,2,FALSE)),\"\",VLOOKUP(+Wedstrijdschema!A122,Wedstrijdoverzicht!$A$2:$B$21,2,FALSE))","v":""}," - ",{"$f":"IF(ISERROR(VLOOKUP(+Wedstrijdschema!B122,Wedstrijdoverzicht!$A$2:$B$21,2,FALSE)),\"\",VLOOKUP(+Wedstrijdschema!B122,Wedstrijdoverzicht!$A$2:$B$21,2,FALSE))","v":""},{"$f":"IF(A122=\"\",\"\",IF(H122=1,VLOOKUP(I122,Werk1!$V$2:$W$191,2,FALSE),0)+J122+K122)","v":""},null,null,null,0,{"$f":"Wedstrijdschema!A122&\"-\"&Wedstrijdschema!B122","v":{"$error":"#VALUE!"}},{"$f":"IF(A122=\"\",0,IF(VLOOKUP(Wedstrijdschema!A122,Leden!$B$3:$J$22,8,FALSE)=-1,1,IF(VLOOKUP(Wedstrijdschema!B122,Leden!$B$3:$J$22,8,FALSE)=-1,1,0)))","v":0},{"$f":"IF(A122=\"\",0,IF(VLOOKUP(Wedstrijdschema!A122,Leden!$B$3:$S$22,18,FALSE)=\"nee\",1,IF(VLOOKUP(Wedstrijdschema!B122,Leden!$B$3:$S$22,18,FALSE)=\"nee\",1,0)))","v":0}]
[{"$f":"IF(ISERROR(VLOOKUP(+Wedstrijdschema!A123,Wedstrijdoverzicht!$A$2:$B$21,2,FALSE)),\"\",VLOOKUP(+Wedstrijdschema!A123,Wedstrijdoverzicht!$A$2:$B$21,2,FALSE))","v":""}," - ",{"$f":"IF(ISERROR(VLOOKUP(+Wedstrijdschema!B123,Wedstrijdoverzicht!$A$2:$B$21,2,FALSE)),\"\",VLOOKUP(+Wedstrijdschema!B123,Wedstrijdoverzicht!$A$2:$B$21,2,FALSE))","v":""},{"$f":"IF(A123=\"\",\"\",IF(H123=1,VLOOKUP(I123,Werk1!$V$2:$W$191,2,FALSE),0)+J123+K123)","v":""},null,null,null,0,{"$f":"Wedstrijdschema!A123&\"-\"&Wedstrijdschema!B123","v":{"$error":"#VALUE!"}},{"$f":"IF(A123=\"\",0,IF(VLOOKUP(Wedstrijdschema!A123,Leden!$B$3:$J$22,8,FALSE)=-1,1,IF(VLOOKUP(Wedstrijdschema!B123,Leden!$B$3:$J$22,8,FALSE)=-1,1,0)))","v":0},{"$f":"IF(A123=\"\",0,IF(VLOOKUP(Wedstrijdschema!A123,Leden!$B$3:$S$22,18,FALSE)=\"nee\",1,IF(VLOOKUP(Wedstrijdschema!B123,Leden!$B$3:$S$22,18,FALSE)=\"nee\",1,0)))","v":0}]
[{"$f":"IF(ISERROR(VLOOKUP(+Wedstrijdschema!A124,Wedstrijdoverzicht!$A$2:$B$21,2,FALSE)),\"\",VLOOKUP(+Wedstrijdschema!A124,Wedstrijdoverzicht!$A$2:$B$21,2,FALSE))","v":""}," - ",{"$f":"IF(ISERROR(VLOOKUP(+Wedstrijdschema!B124,Wedstrijdoverzicht!$A$2:$B$21,2,FALSE)),\"\",VLOOKUP(+Wedstrijdschema!B124,Wedstrijdoverzicht!$A$2:$B$21,2,FALSE))","v":""},{"$f":"IF(A124=\"\",\"\",IF(H124=1,VLOOKUP(I124,Werk1!$V$2:$W$191,2,FALSE),0)+J124+K124)","v":""},null,null,null,0,{"$f":"Wedstrijdschema!A124&\"-\"&Wedstrijdschema!B124","v":{"$error":"#VALUE!"}},{"$f":"IF(A124=\"\",0,IF(VLOOKUP(Wedstrijdschema!A124,Leden!$B$3:$J$22,8,FALSE)=-1,1,IF(VLOOKUP(Wedstrijdschema!B124,Leden!$B$3:$J$22,8,FALSE)=-1,1,0)))","v":0},{"$f":"IF(A124=\"\",0,IF(VLOOKUP(Wedstrijdschema!A124,Leden!$B$3:$S$22,18,FALSE)=\"nee\",1,IF(VLOOKUP(Wedstrijdschema!B124,Leden!$B$3:$S$22,18,FALSE)=\"nee\",1,0)))","v":0}]
[{"$f":"IF(ISERROR(VLOOKUP(+Wedstrijdschema!A125,Wedstrijdoverzicht!$A$2:$B$21,2,FALSE)),\"\",VLOOKUP(+Wedstrijdschema!A125,Wedstrijdoverzicht!$A$2:$B$21,2,FALSE))","v":""}," - ",{"$f":"IF(ISERROR(VLOOKUP(+Wedstrijdschema!B125,Wedstrijdoverzicht!$A$2:$B$21,2,FALSE)),\"\",VLOOKUP(+Wedstrijdschema!B125,Wedstrijdoverzicht!$A$2:$B$21,2,FALSE))","v":""},{"$f":"IF(A125=\"\",\"\",IF(H125=1,VLOOKUP(I125,Werk1!$V$2:$W$191,2,FALSE),0)+J125+K125)","v":""},null,null,null,0,{"$f":"Wedstrijdschema!A125&\"-\"&Wedstrijdschema!B125","v":{"$error":"#VALUE!"}},{"$f":"IF(A125=\"\",0,IF(VLOOKUP(Wedstrijdschema!A125,Leden!$B$3:$J$22,8,FALSE)=-1,1,IF(VLOOKUP(Wedstrijdschema!B125,Leden!$B$3:$J$22,8,FALSE)=-1,1,0)))","v":0},{"$f":"IF(A125=\"\",0,IF(VLOOKUP(Wedstrijdschema!A125,Leden!$B$3:$S$22,18,FALSE)=\"nee\",1,IF(VLOOKUP(Wedstrijdschema!B125,Leden!$B$3:$S$22,18,FALSE)=\"nee\",1,0)))","v":0}]
[{"$f":"IF(ISERROR(VLOOKUP(+Wedstrijdschema!A126,Wedstrijdoverzicht!$A$2:$B$21,2,FALSE)),\"\",VLOOKUP(+Wedstrijdschema!A126,Wedstrijdoverzicht!$A$2:$B$21,2,FALSE))","v":""}," - ",{"$f":"IF(ISERROR(VLOOKUP(+Wedstrijdschema!B126,Wedstrijdoverzicht!$A$2:$B$21,2,FALSE)),\"\",VLOOKUP(+Wedstrijdschema!B126,Wedstrijdoverzicht!$A$2:$B$21,2,FALSE))","v":""},{"$f":"IF(A126=\"\",\"\",IF(H126=1,VLOOKUP(I126,Werk1!$V$2:$W$191,2,FALSE),0)+J126+K126)","v":""},null,null,null,0,{"$f":"Wedstrijdschema!A126&\"-\"&Wedstrijdschema!B126","v":{"$error":"#VALUE!"}},{"$f":"IF(A126=\"\",0,IF(VLOOKUP(Wedstrijdschema!A126,Leden!$B$3:$J$22,8,FALSE)=-1,1,IF(VLOOKUP(Wedstrijdschema!B126,Leden!$B$3:$J$22,8,FALSE)=-1,1,0)))","v":0},{"$f":"IF(A126=\"\",0,IF(VLOOKUP(Wedstrijdschema!A126,Leden!$B$3:$S$22,18,FALSE)=\"nee\",1,IF(VLOOKUP(Wedstrijdschema!B126,Leden!$B$3:$S$22,18,FALSE)=\"nee\",1,0)))","v":0}]
[{"$f":"IF(ISERROR(VLOOKUP(+Wedstrijdschema!A127,Wedstrijdoverzicht!$A$2:$B$21,2,FALSE)),\"\",VLOOKUP(+Wedstrijdschema!A127,Wedstrijdoverzicht!$A$2:$B$21,2,FALSE))","v":""}," - ",{"$f":"IF(ISERROR(VLOOKUP(+Wedstrijdschema!B127,Wedstrijdoverzicht!$A$2:$B$21,2,FALSE)),\"\",VLOOKUP(+Wedstrijdschema!B127,Wedstrijdoverzicht!$A$2:$B$21,2,FALSE))","v":""},{"$f":"IF(A127=\"\",\"\",IF(H127=1,VLOOKUP(I127,Werk1!$V$2:$W$191,2,FALSE),0)+J127+K127)","v":""},null,null,null,0,{"$f":"Wedstrijdschema!A127&\"-\"&Wedstrijdschema!B127","v":{"$error":"#VALUE!"}},{"$f":"IF(A127=\"\",0,IF(VLOOKUP(Wedstrijdschema!A127,Leden!$B$3:$J$22,8,FALSE)=-1,1,IF(VLOOKUP(Wedstrijdschema!B127,Leden!$B$3:$J$22,8,FALSE)=-1,1,0)))","v":0},{"$f":"IF(A127=\"\",0,IF(VLOOKUP(Wedstrijdschema!A127,Leden!$B$3:$S$22,18,FALSE)=\"nee\",1,IF(VLOOKUP(Wedstrijdschema!B127,Leden!$B$3:$S$22,18,FALSE)=\"nee\",1,0)))","v":0}]
[{"$f":"IF(ISERROR(VLOOKUP(+Wedstrijdschema!A128,Wedstrijdoverzicht!$A$2:$B$21,2,FALSE)),\"\",VLOOKUP(+Wedstrijdschema!A128,Wedstrijdoverzicht!$A$2:$B$21,2,FALSE))","v":""}," - ",{"$f":"IF(ISERROR(VLOOKUP(+Wedstrijdschema!B128,Wedstrijdoverzicht!$A$2:$B$21,2,FALSE)),\"\",VLOOKUP(+Wedstrijdschema!B128,Wedstrijdoverzicht!$A$2:$B$21,2,FALSE))","v":""},{"$f":"IF(A128=\"\",\"\",IF(H128=1,VLOOKUP(I128,Werk1!$V$2:$W$191,2,FALSE),0)+J128+K128)","v":""},null,null,null,0,{"$f":"Wedstrijdschema!A128&\"-\"&Wedstrijdschema!B128","v":{"$error":"#VALUE!"}},{"$f":"IF(A128=\"\",0,IF(VLOOKUP(Wedstrijdschema!A128,Leden!$B$3:$J$22,8,FALSE)=-1,1,IF(VLOOKUP(Wedstrijdschema!B128,Leden!$B$3:$J$22,8,FALSE)=-1,1,0)))","v":0},{"$f":"IF(A128=\"\",0,IF(VLOOKUP(Wedstrijdschema!A128,Leden!$B$3:$S$22,18,FALSE)=\"nee\",1,IF(VLOOKUP(Wedstrijdschema!B128,Leden!$B$3:$S$22,18,FALSE)=\"nee\",1,0)))","v":0}]
[{"$f":"IF(ISERROR(VLOOKUP(+Wedstrijdschema!A129,Wedstrijdoverzicht!$A$2:$B$21,2,FALSE)),\"\",VLOOKUP(+Wedstrijdschema!A129,Wedstrijdoverzicht!$A$2:$B$21,2,FALSE))","v":""}," - ",{"$f":"IF(ISERROR(VLOOKUP(+Wedstrijdschema!B129,Wedstrijdoverzicht!$A$2:$B$21,2,FALSE)),\"\",VLOOKUP(+Wedstrijdschema!B129,Wedstrijdoverzicht!$A$2:$B$21,2,FALSE))","v":""},{"$f":"IF(A129=\"\",\"\",IF(H129=1,VLOOKUP(I129,Werk1!$V$2:$W$191,2,FALSE),0)+J129+K129)","v":""},null,null,null,0,{"$f":"Wedstrijdschema!A129&\"-\"&Wedstrijdschema!B129","v":{"$error":"#VALUE!"}},{"$f":"IF(A129=\"\",0,IF(VLOOKUP(Wedstrijdschema!A129,Leden!$B$3:$J$22,8,FALSE)=-1,1,IF(VLOOKUP(Wedstrijdschema!B129,Leden!$B$3:$J$22,8,FALSE)=-1,1,0)))","v":0},{"$f":"IF(A129=\"\",0,IF(VLOOKUP(Wedstrijdschema!A129,Leden!$B$3:$S$22,18,FALSE)=\"nee\",1,IF(VLOOKUP(Wedstrijdschema!B129,Leden!$B$3:$S$22,18,FALSE)=\"nee\",1,0)))","v":0}]
[{"$f":"IF(ISERROR(VLOOKUP(+Wedstrijdschema!A130,Wedstrijdoverzicht!$A$2:$B$21,2,FALSE)),\"\",VLOOKUP(+Wedstrijdschema!A130,Wedstrijdoverzicht!$A$2:$B$21,2,FALSE))","v":""}," - ",{"$f":"IF(ISERROR(VLOOKUP(+Wedstrijdschema!B130,Wedstrijdoverzicht!$A$2:$B$21,2,FALSE)),\"\",VLOOKUP(+Wedstrijdschema!B130,Wedstrijdoverzicht!$A$2:$B$21,2,FALSE))","v":""},{"$f":"IF(A130=\"\",\"\",IF(H130=1,VLOOKUP(I130,Werk1!$V$2:$W$191,2,FALSE),0)+J130+K130)","v":""},null,null,null,0,{"$f":"Wedstrijdschema!A130&\"-\"&Wedstrijdschema!B130","v":{"$error":"#VALUE!"}},{"$f":"IF(A130=\"\",0,IF(VLOOKUP(Wedstrijdschema!A130,Leden!$B$3:$J$22,8,FALSE)=-1,1,IF(VLOOKUP(Wedstrijdschema!B130,Leden!$B$3:$J$22,8,FALSE)=-1,1,0)))","v":0},{"$f":"IF(A130=\"\",0,IF(VLOOKUP(Wedstrijdschema!A130,Leden!$B$3:$S$22,18,FALSE)=\"nee\",1,IF(VLOOKUP(Wedstrijdschema!B130,Leden!$B$3:$S$22,18,FALSE)=\"nee\",1,0)))","v":0}]
[{"$f":"IF(ISERROR(VLOOKUP(+Wedstrijdschema!A131,Wedstrijdoverzicht!$A$2:$B$21,2,FALSE)),\"\",VLOOKUP(+Wedstrijdschema!A131,Wedstrijdoverzicht!$A$2:$B$21,2,FALSE))","v":""}," - ",{"$f":"IF(ISERROR(VLOOKUP(+Wedstrijdschema!B131,Wedstrijdoverzicht!$A$2:$B$21,2,FALSE)),\"\",VLOOKUP(+Wedstrijdschema!B131,Wedstrijdoverzicht!$A$2:$B$21,2,FALSE))","v":""},{"$f":"IF(A131=\"\",\"\",IF(H131=1,VLOOKUP(I131,Werk1!$V$2:$W$191,2,FALSE),0)+J131+K131)","v":""},null,null,null,0,{"$f":"Wedstrijdschema!A131&\"-\"&Wedstrijdschema!B131","v":{"$error":"#VALUE!"}},{"$f":"IF(A131=\"\",0,IF(VLOOKUP(Wedstrijdschema!A131,Leden!$B$3:$J$22,8,FALSE)=-1,1,IF(VLOOKUP(Wedstrijdschema!B131,Leden!$B$3:$J$22,8,FALSE)=-1,1,0)))","v":0},{"$f":"IF(A131=\"\",0,IF(VLOOKUP(Wedstrijdschema!A131,Leden!$B$3:$S$22,18,FALSE)=\"nee\",1,IF(VLOOKUP(Wedstrijdschema!B131,Leden!$B$3:$S$22,18,FALSE)=\"nee\",1,0)))","v":0}]
[{"$f":"IF(ISERROR(VLOOKUP(+Wedstrijdschema!A132,Wedstrijdoverzicht!$A$2:$B$21,2,FALSE)),\"\",VLOOKUP(+Wedstrijdschema!A132,Wedstrijdoverzicht!$A$2:$B$21,2,FALSE))","v":""}," - ",{"$f":"IF(ISERROR(VLOOKUP(+Wedstrijdschema!B132,Wedstrijdoverzicht!$A$2:$B$21,2,FALSE)),\"\",VLOOKUP(+Wedstrijdschema!B132,Wedstrijdoverzicht!$A$2:$B$21,2,FALSE))","v":""},{"$f":"IF(A132=\"\",\"\",IF(H132=1,VLOOKUP(I132,Werk1!$V$2:$W$191,2,FALSE),0)+J132+K132)","v":""},null,null,null,0,{"$f":"Wedstrijdschema!A132&\"-\"&Wedstrijdschema!B132","v":{"$error":"#VALUE!"}},{"$f":"IF(A132=\"\",0,IF(VLOOKUP(Wedstrijdschema!A132,Leden!$B$3:$J$22,8,FALSE)=-1,1,IF(VLOOKUP(Wedstrijdschema!B132,Leden!$B$3:$J$22,8,FALSE)=-1,1,0)))","v":0},{"$f":"IF(A132=\"\",0,IF(VLOOKUP(Wedstrijdschema!A132,Leden!$B$3:$S$22,18,FALSE)=\"nee\",1,IF(VLOOKUP(Wedstrijdschema!B132,Leden!$B$3:$S$22,18,FALSE)=\"nee\",1,0)))","v":0}]
[{"$f":"IF(ISERROR(VLOOKUP(+Wedstrijdschema!A133,Wedstrijdoverzicht!$A$2:$B$21,2,FALSE)),\"\",VLOOKUP(+Wedstrijdschema!A133,Wedstrijdoverzicht!$A$2:$B$21,2,FALSE))","v":""}," - ",{"$f":"IF(ISERROR(VLOOKUP(+Wedstrijdschema!B133,Wedstrijdoverzicht!$A$2:$B$21,2,FALSE)),\"\",VLOOKUP(+Wedstrijdschema!B133,Wedstrijdoverzicht!$A$2:$B$21,2,FALSE))","v":""},{"$f":"IF(A133=\"\",\"\",IF(H133=1,VLOOKUP(I133,Werk1!$V$2:$W$191,2,FALSE),0)+J133+K133)","v":""},null,null,null,0,{"$f":"Wedstrijdschema!A133&\"-\"&Wedstrijdschema!B133","v":{"$error":"#VALUE!"}},{"$f":"IF(A133=\"\",0,IF(VLOOKUP(Wedstrijdschema!A133,Leden!$B$3:$J$22,8,FALSE)=-1,1,IF(VLOOKUP(Wedstrijdschema!B133,Leden!$B$3:$J$22,8,FALSE)=-1,1,0)))","v":0},{"$f":"IF(A133=\"\",0,IF(VLOOKUP(Wedstrijdschema!A133,Leden!$B$3:$S$22,18,FALSE)=\"nee\",1,IF(VLOOKUP(Wedstrijdschema!B133,Leden!$B$3:$S$22,18,FALSE)=\"nee\",1,0)))","v":0}]
[{"$f":"IF(ISERROR(VLOOKUP(+Wedstrijdschema!A134,Wedstrijdoverzicht!$A$2:$B$21,2,FALSE)),\"\",VLOOKUP(+Wedstrijdschema!A134,Wedstrijdoverzicht!$A$2:$B$21,2,FALSE))","v":""}," - ",{"$f":"IF(ISERROR(VLOOKUP(+Wedstrijdschema!B134,Wedstrijdoverzicht!$A$2:$B$21,2,FALSE)),\"\",VLOOKUP(+Wedstrijdschema!B134,Wedstrijdoverzicht!$A$2:$B$21,2,FALSE))","v":""},{"$f":"IF(A134=\"\",\"\",IF(H134=1,VLOOKUP(I134,Werk1!$V$2:$W$191,2,FALSE),0)+J134+K134)","v":""},null,null,null,0,{"$f":"Wedstrijdschema!A134&\"-\"&Wedstrijdschema!B134","v":{"$error":"#VALUE!"}},{"$f":"IF(A134=\"\",0,IF(VLOOKUP(Wedstrijdschema!A134,Leden!$B$3:$J$22,8,FALSE)=-1,1,IF(VLOOKUP(Wedstrijdschema!B134,Leden!$B$3:$J$22,8,FALSE)=-1,1,0)))","v":0},{"$f":"IF(A134=\"\",0,IF(VLOOKUP(Wedstrijdschema!A134,Leden!$B$3:$S$22,18,FALSE)=\"nee\",1,IF(VLOOKUP(Wedstrijdschema!B134,Leden!$B$3:$S$22,18,FALSE)=\"nee\",1,0)))","v":0}]
[{"$f":"IF(ISERROR(VLOOKUP(+Wedstrijdschema!A135,Wedstrijdoverzicht!$A$2:$B$21,2,FALSE)),\"\",VLOOKUP(+Wedstrijdschema!A135,Wedstrijdoverzicht!$A$2:$B$21,2,FALSE))","v":""}," - ",{"$f":"IF(ISERROR(VLOOKUP(+Wedstrijdschema!B135,Wedstrijdoverzicht!$A$2:$B$21,2,FALSE)),\"\",VLOOKUP(+Wedstrijdschema!B135,Wedstrijdoverzicht!$A$2:$B$21,2,FALSE))","v":""},{"$f":"IF(A135=\"\",\"\",IF(H135=1,VLOOKUP(I135,Werk1!$V$2:$W$191,2,FALSE),0)+J135+K135)","v":""},null,null,null,{"$f":"IF(A135<>\"\",1,0)","v":0},{"$f":"Wedstrijdschema!A135&\"-\"&Wedstrijdschema!B135","v":{"$error":"#VALUE!"}},{"$f":"IF(A135=\"\",0,IF(VLOOKUP(Wedstrijdschema!A135,Leden!$B$3:$J$22,8,FALSE)=-1,1,IF(VLOOKUP(Wedstrijdschema!B135,Leden!$B$3:$J$22,8,FALSE)=-1,1,0)))","v":0},{"$f":"IF(A135=\"\",0,IF(VLOOKUP(Wedstrijdschema!A135,Leden!$B$3:$S$22,18,FALSE)=\"nee\",1,IF(VLOOKUP(Wedstrijdschema!B135,Leden!$B$3:$S$22,18,FALSE)=\"nee\",1,0)))","v":0}]
[{"$f":"IF(ISERROR(VLOOKUP(+Wedstrijdschema!A136,Wedstrijdoverzicht!$A$2:$B$21,2,FALSE)),\"\",VLOOKUP(+Wedstrijdschema!A136,Wedstrijdoverzicht!$A$2:$B$21,2,FALSE))","v":""}," - ",{"$f":"IF(ISERROR(VLOOKUP(+Wedstrijdschema!B136,Wedstrijdoverzicht!$A$2:$B$21,2,FALSE)),\"\",VLOOKUP(+Wedstrijdschema!B136,Wedstrijdoverzicht!$A$2:$B$21,2,FALSE))","v":""},{"$f":"IF(A136=\"\",\"\",IF(H136=1,VLOOKUP(I136,Werk1!$V$2:$W$191,2,FALSE),0)+J136+K136)","v":""},null,null,null,0,{"$f":"Wedstrijdschema!A136&\"-\"&Wedstrijdschema!B136","v":{"$error":"#VALUE!"}},{"$f":"IF(A136=\"\",0,IF(VLOOKUP(Wedstrijdschema!A136,Leden!$B$3:$J$22,8,FALSE)=-1,1,IF(VLOOKUP(Wedstrijdschema!B136,Leden!$B$3:$J$22,8,FALSE)=-1,1,0)))","v":0},{"$f":"IF(A136=\"\",0,IF(VLOOKUP(Wedstrijdschema!A136,Leden!$B$3:$S$22,18,FALSE)=\"nee\",1,IF(VLOOKUP(Wedstrijdschema!B136,Leden!$B$3:$S$22,18,FALSE)=\"nee\",1,0)))","v":0}]
[{"$f":"IF(ISERROR(VLOOKUP(+Wedstrijdschema!A137,Wedstrijdoverzicht!$A$2:$B$21,2,FALSE)),\"\",VLOOKUP(+Wedstrijdschema!A137,Wedstrijdoverzicht!$A$2:$B$21,2,FALSE))","v":""}," - ",{"$f":"IF(ISERROR(VLOOKUP(+Wedstrijdschema!B137,Wedstrijdoverzicht!$A$2:$B$21,2,FALSE)),\"\",VLOOKUP(+Wedstrijdschema!B137,Wedstrijdoverzicht!$A$2:$B$21,2,FALSE))","v":""},{"$f":"IF(A137=\"\",\"\",IF(H137=1,VLOOKUP(I137,Werk1!$V$2:$W$191,2,FALSE),0)+J137+K137)","v":""},null,null,null,0,{"$f":"Wedstrijdschema!A137&\"-\"&Wedstrijdschema!B137","v":{"$error":"#VALUE!"}},{"$f":"IF(A137=\"\",0,IF(VLOOKUP(Wedstrijdschema!A137,Leden!$B$3:$J$22,8,FALSE)=-1,1,IF(VLOOKUP(Wedstrijdschema!B137,Leden!$B$3:$J$22,8,FALSE)=-1,1,0)))","v":0},{"$f":"IF(A137=\"\",0,IF(VLOOKUP(Wedstrijdschema!A137,Leden!$B$3:$S$22,18,FALSE)=\"nee\",1,IF(VLOOKUP(Wedstrijdschema!B137,Leden!$B$3:$S$22,18,FALSE)=\"nee\",1,0)))","v":0}]
[{"$f":"IF(ISERROR(VLOOKUP(+Wedstrijdschema!A138,Wedstrijdoverzicht!$A$2:$B$21,2,FALSE)),\"\",VLOOKUP(+Wedstrijdschema!A138,Wedstrijdoverzicht!$A$2:$B$21,2,FALSE))","v":""}," - ",{"$f":"IF(ISERROR(VLOOKUP(+Wedstrijdschema!B138,Wedstrijdoverzicht!$A$2:$B$21,2,FALSE)),\"\",VLOOKUP(+Wedstrijdschema!B138,Wedstrijdoverzicht!$A$2:$B$21,2,FALSE))","v":""},{"$f":"IF(A138=\"\",\"\",IF(H138=1,VLOOKUP(I138,Werk1!$V$2:$W$191,2,FALSE),0)+J138+K138)","v":""},null,null,null,0,{"$f":"Wedstrijdschema!A138&\"-\"&Wedstrijdschema!B138","v":{"$error":"#VALUE!"}},{"$f":"IF(A138=\"\",0,IF(VLOOKUP(Wedstrijdschema!A138,Leden!$B$3:$J$22,8,FALSE)=-1,1,IF(VLOOKUP(Wedstrijdschema!B138,Leden!$B$3:$J$22,8,FALSE)=-1,1,0)))","v":0},{"$f":"IF(A138=\"\",0,IF(VLOOKUP(Wedstrijdschema!A138,Leden!$B$3:$S$22,18,FALSE)=\"nee\",1,IF(VLOOKUP(Wedstrijdschema!B138,Leden!$B$3:$S$22,18,FALSE)=\"nee\",1,0)))","v":0}]
[{"$f":"IF(ISERROR(VLOOKUP(+Wedstrijdschema!A139,Wedstrijdoverzicht!$A$2:$B$21,2,FALSE)),\"\",VLOOKUP(+Wedstrijdschema!A139,Wedstrijdoverzicht!$A$2:$B$21,2,FALSE))","v":""}," - ",{"$f":"IF(ISERROR(VLOOKUP(+Wedstrijdschema!B139,Wedstrijdoverzicht!$A$2:$B$21,2,FALSE)),\"\",VLOOKUP(+Wedstrijdschema!B139,Wedstrijdoverzicht!$A$2:$B$21,2,FALSE))","v":""},{"$f":"IF(A139=\"\",\"\",IF(H139=1,VLOOKUP(I139,Werk1!$V$2:$W$191,2,FALSE),0)+J139+K139)","v":""},null,null,null,0,{"$f":"Wedstrijdschema!A139&\"-\"&Wedstrijdschema!B139","v":{"$error":"#VALUE!"}},{"$f":"IF(A139=\"\",0,IF(VLOOKUP(Wedstrijdschema!A139,Leden!$B$3:$J$22,8,FALSE)=-1,1,IF(VLOOKUP(Wedstrijdschema!B139,Leden!$B$3:$J$22,8,FALSE)=-1,1,0)))","v":0},{"$f":"IF(A139=\"\",0,IF(VLOOKUP(Wedstrijdschema!A139,Leden!$B$3:$S$22,18,FALSE)=\"nee\",1,IF(VLOOKUP(Wedstrijdschema!B139,Leden!$B$3:$S$22,18,FALSE)=\"nee\",1,0)))","v":0}]
[{"$f":"IF(ISERROR(VLOOKUP(+Wedstrijdschema!A140,Wedstrijdoverzicht!$A$2:$B$21,2,FALSE)),\"\",VLOOKUP(+Wedstrijdschema!A140,Wedstrijdoverzicht!$A$2:$B$21,2,FALSE))","v":""}," - ",{"$f":"IF(ISERROR(VLOOKUP(+Wedstrijdschema!B140,Wedstrijdoverzicht!$A$2:$B$21,2,FALSE)),\"\",VLOOKUP(+Wedstrijdschema!B140,Wedstrijdoverzicht!$A$2:$B$21,2,FALSE))","v":""},{"$f":"IF(A140=\"\",\"\",IF(H140=1,VLOOKUP(I140,Werk1!$V$2:$W$191,2,FALSE),0)+J140+K140)","v":""},null,null,null,0,{"$f":"Wedstrijdschema!A140&\"-\"&Wedstrijdschema!B140","v":{"$error":"#VALUE!"}},{"$f":"IF(A140=\"\",0,IF(VLOOKUP(Wedstrijdschema!A140,Leden!$B$3:$J$22,8,FALSE)=-1,1,IF(VLOOKUP(Wedstrijdschema!B140,Leden!$B$3:$J$22,8,FALSE)=-1,1,0)))","v":0},{"$f":"IF(A140=\"\",0,IF(VLOOKUP(Wedstrijdschema!A140,Leden!$B$3:$S$22,18,FALSE)=\"nee\",1,IF(VLOOKUP(Wedstrijdschema!B140,Leden!$B$3:$S$22,18,FALSE)=\"nee\",1,0)))","v":0}]
[{"$f":"IF(ISERROR(VLOOKUP(+Wedstrijdschema!A141,Wedstrijdoverzicht!$A$2:$B$21,2,FALSE)),\"\",VLOOKUP(+Wedstrijdschema!A141,Wedstrijdoverzicht!$A$2:$B$21,2,FALSE))","v":""}," - ",{"$f":"IF(ISERROR(VLOOKUP(+Wedstrijdschema!B141,Wedstrijdoverzicht!$A$2:$B$21,2,FALSE)),\"\",VLOOKUP(+Wedstrijdschema!B141,Wedstrijdoverzicht!$A$2:$B$21,2,FALSE))","v":""},{"$f":"IF(A141=\"\",\"\",IF(H141=1,VLOOKUP(I141,Werk1!$V$2:$W$191,2,FALSE),0)+J141+K141)","v":""},null,null,null,0,{"$f":"Wedstrijdschema!A141&\"-\"&Wedstrijdschema!B141","v":{"$error":"#VALUE!"}},{"$f":"IF(A141=\"\",0,IF(VLOOKUP(Wedstrijdschema!A141,Leden!$B$3:$J$22,8,FALSE)=-1,1,IF(VLOOKUP(Wedstrijdschema!B141,Leden!$B$3:$J$22,8,FALSE)=-1,1,0)))","v":0},{"$f":"IF(A141=\"\",0,IF(VLOOKUP(Wedstrijdschema!A141,Leden!$B$3:$S$22,18,FALSE)=\"nee\",1,IF(VLOOKUP(Wedstrijdschema!B141,Leden!$B$3:$S$22,18,FALSE)=\"nee\",1,0)))","v":0}]
[{"$f":"IF(ISERROR(VLOOKUP(+Wedstrijdschema!A142,Wedstrijdoverzicht!$A$2:$B$21,2,FALSE)),\"\",VLOOKUP(+Wedstrijdschema!A142,Wedstrijdoverzicht!$A$2:$B$21,2,FALSE))","v":""}," - ",{"$f":"IF(ISERROR(VLOOKUP(+Wedstrijdschema!B142,Wedstrijdoverzicht!$A$2:$B$21,2,FALSE)),\"\",VLOOKUP(+Wedstrijdschema!B142,Wedstrijdoverzicht!$A$2:$B$21,2,FALSE))","v":""},{"$f":"IF(A142=\"\",\"\",IF(H142=1,VLOOKUP(I142,Werk1!$V$2:$W$191,2,FALSE),0)+J142+K142)","v":""},null,null,null,0,{"$f":"Wedstrijdschema!A142&\"-\"&Wedstrijdschema!B142","v":{"$error":"#VALUE!"}},{"$f":"IF(A142=\"\",0,IF(VLOOKUP(Wedstrijdschema!A142,Leden!$B$3:$J$22,8,FALSE)=-1,1,IF(VLOOKUP(Wedstrijdschema!B142,Leden!$B$3:$J$22,8,FALSE)=-1,1,0)))","v":0},{"$f":"IF(A142=\"\",0,IF(VLOOKUP(Wedstrijdschema!A142,Leden!$B$3:$S$22,18,FALSE)=\"nee\",1,IF(VLOOKUP(Wedstrijdschema!B142,Leden!$B$3:$S$22,18,FALSE)=\"nee\",1,0)))","v":0}]
[{"$f":"IF(ISERROR(VLOOKUP(+Wedstrijdschema!A143,Wedstrijdoverzicht!$A$2:$B$21,2,FALSE)),\"\",VLOOKUP(+Wedstrijdschema!A143,Wedstrijdoverzicht!$A$2:$B$21,2,FALSE))","v":""}," - ",{"$f":"IF(ISERROR(VLOOKUP(+Wedstrijdschema!B143,Wedstrijdoverzicht!$A$2:$B$21,2,FALSE)),\"\",VLOOKUP(+Wedstrijdschema!B143,Wedstrijdoverzicht!$A$2:$B$21,2,FALSE))","v":""},{"$f":"IF(A143=\"\",\"\",IF(H143=1,VLOOKUP(I143,Werk1!$V$2:$W$191,2,FALSE),0)+J143+K143)","v":""},null,null,null,0,{"$f":"Wedstrijdschema!A143&\"-\"&Wedstrijdschema!B143","v":{"$error":"#VALUE!"}},{"$f":"IF(A143=\"\",0,IF(VLOOKUP(Wedstrijdschema!A143,Leden!$B$3:$J$22,8,FALSE)=-1,1,IF(VLOOKUP(Wedstrijdschema!B143,Leden!$B$3:$J$22,8,FALSE)=-1,1,0)))","v":0},{"$f":"IF(A143=\"\",0,IF(VLOOKUP(Wedstrijdschema!A143,Leden!$B$3:$S$22,18,FALSE)=\"nee\",1,IF(VLOOKUP(Wedstrijdschema!B143,Leden!$B$3:$S$22,18,FALSE)=\"nee\",1,0)))","v":0}]
[{"$f":"IF(ISERROR(VLOOKUP(+Wedstrijdschema!A144,Wedstrijdoverzicht!$A$2:$B$21,2,FALSE)),\"\",VLOOKUP(+Wedstrijdschema!A144,Wedstrijdoverzicht!$A$2:$B$21,2,FALSE))","v":""}," - ",{"$f":"IF(ISERROR(VLOOKUP(+Wedstrijdschema!B144,Wedstrijdoverzicht!$A$2:$B$21,2,FALSE)),\"\",VLOOKUP(+Wedstrijdschema!B144,Wedstrijdoverzicht!$A$2:$B$21,2,FALSE))","v":""},{"$f":"IF(A144=\"\",\"\",IF(H144=1,VLOOKUP(I144,Werk1!$V$2:$W$191,2,FALSE),0)+J144+K144)","v":""},null,null,null,0,{"$f":"Wedstrijdschema!A144&\"-\"&Wedstrijdschema!B144","v":{"$error":"#VALUE!"}},{"$f":"IF(A144=\"\",0,IF(VLOOKUP(Wedstrijdschema!A144,Leden!$B$3:$J$22,8,FALSE)=-1,1,IF(VLOOKUP(Wedstrijdschema!B144,Leden!$B$3:$J$22,8,FALSE)=-1,1,0)))","v":0},{"$f":"IF(A144=\"\",0,IF(VLOOKUP(Wedstrijdschema!A144,Leden!$B$3:$S$22,18,FALSE)=\"nee\",1,IF(VLOOKUP(Wedstrijdschema!B144,Leden!$B$3:$S$22,18,FALSE)=\"nee\",1,0)))","v":0}]
[{"$f":"IF(ISERROR(VLOOKUP(+Wedstrijdschema!A145,Wedstrijdoverzicht!$A$2:$B$21,2,FALSE)),\"\",VLOOKUP(+Wedstrijdschema!A145,Wedstrijdoverzicht!$A$2:$B$21,2,FALSE))","v":""}," - ",{"$f":"IF(ISERROR(VLOOKUP(+Wedstrijdschema!B145,Wedstrijdoverzicht!$A$2:$B$21,2,FALSE)),\"\",VLOOKUP(+Wedstrijdschema!B145,Wedstrijdoverzicht!$A$2:$B$21,2,FALSE))","v":""},{"$f":"IF(A145=\"\",\"\",IF(H145=1,VLOOKUP(I145,Werk1!$V$2:$W$191,2,FALSE),0)+J145+K145)","v":""},null,null,null,0,{"$f":"Wedstrijdschema!A145&\"-\"&Wedstrijdschema!B145","v":{"$error":"#VALUE!"}},{"$f":"IF(A145=\"\",0,IF(VLOOKUP(Wedstrijdschema!A145,Leden!$B$3:$J$22,8,FALSE)=-1,1,IF(VLOOKUP(Wedstrijdschema!B145,Leden!$B$3:$J$22,8,FALSE)=-1,1,0)))","v":0},{"$f":"IF(A145=\"\",0,IF(VLOOKUP(Wedstrijdschema!A145,Leden!$B$3:$S$22,18,FALSE)=\"nee\",1,IF(VLOOKUP(Wedstrijdschema!B145,Leden!$B$3:$S$22,18,FALSE)=\"nee\",1,0)))","v":0}]
[{"$f":"IF(ISERROR(VLOOKUP(+Wedstrijdschema!A146,Wedstrijdoverzicht!$A$2:$B$21,2,FALSE)),\"\",VLOOKUP(+Wedstrijdschema!A146,Wedstrijdoverzicht!$A$2:$B$21,2,FALSE))","v":""}," - ",{"$f":"IF(ISERROR(VLOOKUP(+Wedstrijdschema!B146,Wedstrijdoverzicht!$A$2:$B$21,2,FALSE)),\"\",VLOOKUP(+Wedstrijdschema!B146,Wedstrijdoverzicht!$A$2:$B$21,2,FALSE))","v":""},{"$f":"IF(A146=\"\",\"\",IF(H146=1,VLOOKUP(I146,Werk1!$V$2:$W$191,2,FALSE),0)+J146+K146)","v":""},null,null,null,0,{"$f":"Wedstrijdschema!A146&\"-\"&Wedstrijdschema!B146","v":{"$error":"#VALUE!"}},{"$f":"IF(A146=\"\",0,IF(VLOOKUP(Wedstrijdschema!A146,Leden!$B$3:$J$22,8,FALSE)=-1,1,IF(VLOOKUP(Wedstrijdschema!B146,Leden!$B$3:$J$22,8,FALSE)=-1,1,0)))","v":0},{"$f":"IF(A146=\"\",0,IF(VLOOKUP(Wedstrijdschema!A146,Leden!$B$3:$S$22,18,FALSE)=\"nee\",1,IF(VLOOKUP(Wedstrijdschema!B146,Leden!$B$3:$S$22,18,FALSE)=\"nee\",1,0)))","v":0}]
[{"$f":"IF(ISERROR(VLOOKUP(+Wedstrijdschema!A147,Wedstrijdoverzicht!$A$2:$B$21,2,FALSE)),\"\",VLOOKUP(+Wedstrijdschema!A147,Wedstrijdoverzicht!$A$2:$B$21,2,FALSE))","v":""}," - ",{"$f":"IF(ISERROR(VLOOKUP(+Wedstrijdschema!B147,Wedstrijdoverzicht!$A$2:$B$21,2,FALSE)),\"\",VLOOKUP(+Wedstrijdschema!B147,Wedstrijdoverzicht!$A$2:$B$21,2,FALSE))","v":""},{"$f":"IF(A147=\"\",\"\",IF(H147=1,VLOOKUP(I147,Werk1!$V$2:$W$191,2,FALSE),0)+J147+K147)","v":""},null,null,null,0,{"$f":"Wedstrijdschema!A147&\"-\"&Wedstrijdschema!B147","v":{"$error":"#VALUE!"}},{"$f":"IF(A147=\"\",0,IF(VLOOKUP(Wedstrijdschema!A147,Leden!$B$3:$J$22,8,FALSE)=-1,1,IF(VLOOKUP(Wedstrijdschema!B147,Leden!$B$3:$J$22,8,FALSE)=-1,1,0)))","v":0},{"$f":"IF(A147=\"\",0,IF(VLOOKUP(Wedstrijdschema!A147,Leden!$B$3:$S$22,18,FALSE)=\"nee\",1,IF(VLOOKUP(Wedstrijdschema!B147,Leden!$B$3:$S$22,18,FALSE)=\"nee\",1,0)))","v":0}]
[{"$f":"IF(ISERROR(VLOOKUP(+Wedstrijdschema!A148,Wedstrijdoverzicht!$A$2:$B$21,2,FALSE)),\"\",VLOOKUP(+Wedstrijdschema!A148,Wedstrijdoverzicht!$A$2:$B$21,2,FALSE))","v":""}," - ",{"$f":"IF(ISERROR(VLOOKUP(+Wedstrijdschema!B148,Wedstrijdoverzicht!$A$2:$B$21,2,FALSE)),\"\",VLOOKUP(+Wedstrijdschema!B148,Wedstrijdoverzicht!$A$2:$B$21,2,FALSE))","v":""},{"$f":"IF(A148=\"\",\"\",IF(H148=1,VLOOKUP(I148,Werk1!$V$2:$W$191,2,FALSE),0)+J148+K148)","v":""},null,null,null,0,{"$f":"Wedstrijdschema!A148&\"-\"&Wedstrijdschema!B148","v":{"$error":"#VALUE!"}},{"$f":"IF(A148=\"\",0,IF(VLOOKUP(Wedstrijdschema!A148,Leden!$B$3:$J$22,8,FALSE)=-1,1,IF(VLOOKUP(Wedstrijdschema!B148,Leden!$B$3:$J$22,8,FALSE)=-1,1,0)))","v":0},{"$f":"IF(A148=\"\",0,IF(VLOOKUP(Wedstrijdschema!A148,Leden!$B$3:$S$22,18,FALSE)=\"nee\",1,IF(VLOOKUP(Wedstrijdschema!B148,Leden!$B$3:$S$22,18,FALSE)=\"nee\",1,0)))","v":0}]
[{"$f":"IF(ISERROR(VLOOKUP(+Wedstrijdschema!A149,Wedstrijdoverzicht!$A$2:$B$21,2,FALSE)),\"\",VLOOKUP(+Wedstrijdschema!A149,Wedstrijdoverzicht!$A$2:$B$21,2,FALSE))","v":""}," - ",{"$f":"IF(ISERROR(VLOOKUP(+Wedstrijdschema!B149,Wedstrijdoverzicht!$A$2:$B$21,2,FALSE)),\"\",VLOOKUP(+Wedstrijdschema!B149,Wedstrijdoverzicht!$A$2:$B$21,2,FALSE))","v":""},{"$f":"IF(A149=\"\",\"\",IF(H149=1,VLOOKUP(I149,Werk1!$V$2:$W$191,2,FALSE),0)+J149+K149)","v":""},null,null,null,0,{"$f":"Wedstrijdschema!A149&\"-\"&Wedstrijdschema!B149","v":{"$error":"#VALUE!"}},{"$f":"IF(A149=\"\",0,IF(VLOOKUP(Wedstrijdschema!A149,Leden!$B$3:$J$22,8,FALSE)=-1,1,IF(VLOOKUP(Wedstrijdschema!B149,Leden!$B$3:$J$22,8,FALSE)=-1,1,0)))","v":0},{"$f":"IF(A149=\"\",0,IF(VLOOKUP(Wedstrijdschema!A149,Leden!$B$3:$S$22,18,FALSE)=\"nee\",1,IF(VLOOKUP(Wedstrijdschema!B149,Leden!$B$3:$S$22,18,FALSE)=\"nee\",1,0)))","v":0}]
[{"$f":"IF(ISERROR(VLOOKUP(+Wedstrijdschema!A150,Wedstrijdoverzicht!$A$2:$B$21,2,FALSE)),\"\",VLOOKUP(+Wedstrijdschema!A150,Wedstrijdoverzicht!$A$2:$B$21,2,FALSE))","v":""}," - ",{"$f":"IF(ISERROR(VLOOKUP(+Wedstrijdschema!B150,Wedstrijdoverzicht!$A$2:$B$21,2,FALSE)),\"\",VLOOKUP(+Wedstrijdschema!B150,Wedstrijdoverzicht!$A$2:$B$21,2,FALSE))","v":""},{"$f":"IF(A150=\"\",\"\",IF(H150=1,VLOOKUP(I150,Werk1!$V$2:$W$191,2,FALSE),0)+J150+K150)","v":""},null,null,null,0,{"$f":"Wedstrijdschema!A150&\"-\"&Wedstrijdschema!B150","v":{"$error":"#VALUE!"}},{"$f":"IF(A150=\"\",0,IF(VLOOKUP(Wedstrijdschema!A150,Leden!$B$3:$J$22,8,FALSE)=-1,1,IF(VLOOKUP(Wedstrijdschema!B150,Leden!$B$3:$J$22,8,FALSE)=-1,1,0)))","v":0},{"$f":"IF(A150=\"\",0,IF(VLOOKUP(Wedstrijdschema!A150,Leden!$B$3:$S$22,18,FALSE)=\"nee\",1,IF(VLOOKUP(Wedstrijdschema!B150,Leden!$B$3:$S$22,18,FALSE)=\"nee\",1,0)))","v":0}]
[{"$f":"IF(ISERROR(VLOOKUP(+Wedstrijdschema!A151,Wedstrijdoverzicht!$A$2:$B$21,2,FALSE)),\"\",VLOOKUP(+Wedstrijdschema!A151,Wedstrijdoverzicht!$A$2:$B$21,2,FALSE))","v":""}," - ",{"$f":"IF(ISERROR(VLOOKUP(+Wedstrijdschema!B151,Wedstrijdoverzicht!$A$2:$B$21,2,FALSE)),\"\",VLOOKUP(+Wedstrijdschema!B151,Wedstrijdoverzicht!$A$2:$B$21,2,FALSE))","v":""},{"$f":"IF(A151=\"\",\"\",IF(H151=1,VLOOKUP(I151,Werk1!$V$2:$W$191,2,FALSE),0)+J151+K151)","v":""},null,null,null,0,{"$f":"Wedstrijdschema!A151&\"-\"&Wedstrijdschema!B151","v":{"$error":"#VALUE!"}},{"$f":"IF(A151=\"\",0,IF(VLOOKUP(Wedstrijdschema!A151,Leden!$B$3:$J$22,8,FALSE)=-1,1,IF(VLOOKUP(Wedstrijdschema!B151,Leden!$B$3:$J$22,8,FALSE)=-1,1,0)))","v":0},{"$f":"IF(A151=\"\",0,IF(VLOOKUP(Wedstrijdschema!A151,Leden!$B$3:$S$22,18,FALSE)=\"nee\",1,IF(VLOOKUP(Wedstrijdschema!B151,Leden!$B$3:$S$22,18,FALSE)=\"nee\",1,0)))","v":0}]
[{"$f":"IF(ISERROR(VLOOKUP(+Wedstrijdschema!A152,Wedstrijdoverzicht!$A$2:$B$21,2,FALSE)),\"\",VLOOKUP(+Wedstrijdschema!A152,Wedstrijdoverzicht!$A$2:$B$21,2,FALSE))","v":""}," - ",{"$f":"IF(ISERROR(VLOOKUP(+Wedstrijdschema!B152,Wedstrijdoverzicht!$A$2:$B$21,2,FALSE)),\"\",VLOOKUP(+Wedstrijdschema!B152,Wedstrijdoverzicht!$A$2:$B$21,2,FALSE))","v":""},{"$f":"IF(A152=\"\",\"\",IF(H152=1,VLOOKUP(I152,Werk1!$V$2:$W$191,2,FALSE),0)+J152+K152)","v":""},null,null,null,0,{"$f":"Wedstrijdschema!A152&\"-\"&Wedstrijdschema!B152","v":{"$error":"#VALUE!"}},{"$f":"IF(A152=\"\",0,IF(VLOOKUP(Wedstrijdschema!A152,Leden!$B$3:$J$22,8,FALSE)=-1,1,IF(VLOOKUP(Wedstrijdschema!B152,Leden!$B$3:$J$22,8,FALSE)=-1,1,0)))","v":0},{"$f":"IF(A152=\"\",0,IF(VLOOKUP(Wedstrijdschema!A152,Leden!$B$3:$S$22,18,FALSE)=\"nee\",1,IF(VLOOKUP(Wedstrijdschema!B152,Leden!$B$3:$S$22,18,FALSE)=\"nee\",1,0)))","v":0}]
[{"$f":"IF(ISERROR(VLOOKUP(+Wedstrijdschema!A153,Wedstrijdoverzicht!$A$2:$B$21,2,FALSE)),\"\",VLOOKUP(+Wedstrijdschema!A153,Wedstrijdoverzicht!$A$2:$B$21,2,FALSE))","v":""}," - ",{"$f":"IF(ISERROR(VLOOKUP(+Wedstrijdschema!B153,Wedstrijdoverzicht!$A$2:$B$21,2,FALSE)),\"\",VLOOKUP(+Wedstrijdschema!B153,Wedstrijdoverzicht!$A$2:$B$21,2,FALSE))","v":""},{"$f":"IF(A153=\"\",\"\",IF(H153=1,VLOOKUP(I153,Werk1!$V$2:$W$191,2,FALSE),0)+J153+K153)","v":""},null,null,null,0,{"$f":"Wedstrijdschema!A153&\"-\"&Wedstrijdschema!B153","v":{"$error":"#VALUE!"}},{"$f":"IF(A153=\"\",0,IF(VLOOKUP(Wedstrijdschema!A153,Leden!$B$3:$J$22,8,FALSE)=-1,1,IF(VLOOKUP(Wedstrijdschema!B153,Leden!$B$3:$J$22,8,FALSE)=-1,1,0)))","v":0},{"$f":"IF(A153=\"\",0,IF(VLOOKUP(Wedstrijdschema!A153,Leden!$B$3:$S$22,18,FALSE)=\"nee\",1,IF(VLOOKUP(Wedstrijdschema!B153,Leden!$B$3:$S$22,18,FALSE)=\"nee\",1,0)))","v":0}]
[{"$f":"IF(ISERROR(VLOOKUP(+Wedstrijdschema!A154,Wedstrijdoverzicht!$A$2:$B$21,2,FALSE)),\"\",VLOOKUP(+Wedstrijdschema!A154,Wedstrijdoverzicht!$A$2:$B$21,2,FALSE))","v":""}," - ",{"$f":"IF(ISERROR(VLOOKUP(+Wedstrijdschema!B154,Wedstrijdoverzicht!$A$2:$B$21,2,FALSE)),\"\",VLOOKUP(+Wedstrijdschema!B154,Wedstrijdoverzicht!$A$2:$B$21,2,FALSE))","v":""},{"$f":"IF(A154=\"\",\"\",IF(H154=1,VLOOKUP(I154,Werk1!$V$2:$W$191,2,FALSE),0)+J154+K154)","v":""},null,null,null,0,{"$f":"Wedstrijdschema!A154&\"-\"&Wedstrijdschema!B154","v":{"$error":"#VALUE!"}},{"$f":"IF(A154=\"\",0,IF(VLOOKUP(Wedstrijdschema!A154,Leden!$B$3:$J$22,8,FALSE)=-1,1,IF(VLOOKUP(Wedstrijdschema!B154,Leden!$B$3:$J$22,8,FALSE)=-1,1,0)))","v":0},{"$f":"IF(A154=\"\",0,IF(VLOOKUP(Wedstrijdschema!A154,Leden!$B$3:$S$22,18,FALSE)=\"nee\",1,IF(VLOOKUP(Wedstrijdschema!B154,Leden!$B$3:$S$22,18,FALSE)=\"nee\",1,0)))","v":0}]
[{"$f":"IF(ISERROR(VLOOKUP(+Wedstrijdschema!A155,Wedstrijdoverzicht!$A$2:$B$21,2,FALSE)),\"\",VLOOKUP(+Wedstrijdschema!A155,Wedstrijdoverzicht!$A$2:$B$21,2,FALSE))","v":""}," - ",{"$f":"IF(ISERROR(VLOOKUP(+Wedstrijdschema!B155,Wedstrijdoverzicht!$A$2:$B$21,2,FALSE)),\"\",VLOOKUP(+Wedstrijdschema!B155,Wedstrijdoverzicht!$A$2:$B$21,2,FALSE))","v":""},{"$f":"IF(A155=\"\",\"\",IF(H155=1,VLOOKUP(I155,Werk1!$V$2:$W$191,2,FALSE),0)+J155+K155)","v":""},null,null,null,0,{"$f":"Wedstrijdschema!A155&\"-\"&Wedstrijdschema!B155","v":{"$error":"#VALUE!"}},{"$f":"IF(A155=\"\",0,IF(VLOOKUP(Wedstrijdschema!A155,Leden!$B$3:$J$22,8,FALSE)=-1,1,IF(VLOOKUP(Wedstrijdschema!B155,Leden!$B$3:$J$22,8,FALSE)=-1,1,0)))","v":0},{"$f":"IF(A155=\"\",0,IF(VLOOKUP(Wedstrijdschema!A155,Leden!$B$3:$S$22,18,FALSE)=\"nee\",1,IF(VLOOKUP(Wedstrijdschema!B155,Leden!$B$3:$S$22,18,FALSE)=\"nee\",1,0)))","v":0}]
[{"$f":"IF(ISERROR(VLOOKUP(+Wedstrijdschema!A156,Wedstrijdoverzicht!$A$2:$B$21,2,FALSE)),\"\",VLOOKUP(+Wedstrijdschema!A156,Wedstrijdoverzicht!$A$2:$B$21,2,FALSE))","v":""}," - ",{"$f":"IF(ISERROR(VLOOKUP(+Wedstrijdschema!B156,Wedstrijdoverzicht!$A$2:$B$21,2,FALSE)),\"\",VLOOKUP(+Wedstrijdschema!B156,Wedstrijdoverzicht!$A$2:$B$21,2,FALSE))","v":""},{"$f":"IF(A156=\"\",\"\",IF(H156=1,VLOOKUP(I156,Werk1!$V$2:$W$191,2,FALSE),0)+J156+K156)","v":""},null,null,null,0,{"$f":"Wedstrijdschema!A156&\"-\"&Wedstrijdschema!B156","v":{"$error":"#VALUE!"}},{"$f":"IF(A156=\"\",0,IF(VLOOKUP(Wedstrijdschema!A156,Leden!$B$3:$J$22,8,FALSE)=-1,1,IF(VLOOKUP(Wedstrijdschema!B156,Leden!$B$3:$J$22,8,FALSE)=-1,1,0)))","v":0},{"$f":"IF(A156=\"\",0,IF(VLOOKUP(Wedstrijdschema!A156,Leden!$B$3:$S$22,18,FALSE)=\"nee\",1,IF(VLOOKUP(Wedstrijdschema!B156,Leden!$B$3:$S$22,18,FALSE)=\"nee\",1,0)))","v":0}]
[{"$f":"IF(ISERROR(VLOOKUP(+Wedstrijdschema!A157,Wedstrijdoverzicht!$A$2:$B$21,2,FALSE)),\"\",VLOOKUP(+Wedstrijdschema!A157,Wedstrijdoverzicht!$A$2:$B$21,2,FALSE))","v":""}," - ",{"$f":"IF(ISERROR(VLOOKUP(+Wedstrijdschema!B157,Wedstrijdoverzicht!$A$2:$B$21,2,FALSE)),\"\",VLOOKUP(+Wedstrijdschema!B157,Wedstrijdoverzicht!$A$2:$B$21,2,FALSE))","v":""},{"$f":"IF(A157=\"\",\"\",IF(H157=1,VLOOKUP(I157,Werk1!$V$2:$W$191,2,FALSE),0)+J157+K157)","v":""},null,null,null,0,{"$f":"Wedstrijdschema!A157&\"-\"&Wedstrijdschema!B157","v":{"$error":"#VALUE!"}},{"$f":"IF(A157=\"\",0,IF(VLOOKUP(Wedstrijdschema!A157,Leden!$B$3:$J$22,8,FALSE)=-1,1,IF(VLOOKUP(Wedstrijdschema!B157,Leden!$B$3:$J$22,8,FALSE)=-1,1,0)))","v":0},{"$f":"IF(A157=\"\",0,IF(VLOOKUP(Wedstrijdschema!A157,Leden!$B$3:$S$22,18,FALSE)=\"nee\",1,IF(VLOOKUP(Wedstrijdschema!B157,Leden!$B$3:$S$22,18,FALSE)=\"nee\",1,0)))","v":0}]
[{"$f":"IF(ISERROR(VLOOKUP(+Wedstrijdschema!A158,Wedstrijdoverzicht!$A$2:$B$21,2,FALSE)),\"\",VLOOKUP(+Wedstrijdschema!A158,Wedstrijdoverzicht!$A$2:$B$21,2,FALSE))","v":""}," - ",{"$f":"IF(ISERROR(VLOOKUP(+Wedstrijdschema!B158,Wedstrijdoverzicht!$A$2:$B$21,2,FALSE)),\"\",VLOOKUP(+Wedstrijdschema!B158,Wedstrijdoverzicht!$A$2:$B$21,2,FALSE))","v":""},{"$f":"IF(A158=\"\",\"\",IF(H158=1,VLOOKUP(I158,Werk1!$V$2:$W$191,2,FALSE),0)+J158+K158)","v":""},null,null,null,0,{"$f":"Wedstrijdschema!A158&\"-\"&Wedstrijdschema!B158","v":{"$error":"#VALUE!"}},{"$f":"IF(A158=\"\",0,IF(VLOOKUP(Wedstrijdschema!A158,Leden!$B$3:$J$22,8,FALSE)=-1,1,IF(VLOOKUP(Wedstrijdschema!B158,Leden!$B$3:$J$22,8,FALSE)=-1,1,0)))","v":0},{"$f":"IF(A158=\"\",0,IF(VLOOKUP(Wedstrijdschema!A158,Leden!$B$3:$S$22,18,FALSE)=\"nee\",1,IF(VLOOKUP(Wedstrijdschema!B158,Leden!$B$3:$S$22,18,FALSE)=\"nee\",1,0)))","v":0}]
[{"$f":"IF(ISERROR(VLOOKUP(+Wedstrijdschema!A159,Wedstrijdoverzicht!$A$2:$B$21,2,FALSE)),\"\",VLOOKUP(+Wedstrijdschema!A159,Wedstrijdoverzicht!$A$2:$B$21,2,FALSE))","v":""}," - ",{"$f":"IF(ISERROR(VLOOKUP(+Wedstrijdschema!B159,Wedstrijdoverzicht!$A$2:$B$21,2,FALSE)),\"\",VLOOKUP(+Wedstrijdschema!B159,Wedstrijdoverzicht!$A$2:$B$21,2,FALSE))","v":""},{"$f":"IF(A159=\"\",\"\",IF(H159=1,VLOOKUP(I159,Werk1!$V$2:$W$191,2,FALSE),0)+J159+K159)","v":""},null,null,null,0,{"$f":"Wedstrijdschema!A159&\"-\"&Wedstrijdschema!B159","v":{"$error":"#VALUE!"}},{"$f":"IF(A159=\"\",0,IF(VLOOKUP(Wedstrijdschema!A159,Leden!$B$3:$J$22,8,FALSE)=-1,1,IF(VLOOKUP(Wedstrijdschema!B159,Leden!$B$3:$J$22,8,FALSE)=-1,1,0)))","v":0},{"$f":"IF(A159=\"\",0,IF(VLOOKUP(Wedstrijdschema!A159,Leden!$B$3:$S$22,18,FALSE)=\"nee\",1,IF(VLOOKUP(Wedstrijdschema!B159,Leden!$B$3:$S$22,18,FALSE)=\"nee\",1,0)))","v":0}]
[{"$f":"IF(ISERROR(VLOOKUP(+Wedstrijdschema!A160,Wedstrijdoverzicht!$A$2:$B$21,2,FALSE)),\"\",VLOOKUP(+Wedstrijdschema!A160,Wedstrijdoverzicht!$A$2:$B$21,2,FALSE))","v":""}," - ",{"$f":"IF(ISERROR(VLOOKUP(+Wedstrijdschema!B160,Wedstrijdoverzicht!$A$2:$B$21,2,FALSE)),\"\",VLOOKUP(+Wedstrijdschema!B160,Wedstrijdoverzicht!$A$2:$B$21,2,FALSE))","v":""},{"$f":"IF(A160=\"\",\"\",IF(H160=1,VLOOKUP(I160,Werk1!$V$2:$W$191,2,FALSE),0)+J160+K160)","v":""},null,null,null,0,{"$f":"Wedstrijdschema!A160&\"-\"&Wedstrijdschema!B160","v":{"$error":"#VALUE!"}},{"$f":"IF(A160=\"\",0,IF(VLOOKUP(Wedstrijdschema!A160,Leden!$B$3:$J$22,8,FALSE)=-1,1,IF(VLOOKUP(Wedstrijdschema!B160,Leden!$B$3:$J$22,8,FALSE)=-1,1,0)))","v":0},{"$f":"IF(A160=\"\",0,IF(VLOOKUP(Wedstrijdschema!A160,Leden!$B$3:$S$22,18,FALSE)=\"nee\",1,IF(VLOOKUP(Wedstrijdschema!B160,Leden!$B$3:$S$22,18,FALSE)=\"nee\",1,0)))","v":0}]
[{"$f":"IF(ISERROR(VLOOKUP(+Wedstrijdschema!A161,Wedstrijdoverzicht!$A$2:$B$21,2,FALSE)),\"\",VLOOKUP(+Wedstrijdschema!A161,Wedstrijdoverzicht!$A$2:$B$21,2,FALSE))","v":""}," - ",{"$f":"IF(ISERROR(VLOOKUP(+Wedstrijdschema!B161,Wedstrijdoverzicht!$A$2:$B$21,2,FALSE)),\"\",VLOOKUP(+Wedstrijdschema!B161,Wedstrijdoverzicht!$A$2:$B$21,2,FALSE))","v":""},{"$f":"IF(A161=\"\",\"\",IF(H161=1,VLOOKUP(I161,Werk1!$V$2:$W$191,2,FALSE),0)+J161+K161)","v":""},null,null,null,0,{"$f":"Wedstrijdschema!A161&\"-\"&Wedstrijdschema!B161","v":{"$error":"#VALUE!"}},{"$f":"IF(A161=\"\",0,IF(VLOOKUP(Wedstrijdschema!A161,Leden!$B$3:$J$22,8,FALSE)=-1,1,IF(VLOOKUP(Wedstrijdschema!B161,Leden!$B$3:$J$22,8,FALSE)=-1,1,0)))","v":0},{"$f":"IF(A161=\"\",0,IF(VLOOKUP(Wedstrijdschema!A161,Leden!$B$3:$S$22,18,FALSE)=\"nee\",1,IF(VLOOKUP(Wedstrijdschema!B161,Leden!$B$3:$S$22,18,FALSE)=\"nee\",1,0)))","v":0}]
[{"$f":"IF(ISERROR(VLOOKUP(+Wedstrijdschema!A162,Wedstrijdoverzicht!$A$2:$B$21,2,FALSE)),\"\",VLOOKUP(+Wedstrijdschema!A162,Wedstrijdoverzicht!$A$2:$B$21,2,FALSE))","v":""}," - ",{"$f":"IF(ISERROR(VLOOKUP(+Wedstrijdschema!B162,Wedstrijdoverzicht!$A$2:$B$21,2,FALSE)),\"\",VLOOKUP(+Wedstrijdschema!B162,Wedstrijdoverzicht!$A$2:$B$21,2,FALSE))","v":""},{"$f":"IF(A162=\"\",\"\",IF(H162=1,VLOOKUP(I162,Werk1!$V$2:$W$191,2,FALSE),0)+J162+K162)","v":""},null,null,null,0,{"$f":"Wedstrijdschema!A162&\"-\"&Wedstrijdschema!B162","v":{"$error":"#VALUE!"}},{"$f":"IF(A162=\"\",0,IF(VLOOKUP(Wedstrijdschema!A162,Leden!$B$3:$J$22,8,FALSE)=-1,1,IF(VLOOKUP(Wedstrijdschema!B162,Leden!$B$3:$J$22,8,FALSE)=-1,1,0)))","v":0},{"$f":"IF(A162=\"\",0,IF(VLOOKUP(Wedstrijdschema!A162,Leden!$B$3:$S$22,18,FALSE)=\"nee\",1,IF(VLOOKUP(Wedstrijdschema!B162,Leden!$B$3:$S$22,18,FALSE)=\"nee\",1,0)))","v":0}]
[{"$f":"IF(ISERROR(VLOOKUP(+Wedstrijdschema!A163,Wedstrijdoverzicht!$A$2:$B$21,2,FALSE)),\"\",VLOOKUP(+Wedstrijdschema!A163,Wedstrijdoverzicht!$A$2:$B$21,2,FALSE))","v":""}," - ",{"$f":"IF(ISERROR(VLOOKUP(+Wedstrijdschema!B163,Wedstrijdoverzicht!$A$2:$B$21,2,FALSE)),\"\",VLOOKUP(+Wedstrijdschema!B163,Wedstrijdoverzicht!$A$2:$B$21,2,FALSE))","v":""},{"$f":"IF(A163=\"\",\"\",IF(H163=1,VLOOKUP(I163,Werk1!$V$2:$W$191,2,FALSE),0)+J163+K163)","v":""},null,null,null,0,{"$f":"Wedstrijdschema!A163&\"-\"&Wedstrijdschema!B163","v":{"$error":"#VALUE!"}},{"$f":"IF(A163=\"\",0,IF(VLOOKUP(Wedstrijdschema!A163,Leden!$B$3:$J$22,8,FALSE)=-1,1,IF(VLOOKUP(Wedstrijdschema!B163,Leden!$B$3:$J$22,8,FALSE)=-1,1,0)))","v":0},{"$f":"IF(A163=\"\",0,IF(VLOOKUP(Wedstrijdschema!A163,Leden!$B$3:$S$22,18,FALSE)=\"nee\",1,IF(VLOOKUP(Wedstrijdschema!B163,Leden!$B$3:$S$22,18,FALSE)=\"nee\",1,0)))","v":0}]
[{"$f":"IF(ISERROR(VLOOKUP(+Wedstrijdschema!A164,Wedstrijdoverzicht!$A$2:$B$21,2,FALSE)),\"\",VLOOKUP(+Wedstrijdschema!A164,Wedstrijdoverzicht!$A$2:$B$21,2,FALSE))","v":""}," - ",{"$f":"IF(ISERROR(VLOOKUP(+Wedstrijdschema!B164,Wedstrijdoverzicht!$A$2:$B$21,2,FALSE)),\"\",VLOOKUP(+Wedstrijdschema!B164,Wedstrijdoverzicht!$A$2:$B$21,2,FALSE))","v":""},{"$f":"IF(A164=\"\",\"\",IF(H164=1,VLOOKUP(I164,Werk1!$V$2:$W$191,2,FALSE),0)+J164+K164)","v":""},null,null,null,0,{"$f":"Wedstrijdschema!A164&\"-\"&Wedstrijdschema!B164","v":{"$error":"#VALUE!"}},{"$f":"IF(A164=\"\",0,IF(VLOOKUP(Wedstrijdschema!A164,Leden!$B$3:$J$22,8,FALSE)=-1,1,IF(VLOOKUP(Wedstrijdschema!B164,Leden!$B$3:$J$22,8,FALSE)=-1,1,0)))","v":0},{"$f":"IF(A164=\"\",0,IF(VLOOKUP(Wedstrijdschema!A164,Leden!$B$3:$S$22,18,FALSE)=\"nee\",1,IF(VLOOKUP(Wedstrijdschema!B164,Leden!$B$3:$S$22,18,FALSE)=\"nee\",1,0)))","v":0}]
[{"$f":"IF(ISERROR(VLOOKUP(+Wedstrijdschema!A165,Wedstrijdoverzicht!$A$2:$B$21,2,FALSE)),\"\",VLOOKUP(+Wedstrijdschema!A165,Wedstrijdoverzicht!$A$2:$B$21,2,FALSE))","v":""}," - ",{"$f":"IF(ISERROR(VLOOKUP(+Wedstrijdschema!B165,Wedstrijdoverzicht!$A$2:$B$21,2,FALSE)),\"\",VLOOKUP(+Wedstrijdschema!B165,Wedstrijdoverzicht!$A$2:$B$21,2,FALSE))","v":""},{"$f":"IF(A165=\"\",\"\",IF(H165=1,VLOOKUP(I165,Werk1!$V$2:$W$191,2,FALSE),0)+J165+K165)","v":""},null,null,null,0,{"$f":"Wedstrijdschema!A165&\"-\"&Wedstrijdschema!B165","v":{"$error":"#VALUE!"}},{"$f":"IF(A165=\"\",0,IF(VLOOKUP(Wedstrijdschema!A165,Leden!$B$3:$J$22,8,FALSE)=-1,1,IF(VLOOKUP(Wedstrijdschema!B165,Leden!$B$3:$J$22,8,FALSE)=-1,1,0)))","v":0},{"$f":"IF(A165=\"\",0,IF(VLOOKUP(Wedstrijdschema!A165,Leden!$B$3:$S$22,18,FALSE)=\"nee\",1,IF(VLOOKUP(Wedstrijdschema!B165,Leden!$B$3:$S$22,18,FALSE)=\"nee\",1,0)))","v":0}]
[{"$f":"IF(ISERROR(VLOOKUP(+Wedstrijdschema!A166,Wedstrijdoverzicht!$A$2:$B$21,2,FALSE)),\"\",VLOOKUP(+Wedstrijdschema!A166,Wedstrijdoverzicht!$A$2:$B$21,2,FALSE))","v":""}," - ",{"$f":"IF(ISERROR(VLOOKUP(+Wedstrijdschema!B166,Wedstrijdoverzicht!$A$2:$B$21,2,FALSE)),\"\",VLOOKUP(+Wedstrijdschema!B166,Wedstrijdoverzicht!$A$2:$B$21,2,FALSE))","v":""},{"$f":"IF(A166=\"\",\"\",IF(H166=1,VLOOKUP(I166,Werk1!$V$2:$W$191,2,FALSE),0)+J166+K166)","v":""},null,null,null,0,{"$f":"Wedstrijdschema!A166&\"-\"&Wedstrijdschema!B166","v":{"$error":"#VALUE!"}},{"$f":"IF(A166=\"\",0,IF(VLOOKUP(Wedstrijdschema!A166,Leden!$B$3:$J$22,8,FALSE)=-1,1,IF(VLOOKUP(Wedstrijdschema!B166,Leden!$B$3:$J$22,8,FALSE)=-1,1,0)))","v":0},{"$f":"IF(A166=\"\",0,IF(VLOOKUP(Wedstrijdschema!A166,Leden!$B$3:$S$22,18,FALSE)=\"nee\",1,IF(VLOOKUP(Wedstrijdschema!B166,Leden!$B$3:$S$22,18,FALSE)=\"nee\",1,0)))","v":0}]
[{"$f":"IF(ISERROR(VLOOKUP(+Wedstrijdschema!A167,Wedstrijdoverzicht!$A$2:$B$21,2,FALSE)),\"\",VLOOKUP(+Wedstrijdschema!A167,Wedstrijdoverzicht!$A$2:$B$21,2,FALSE))","v":""}," - ",{"$f":"IF(ISERROR(VLOOKUP(+Wedstrijdschema!B167,Wedstrijdoverzicht!$A$2:$B$21,2,FALSE)),\"\",VLOOKUP(+Wedstrijdschema!B167,Wedstrijdoverzicht!$A$2:$B$21,2,FALSE))","v":""},{"$f":"IF(A167=\"\",\"\",IF(H167=1,VLOOKUP(I167,Werk1!$V$2:$W$191,2,FALSE),0)+J167+K167)","v":""},null,null,null,0,{"$f":"Wedstrijdschema!A167&\"-\"&Wedstrijdschema!B167","v":{"$error":"#VALUE!"}},{"$f":"IF(A167=\"\",0,IF(VLOOKUP(Wedstrijdschema!A167,Leden!$B$3:$J$22,8,FALSE)=-1,1,IF(VLOOKUP(Wedstrijdschema!B167,Leden!$B$3:$J$22,8,FALSE)=-1,1,0)))","v":0},{"$f":"IF(A167=\"\",0,IF(VLOOKUP(Wedstrijdschema!A167,Leden!$B$3:$S$22,18,FALSE)=\"nee\",1,IF(VLOOKUP(Wedstrijdschema!B167,Leden!$B$3:$S$22,18,FALSE)=\"nee\",1,0)))","v":0}]
[{"$f":"IF(ISERROR(VLOOKUP(+Wedstrijdschema!A168,Wedstrijdoverzicht!$A$2:$B$21,2,FALSE)),\"\",VLOOKUP(+Wedstrijdschema!A168,Wedstrijdoverzicht!$A$2:$B$21,2,FALSE))","v":""}," - ",{"$f":"IF(ISERROR(VLOOKUP(+Wedstrijdschema!B168,Wedstrijdoverzicht!$A$2:$B$21,2,FALSE)),\"\",VLOOKUP(+Wedstrijdschema!B168,Wedstrijdoverzicht!$A$2:$B$21,2,FALSE))","v":""},{"$f":"IF(A168=\"\",\"\",IF(H168=1,VLOOKUP(I168,Werk1!$V$2:$W$191,2,FALSE),0)+J168+K168)","v":""},null,null,null,0,{"$f":"Wedstrijdschema!A168&\"-\"&Wedstrijdschema!B168","v":{"$error":"#VALUE!"}},{"$f":"IF(A168=\"\",0,IF(VLOOKUP(Wedstrijdschema!A168,Leden!$B$3:$J$22,8,FALSE)=-1,1,IF(VLOOKUP(Wedstrijdschema!B168,Leden!$B$3:$J$22,8,FALSE)=-1,1,0)))","v":0},{"$f":"IF(A168=\"\",0,IF(VLOOKUP(Wedstrijdschema!A168,Leden!$B$3:$S$22,18,FALSE)=\"nee\",1,IF(VLOOKUP(Wedstrijdschema!B168,Leden!$B$3:$S$22,18,FALSE)=\"nee\",1,0)))","v":0}]
[{"$f":"IF(ISERROR(VLOOKUP(+Wedstrijdschema!A169,Wedstrijdoverzicht!$A$2:$B$21,2,FALSE)),\"\",VLOOKUP(+Wedstrijdschema!A169,Wedstrijdoverzicht!$A$2:$B$21,2,FALSE))","v":""}," - ",{"$f":"IF(ISERROR(VLOOKUP(+Wedstrijdschema!B169,Wedstrijdoverzicht!$A$2:$B$21,2,FALSE)),\"\",VLOOKUP(+Wedstrijdschema!B169,Wedstrijdoverzicht!$A$2:$B$21,2,FALSE))","v":""},{"$f":"IF(A169=\"\",\"\",IF(H169=1,VLOOKUP(I169,Werk1!$V$2:$W$191,2,FALSE),0)+J169+K169)","v":""},null,null,null,0,{"$f":"Wedstrijdschema!A169&\"-\"&Wedstrijdschema!B169","v":{"$error":"#VALUE!"}},{"$f":"IF(A169=\"\",0,IF(VLOOKUP(Wedstrijdschema!A169,Leden!$B$3:$J$22,8,FALSE)=-1,1,IF(VLOOKUP(Wedstrijdschema!B169,Leden!$B$3:$J$22,8,FALSE)=-1,1,0)))","v":0},{"$f":"IF(A169=\"\",0,IF(VLOOKUP(Wedstrijdschema!A169,Leden!$B$3:$S$22,18,FALSE)=\"nee\",1,IF(VLOOKUP(Wedstrijdschema!B169,Leden!$B$3:$S$22,18,FALSE)=\"nee\",1,0)))","v":0}]
[{"$f":"IF(ISERROR(VLOOKUP(+Wedstrijdschema!A170,Wedstrijdoverzicht!$A$2:$B$21,2,FALSE)),\"\",VLOOKUP(+Wedstrijdschema!A170,Wedstrijdoverzicht!$A$2:$B$21,2,FALSE))","v":""}," - ",{"$f":"IF(ISERROR(VLOOKUP(+Wedstrijdschema!B170,Wedstrijdoverzicht!$A$2:$B$21,2,FALSE)),\"\",VLOOKUP(+Wedstrijdschema!B170,Wedstrijdoverzicht!$A$2:$B$21,2,FALSE))","v":""},{"$f":"IF(A170=\"\",\"\",IF(H170=1,VLOOKUP(I170,Werk1!$V$2:$W$191,2,FALSE),0)+J170+K170)","v":""},null,null,null,0,{"$f":"Wedstrijdschema!A170&\"-\"&Wedstrijdschema!B170","v":{"$error":"#VALUE!"}},{"$f":"IF(A170=\"\",0,IF(VLOOKUP(Wedstrijdschema!A170,Leden!$B$3:$J$22,8,FALSE)=-1,1,IF(VLOOKUP(Wedstrijdschema!B170,Leden!$B$3:$J$22,8,FALSE)=-1,1,0)))","v":0},{"$f":"IF(A170=\"\",0,IF(VLOOKUP(Wedstrijdschema!A170,Leden!$B$3:$S$22,18,FALSE)=\"nee\",1,IF(VLOOKUP(Wedstrijdschema!B170,Leden!$B$3:$S$22,18,FALSE)=\"nee\",1,0)))","v":0}]
[{"$f":"IF(ISERROR(VLOOKUP(+Wedstrijdschema!A171,Wedstrijdoverzicht!$A$2:$B$21,2,FALSE)),\"\",VLOOKUP(+Wedstrijdschema!A171,Wedstrijdoverzicht!$A$2:$B$21,2,FALSE))","v":""}," - ",{"$f":"IF(ISERROR(VLOOKUP(+Wedstrijdschema!B171,Wedstrijdoverzicht!$A$2:$B$21,2,FALSE)),\"\",VLOOKUP(+Wedstrijdschema!B171,Wedstrijdoverzicht!$A$2:$B$21,2,FALSE))","v":""},{"$f":"IF(A171=\"\",\"\",IF(H171=1,VLOOKUP(I171,Werk1!$V$2:$W$191,2,FALSE),0)+J171+K171)","v":""},null,null,null,0,{"$f":"Wedstrijdschema!A171&\"-\"&Wedstrijdschema!B171","v":{"$error":"#VALUE!"}},{"$f":"IF(A171=\"\",0,IF(VLOOKUP(Wedstrijdschema!A171,Leden!$B$3:$J$22,8,FALSE)=-1,1,IF(VLOOKUP(Wedstrijdschema!B171,Leden!$B$3:$J$22,8,FALSE)=-1,1,0)))","v":0},{"$f":"IF(A171=\"\",0,IF(VLOOKUP(Wedstrijdschema!A171,Leden!$B$3:$S$22,18,FALSE)=\"nee\",1,IF(VLOOKUP(Wedstrijdschema!B171,Leden!$B$3:$S$22,18,FALSE)=\"nee\",1,0)))","v":0}]
[{"$f":"IF(ISERROR(VLOOKUP(+Wedstrijdschema!A172,Wedstrijdoverzicht!$A$2:$B$21,2,FALSE)),\"\",VLOOKUP(+Wedstrijdschema!A172,Wedstrijdoverzicht!$A$2:$B$21,2,FALSE))","v":""}," - ",{"$f":"IF(ISERROR(VLOOKUP(+Wedstrijdschema!B172,Wedstrijdoverzicht!$A$2:$B$21,2,FALSE)),\"\",VLOOKUP(+Wedstrijdschema!B172,Wedstrijdoverzicht!$A$2:$B$21,2,FALSE))","v":""},{"$f":"IF(A172=\"\",\"\",IF(H172=1,VLOOKUP(I172,Werk1!$V$2:$W$191,2,FALSE),0)+J172+K172)","v":""},null,null,null,0,{"$f":"Wedstrijdschema!A172&\"-\"&Wedstrijdschema!B172","v":{"$error":"#VALUE!"}},{"$f":"IF(A172=\"\",0,IF(VLOOKUP(Wedstrijdschema!A172,Leden!$B$3:$J$22,8,FALSE)=-1,1,IF(VLOOKUP(Wedstrijdschema!B172,Leden!$B$3:$J$22,8,FALSE)=-1,1,0)))","v":0},{"$f":"IF(A172=\"\",0,IF(VLOOKUP(Wedstrijdschema!A172,Leden!$B$3:$S$22,18,FALSE)=\"nee\",1,IF(VLOOKUP(Wedstrijdschema!B172,Leden!$B$3:$S$22,18,FALSE)=\"nee\",1,0)))","v":0}]
[{"$f":"IF(ISERROR(VLOOKUP(+Wedstrijdschema!A173,Wedstrijdoverzicht!$A$2:$B$21,2,FALSE)),\"\",VLOOKUP(+Wedstrijdschema!A173,Wedstrijdoverzicht!$A$2:$B$21,2,FALSE))","v":""}," - ",{"$f":"IF(ISERROR(VLOOKUP(+Wedstrijdschema!B173,Wedstrijdoverzicht!$A$2:$B$21,2,FALSE)),\"\",VLOOKUP(+Wedstrijdschema!B173,Wedstrijdoverzicht!$A$2:$B$21,2,FALSE))","v":""},{"$f":"IF(A173=\"\",\"\",IF(H173=1,VLOOKUP(I173,Werk1!$V$2:$W$191,2,FALSE),0)+J173+K173)","v":""},null,null,null,0,{"$f":"Wedstrijdschema!A173&\"-\"&Wedstrijdschema!B173","v":{"$error":"#VALUE!"}},{"$f":"IF(A173=\"\",0,IF(VLOOKUP(Wedstrijdschema!A173,Leden!$B$3:$J$22,8,FALSE)=-1,1,IF(VLOOKUP(Wedstrijdschema!B173,Leden!$B$3:$J$22,8,FALSE)=-1,1,0)))","v":0},{"$f":"IF(A173=\"\",0,IF(VLOOKUP(Wedstrijdschema!A173,Leden!$B$3:$S$22,18,FALSE)=\"nee\",1,IF(VLOOKUP(Wedstrijdschema!B173,Leden!$B$3:$S$22,18,FALSE)=\"nee\",1,0)))","v":0}]
[{"$f":"IF(ISERROR(VLOOKUP(+Wedstrijdschema!A174,Wedstrijdoverzicht!$A$2:$B$21,2,FALSE)),\"\",VLOOKUP(+Wedstrijdschema!A174,Wedstrijdoverzicht!$A$2:$B$21,2,FALSE))","v":""}," - ",{"$f":"IF(ISERROR(VLOOKUP(+Wedstrijdschema!B174,Wedstrijdoverzicht!$A$2:$B$21,2,FALSE)),\"\",VLOOKUP(+Wedstrijdschema!B174,Wedstrijdoverzicht!$A$2:$B$21,2,FALSE))","v":""},{"$f":"IF(A174=\"\",\"\",IF(H174=1,VLOOKUP(I174,Werk1!$V$2:$W$191,2,FALSE),0)+J174+K174)","v":""},null,null,null,0,{"$f":"Wedstrijdschema!A174&\"-\"&Wedstrijdschema!B174","v":{"$error":"#VALUE!"}},{"$f":"IF(A174=\"\",0,IF(VLOOKUP(Wedstrijdschema!A174,Leden!$B$3:$J$22,8,FALSE)=-1,1,IF(VLOOKUP(Wedstrijdschema!B174,Leden!$B$3:$J$22,8,FALSE)=-1,1,0)))","v":0},{"$f":"IF(A174=\"\",0,IF(VLOOKUP(Wedstrijdschema!A174,Leden!$B$3:$S$22,18,FALSE)=\"nee\",1,IF(VLOOKUP(Wedstrijdschema!B174,Leden!$B$3:$S$22,18,FALSE)=\"nee\",1,0)))","v":0}]
[{"$f":"IF(ISERROR(VLOOKUP(+Wedstrijdschema!A175,Wedstrijdoverzicht!$A$2:$B$21,2,FALSE)),\"\",VLOOKUP(+Wedstrijdschema!A175,Wedstrijdoverzicht!$A$2:$B$21,2,FALSE))","v":""}," - ",{"$f":"IF(ISERROR(VLOOKUP(+Wedstrijdschema!B175,Wedstrijdoverzicht!$A$2:$B$21,2,FALSE)),\"\",VLOOKUP(+Wedstrijdschema!B175,Wedstrijdoverzicht!$A$2:$B$21,2,FALSE))","v":""},{"$f":"IF(A175=\"\",\"\",IF(H175=1,VLOOKUP(I175,Werk1!$V$2:$W$191,2,FALSE),0)+J175+K175)","v":""},null,null,null,0,{"$f":"Wedstrijdschema!A175&\"-\"&Wedstrijdschema!B175","v":{"$error":"#VALUE!"}},{"$f":"IF(A175=\"\",0,IF(VLOOKUP(Wedstrijdschema!A175,Leden!$B$3:$J$22,8,FALSE)=-1,1,IF(VLOOKUP(Wedstrijdschema!B175,Leden!$B$3:$J$22,8,FALSE)=-1,1,0)))","v":0},{"$f":"IF(A175=\"\",0,IF(VLOOKUP(Wedstrijdschema!A175,Leden!$B$3:$S$22,18,FALSE)=\"nee\",1,IF(VLOOKUP(Wedstrijdschema!B175,Leden!$B$3:$S$22,18,FALSE)=\"nee\",1,0)))","v":0}]
[{"$f":"IF(ISERROR(VLOOKUP(+Wedstrijdschema!A176,Wedstrijdoverzicht!$A$2:$B$21,2,FALSE)),\"\",VLOOKUP(+Wedstrijdschema!A176,Wedstrijdoverzicht!$A$2:$B$21,2,FALSE))","v":""}," - ",{"$f":"IF(ISERROR(VLOOKUP(+Wedstrijdschema!B176,Wedstrijdoverzicht!$A$2:$B$21,2,FALSE)),\"\",VLOOKUP(+Wedstrijdschema!B176,Wedstrijdoverzicht!$A$2:$B$21,2,FALSE))","v":""},{"$f":"IF(A176=\"\",\"\",IF(H176=1,VLOOKUP(I176,Werk1!$V$2:$W$191,2,FALSE),0)+J176+K176)","v":""},null,null,null,0,{"$f":"Wedstrijdschema!A176&\"-\"&Wedstrijdschema!B176","v":{"$error":"#VALUE!"}},{"$f":"IF(A176=\"\",0,IF(VLOOKUP(Wedstrijdschema!A176,Leden!$B$3:$J$22,8,FALSE)=-1,1,IF(VLOOKUP(Wedstrijdschema!B176,Leden!$B$3:$J$22,8,FALSE)=-1,1,0)))","v":0},{"$f":"IF(A176=\"\",0,IF(VLOOKUP(Wedstrijdschema!A176,Leden!$B$3:$S$22,18,FALSE)=\"nee\",1,IF(VLOOKUP(Wedstrijdschema!B176,Leden!$B$3:$S$22,18,FALSE)=\"nee\",1,0)))","v":0}]
[{"$f":"IF(ISERROR(VLOOKUP(+Wedstrijdschema!A177,Wedstrijdoverzicht!$A$2:$B$21,2,FALSE)),\"\",VLOOKUP(+Wedstrijdschema!A177,Wedstrijdoverzicht!$A$2:$B$21,2,FALSE))","v":""}," - ",{"$f":"IF(ISERROR(VLOOKUP(+Wedstrijdschema!B177,Wedstrijdoverzicht!$A$2:$B$21,2,FALSE)),\"\",VLOOKUP(+Wedstrijdschema!B177,Wedstrijdoverzicht!$A$2:$B$21,2,FALSE))","v":""},{"$f":"IF(A177=\"\",\"\",IF(H177=1,VLOOKUP(I177,Werk1!$V$2:$W$191,2,FALSE),0)+J177+K177)","v":""},null,null,null,0,{"$f":"Wedstrijdschema!A177&\"-\"&Wedstrijdschema!B177","v":{"$error":"#VALUE!"}},{"$f":"IF(A177=\"\",0,IF(VLOOKUP(Wedstrijdschema!A177,Leden!$B$3:$J$22,8,FALSE)=-1,1,IF(VLOOKUP(Wedstrijdschema!B177,Leden!$B$3:$J$22,8,FALSE)=-1,1,0)))","v":0},{"$f":"IF(A177=\"\",0,IF(VLOOKUP(Wedstrijdschema!A177,Leden!$B$3:$S$22,18,FALSE)=\"nee\",1,IF(VLOOKUP(Wedstrijdschema!B177,Leden!$B$3:$S$22,18,FALSE)=\"nee\",1,0)))","v":0}]
[{"$f":"IF(ISERROR(VLOOKUP(+Wedstrijdschema!A178,Wedstrijdoverzicht!$A$2:$B$21,2,FALSE)),\"\",VLOOKUP(+Wedstrijdschema!A178,Wedstrijdoverzicht!$A$2:$B$21,2,FALSE))","v":""}," - ",{"$f":"IF(ISERROR(VLOOKUP(+Wedstrijdschema!B178,Wedstrijdoverzicht!$A$2:$B$21,2,FALSE)),\"\",VLOOKUP(+Wedstrijdschema!B178,Wedstrijdoverzicht!$A$2:$B$21,2,FALSE))","v":""},{"$f":"IF(A178=\"\",\"\",IF(H178=1,VLOOKUP(I178,Werk1!$V$2:$W$191,2,FALSE),0)+J178+K178)","v":""},null,null,null,0,{"$f":"Wedstrijdschema!A178&\"-\"&Wedstrijdschema!B178","v":{"$error":"#VALUE!"}},{"$f":"IF(A178=\"\",0,IF(VLOOKUP(Wedstrijdschema!A178,Leden!$B$3:$J$22,8,FALSE)=-1,1,IF(VLOOKUP(Wedstrijdschema!B178,Leden!$B$3:$J$22,8,FALSE)=-1,1,0)))","v":0},{"$f":"IF(A178=\"\",0,IF(VLOOKUP(Wedstrijdschema!A178,Leden!$B$3:$S$22,18,FALSE)=\"nee\",1,IF(VLOOKUP(Wedstrijdschema!B178,Leden!$B$3:$S$22,18,FALSE)=\"nee\",1,0)))","v":0}]
[{"$f":"IF(ISERROR(VLOOKUP(+Wedstrijdschema!A179,Wedstrijdoverzicht!$A$2:$B$21,2,FALSE)),\"\",VLOOKUP(+Wedstrijdschema!A179,Wedstrijdoverzicht!$A$2:$B$21,2,FALSE))","v":""}," - ",{"$f":"IF(ISERROR(VLOOKUP(+Wedstrijdschema!B179,Wedstrijdoverzicht!$A$2:$B$21,2,FALSE)),\"\",VLOOKUP(+Wedstrijdschema!B179,Wedstrijdoverzicht!$A$2:$B$21,2,FALSE))","v":""},{"$f":"IF(A179=\"\",\"\",IF(H179=1,VLOOKUP(I179,Werk1!$V$2:$W$191,2,FALSE),0)+J179+K179)","v":""},null,null,null,0,{"$f":"Wedstrijdschema!A179&\"-\"&Wedstrijdschema!B179","v":{"$error":"#VALUE!"}},{"$f":"IF(A179=\"\",0,IF(VLOOKUP(Wedstrijdschema!A179,Leden!$B$3:$J$22,8,FALSE)=-1,1,IF(VLOOKUP(Wedstrijdschema!B179,Leden!$B$3:$J$22,8,FALSE)=-1,1,0)))","v":0},{"$f":"IF(A179=\"\",0,IF(VLOOKUP(Wedstrijdschema!A179,Leden!$B$3:$S$22,18,FALSE)=\"nee\",1,IF(VLOOKUP(Wedstrijdschema!B179,Leden!$B$3:$S$22,18,FALSE)=\"nee\",1,0)))","v":0}]
[{"$f":"IF(ISERROR(VLOOKUP(+Wedstrijdschema!A180,Wedstrijdoverzicht!$A$2:$B$21,2,FALSE)),\"\",VLOOKUP(+Wedstrijdschema!A180,Wedstrijdoverzicht!$A$2:$B$21,2,FALSE))","v":""}," - ",{"$f":"IF(ISERROR(VLOOKUP(+Wedstrijdschema!B180,Wedstrijdoverzicht!$A$2:$B$21,2,FALSE)),\"\",VLOOKUP(+Wedstrijdschema!B180,Wedstrijdoverzicht!$A$2:$B$21,2,FALSE))","v":""},{"$f":"IF(A180=\"\",\"\",IF(H180=1,VLOOKUP(I180,Werk1!$V$2:$W$191,2,FALSE),0)+J180+K180)","v":""},null,null,null,0,{"$f":"Wedstrijdschema!A180&\"-\"&Wedstrijdschema!B180","v":{"$error":"#VALUE!"}},{"$f":"IF(A180=\"\",0,IF(VLOOKUP(Wedstrijdschema!A180,Leden!$B$3:$J$22,8,FALSE)=-1,1,IF(VLOOKUP(Wedstrijdschema!B180,Leden!$B$3:$J$22,8,FALSE)=-1,1,0)))","v":0},{"$f":"IF(A180=\"\",0,IF(VLOOKUP(Wedstrijdschema!A180,Leden!$B$3:$S$22,18,FALSE)=\"nee\",1,IF(VLOOKUP(Wedstrijdschema!B180,Leden!$B$3:$S$22,18,FALSE)=\"nee\",1,0)))","v":0}]
[{"$f":"IF(ISERROR(VLOOKUP(+Wedstrijdschema!A181,Wedstrijdoverzicht!$A$2:$B$21,2,FALSE)),\"\",VLOOKUP(+Wedstrijdschema!A181,Wedstrijdoverzicht!$A$2:$B$21,2,FALSE))","v":""}," - ",{"$f":"IF(ISERROR(VLOOKUP(+Wedstrijdschema!B181,Wedstrijdoverzicht!$A$2:$B$21,2,FALSE)),\"\",VLOOKUP(+Wedstrijdschema!B181,Wedstrijdoverzicht!$A$2:$B$21,2,FALSE))","v":""},{"$f":"IF(A181=\"\",\"\",IF(H181=1,VLOOKUP(I181,Werk1!$V$2:$W$191,2,FALSE),0)+J181+K181)","v":""},null,null,null,0,{"$f":"Wedstrijdschema!A181&\"-\"&Wedstrijdschema!B181","v":{"$error":"#VALUE!"}},{"$f":"IF(A181=\"\",0,IF(VLOOKUP(Wedstrijdschema!A181,Leden!$B$3:$J$22,8,FALSE)=-1,1,IF(VLOOKUP(Wedstrijdschema!B181,Leden!$B$3:$J$22,8,FALSE)=-1,1,0)))","v":0},{"$f":"IF(A181=\"\",0,IF(VLOOKUP(Wedstrijdschema!A181,Leden!$B$3:$S$22,18,FALSE)=\"nee\",1,IF(VLOOKUP(Wedstrijdschema!B181,Leden!$B$3:$S$22,18,FALSE)=\"nee\",1,0)))","v":0}]
[{"$f":"IF(ISERROR(VLOOKUP(+Wedstrijdschema!A182,Wedstrijdoverzicht!$A$2:$B$21,2,FALSE)),\"\",VLOOKUP(+Wedstrijdschema!A182,Wedstrijdoverzicht!$A$2:$B$21,2,FALSE))","v":""}," - ",{"$f":"IF(ISERROR(VLOOKUP(+Wedstrijdschema!B182,Wedstrijdoverzicht!$A$2:$B$21,2,FALSE)),\"\",VLOOKUP(+Wedstrijdschema!B182,Wedstrijdoverzicht!$A$2:$B$21,2,FALSE))","v":""},{"$f":"IF(A182=\"\",\"\",IF(H182=1,VLOOKUP(I182,Werk1!$V$2:$W$191,2,FALSE),0)+J182+K182)","v":""},null,null,null,0,{"$f":"Wedstrijdschema!A182&\"-\"&Wedstrijdschema!B182","v":{"$error":"#VALUE!"}},{"$f":"IF(A182=\"\",0,IF(VLOOKUP(Wedstrijdschema!A182,Leden!$B$3:$J$22,8,FALSE)=-1,1,IF(VLOOKUP(Wedstrijdschema!B182,Leden!$B$3:$J$22,8,FALSE)=-1,1,0)))","v":0},{"$f":"IF(A182=\"\",0,IF(VLOOKUP(Wedstrijdschema!A182,Leden!$B$3:$S$22,18,FALSE)=\"nee\",1,IF(VLOOKUP(Wedstrijdschema!B182,Leden!$B$3:$S$22,18,FALSE)=\"nee\",1,0)))","v":0}]
[{"$f":"IF(ISERROR(VLOOKUP(+Wedstrijdschema!A183,Wedstrijdoverzicht!$A$2:$B$21,2,FALSE)),\"\",VLOOKUP(+Wedstrijdschema!A183,Wedstrijdoverzicht!$A$2:$B$21,2,FALSE))","v":""}," - ",{"$f":"IF(ISERROR(VLOOKUP(+Wedstrijdschema!B183,Wedstrijdoverzicht!$A$2:$B$21,2,FALSE)),\"\",VLOOKUP(+Wedstrijdschema!B183,Wedstrijdoverzicht!$A$2:$B$21,2,FALSE))","v":""},{"$f":"IF(A183=\"\",\"\",IF(H183=1,VLOOKUP(I183,Werk1!$V$2:$W$191,2,FALSE),0)+J183+K183)","v":""},null,null,null,0,{"$f":"Wedstrijdschema!A183&\"-\"&Wedstrijdschema!B183","v":{"$error":"#VALUE!"}},{"$f":"IF(A183=\"\",0,IF(VLOOKUP(Wedstrijdschema!A183,Leden!$B$3:$J$22,8,FALSE)=-1,1,IF(VLOOKUP(Wedstrijdschema!B183,Leden!$B$3:$J$22,8,FALSE)=-1,1,0)))","v":0},{"$f":"IF(A183=\"\",0,IF(VLOOKUP(Wedstrijdschema!A183,Leden!$B$3:$S$22,18,FALSE)=\"nee\",1,IF(VLOOKUP(Wedstrijdschema!B183,Leden!$B$3:$S$22,18,FALSE)=\"nee\",1,0)))","v":0}]
[{"$f":"IF(ISERROR(VLOOKUP(+Wedstrijdschema!A184,Wedstrijdoverzicht!$A$2:$B$21,2,FALSE)),\"\",VLOOKUP(+Wedstrijdschema!A184,Wedstrijdoverzicht!$A$2:$B$21,2,FALSE))","v":""}," - ",{"$f":"IF(ISERROR(VLOOKUP(+Wedstrijdschema!B184,Wedstrijdoverzicht!$A$2:$B$21,2,FALSE)),\"\",VLOOKUP(+Wedstrijdschema!B184,Wedstrijdoverzicht!$A$2:$B$21,2,FALSE))","v":""},{"$f":"IF(A184=\"\",\"\",IF(H184=1,VLOOKUP(I184,Werk1!$V$2:$W$191,2,FALSE),0)+J184+K184)","v":""},null,null,null,0,{"$f":"Wedstrijdschema!A184&\"-\"&Wedstrijdschema!B184","v":{"$error":"#VALUE!"}},{"$f":"IF(A184=\"\",0,IF(VLOOKUP(Wedstrijdschema!A184,Leden!$B$3:$J$22,8,FALSE)=-1,1,IF(VLOOKUP(Wedstrijdschema!B184,Leden!$B$3:$J$22,8,FALSE)=-1,1,0)))","v":0},{"$f":"IF(A184=\"\",0,IF(VLOOKUP(Wedstrijdschema!A184,Leden!$B$3:$S$22,18,FALSE)=\"nee\",1,IF(VLOOKUP(Wedstrijdschema!B184,Leden!$B$3:$S$22,18,FALSE)=\"nee\",1,0)))","v":0}]
[{"$f":"IF(ISERROR(VLOOKUP(+Wedstrijdschema!A185,Wedstrijdoverzicht!$A$2:$B$21,2,FALSE)),\"\",VLOOKUP(+Wedstrijdschema!A185,Wedstrijdoverzicht!$A$2:$B$21,2,FALSE))","v":""}," - ",{"$f":"IF(ISERROR(VLOOKUP(+Wedstrijdschema!B185,Wedstrijdoverzicht!$A$2:$B$21,2,FALSE)),\"\",VLOOKUP(+Wedstrijdschema!B185,Wedstrijdoverzicht!$A$2:$B$21,2,FALSE))","v":""},{"$f":"IF(A185=\"\",\"\",IF(H185=1,VLOOKUP(I185,Werk1!$V$2:$W$191,2,FALSE),0)+J185+K185)","v":""},null,null,null,0,{"$f":"Wedstrijdschema!A185&\"-\"&Wedstrijdschema!B185","v":{"$error":"#VALUE!"}},{"$f":"IF(A185=\"\",0,IF(VLOOKUP(Wedstrijdschema!A185,Leden!$B$3:$J$22,8,FALSE)=-1,1,IF(VLOOKUP(Wedstrijdschema!B185,Leden!$B$3:$J$22,8,FALSE)=-1,1,0)))","v":0},{"$f":"IF(A185=\"\",0,IF(VLOOKUP(Wedstrijdschema!A185,Leden!$B$3:$S$22,18,FALSE)=\"nee\",1,IF(VLOOKUP(Wedstrijdschema!B185,Leden!$B$3:$S$22,18,FALSE)=\"nee\",1,0)))","v":0}]
[{"$f":"IF(ISERROR(VLOOKUP(+Wedstrijdschema!A186,Wedstrijdoverzicht!$A$2:$B$21,2,FALSE)),\"\",VLOOKUP(+Wedstrijdschema!A186,Wedstrijdoverzicht!$A$2:$B$21,2,FALSE))","v":""}," - ",{"$f":"IF(ISERROR(VLOOKUP(+Wedstrijdschema!B186,Wedstrijdoverzicht!$A$2:$B$21,2,FALSE)),\"\",VLOOKUP(+Wedstrijdschema!B186,Wedstrijdoverzicht!$A$2:$B$21,2,FALSE))","v":""},{"$f":"IF(A186=\"\",\"\",IF(H186=1,VLOOKUP(I186,Werk1!$V$2:$W$191,2,FALSE),0)+J186+K186)","v":""},null,null,null,0,{"$f":"Wedstrijdschema!A186&\"-\"&Wedstrijdschema!B186","v":{"$error":"#VALUE!"}},{"$f":"IF(A186=\"\",0,IF(VLOOKUP(Wedstrijdschema!A186,Leden!$B$3:$J$22,8,FALSE)=-1,1,IF(VLOOKUP(Wedstrijdschema!B186,Leden!$B$3:$J$22,8,FALSE)=-1,1,0)))","v":0},{"$f":"IF(A186=\"\",0,IF(VLOOKUP(Wedstrijdschema!A186,Leden!$B$3:$S$22,18,FALSE)=\"nee\",1,IF(VLOOKUP(Wedstrijdschema!B186,Leden!$B$3:$S$22,18,FALSE)=\"nee\",1,0)))","v":0}]
[{"$f":"IF(ISERROR(VLOOKUP(+Wedstrijdschema!A187,Wedstrijdoverzicht!$A$2:$B$21,2,FALSE)),\"\",VLOOKUP(+Wedstrijdschema!A187,Wedstrijdoverzicht!$A$2:$B$21,2,FALSE))","v":""}," - ",{"$f":"IF(ISERROR(VLOOKUP(+Wedstrijdschema!B187,Wedstrijdoverzicht!$A$2:$B$21,2,FALSE)),\"\",VLOOKUP(+Wedstrijdschema!B187,Wedstrijdoverzicht!$A$2:$B$21,2,FALSE))","v":""},{"$f":"IF(A187=\"\",\"\",IF(H187=1,VLOOKUP(I187,Werk1!$V$2:$W$191,2,FALSE),0)+J187+K187)","v":""},null,null,null,0,{"$f":"Wedstrijdschema!A187&\"-\"&Wedstrijdschema!B187","v":{"$error":"#VALUE!"}},{"$f":"IF(A187=\"\",0,IF(VLOOKUP(Wedstrijdschema!A187,Leden!$B$3:$J$22,8,FALSE)=-1,1,IF(VLOOKUP(Wedstrijdschema!B187,Leden!$B$3:$J$22,8,FALSE)=-1,1,0)))","v":0},{"$f":"IF(A187=\"\",0,IF(VLOOKUP(Wedstrijdschema!A187,Leden!$B$3:$S$22,18,FALSE)=\"nee\",1,IF(VLOOKUP(Wedstrijdschema!B187,Leden!$B$3:$S$22,18,FALSE)=\"nee\",1,0)))","v":0}]
[{"$f":"IF(ISERROR(VLOOKUP(+Wedstrijdschema!A188,Wedstrijdoverzicht!$A$2:$B$21,2,FALSE)),\"\",VLOOKUP(+Wedstrijdschema!A188,Wedstrijdoverzicht!$A$2:$B$21,2,FALSE))","v":""}," - ",{"$f":"IF(ISERROR(VLOOKUP(+Wedstrijdschema!B188,Wedstrijdoverzicht!$A$2:$B$21,2,FALSE)),\"\",VLOOKUP(+Wedstrijdschema!B188,Wedstrijdoverzicht!$A$2:$B$21,2,FALSE))","v":""},{"$f":"IF(A188=\"\",\"\",IF(H188=1,VLOOKUP(I188,Werk1!$V$2:$W$191,2,FALSE),0)+J188+K188)","v":""},null,null,null,0,{"$f":"Wedstrijdschema!A188&\"-\"&Wedstrijdschema!B188","v":{"$error":"#VALUE!"}},{"$f":"IF(A188=\"\",0,IF(VLOOKUP(Wedstrijdschema!A188,Leden!$B$3:$J$22,8,FALSE)=-1,1,IF(VLOOKUP(Wedstrijdschema!B188,Leden!$B$3:$J$22,8,FALSE)=-1,1,0)))","v":0},{"$f":"IF(A188=\"\",0,IF(VLOOKUP(Wedstrijdschema!A188,Leden!$B$3:$S$22,18,FALSE)=\"nee\",1,IF(VLOOKUP(Wedstrijdschema!B188,Leden!$B$3:$S$22,18,FALSE)=\"nee\",1,0)))","v":0}]
[{"$f":"IF(ISERROR(VLOOKUP(+Wedstrijdschema!A189,Wedstrijdoverzicht!$A$2:$B$21,2,FALSE)),\"\",VLOOKUP(+Wedstrijdschema!A189,Wedstrijdoverzicht!$A$2:$B$21,2,FALSE))","v":""}," - ",{"$f":"IF(ISERROR(VLOOKUP(+Wedstrijdschema!B189,Wedstrijdoverzicht!$A$2:$B$21,2,FALSE)),\"\",VLOOKUP(+Wedstrijdschema!B189,Wedstrijdoverzicht!$A$2:$B$21,2,FALSE))","v":""},{"$f":"IF(A189=\"\",\"\",IF(H189=1,VLOOKUP(I189,Werk1!$V$2:$W$191,2,FALSE),0)+J189+K189)","v":""},null,null,null,0,{"$f":"Wedstrijdschema!A189&\"-\"&Wedstrijdschema!B189","v":{"$error":"#VALUE!"}},{"$f":"IF(A189=\"\",0,IF(VLOOKUP(Wedstrijdschema!A189,Leden!$B$3:$J$22,8,FALSE)=-1,1,IF(VLOOKUP(Wedstrijdschema!B189,Leden!$B$3:$J$22,8,FALSE)=-1,1,0)))","v":0},{"$f":"IF(A189=\"\",0,IF(VLOOKUP(Wedstrijdschema!A189,Leden!$B$3:$S$22,18,FALSE)=\"nee\",1,IF(VLOOKUP(Wedstrijdschema!B189,Leden!$B$3:$S$22,18,FALSE)=\"nee\",1,0)))","v":0}]
[{"$f":"IF(ISERROR(VLOOKUP(+Wedstrijdschema!A190,Wedstrijdoverzicht!$A$2:$B$21,2,FALSE)),\"\",VLOOKUP(+Wedstrijdschema!A190,Wedstrijdoverzicht!$A$2:$B$21,2,FALSE))","v":""}," - ",{"$f":"IF(ISERROR(VLOOKUP(+Wedstrijdschema!B190,Wedstrijdoverzicht!$A$2:$B$21,2,FALSE)),\"\",VLOOKUP(+Wedstrijdschema!B190,Wedstrijdoverzicht!$A$2:$B$21,2,FALSE))","v":""},{"$f":"IF(A190=\"\",\"\",IF(H190=1,VLOOKUP(I190,Werk1!$V$2:$W$191,2,FALSE),0)+J190+K190)","v":""},null,null,null,0,{"$f":"Wedstrijdschema!A190&\"-\"&Wedstrijdschema!B190","v":{"$error":"#VALUE!"}},{"$f":"IF(A190=\"\",0,IF(VLOOKUP(Wedstrijdschema!A190,Leden!$B$3:$J$22,8,FALSE)=-1,1,IF(VLOOKUP(Wedstrijdschema!B190,Leden!$B$3:$J$22,8,FALSE)=-1,1,0)))","v":0},{"$f":"IF(A190=\"\",0,IF(VLOOKUP(Wedstrijdschema!A190,Leden!$B$3:$S$22,18,FALSE)=\"nee\",1,IF(VLOOKUP(Wedstrijdschema!B190,Leden!$B$3:$S$22,18,FALSE)=\"nee\",1,0)))","v":0}]
[{"$f":"IF(ISERROR(VLOOKUP(+Wedstrijdschema!A191,Wedstrijdoverzicht!$A$2:$B$21,2,FALSE)),\"\",VLOOKUP(+Wedstrijdschema!A191,Wedstrijdoverzicht!$A$2:$B$21,2,FALSE))","v":""}," - ",{"$f":"IF(ISERROR(VLOOKUP(+Wedstrijdschema!B191,Wedstrijdoverzicht!$A$2:$B$21,2,FALSE)),\"\",VLOOKUP(+Wedstrijdschema!B191,Wedstrijdoverzicht!$A$2:$B$21,2,FALSE))","v":""},{"$f":"IF(A191=\"\",\"\",IF(H191=1,VLOOKUP(I191,Werk1!$V$2:$W$191,2,FALSE),0)+J191+K191)","v":""},null,null,null,0,{"$f":"Wedstrijdschema!A191&\"-\"&Wedstrijdschema!B191","v":{"$error":"#VALUE!"}},{"$f":"IF(A191=\"\",0,IF(VLOOKUP(Wedstrijdschema!A191,Leden!$B$3:$J$22,8,FALSE)=-1,1,IF(VLOOKUP(Wedstrijdschema!B191,Leden!$B$3:$J$22,8,FALSE)=-1,1,0)))","v":0},{"$f":"IF(A191=\"\",0,IF(VLOOKUP(Wedstrijdschema!A191,Leden!$B$3:$S$22,18,FALSE)=\"nee\",1,IF(VLOOKUP(Wedstrijdschema!B191,Leden!$B$3:$S$22,18,FALSE)=\"nee\",1,0)))","v":0}]
[{"$f":"IF(ISERROR(VLOOKUP(+Wedstrijdschema!A192,Wedstrijdoverzicht!$A$2:$B$21,2,FALSE)),\"\",VLOOKUP(+Wedstrijdschema!A192,Wedstrijdoverzicht!$A$2:$B$21,2,FALSE))","v":""}," - ",{"$f":"IF(ISERROR(VLOOKUP(+Wedstrijdschema!B192,Wedstrijdoverzicht!$A$2:$B$21,2,FALSE)),\"\",VLOOKUP(+Wedstrijdschema!B192,Wedstrijdoverzicht!$A$2:$B$21,2,FALSE))","v":""},{"$f":"IF(A192=\"\",\"\",IF(H192=1,VLOOKUP(I192,Werk1!$V$2:$W$191,2,FALSE),0)+J192+K192)","v":""},null,null,null,0,{"$f":"Wedstrijdschema!A192&\"-\"&Wedstrijdschema!B192","v":{"$error":"#VALUE!"}},{"$f":"IF(A192=\"\",0,IF(VLOOKUP(Wedstrijdschema!A192,Leden!$B$3:$J$22,8,FALSE)=-1,1,IF(VLOOKUP(Wedstrijdschema!B192,Leden!$B$3:$J$22,8,FALSE)=-1,1,0)))","v":0},{"$f":"IF(A192=\"\",0,IF(VLOOKUP(Wedstrijdschema!A192,Leden!$B$3:$S$22,18,FALSE)=\"nee\",1,IF(VLOOKUP(Wedstrijdschema!B192,Leden!$B$3:$S$22,18,FALSE)=\"nee\",1,0)))","v":0}]
[{"$f":"IF(ISERROR(VLOOKUP(+Wedstrijdschema!A193,Wedstrijdoverzicht!$A$2:$B$21,2,FALSE)),\"\",VLOOKUP(+Wedstrijdschema!A193,Wedstrijdoverzicht!$A$2:$B$21,2,FALSE))","v":""}," - ",{"$f":"IF(ISERROR(VLOOKUP(+Wedstrijdschema!B193,Wedstrijdoverzicht!$A$2:$B$21,2,FALSE)),\"\",VLOOKUP(+Wedstrijdschema!B193,Wedstrijdoverzicht!$A$2:$B$21,2,FALSE))","v":""},{"$f":"IF(A193=\"\",\"\",IF(H193=1,VLOOKUP(I193,Werk1!$V$2:$W$191,2,FALSE),0)+J193+K193)","v":""},null,null,null,0,{"$f":"Wedstrijdschema!A193&\"-\"&Wedstrijdschema!B193","v":{"$error":"#VALUE!"}},{"$f":"IF(A193=\"\",0,IF(VLOOKUP(Wedstrijdschema!A193,Leden!$B$3:$J$22,8,FALSE)=-1,1,IF(VLOOKUP(Wedstrijdschema!B193,Leden!$B$3:$J$22,8,FALSE)=-1,1,0)))","v":0},{"$f":"IF(A193=\"\",0,IF(VLOOKUP(Wedstrijdschema!A193,Leden!$B$3:$S$22,18,FALSE)=\"nee\",1,IF(VLOOKUP(Wedstrijdschema!B193,Leden!$B$3:$S$22,18,FALSE)=\"nee\",1,0)))","v":0}]
[{"$f":"IF(ISERROR(VLOOKUP(+Wedstrijdschema!A194,Wedstrijdoverzicht!$A$2:$B$21,2,FALSE)),\"\",VLOOKUP(+Wedstrijdschema!A194,Wedstrijdoverzicht!$A$2:$B$21,2,FALSE))","v":""}," - ",{"$f":"IF(ISERROR(VLOOKUP(+Wedstrijdschema!B194,Wedstrijdoverzicht!$A$2:$B$21,2,FALSE)),\"\",VLOOKUP(+Wedstrijdschema!B194,Wedstrijdoverzicht!$A$2:$B$21,2,FALSE))","v":""},{"$f":"IF(A194=\"\",\"\",IF(H194=1,VLOOKUP(I194,Werk1!$V$2:$W$191,2,FALSE),0)+J194+K194)","v":""},null,null,null,0,{"$f":"Wedstrijdschema!A194&\"-\"&Wedstrijdschema!B194","v":{"$error":"#VALUE!"}},{"$f":"IF(A194=\"\",0,IF(VLOOKUP(Wedstrijdschema!A194,Leden!$B$3:$J$22,8,FALSE)=-1,1,IF(VLOOKUP(Wedstrijdschema!B194,Leden!$B$3:$J$22,8,FALSE)=-1,1,0)))","v":0},{"$f":"IF(A194=\"\",0,IF(VLOOKUP(Wedstrijdschema!A194,Leden!$B$3:$S$22,18,FALSE)=\"nee\",1,IF(VLOOKUP(Wedstrijdschema!B194,Leden!$B$3:$S$22,18,FALSE)=\"nee\",1,0)))","v":0}]
[{"$f":"IF(ISERROR(VLOOKUP(+Wedstrijdschema!A195,Wedstrijdoverzicht!$A$2:$B$21,2,FALSE)),\"\",VLOOKUP(+Wedstrijdschema!A195,Wedstrijdoverzicht!$A$2:$B$21,2,FALSE))","v":""}," - ",{"$f":"IF(ISERROR(VLOOKUP(+Wedstrijdschema!B195,Wedstrijdoverzicht!$A$2:$B$21,2,FALSE)),\"\",VLOOKUP(+Wedstrijdschema!B195,Wedstrijdoverzicht!$A$2:$B$21,2,FALSE))","v":""},{"$f":"IF(A195=\"\",\"\",IF(H195=1,VLOOKUP(I195,Werk1!$V$2:$W$191,2,FALSE),0)+J195+K195)","v":""},null,null,null,0,{"$f":"Wedstrijdschema!A195&\"-\"&Wedstrijdschema!B195","v":{"$error":"#VALUE!"}},{"$f":"IF(A195=\"\",0,IF(VLOOKUP(Wedstrijdschema!A195,Leden!$B$3:$J$22,8,FALSE)=-1,1,IF(VLOOKUP(Wedstrijdschema!B195,Leden!$B$3:$J$22,8,FALSE)=-1,1,0)))","v":0},{"$f":"IF(A195=\"\",0,IF(VLOOKUP(Wedstrijdschema!A195,Leden!$B$3:$S$22,18,FALSE)=\"nee\",1,IF(VLOOKUP(Wedstrijdschema!B195,Leden!$B$3:$S$22,18,FALSE)=\"nee\",1,0)))","v":0}]
[{"$f":"IF(ISERROR(VLOOKUP(+Wedstrijdschema!A196,Wedstrijdoverzicht!$A$2:$B$21,2,FALSE)),\"\",VLOOKUP(+Wedstrijdschema!A196,Wedstrijdoverzicht!$A$2:$B$21,2,FALSE))","v":""}," - ",{"$f":"IF(ISERROR(VLOOKUP(+Wedstrijdschema!B196,Wedstrijdoverzicht!$A$2:$B$21,2,FALSE)),\"\",VLOOKUP(+Wedstrijdschema!B196,Wedstrijdoverzicht!$A$2:$B$21,2,FALSE))","v":""},{"$f":"IF(A196=\"\",\"\",IF(H196=1,VLOOKUP(I196,Werk1!$V$2:$W$191,2,FALSE),0)+J196+K196)","v":""},null,null,null,{"$f":"IF(A196<>\"\",1,0)","v":0},{"$f":"Wedstrijdschema!A196&\"-\"&Wedstrijdschema!B196","v":{"$error":"#VALUE!"}},{"$f":"IF(A196=\"\",0,IF(VLOOKUP(Wedstrijdschema!A196,Leden!$B$3:$J$22,8,FALSE)=-1,1,IF(VLOOKUP(Wedstrijdschema!B196,Leden!$B$3:$J$22,8,FALSE)=-1,1,0)))","v":0},{"$f":"IF(A196=\"\",0,IF(VLOOKUP(Wedstrijdschema!A196,Leden!$B$3:$S$22,18,FALSE)=\"nee\",1,IF(VLOOKUP(Wedstrijdschema!B196,Leden!$B$3:$S$22,18,FALSE)=\"nee\",1,0)))","v":0}]

{"sheet":"Wedstrijdschema","index":6,"n_rows":196,"n_cols":26,"rows_kept":196,"cut":false,"hidden":true,"merged":[]}
["wedstrijden = spelers/2",null,null,{"$f":"ROUND(G1/2,0)","v":0},"Aantal spelers",null,{"$f":"MAX(Leden!$B$3:$B$22)","v":0}]
["rondes = (spelers -1)",null,null,{"$f":"G1-1+G2","v":20},"extra ronde",null,{"$f":"+Z2","v":21},"Als laatste nog een restronde",null,null,null,null,null,null,null,null,null,null,null,null,null,null,null,"max extra ronde",null,{"$f":"V6-G1+1","v":21}]
[{"$f":"\"tot.wedstrijden(minus \"& Gespeeld!C3& \" gespeeld)\"","v":"tot.wedstrijden(minus 0 gespeeld)"},null,null,{"$f":"G1/2*(G1-1)-Gespeeld!C3","v":0},"kode heen en weer",null,{"$f":"+Instellingen!L49","v":4},"1=h&w van beneden;2=bot;3=top; 4=h&w van boven"]
["berekend via macro",null,null,{"$f":"SUM(C5:V5)","v":0}]
[null,"Wedstrijden",{"$f":"COUNTA(C7:C196)","v":0},{"$f":"COUNTA(D7:D196)","v":0},0,0,0,0,0,0,0,0,0,0,0,0,0,0,0,0,0,0,null,null,"T.b.v. macro"]
["Speler-1","Speler-2",1,{"$f":"C6+1","v":2},3,4,5,6,7,8,9,10,11,12,{"$f":"N6+1","v":13},{"$f":"O6+1","v":14},15,16,17,18,19,20,"Vol","Wedstrijd","Hulp",1]
[{"$f":"IF(VLOOKUP(ROW()-6,Wedstijden!$A$2:$AM$191,$G$1*2-2,FALSE)=\"\",\"\",VLOOKUP(ROW()-6,Wedstijden!$A$2:$AM$191,$G$1*2-2,FALSE))","v":{"$error":"#VALUE!"}},{"$f":"IF(VLOOKUP(ROW()-6,Wedstijden!$A$2:$AM$191,$G$1*2-1,FALSE)=\"\",\"\",VLOOKUP(ROW()-6,Wedstijden!$A$2:$AM$191,$G$1*2-1,FALSE))","v":{"$error":"#VALUE!"}},null,null,null,null,null,null,null,null,null,null,null,null,null,null,null,null,null,null,null,null,{"$f":"COUNTA(C7:V7)+IF(Gespeeld!D7=\"\",0,Gespeeld!D7)","v":0},null,"Speler",2]
[{"$f":"IF(VLOOKUP(ROW()-6,Wedstijden!$A$2:$AM$191,$G$1*2-2,FALSE)=\"\",\"\",VLOOKUP(ROW()-6,Wedstijden!$A$2:$AM$191,$G$1*2-2,FALSE))","v":{"$error":"#VALUE!"}},{"$f":"IF(VLOOKUP(ROW()-6,Wedstijden!$A$2:$AM$191,$G$1*2-1,FALSE)=\"\",\"\",VLOOKUP(ROW()-6,Wedstijden!$A$2:$AM$191,$G$1*2-1,FALSE))","v":{"$error":"#VALUE!"}},null,null,null,null,null,null,null,null,null,null,null,null,null,null,null,null,null,null,null,null,{"$f":"COUNTA(C8:V8)+IF(Gespeeld!D8=\"\",0,Gespeeld!D8)","v":0},null,null,3]
[{"$f":"IF(VLOOKUP(ROW()-6,Wedstijden!$A$2:$AM$191,$G$1*2-2,FALSE)=\"\",\"\",VLOOKUP(ROW()-6,Wedstijden!$A$2:$AM$191,$G$1*2-2,FALSE))","v":{"$error":"#VALUE!"}},{"$f":"IF(VLOOKUP(ROW()-6,Wedstijden!$A$2:$AM$191,$G$1*2-1,FALSE)=\"\",\"\",VLOOKUP(ROW()-6,Wedstijden!$A$2:$AM$191,$G$1*2-1,FALSE))","v":{"$error":"#VALUE!"}},null,null,null,null,null,null,null,null,null,null,null,null,null,null,null,null,null,null,null,null,{"$f":"COUNTA(C9:V9)+IF(Gespeeld!D9=\"\",0,Gespeeld!D9)","v":0},null,null,4]
[{"$f":"IF(VLOOKUP(ROW()-6,Wedstijden!$A$2:$AM$191,$G$1*2-2,FALSE)=\"\",\"\",VLOOKUP(ROW()-6,Wedstijden!$A$2:$AM$191,$G$1*2-2,FALSE))","v":{"$error":"#VALUE!"}},{"$f":"IF(VLOOKUP(ROW()-6,Wedstijden!$A$2:$AM$191,$G$1*2-1,FALSE)=\"\",\"\",VLOOKUP(ROW()-6,Wedstijden!$A$2:$AM$191,$G$1*2-1,FALSE))","v":{"$error":"#VALUE!"}},null,null,null,null,null,null,null,null,null,null,null,null,null,null,null,null,null,null,null,null,{"$f":"COUNTA(C10:V10)+IF(Gespeeld!D10=\"\",0,Gespeeld!D10)","v":0},null,null,5]
[{"$f":"IF(VLOOKUP(ROW()-6,Wedstijden!$A$2:$AM$191,$G$1*2-2,FALSE)=\"\",\"\",VLOOKUP(ROW()-6,Wedstijden!$A$2:$AM$191,$G$1*2-2,FALSE))","v":{"$error":"#VALUE!"}},{"$f":"IF(VLOOKUP(ROW()-6,Wedstijden!$A$2:$AM$191,$G$1*2-1,FALSE)=\"\",\"\",VLOOKUP(ROW()-6,Wedstijden!$A$2:$AM$191,$G$1*2-1,FALSE))","v":{"$error":"#VALUE!"}},null,null,null,null,null,null,null,null,null,null,null,null,null,null,null,null,null,null,null,null,{"$f":"COUNTA(C11:V11)+IF(Gespeeld!D11=\"\",0,Gespeeld!D11)","v":0},null,null,6]
[{"$f":"IF(VLOOKUP(ROW()-6,Wedstijden!$A$2:$AM$191,$G$1*2-2,FALSE)=\"\",\"\",VLOOKUP(ROW()-6,Wedstijden!$A$2:$AM$191,$G$1*2-2,FALSE))","v":{"$error":"#VALUE!"}},{"$f":"IF(VLOOKUP(ROW()-6,Wedstijden!$A$2:$AM$191,$G$1*2-1,FALSE)=\"\",\"\",VLOOKUP(ROW()-6,Wedstijden!$A$2:$AM$191,$G$1*2-1,FALSE))","v":{"$error":"#VALUE!"}},null,null,null,null,null,null,null,null,null,null,null,null,null,null,null,null,null,null,null,null,{"$f":"COUNTA(C12:V12)+IF(Gespeeld!D12=\"\",0,Gespeeld!D12)","v":0},null,null,7]
[{"$f":"IF(VLOOKUP(ROW()-6,Wedstijden!$A$2:$AM$191,$G$1*2-2,FALSE)=\"\",\"\",VLOOKUP(ROW()-6,Wedstijden!$A$2:$AM$191,$G$1*2-2,FALSE))","v":{"$error":"#VALUE!"}},{"$f":"IF(VLOOKUP(ROW()-6,Wedstijden!$A$2:$AM$191,$G$1*2-1,FALSE)=\"\",\"\",VLOOKUP(ROW()-6,Wedstijden!$A$2:$AM$191,$G$1*2-1,FALSE))","v":{"$error":"#VALUE!"}},null,null,null,null,null,null,null,null,null,null,null,null,null,null,null,null,null,null,null,null,{"$f":"COUNTA(C13:V13)+IF(Gespeeld!D13=\"\",0,Gespeeld!D13)","v":0},null,null,8]
[{"$f":"IF(VLOOKUP(ROW()-6,Wedstijden!$A$2:$AM$191,$G$1*2-2,FALSE)=\"\",\"\",VLOOKUP(ROW()-6,Wedstijden!$A$2:$AM$191,$G$1*2-2,FALSE))","v":{"$error":"#VALUE!"}},{"$f":"IF(VLOOKUP(ROW()-6,Wedstijden!$A$2:$AM$191,$G$1*2-1,FALSE)=\"\",\"\",VLOOKUP(ROW()-6,Wedstijden!$A$2:$AM$191,$G$1*2-1,FALSE))","v":{"$error":"#VALUE!"}},null,null,null,null,null,null,null,null,null,null,null,null,null,null,null,null,null,null,null,null,{"$f":"COUNTA(C14:V14)+IF(Gespeeld!D14=\"\",0,Gespeeld!D14)","v":0},null,null,9]
[{"$f":"IF(VLOOKUP(ROW()-6,Wedstijden!$A$2:$AM$191,$G$1*2-2,FALSE)=\"\",\"\",VLOOKUP(ROW()-6,Wedstijden!$A$2:$AM$191,$G$1*2-2,FALSE))","v":{"$error":"#VALUE!"}},{"$f":"IF(VLOOKUP(ROW()-6,Wedstijden!$A$2:$AM$191,$G$1*2-1,FALSE)=\"\",\"\",VLOOKUP(ROW()-6,Wedstijden!$A$2:$AM$191,$G$1*2-1,FALSE))","v":{"$error":"#VALUE!"}},null,null,null,null,null,null,null,null,null,null,null,null,null,null,null,null,null,null,null,null,{"$f":"COUNTA(C15:V15)+IF(Gespeeld!D15=\"\",0,Gespeeld!D15)","v":0},null,null,10]
[{"$f":"IF(VLOOKUP(ROW()-6,Wedstijden!$A$2:$AM$191,$G$1*2-2,FALSE)=\"\",\"\",VLOOKUP(ROW()-6,Wedstijden!$A$2:$AM$191,$G$1*2-2,FALSE))","v":{"$error":"#VALUE!"}},{"$f":"IF(VLOOKUP(ROW()-6,Wedstijden!$A$2:$AM$191,$G$1*2-1,FALSE)=\"\",\"\",VLOOKUP(ROW()-6,Wedstijden!$A$2:$AM$191,$G$1*2-1,FALSE))","v":{"$error":"#VALUE!"}},null,null,null,null,null,null,null,null,null,null,null,null,null,null,null,null,null,null,null,null,{"$f":"COUNTA(C16:V16)+IF(Gespeeld!D16=\"\",0,Gespeeld!D16)","v":0},null,null,11]
[{"$f":"IF(VLOOKUP(ROW()-6,Wedstijden!$A$2:$AM$191,$G$1*2-2,FALSE)=\"\",\"\",VLOOKUP(ROW()-6,Wedstijden!$A$2:$AM$191,$G$1*2-2,FALSE))","v":{"$error":"#VALUE!"}},{"$f":"IF(VLOOKUP(ROW()-6,Wedstijden!$A$2:$AM$191,$G$1*2-1,FALSE)=\"\",\"\",VLOOKUP(ROW()-6,Wedstijden!$A$2:$AM$191,$G$1*2-1,FALSE))","v":{"$error":"#VALUE!"}},null,null,null,null,null,null,null,null,null,null,null,null,null,null,null,null,null,null,null,null,{"$f":"COUNTA(C17:V17)+IF(Gespeeld!D17=\"\",0,Gespeeld!D17)","v":0},null,null,12]
[{"$f":"IF(VLOOKUP(ROW()-6,Wedstijden!$A$2:$AM$191,$G$1*2-2,FALSE)=\"\",\"\",VLOOKUP(ROW()-6,Wedstijden!$A$2:$AM$191,$G$1*2-2,FALSE))","v":{"$error":"#VALUE!"}},{"$f":"IF(VLOOKUP(ROW()-6,Wedstijden!$A$2:$AM$191,$G$1*2-1,FALSE)=\"\",\"\",VLOOKUP(ROW()-6,Wedstijden!$A$2:$AM$191,$G$1*2-1,FALSE))","v":{"$error":"#VALUE!"}},null,null,null,null,null,null,null,null,null,null,null,null,null,null,null,null,null,null,null,null,{"$f":"COUNTA(C18:V18)+IF(Gespeeld!D18=\"\",0,Gespeeld!D18)","v":0},null,null,13]
[{"$f":"IF(VLOOKUP(ROW()-6,Wedstijden!$A$2:$AM$191,$G$1*2-2,FALSE)=\"\",\"\",VLOOKUP(ROW()-6,Wedstijden!$A$2:$AM$191,$G$1*2-2,FALSE))","v":{"$error":"#VALUE!"}},{"$f":"IF(VLOOKUP(ROW()-6,Wedstijden!$A$2:$AM$191,$G$1*2-1,FALSE)=\"\",\"\",VLOOKUP(ROW()-6,Wedstijden!$A$2:$AM$191,$G$1*2-1,FALSE))","v":{"$error":"#VALUE!"}},null,null,null,null,null,null,null,null,null,null,null,null,null,null,null,null,null,null,null,null,{"$f":"COUNTA(C19:V19)+IF(Gespeeld!D19=\"\",0,Gespeeld!D19)","v":0},null,null,14]
[{"$f":"IF(VLOOKUP(ROW()-6,Wedstijden!$A$2:$AM$191,$G$1*2-2,FALSE)=\"\",\"\",VLOOKUP(ROW()-6,Wedstijden!$A$2:$AM$191,$G$1*2-2,FALSE))","v":{"$error":"#VALUE!"}},{"$f":"IF(VLOOKUP(ROW()-6,Wedstijden!$A$2:$AM$191,$G$1*2-1,FALSE)=\"\",\"\",VLOOKUP(ROW()-6,Wedstijden!$A$2:$AM$191,$G$1*2-1,FALSE))","v":{"$error":"#VALUE!"}},null,null,null,null,null,null,null,null,null,null,null,null,null,null,null,null,null,null,null,null,{"$f":"COUNTA(C20:V20)+IF(Gespeeld!D20=\"\",0,Gespeeld!D20)","v":0},null,null,15]
[{"$f":"IF(VLOOKUP(ROW()-6,Wedstijden!$A$2:$AM$191,$G$1*2-2,FALSE)=\"\",\"\",VLOOKUP(ROW()-6,Wedstijden!$A$2:$AM$191,$G$1*2-2,FALSE))","v":{"$error":"#VALUE!"}},{"$f":"IF(VLOOKUP(ROW()-6,Wedstijden!$A$2:$AM$191,$G$1*2-1,FALSE)=\"\",\"\",VLOOKUP(ROW()-6,Wedstijden!$A$2:$AM$191,$G$1*2-1,FALSE))","v":{"$error":"#VALUE!"}},null,null,null,null,null,null,null,null,null,null,null,null,null,null,null,null,null,null,null,null,{"$f":"COUNTA(C21:V21)+IF(Gespeeld!D21=\"\",0,Gespeeld!D21)","v":0},null,null,16]
[{"$f":"IF(VLOOKUP(ROW()-6,Wedstijden!$A$2:$AM$191,$G$1*2-2,FALSE)=\"\",\"\",VLOOKUP(ROW()-6,Wedstijden!$A$2:$AM$191,$G$1*2-2,FALSE))","v":{"$error":"#VALUE!"}},{"$f":"IF(VLOOKUP(ROW()-6,Wedstijden!$A$2:$AM$191,$G$1*2-1,FALSE)=\"\",\"\",VLOOKUP(ROW()-6,Wedstijden!$A$2:$AM$191,$G$1*2-1,FALSE))","v":{"$error":"#VALUE!"}},null,null,null,null,null,null,null,null,null,null,null,null,null,null,null,null,null,null,null,null,{"$f":"COUNTA(C22:V22)+IF(Gespeeld!D22=\"\",0,Gespeeld!D22)","v":0},null,null,17]
[{"$f":"IF(VLOOKUP(ROW()-6,Wedstijden!$A$2:$AM$191,$G$1*2-2,FALSE)=\"\",\"\",VLOOKUP(ROW()-6,Wedstijden!$A$2:$AM$191,$G$1*2-2,FALSE))","v":{"$error":"#VALUE!"}},{"$f":"IF(VLOOKUP(ROW()-6,Wedstijden!$A$2:$AM$191,$G$1*2-1,FALSE)=\"\",\"\",VLOOKUP(ROW()-6,Wedstijden!$A$2:$AM$191,$G$1*2-1,FALSE))","v":{"$error":"#VALUE!"}},null,null,null,null,null,null,null,null,null,null,null,null,null,null,null,null,null,null,null,null,{"$f":"COUNTA(C23:V23)+IF(Gespeeld!D23=\"\",0,Gespeeld!D23)","v":0},null,null,18]
[{"$f":"IF(VLOOKUP(ROW()-6,Wedstijden!$A$2:$AM$191,$G$1*2-2,FALSE)=\"\",\"\",VLOOKUP(ROW()-6,Wedstijden!$A$2:$AM$191,$G$1*2-2,FALSE))","v":{"$error":"#VALUE!"}},{"$f":"IF(VLOOKUP(ROW()-6,Wedstijden!$A$2:$AM$191,$G$1*2-1,FALSE)=\"\",\"\",VLOOKUP(ROW()-6,Wedstijden!$A$2:$AM$191,$G$1*2-1,FALSE))","v":{"$error":"#VALUE!"}},null,null,null,null,null,null,null,null,null,null,null,null,null,null,null,null,null,null,null,null,{"$f":"COUNTA(C24:V24)+IF(Gespeeld!D24=\"\",0,Gespeeld!D24)","v":0},null,null,19]
[{"$f":"IF(VLOOKUP(ROW()-6,Wedstijden!$A$2:$AM$191,$G$1*2-2,FALSE)=\"\",\"\",VLOOKUP(ROW()-6,Wedstijden!$A$2:$AM$191,$G$1*2-2,FALSE))","v":{"$error":"#VALUE!"}},{"$f":"IF(VLOOKUP(ROW()-6,Wedstijden!$A$2:$AM$191,$G$1*2-1,FALSE)=\"\",\"\",VLOOKUP(ROW()-6,Wedstijden!$A$2:$AM$191,$G$1*2-1,FALSE))","v":{"$error":"#VALUE!"}},null,null,null,null,null,null,null,null,null,null,null,null,null,null,null,null,null,null,null,null,{"$f":"COUNTA(C25:V25)+IF(Gespeeld!D25=\"\",0,Gespeeld!D25)","v":0},null,null,20]
[{"$f":"IF(VLOOKUP(ROW()-6,Wedstijden!$A$2:$AM$191,$G$1*2-2,FALSE)=\"\",\"\",VLOOKUP(ROW()-6,Wedstijden!$A$2:$AM$191,$G$1*2-2,FALSE))","v":{"$error":"#VALUE!"}},{"$f":"IF(VLOOKUP(ROW()-6,Wedstijden!$A$2:$AM$191,$G$1*2-1,FALSE)=\"\",\"\",VLOOKUP(ROW()-6,Wedstijden!$A$2:$AM$191,$G$1*2-1,FALSE))","v":{"$error":"#VALUE!"}},null,null,null,null,null,null,null,null,null,null,null,null,null,null,null,null,null,null,null,null,{"$f":"COUNTA(C26:V26)+IF(Gespeeld!D26=\"\",0,Gespeeld!D26)","v":0}]
[{"$f":"IF(VLOOKUP(ROW()-6,Wedstijden!$A$2:$AM$191,$G$1*2-2,FALSE)=\"\",\"\",VLOOKUP(ROW()-6,Wedstijden!$A$2:$AM$191,$G$1*2-2,FALSE))","v":{"$error":"#VALUE!"}},{"$f":"IF(VLOOKUP(ROW()-6,Wedstijden!$A$2:$AM$191,$G$1*2-1,FALSE)=\"\",\"\",VLOOKUP(ROW()-6,Wedstijden!$A$2:$AM$191,$G$1*2-1,FALSE))","v":{"$error":"#VALUE!"}},null,null,null,null,null,null,null,null,null,null,null,null,null,null,null,null,null,null,null,null,{"$f":"COUNTA(C27:V27)+IF(Gespeeld!D27=\"\",0,Gespeeld!D27)","v":0}]
[{"$f":"IF(VLOOKUP(ROW()-6,Wedstijden!$A$2:$AM$191,$G$1*2-2,FALSE)=\"\",\"\",VLOOKUP(ROW()-6,Wedstijden!$A$2:$AM$191,$G$1*2-2,FALSE))","v":{"$error":"#VALUE!"}},{"$f":"IF(VLOOKUP(ROW()-6,Wedstijden!$A$2:$AM$191,$G$1*2-1,FALSE)=\"\",\"\",VLOOKUP(ROW()-6,Wedstijden!$A$2:$AM$191,$G$1*2-1,FALSE))","v":{"$error":"#VALUE!"}},null,null,null,null,null,null,null,null,null,null,null,null,null,null,null,null,null,null,null,null,{"$f":"COUNTA(C28:V28)+IF(Gespeeld!D28=\"\",0,Gespeeld!D28)","v":0}]
[{"$f":"IF(VLOOKUP(ROW()-6,Wedstijden!$A$2:$AM$191,$G$1*2-2,FALSE)=\"\",\"\",VLOOKUP(ROW()-6,Wedstijden!$A$2:$AM$191,$G$1*2-2,FALSE))","v":{"$error":"#VALUE!"}},{"$f":"IF(VLOOKUP(ROW()-6,Wedstijden!$A$2:$AM$191,$G$1*2-1,FALSE)=\"\",\"\",VLOOKUP(ROW()-6,Wedstijden!$A$2:$AM$191,$G$1*2-1,FALSE))","v":{"$error":"#VALUE!"}},null,null,null,null,null,null,null,null,null,null,null,null,null,null,null,null,null,null,null,null,{"$f":"COUNTA(C29:V29)+IF(Gespeeld!D29=\"\",0,Gespeeld!D29)","v":0}]
[{"$f":"IF(VLOOKUP(ROW()-6,Wedstijden!$A$2:$AM$191,$G$1*2-2,FALSE)=\"\",\"\",VLOOKUP(ROW()-6,Wedstijden!$A$2:$AM$191,$G$1*2-2,FALSE))","v":{"$error":"#VALUE!"}},{"$f":"IF(VLOOKUP(ROW()-6,Wedstijden!$A$2:$AM$191,$G$1*2-1,FALSE)=\"\",\"\",VLOOKUP(ROW()-6,Wedstijden!$A$2:$AM$191,$G$1*2-1,FALSE))","v":{"$error":"#VALUE!"}},null,null,null,null,null,null,null,null,null,null,null,null,null,null,null,null,null,null,null,null,{"$f":"COUNTA(C30:V30)+IF(Gespeeld!D30=\"\",0,Gespeeld!D30)","v":0}]
[{"$f":"IF(VLOOKUP(ROW()-6,Wedstijden!$A$2:$AM$191,$G$1*2-2,FALSE)=\"\",\"\",VLOOKUP(ROW()-6,Wedstijden!$A$2:$AM$191,$G$1*2-2,FALSE))","v":{"$error":"#VALUE!"}},{"$f":"IF(VLOOKUP(ROW()-6,Wedstijden!$A$2:$AM$191,$G$1*2-1,FALSE)=\"\",\"\",VLOOKUP(ROW()-6,Wedstijden!$A$2:$AM$191,$G$1*2-1,FALSE))","v":{"$error":"#VALUE!"}},null,null,null,null,null,null,null,null,null,null,null,null,null,null,null,null,null,null,null,null,{"$f":"COUNTA(C31:V31)+IF(Gespeeld!D31=\"\",0,Gespeeld!D31)","v":0}]
[{"$f":"IF(VLOOKUP(ROW()-6,Wedstijden!$A$2:$AM$191,$G$1*2-2,FALSE)=\"\",\"\",VLOOKUP(ROW()-6,Wedstijden!$A$2:$AM$191,$G$1*2-2,FALSE))","v":{"$error":"#VALUE!"}},{"$f":"IF(VLOOKUP(ROW()-6,Wedstijden!$A$2:$AM$191,$G$1*2-1,FALSE)=\"\",\"\",VLOOKUP(ROW()-6,Wedstijden!$A$2:$AM$191,$G$1*2-1,FALSE))","v":{"$error":"#VALUE!"}},null,null,null,null,null,null,null,null,null,null,null,null,null,null,null,null,null,null,null,null,{"$f":"COUNTA(C32:V32)+IF(Gespeeld!D32=\"\",0,Gespeeld!D32)","v":0}]
[{"$f":"IF(VLOOKUP(ROW()-6,Wedstijden!$A$2:$AM$191,$G$1*2-2,FALSE)=\"\",\"\",VLOOKUP(ROW()-6,Wedstijden!$A$2:$AM$191,$G$1*2-2,FALSE))","v":{"$error":"#VALUE!"}},{"$f":"IF(VLOOKUP(ROW()-6,Wedstijden!$A$2:$AM$191,$G$1*2-1,FALSE)=\"\",\"\",VLOOKUP(ROW()-6,Wedstijden!$A$2:$AM$191,$G$1*2-1,FALSE))","v":{"$error":"#VALUE!"}},null,null,null,null,null,null,null,null,null,null,null,null,null,null,null,null,null,null,null,null,{"$f":"COUNTA(C33:V33)+IF(Gespeeld!D33=\"\",0,Gespeeld!D33)","v":0}]
[{"$f":"IF(VLOOKUP(ROW()-6,Wedstijden!$A$2:$AM$191,$G$1*2-2,FALSE)=\"\",\"\",VLOOKUP(ROW()-6,Wedstijden!$A$2:$AM$191,$G$1*2-2,FALSE))","v":{"$error":"#VALUE!"}},{"$f":"IF(VLOOKUP(ROW()-6,Wedstijden!$A$2:$AM$191,$G$1*2-1,FALSE)=\"\",\"\",VLOOKUP(ROW()-6,Wedstijden!$A$2:$AM$191,$G$1*2-1,FALSE))","v":{"$error":"#VALUE!"}},null,null,null,null,null,null,null,null,null,null,null,null,null,null,null,null,null,null,null,null,{"$f":"COUNTA(C34:V34)+IF(Gespeeld!D34=\"\",0,Gespeeld!D34)","v":0}]
[{"$f":"IF(VLOOKUP(ROW()-6,Wedstijden!$A$2:$AM$191,$G$1*2-2,FALSE)=\"\",\"\",VLOOKUP(ROW()-6,Wedstijden!$A$2:$AM$191,$G$1*2-2,FALSE))","v":{"$error":"#VALUE!"}},{"$f":"IF(VLOOKUP(ROW()-6,Wedstijden!$A$2:$AM$191,$G$1*2-1,FALSE)=\"\",\"\",VLOOKUP(ROW()-6,Wedstijden!$A$2:$AM$191,$G$1*2-1,FALSE))","v":{"$error":"#VALUE!"}},null,null,null,null,null,null,null,null,null,null,null,null,null,null,null,null,null,null,null,null,{"$f":"COUNTA(C35:V35)+IF(Gespeeld!D35=\"\",0,Gespeeld!D35)","v":0}]
[{"$f":"IF(VLOOKUP(ROW()-6,Wedstijden!$A$2:$AM$191,$G$1*2-2,FALSE)=\"\",\"\",VLOOKUP(ROW()-6,Wedstijden!$A$2:$AM$191,$G$1*2-2,FALSE))","v":{"$error":"#VALUE!"}},{"$f":"IF(VLOOKUP(ROW()-6,Wedstijden!$A$2:$AM$191,$G$1*2-1,FALSE)=\"\",\"\",VLOOKUP(ROW()-6,Wedstijden!$A$2:$AM$191,$G$1*2-1,FALSE))","v":{"$error":"#VALUE!"}},null,null,null,null,null,null,null,null,null,null,null,null,null,null,null,null,null,null,null,null,{"$f":"COUNTA(C36:V36)+IF(Gespeeld!D36=\"\",0,Gespeeld!D36)","v":0}]
[{"$f":"IF(VLOOKUP(ROW()-6,Wedstijden!$A$2:$AM$191,$G$1*2-2,FALSE)=\"\",\"\",VLOOKUP(ROW()-6,Wedstijden!$A$2:$AM$191,$G$1*2-2,FALSE))","v":{"$error":"#VALUE!"}},{"$f":"IF(VLOOKUP(ROW()-6,Wedstijden!$A$2:$AM$191,$G$1*2-1,FALSE)=\"\",\"\",VLOOKUP(ROW()-6,Wedstijden!$A$2:$AM$191,$G$1*2-1,FALSE))","v":{"$error":"#VALUE!"}},null,null,null,null,null,null,null,null,null,null,null,null,null,null,null,null,null,null,null,null,{"$f":"COUNTA(C37:V37)+IF(Gespeeld!D37=\"\",0,Gespeeld!D37)","v":0}]
[{"$f":"IF(VLOOKUP(ROW()-6,Wedstijden!$A$2:$AM$191,$G$1*2-2,FALSE)=\"\",\"\",VLOOKUP(ROW()-6,Wedstijden!$A$2:$AM$191,$G$1*2-2,FALSE))","v":{"$error":"#VALUE!"}},{"$f":"IF(VLOOKUP(ROW()-6,Wedstijden!$A$2:$AM$191,$G$1*2-1,FALSE)=\"\",\"\",VLOOKUP(ROW()-6,Wedstijden!$A$2:$AM$191,$G$1*2-1,FALSE))","v":{"$error":"#VALUE!"}},null,null,null,null,null,null,null,null,null,null,null,null,null,null,null,null,null,null,null,null,{"$f":"COUNTA(C38:V38)+IF(Gespeeld!D38=\"\",0,Gespeeld!D38)","v":0}]
[{"$f":"IF(VLOOKUP(ROW()-6,Wedstijden!$A$2:$AM$191,$G$1*2-2,FALSE)=\"\",\"\",VLOOKUP(ROW()-6,Wedstijden!$A$2:$AM$191,$G$1*2-2,FALSE))","v":{"$error":"#VALUE!"}},{"$f":"IF(VLOOKUP(ROW()-6,Wedstijden!$A$2:$AM$191,$G$1*2-1,FALSE)=\"\",\"\",VLOOKUP(ROW()-6,Wedstijden!$A$2:$AM$191,$G$1*2-1,FALSE))","v":{"$error":"#VALUE!"}},null,null,null,null,null,null,null,null,null,null,null,null,null,null,null,null,null,null,null,null,{"$f":"COUNTA(C39:V39)+IF(Gespeeld!D39=\"\",0,Gespeeld!D39)","v":0}]
[{"$f":"IF(VLOOKUP(ROW()-6,Wedstijden!$A$2:$AM$191,$G$1*2-2,FALSE)=\"\",\"\",VLOOKUP(ROW()-6,Wedstijden!$A$2:$AM$191,$G$1*2-2,FALSE))","v":{"$error":"#VALUE!"}},{"$f":"IF(VLOOKUP(ROW()-6,Wedstijden!$A$2:$AM$191,$G$1*2-1,FALSE)=\"\",\"\",VLOOKUP(ROW()-6,Wedstijden!$A$2:$AM$191,$G$1*2-1,FALSE))","v":{"$error":"#VALUE!"}},null,null,null,null,null,null,null,null,null,null,null,null,null,null,null,null,null,null,null,null,{"$f":"COUNTA(C40:V40)+IF(Gespeeld!D40=\"\",0,Gespeeld!D40)","v":0}]
[{"$f":"IF(VLOOKUP(ROW()-6,Wedstijden!$A$2:$AM$191,$G$1*2-2,FALSE)=\"\",\"\",VLOOKUP(ROW()-6,Wedstijden!$A$2:$AM$191,$G$1*2-2,FALSE))","v":{"$error":"#VALUE!"}},{"$f":"IF(VLOOKUP(ROW()-6,Wedstijden!$A$2:$AM$191,$G$1*2-1,FALSE)=\"\",\"\",VLOOKUP(ROW()-6,Wedstijden!$A$2:$AM$191,$G$1*2-1,FALSE))","v":{"$error":"#VALUE!"}},null,null,null,null,null,null,null,null,null,null,null,null,null,null,null,null,null,null,null,null,{"$f":"COUNTA(C41:V41)+IF(Gespeeld!D41=\"\",0,Gespeeld!D41)","v":0}]
[{"$f":"IF(VLOOKUP(ROW()-6,Wedstijden!$A$2:$AM$191,$G$1*2-2,FALSE)=\"\",\"\",VLOOKUP(ROW()-6,Wedstijden!$A$2:$AM$191,$G$1*2-2,FALSE))","v":{"$error":"#VALUE!"}},{"$f":"IF(VLOOKUP(ROW()-6,Wedstijden!$A$2:$AM$191,$G$1*2-1,FALSE)=\"\",\"\",VLOOKUP(ROW()-6,Wedstijden!$A$2:$AM$191,$G$1*2-1,FALSE))","v":{"$error":"#VALUE!"}},null,null,null,null,null,null,null,null,null,null,null,null,null,null,null,null,null,null,null,null,{"$f":"COUNTA(C42:V42)+IF(Gespeeld!D42=\"\",0,Gespeeld!D42)","v":0}]
[{"$f":"IF(VLOOKUP(ROW()-6,Wedstijden!$A$2:$AM$191,$G$1*2-2,FALSE)=\"\",\"\",VLOOKUP(ROW()-6,Wedstijden!$A$2:$AM$191,$G$1*2-2,FALSE))","v":{"$error":"#VALUE!"}},{"$f":"IF(VLOOKUP(ROW()-6,Wedstijden!$A$2:$AM$191,$G$1*2-1,FALSE)=\"\",\"\",VLOOKUP(ROW()-6,Wedstijden!$A$2:$AM$191,$G$1*2-1,FALSE))","v":{"$error":"#VALUE!"}},null,null,null,null,null,null,null,null,null,null,null,null,null,null,null,null,null,null,null,null,{"$f":"COUNTA(C43:V43)+IF(Gespeeld!D43=\"\",0,Gespeeld!D43)","v":0}]
[{"$f":"IF(VLOOKUP(ROW()-6,Wedstijden!$A$2:$AM$191,$G$1*2-2,FALSE)=\"\",\"\",VLOOKUP(ROW()-6,Wedstijden!$A$2:$AM$191,$G$1*2-2,FALSE))","v":{"$error":"#VALUE!"}},{"$f":"IF(VLOOKUP(ROW()-6,Wedstijden!$A$2:$AM$191,$G$1*2-1,FALSE)=\"\",\"\",VLOOKUP(ROW()-6,Wedstijden!$A$2:$AM$191,$G$1*2-1,FALSE))","v":{"$error":"#VALUE!"}},null,null,null,null,null,null,null,null,null,null,null,null,null,null,null,null,null,null,null,null,{"$f":"COUNTA(C44:V44)+IF(Gespeeld!D44=\"\",0,Gespeeld!D44)","v":0}]
[{"$f":"IF(VLOOKUP(ROW()-6,Wedstijden!$A$2:$AM$191,$G$1*2-2,FALSE)=\"\",\"\",VLOOKUP(ROW()-6,Wedstijden!$A$2:$AM$191,$G$1*2-2,FALSE))","v":{"$error":"#VALUE!"}},{"$f":"IF(VLOOKUP(ROW()-6,Wedstijden!$A$2:$AM$191,$G$1*2-1,FALSE)=\"\",\"\",VLOOKUP(ROW()-6,Wedstijden!$A$2:$AM$191,$G$1*2-1,FALSE))","v":{"$error":"#VALUE!"}},null,null,null,null,null,null,null,null,null,null,null,null,null,null,null,null,null,null,null,null,{"$f":"COUNTA(C45:V45)+IF(Gespeeld!D45=\"\",0,Gespeeld!D45)","v":0}]
[{"$f":"IF(VLOOKUP(ROW()-6,Wedstijden!$A$2:$AM$191,$G$1*2-2,FALSE)=\"\",\"\",VLOOKUP(ROW()-6,Wedstijden!$A$2:$AM$191,$G$1*2-2,FALSE))","v":{"$error":"#VALUE!"}},{"$f":"IF(VLOOKUP(ROW()-6,Wedstijden!$A$2:$AM$191,$G$1*2-1,FALSE)=\"\",\"\",VLOOKUP(ROW()-6,Wedstijden!$A$2:$AM$191,$G$1*2-1,FALSE))","v":{"$error":"#VALUE!"}},null,null,null,null,null,null,null,null,null,null,null,null,null,null,null,null,null,null,null,null,{"$f":"COUNTA(C46:V46)+IF(Gespeeld!D46=\"\",0,Gespeeld!D46)","v":0}]
[{"$f":"IF(VLOOKUP(ROW()-6,Wedstijden!$A$2:$AM$191,$G$1*2-2,FALSE)=\"\",\"\",VLOOKUP(ROW()-6,Wedstijden!$A$2:$AM$191,$G$1*2-2,FALSE))","v":{"$error":"#VALUE!"}},{"$f":"IF(VLOOKUP(ROW()-6,Wedstijden!$A$2:$AM$191,$G$1*2-1,FALSE)=\"\",\"\",VLOOKUP(ROW()-6,Wedstijden!$A$2:$AM$191,$G$1*2-1,FALSE))","v":{"$error":"#VALUE!"}},null,null,null,null,null,null,null,null,null,null,null,null,null,null,null,null,null,null,null,null,{"$f":"COUNTA(C47:V47)+IF(Gespeeld!D47=\"\",0,Gespeeld!D47)","v":0}]
[{"$f":"IF(VLOOKUP(ROW()-6,Wedstijden!$A$2:$AM$191,$G$1*2-2,FALSE)=\"\",\"\",VLOOKUP(ROW()-6,Wedstijden!$A$2:$AM$191,$G$1*2-2,FALSE))","v":{"$error":"#VALUE!"}},{"$f":"IF(VLOOKUP(ROW()-6,Wedstijden!$A$2:$AM$191,$G$1*2-1,FALSE)=\"\",\"\",VLOOKUP(ROW()-6,Wedstijden!$A$2:$AM$191,$G$1*2-1,FALSE))","v":{"$error":"#VALUE!"}},null,null,null,null,null,null,null,null,null,null,null,null,null,null,null,null,null,null,null,null,{"$f":"COUNTA(C48:V48)+IF(Gespeeld!D48=\"\",0,Gespeeld!D48)","v":0}]
[{"$f":"IF(VLOOKUP(ROW()-6,Wedstijden!$A$2:$AM$191,$G$1*2-2,FALSE)=\"\",\"\",VLOOKUP(ROW()-6,Wedstijden!$A$2:$AM$191,$G$1*2-2,FALSE))","v":{"$error":"#VALUE!"}},{"$f":"IF(VLOOKUP(ROW()-6,Wedstijden!$A$2:$AM$191,$G$1*2-1,FALSE)=\"\",\"\",VLOOKUP(ROW()-6,Wedstijden!$A$2:$AM$191,$G$1*2-1,FALSE))","v":{"$error":"#VALUE!"}},null,null,null,null,null,null,null,null,null,null,null,null,null,null,null,null,null,null,null,null,{"$f":"COUNTA(C49:V49)+IF(Gespeeld!D49=\"\",0,Gespeeld!D49)","v":0}]
[{"$f":"IF(VLOOKUP(ROW()-6,Wedstijden!$A$2:$AM$191,$G$1*2-2,FALSE)=\"\",\"\",VLOOKUP(ROW()-6,Wedstijden!$A$2:$AM$191,$G$1*2-2,FALSE))","v":{"$error":"#VALUE!"}},{"$f":"IF(VLOOKUP(ROW()-6,Wedstijden!$A$2:$AM$191,$G$1*2-1,FALSE)=\"\",\"\",VLOOKUP(ROW()-6,Wedstijden!$A$2:$AM$191,$G$1*2-1,FALSE))","v":{"$error":"#VALUE!"}},null,null,null,null,null,null,null,null,null,null,null,null,null,null,null,null,null,null,null,null,{"$f":"COUNTA(C50:V50)+IF(Gespeeld!D50=\"\",0,Gespeeld!D50)","v":0}]
[{"$f":"IF(VLOOKUP(ROW()-6,Wedstijden!$A$2:$AM$191,$G$1*2-2,FALSE)=\"\",\"\",VLOOKUP(ROW()-6,Wedstijden!$A$2:$AM$191,$G$1*2-2,FALSE))","v":{"$error":"#VALUE!"}},{"$f":"IF(VLOOKUP(ROW()-6,Wedstijden!$A$2:$AM$191,$G$1*2-1,FALSE)=\"\",\"\",VLOOKUP(ROW()-6,Wedstijden!$A$2:$AM$191,$G$1*2-1,FALSE))","v":{"$error":"#VALUE!"}},null,null,null,null,null,null,null,null,null,null,null,null,null,null,null,null,null,null,null,null,{"$f":"COUNTA(C51:V51)+IF(Gespeeld!D51=\"\",0,Gespeeld!D51)","v":0}]
[{"$f":"IF(VLOOKUP(ROW()-6,Wedstijden!$A$2:$AM$191,$G$1*2-2,FALSE)=\"\",\"\",VLOOKUP(ROW()-6,Wedstijden!$A$2:$AM$191,$G$1*2-2,FALSE))","v":{"$error":"#VALUE!"}},{"$f":"IF(VLOOKUP(ROW()-6,Wedstijden!$A$2:$AM$191,$G$1*2-1,FALSE)=\"\",\"\",VLOOKUP(ROW()-6,Wedstijden!$A$2:$AM$191,$G$1*2-1,FALSE))","v":{"$error":"#VALUE!"}},null,null,null,null,null,null,null,null,null,null,null,null,null,null,null,null,null,null,null,null,{"$f":"COUNTA(C52:V52)+IF(Gespeeld!D52=\"\",0,Gespeeld!D52)","v":0}]
[{"$f":"IF(VLOOKUP(ROW()-6,Wedstijden!$A$2:$AM$191,$G$1*2-2,FALSE)=\"\",\"\",VLOOKUP(ROW()-6,Wedstijden!$A$2:$AM$191,$G$1*2-2,FALSE))","v":{"$error":"#VALUE!"}},{"$f":"IF(VLOOKUP(ROW()-6,Wedstijden!$A$2:$AM$191,$G$1*2-1,FALSE)=\"\",\"\",VLOOKUP(ROW()-6,Wedstijden!$A$2:$AM$191,$G$1*2-1,FALSE))","v":{"$error":"#VALUE!"}},null,null,null,null,null,null,null,null,null,null,null,null,null,null,null,null,null,null,null,null,{"$f":"COUNTA(C53:V53)+IF(Gespeeld!D53=\"\",0,Gespeeld!D53)","v":0}]
[{"$f":"IF(VLOOKUP(ROW()-6,Wedstijden!$A$2:$AM$191,$G$1*2-2,FALSE)=\"\",\"\",VLOOKUP(ROW()-6,Wedstijden!$A$2:$AM$191,$G$1*2-2,FALSE))","v":{"$error":"#VALUE!"}},{"$f":"IF(VLOOKUP(ROW()-6,Wedstijden!$A$2:$AM$191,$G$1*2-1,FALSE)=\"\",\"\",VLOOKUP(ROW()-6,Wedstijden!$A$2:$AM$191,$G$1*2-1,FALSE))","v":{"$error":"#VALUE!"}},null,null,null,null,null,null,null,null,null,null,null,null,null,null,null,null,null,null,null,null,{"$f":"COUNTA(C54:V54)+IF(Gespeeld!D54=\"\",0,Gespeeld!D54)","v":0}]
[{"$f":"IF(VLOOKUP(ROW()-6,Wedstijden!$A$2:$AM$191,$G$1*2-2,FALSE)=\"\",\"\",VLOOKUP(ROW()-6,Wedstijden!$A$2:$AM$191,$G$1*2-2,FALSE))","v":{"$error":"#VALUE!"}},{"$f":"IF(VLOOKUP(ROW()-6,Wedstijden!$A$2:$AM$191,$G$1*2-1,FALSE)=\"\",\"\",VLOOKUP(ROW()-6,Wedstijden!$A$2:$AM$191,$G$1*2-1,FALSE))","v":{"$error":"#VALUE!"}},null,null,null,null,null,null,null,null,null,null,null,null,null,null,null,null,null,null,null,null,{"$f":"COUNTA(C55:V55)+IF(Gespeeld!D55=\"\",0,Gespeeld!D55)","v":0}]
[{"$f":"IF(VLOOKUP(ROW()-6,Wedstijden!$A$2:$AM$191,$G$1*2-2,FALSE)=\"\",\"\",VLOOKUP(ROW()-6,Wedstijden!$A$2:$AM$191,$G$1*2-2,FALSE))","v":{"$error":"#VALUE!"}},{"$f":"IF(VLOOKUP(ROW()-6,Wedstijden!$A$2:$AM$191,$G$1*2-1,FALSE)=\"\",\"\",VLOOKUP(ROW()-6,Wedstijden!$A$2:$AM$191,$G$1*2-1,FALSE))","v":{"$error":"#VALUE!"}},null,null,null,null,null,null,null,null,null,null,null,null,null,null,null,null,null,null,null,null,{"$f":"COUNTA(C56:V56)+IF(Gespeeld!D56=\"\",0,Gespeeld!D56)","v":0}]
[{"$f":"IF(VLOOKUP(ROW()-6,Wedstijden!$A$2:$AM$191,$G$1*2-2,FALSE)=\"\",\"\",VLOOKUP(ROW()-6,Wedstijden!$A$2:$AM$191,$G$1*2-2,FALSE))","v":{"$error":"#VALUE!"}},{"$f":"IF(VLOOKUP(ROW()-6,Wedstijden!$A$2:$AM$191,$G$1*2-1,FALSE)=\"\",\"\",VLOOKUP(ROW()-6,Wedstijden!$A$2:$AM$191,$G$1*2-1,FALSE))","v":{"$error":"#VALUE!"}},null,null,null,null,null,null,null,null,null,null,null,null,null,null,null,null,null,null,null,null,{"$f":"COUNTA(C57:V57)+IF(Gespeeld!D57=\"\",0,Gespeeld!D57)","v":0}]
[{"$f":"IF(VLOOKUP(ROW()-6,Wedstijden!$A$2:$AM$191,$G$1*2-2,FALSE)=\"\",\"\",VLOOKUP(ROW()-6,Wedstijden!$A$2:$AM$191,$G$1*2-2,FALSE))","v":{"$error":"#VALUE!"}},{"$f":"IF(VLOOKUP(ROW()-6,Wedstijden!$A$2:$AM$191,$G$1*2-1,FALSE)=\"\",\"\",VLOOKUP(ROW()-6,Wedstijden!$A$2:$AM$191,$G$1*2-1,FALSE))","v":{"$error":"#VALUE!"}},null,null,null,null,null,null,null,null,null,null,null,null,null,null,null,null,null,null,null,null,{"$f":"COUNTA(C58:V58)+IF(Gespeeld!D58=\"\",0,Gespeeld!D58)","v":0}]
[{"$f":"IF(VLOOKUP(ROW()-6,Wedstijden!$A$2:$AM$191,$G$1*2-2,FALSE)=\"\",\"\",VLOOKUP(ROW()-6,Wedstijden!$A$2:$AM$191,$G$1*2-2,FALSE))","v":{"$error":"#VALUE!"}},{"$f":"IF(VLOOKUP(ROW()-6,Wedstijden!$A$2:$AM$191,$G$1*2-1,FALSE)=\"\",\"\",VLOOKUP(ROW()-6,Wedstijden!$A$2:$AM$191,$G$1*2-1,FALSE))","v":{"$error":"#VALUE!"}},null,null,null,null,null,null,null,null,null,null,null,null,null,null,null,null,null,null,null,null,{"$f":"COUNTA(C59:V59)+IF(Gespeeld!D59=\"\",0,Gespeeld!D59)","v":0}]
[{"$f":"IF(VLOOKUP(ROW()-6,Wedstijden!$A$2:$AM$191,$G$1*2-2,FALSE)=\"\",\"\",VLOOKUP(ROW()-6,Wedstijden!$A$2:$AM$191,$G$1*2-2,FALSE))","v":{"$error":"#VALUE!"}},{"$f":"IF(VLOOKUP(ROW()-6,Wedstijden!$A$2:$AM$191,$G$1*2-1,FALSE)=\"\",\"\",VLOOKUP(ROW()-6,Wedstijden!$A$2:$AM$191,$G$1*2-1,FALSE))","v":{"$error":"#VALUE!"}},null,null,null,null,null,null,null,null,null,null,null,null,null,null,null,null,null,null,null,null,{"$f":"COUNTA(C60:V60)+IF(Gespeeld!D60=\"\",0,Gespeeld!D60)","v":0}]
[{"$f":"IF(VLOOKUP(ROW()-6,Wedstijden!$A$2:$AM$191,$G$1*2-2,FALSE)=\"\",\"\",VLOOKUP(ROW()-6,Wedstijden!$A$2:$AM$191,$G$1*2-2,FALSE))","v":{"$error":"#VALUE!"}},{"$f":"IF(VLOOKUP(ROW()-6,Wedstijden!$A$2:$AM$191,$G$1*2-1,FALSE)=\"\",\"\",VLOOKUP(ROW()-6,Wedstijden!$A$2:$AM$191,$G$1*2-1,FALSE))","v":{"$error":"#VALUE!"}},null,null,null,null,null,null,null,null,null,null,null,null,null,null,null,null,null,null,null,null,{"$f":"COUNTA(C61:V61)+IF(Gespeeld!D61=\"\",0,Gespeeld!D61)","v":0}]
[{"$f":"IF(VLOOKUP(ROW()-6,Wedstijden!$A$2:$AM$191,$G$1*2-2,FALSE)=\"\",\"\",VLOOKUP(ROW()-6,Wedstijden!$A$2:$AM$191,$G$1*2-2,FALSE))","v":{"$error":"#VALUE!"}},{"$f":"IF(VLOOKUP(ROW()-6,Wedstijden!$A$2:$AM$191,$G$1*2-1,FALSE)=\"\",\"\",VLOOKUP(ROW()-6,Wedstijden!$A$2:$AM$191,$G$1*2-1,FALSE))","v":{"$error":"#VALUE!"}},null,null,null,null,null,null,null,null,null,null,null,null,null,null,null,null,null,null,null,null,{"$f":"COUNTA(C62:V62)+IF(Gespeeld!D62=\"\",0,Gespeeld!D62)","v":0}]
[{"$f":"IF(VLOOKUP(ROW()-6,Wedstijden!$A$2:$AM$191,$G$1*2-2,FALSE)=\"\",\"\",VLOOKUP(ROW()-6,Wedstijden!$A$2:$AM$191,$G$1*2-2,FALSE))","v":{"$error":"#VALUE!"}},{"$f":"IF(VLOOKUP(ROW()-6,Wedstijden!$A$2:$AM$191,$G$1*2-1,FALSE)=\"\",\"\",VLOOKUP(ROW()-6,Wedstijden!$A$2:$AM$191,$G$1*2-1,FALSE))","v":{"$error":"#VALUE!"}},null,null,null,null,null,null,null,null,null,null,null,null,null,null,null,null,null,null,null,null,{"$f":"COUNTA(C63:V63)+IF(Gespeeld!D63=\"\",0,Gespeeld!D63)","v":0}]
[{"$f":"IF(VLOOKUP(ROW()-6,Wedstijden!$A$2:$AM$191,$G$1*2-2,FALSE)=\"\",\"\",VLOOKUP(ROW()-6,Wedstijden!$A$2:$AM$191,$G$1*2-2,FALSE))","v":{"$error":"#VALUE!"}},{"$f":"IF(VLOOKUP(ROW()-6,Wedstijden!$A$2:$AM$191,$G$1*2-1,FALSE)=\"\",\"\",VLOOKUP(ROW()-6,Wedstijden!$A$2:$AM$191,$G$1*2-1,FALSE))","v":{"$error":"#VALUE!"}},null,null,null,null,null,null,null,null,null,null,null,null,null,null,null,null,null,null,null,null,{"$f":"COUNTA(C64:V64)+IF(Gespeeld!D64=\"\",0,Gespeeld!D64)","v":0}]
[{"$f":"IF(VLOOKUP(ROW()-6,Wedstijden!$A$2:$AM$191,$G$1*2-2,FALSE)=\"\",\"\",VLOOKUP(ROW()-6,Wedstijden!$A$2:$AM$191,$G$1*2-2,FALSE))","v":{"$error":"#VALUE!"}},{"$f":"IF(VLOOKUP(ROW()-6,Wedstijden!$A$2:$AM$191,$G$1*2-1,FALSE)=\"\",\"\",VLOOKUP(ROW()-6,Wedstijden!$A$2:$AM$191,$G$1*2-1,FALSE))","v":{"$error":"#VALUE!"}},null,null,null,null,null,null,null,null,null,null,null,null,null,null,null,null,null,null,null,null,{"$f":"COUNTA(C65:V65)+IF(Gespeeld!D65=\"\",0,Gespeeld!D65)","v":0}]
[{"$f":"IF(VLOOKUP(ROW()-6,Wedstijden!$A$2:$AM$191,$G$1*2-2,FALSE)=\"\",\"\",VLOOKUP(ROW()-6,Wedstijden!$A$2:$AM$191,$G$1*2-2,FALSE))","v":{"$error":"#VALUE!"}},{"$f":"IF(VLOOKUP(ROW()-6,Wedstijden!$A$2:$AM$191,$G$1*2-1,FALSE)=\"\",\"\",VLOOKUP(ROW()-6,Wedstijden!$A$2:$AM$191,$G$1*2-1,FALSE))","v":{"$error":"#VALUE!"}},null,null,null,null,null,null,null,null,null,null,null,null,null,null,null,null,null,null,null,null,{"$f":"COUNTA(C66:V66)+IF(Gespeeld!D66=\"\",0,Gespeeld!D66)","v":0}]
[{"$f":"IF(VLOOKUP(ROW()-6,Wedstijden!$A$2:$AM$191,$G$1*2-2,FALSE)=\"\",\"\",VLOOKUP(ROW()-6,Wedstijden!$A$2:$AM$191,$G$1*2-2,FALSE))","v":{"$error":"#VALUE!"}},{"$f":"IF(VLOOKUP(ROW()-6,Wedstijden!$A$2:$AM$191,$G$1*2-1,FALSE)=\"\",\"\",VLOOKUP(ROW()-6,Wedstijden!$A$2:$AM$191,$G$1*2-1,FALSE))","v":{"$error":"#VALUE!"}},null,null,null,null,null,null,null,null,null,null,null,null,null,null,null,null,null,null,null,null,{"$f":"COUNTA(C67:V67)+IF(Gespeeld!D67=\"\",0,Gespeeld!D67)","v":0}]
[{"$f":"IF(VLOOKUP(ROW()-6,Wedstijden!$A$2:$AM$191,$G$1*2-2,FALSE)=\"\",\"\",VLOOKUP(ROW()-6,Wedstijden!$A$2:$AM$191,$G$1*2-2,FALSE))","v":{"$error":"#VALUE!"}},{"$f":"IF(VLOOKUP(ROW()-6,Wedstijden!$A$2:$AM$191,$G$1*2-1,FALSE)=\"\",\"\",VLOOKUP(ROW()-6,Wedstijden!$A$2:$AM$191,$G$1*2-1,FALSE))","v":{"$error":"#VALUE!"}},null,null,null,null,null,null,null,null,null,null,null,null,null,null,null,null,null,null,null,null,{"$f":"COUNTA(C68:V68)+IF(Gespeeld!D68=\"\",0,Gespeeld!D68)","v":0}]
[{"$f":"IF(VLOOKUP(ROW()-6,Wedstijden!$A$2:$AM$191,$G$1*2-2,FALSE)=\"\",\"\",VLOOKUP(ROW()-6,Wedstijden!$A$2:$AM$191,$G$1*2-2,FALSE))","v":{"$error":"#VALUE!"}},{"$f":"IF(VLOOKUP(ROW()-6,Wedstijden!$A$2:$AM$191,$G$1*2-1,FALSE)=\"\",\"\",VLOOKUP(ROW()-6,Wedstijden!$A$2:$AM$191,$G$1*2-1,FALSE))","v":{"$error":"#VALUE!"}},null,null,null,null,null,null,null,null,null,null,null,null,null,null,null,null,null,null,null,null,{"$f":"COUNTA(C69:V69)+IF(Gespeeld!D69=\"\",0,Gespeeld!D69)","v":0}]
[{"$f":"IF(VLOOKUP(ROW()-6,Wedstijden!$A$2:$AM$191,$G$1*2-2,FALSE)=\"\",\"\",VLOOKUP(ROW()-6,Wedstijden!$A$2:$AM$191,$G$1*2-2,FALSE))","v":{"$error":"#VALUE!"}},{"$f":"IF(VLOOKUP(ROW()-6,Wedstijden!$A$2:$AM$191,$G$1*2-1,FALSE)=\"\",\"\",VLOOKUP(ROW()-6,Wedstijden!$A$2:$AM$191,$G$1*2-1,FALSE))","v":{"$error":"#VALUE!"}},null,null,null,null,null,null,null,null,null,null,null,null,null,null,null,null,null,null,null,null,{"$f":"COUNTA(C70:V70)+IF(Gespeeld!D70=\"\",0,Gespeeld!D70)","v":0}]
[{"$f":"IF(VLOOKUP(ROW()-6,Wedstijden!$A$2:$AM$191,$G$1*2-2,FALSE)=\"\",\"\",VLOOKUP(ROW()-6,Wedstijden!$A$2:$AM$191,$G$1*2-2,FALSE))","v":{"$error":"#VALUE!"}},{"$f":"IF(VLOOKUP(ROW()-6,Wedstijden!$A$2:$AM$191,$G$1*2-1,FALSE)=\"\",\"\",VLOOKUP(ROW()-6,Wedstijden!$A$2:$AM$191,$G$1*2-1,FALSE))","v":{"$error":"#VALUE!"}},null,null,null,null,null,null,null,null,null,null,null,null,null,null,null,null,null,null,null,null,{"$f":"COUNTA(C71:V71)+IF(Gespeeld!D71=\"\",0,Gespeeld!D71)","v":0}]
[{"$f":"IF(VLOOKUP(ROW()-6,Wedstijden!$A$2:$AM$191,$G$1*2-2,FALSE)=\"\",\"\",VLOOKUP(ROW()-6,Wedstijden!$A$2:$AM$191,$G$1*2-2,FALSE))","v":{"$error":"#VALUE!"}},{"$f":"IF(VLOOKUP(ROW()-6,Wedstijden!$A$2:$AM$191,$G$1*2-1,FALSE)=\"\",\"\",VLOOKUP(ROW()-6,Wedstijden!$A$2:$AM$191,$G$1*2-1,FALSE))","v":{"$error":"#VALUE!"}},null,null,null,null,null,null,null,null,null,null,null,null,null,null,null,null,null,null,null,null,{"$f":"COUNTA(C72:V72)+IF(Gespeeld!D72=\"\",0,Gespeeld!D72)","v":0}]
[{"$f":"IF(VLOOKUP(ROW()-6,Wedstijden!$A$2:$AM$191,$G$1*2-2,FALSE)=\"\",\"\",VLOOKUP(ROW()-6,Wedstijden!$A$2:$AM$191,$G$1*2-2,FALSE))","v":{"$error":"#VALUE!"}},{"$f":"IF(VLOOKUP(ROW()-6,Wedstijden!$A$2:$AM$191,$G$1*2-1,FALSE)=\"\",\"\",VLOOKUP(ROW()-6,Wedstijden!$A$2:$AM$191,$G$1*2-1,FALSE))","v":{"$error":"#VALUE!"}},null,null,null,null,null,null,null,null,null,null,null,null,null,null,null,null,null,null,null,null,{"$f":"COUNTA(C73:V73)+IF(Gespeeld!D73=\"\",0,Gespeeld!D73)","v":0}]
[{"$f":"IF(VLOOKUP(ROW()-6,Wedstijden!$A$2:$AM$191,$G$1*2-2,FALSE)=\"\",\"\",VLOOKUP(ROW()-6,Wedstijden!$A$2:$AM$191,$G$1*2-2,FALSE))","v":{"$error":"#VALUE!"}},{"$f":"IF(VLOOKUP(ROW()-6,Wedstijden!$A$2:$AM$191,$G$1*2-1,FALSE)=\"\",\"\",VLOOKUP(ROW()-6,Wedstijden!$A$2:$AM$191,$G$1*2-1,FALSE))","v":{"$error":"#VALUE!"}},null,null,null,null,null,null,null,null,null,null,null,null,null,null,null,null,null,null,null,null,{"$f":"COUNTA(C74:V74)+IF(Gespeeld!D74=\"\",0,Gespeeld!D74)","v":0}]
[{"$f":"IF(VLOOKUP(ROW()-6,Wedstijden!$A$2:$AM$191,$G$1*2-2,FALSE)=\"\",\"\",VLOOKUP(ROW()-6,Wedstijden!$A$2:$AM$191,$G$1*2-2,FALSE))","v":{"$error":"#VALUE!"}},{"$f":"IF(VLOOKUP(ROW()-6,Wedstijden!$A$2:$AM$191,$G$1*2-1,FALSE)=\"\",\"\",VLOOKUP(ROW()-6,Wedstijden!$A$2:$AM$191,$G$1*2-1,FALSE))","v":{"$error":"#VALUE!"}},null,null,null,null,null,null,null,null,null,null,null,null,null,null,null,null,null,null,null,null,{"$f":"COUNTA(C75:V75)+IF(Gespeeld!D75=\"\",0,Gespeeld!D75)","v":0}]
[{"$f":"IF(VLOOKUP(ROW()-6,Wedstijden!$A$2:$AM$191,$G$1*2-2,FALSE)=\"\",\"\",VLOOKUP(ROW()-6,Wedstijden!$A$2:$AM$191,$G$1*2-2,FALSE))","v":{"$error":"#VALUE!"}},{"$f":"IF(VLOOKUP(ROW()-6,Wedstijden!$A$2:$AM$191,$G$1*2-1,FALSE)=\"\",\"\",VLOOKUP(ROW()-6,Wedstijden!$A$2:$AM$191,$G$1*2-1,FALSE))","v":{"$error":"#VALUE!"}},null,null,null,null,null,null,null,null,null,null,null,null,null,null,null,null,null,null,null,null,{"$f":"COUNTA(C76:V76)+IF(Gespeeld!D76=\"\",0,Gespeeld!D76)","v":0}]
[{"$f":"IF(VLOOKUP(ROW()-6,Wedstijden!$A$2:$AM$191,$G$1*2-2,FALSE)=\"\",\"\",VLOOKUP(ROW()-6,Wedstijden!$A$2:$AM$191,$G$1*2-2,FALSE))","v":{"$error":"#VALUE!"}},{"$f":"IF(VLOOKUP(ROW()-6,Wedstijden!$A$2:$AM$191,$G$1*2-1,FALSE)=\"\",\"\",VLOOKUP(ROW()-6,Wedstijden!$A$2:$AM$191,$G$1*2-1,FALSE))","v":{"$error":"#VALUE!"}},null,null,null,null,null,null,null,null,null,null,null,null,null,null,null,null,null,null,null,null,{"$f":"COUNTA(C77:V77)+IF(Gespeeld!D77=\"\",0,Gespeeld!D77)","v":0}]
[{"$f":"IF(VLOOKUP(ROW()-6,Wedstijden!$A$2:$AM$191,$G$1*2-2,FALSE)=\"\",\"\",VLOOKUP(ROW()-6,Wedstijden!$A$2:$AM$191,$G$1*2-2,FALSE))","v":{"$error":"#VALUE!"}},{"$f":"IF(VLOOKUP(ROW()-6,Wedstijden!$A$2:$AM$191,$G$1*2-1,FALSE)=\"\",\"\",VLOOKUP(ROW()-6,Wedstijden!$A$2:$AM$191,$G$1*2-1,FALSE))","v":{"$error":"#VALUE!"}},null,null,null,null,null,null,null,null,null,null,null,null,null,null,null,null,null,null,null,null,{"$f":"COUNTA(C78:V78)+IF(Gespeeld!D78=\"\",0,Gespeeld!D78)","v":0}]
[{"$f":"IF(VLOOKUP(ROW()-6,Wedstijden!$A$2:$AM$191,$G$1*2-2,FALSE)=\"\",\"\",VLOOKUP(ROW()-6,Wedstijden!$A$2:$AM$191,$G$1*2-2,FALSE))","v":{"$error":"#VALUE!"}},{"$f":"IF(VLOOKUP(ROW()-6,Wedstijden!$A$2:$AM$191,$G$1*2-1,FALSE)=\"\",\"\",VLOOKUP(ROW()-6,Wedstijden!$A$2:$AM$191,$G$1*2-1,FALSE))","v":{"$error":"#VALUE!"}},null,null,null,null,null,null,null,null,null,null,null,null,null,null,null,null,null,null,null,null,{"$f":"COUNTA(C79:V79)+IF(Gespeeld!D79=\"\",0,Gespeeld!D79)","v":0}]
[{"$f":"IF(VLOOKUP(ROW()-6,Wedstijden!$A$2:$AM$191,$G$1*2-2,FALSE)=\"\",\"\",VLOOKUP(ROW()-6,Wedstijden!$A$2:$AM$191,$G$1*2-2,FALSE))","v":{"$error":"#VALUE!"}},{"$f":"IF(VLOOKUP(ROW()-6,Wedstijden!$A$2:$AM$191,$G$1*2-1,FALSE)=\"\",\"\",VLOOKUP(ROW()-6,Wedstijden!$A$2:$AM$191,$G$1*2-1,FALSE))","v":{"$error":"#VALUE!"}},null,null,null,null,null,null,null,null,null,null,null,null,null,null,null,null,null,null,null,null,{"$f":"COUNTA(C80:V80)+IF(Gespeeld!D80=\"\",0,Gespeeld!D80)","v":"00:00:00"}]
[{"$f":"IF(VLOOKUP(ROW()-6,Wedstijden!$A$2:$AM$191,$G$1*2-2,FALSE)=\"\",\"\",VLOOKUP(ROW()-6,Wedstijden!$A$2:$AM$191,$G$1*2-2,FALSE))","v":{"$error":"#VALUE!"}},{"$f":"IF(VLOOKUP(ROW()-6,Wedstijden!$A$2:$AM$191,$G$1*2-1,FALSE)=\"\",\"\",VLOOKUP(ROW()-6,Wedstijden!$A$2:$AM$191,$G$1*2-1,FALSE))","v":{"$error":"#VALUE!"}},null,null,null,null,null,null,null,null,null,null,null,null,null,null,null,null,null,null,null,null,{"$f":"COUNTA(C81:V81)+IF(Gespeeld!D81=\"\",0,Gespeeld!D81)","v":0}]
[{"$f":"IF(VLOOKUP(ROW()-6,Wedstijden!$A$2:$AM$191,$G$1*2-2,FALSE)=\"\",\"\",VLOOKUP(ROW()-6,Wedstijden!$A$2:$AM$191,$G$1*2-2,FALSE))","v":{"$error":"#VALUE!"}},{"$f":"IF(VLOOKUP(ROW()-6,Wedstijden!$A$2:$AM$191,$G$1*2-1,FALSE)=\"\",\"\",VLOOKUP(ROW()-6,Wedstijden!$A$2:$AM$191,$G$1*2-1,FALSE))","v":{"$error":"#VALUE!"}},null,null,null,null,null,null,null,null,null,null,null,null,null,null,null,null,null,null,null,null,{"$f":"COUNTA(C82:V82)+IF(Gespeeld!D82=\"\",0,Gespeeld!D82)","v":0}]
[{"$f":"IF(VLOOKUP(ROW()-6,Wedstijden!$A$2:$AM$191,$G$1*2-2,FALSE)=\"\",\"\",VLOOKUP(ROW()-6,Wedstijden!$A$2:$AM$191,$G$1*2-2,FALSE))","v":{"$error":"#VALUE!"}},{"$f":"IF(VLOOKUP(ROW()-6,Wedstijden!$A$2:$AM$191,$G$1*2-1,FALSE)=\"\",\"\",VLOOKUP(ROW()-6,Wedstijden!$A$2:$AM$191,$G$1*2-1,FALSE))","v":{"$error":"#VALUE!"}},null,null,null,null,null,null,null,null,null,null,null,null,null,null,null,null,null,null,null,null,{"$f":"COUNTA(C83:V83)+IF(Gespeeld!D83=\"\",0,Gespeeld!D83)","v":0}]
[{"$f":"IF(VLOOKUP(ROW()-6,Wedstijden!$A$2:$AM$191,$G$1*2-2,FALSE)=\"\",\"\",VLOOKUP(ROW()-6,Wedstijden!$A$2:$AM$191,$G$1*2-2,FALSE))","v":{"$error":"#VALUE!"}},{"$f":"IF(VLOOKUP(ROW()-6,Wedstijden!$A$2:$AM$191,$G$1*2-1,FALSE)=\"\",\"\",VLOOKUP(ROW()-6,Wedstijden!$A$2:$AM$191,$G$1*2-1,FALSE))","v":{"$error":"#VALUE!"}},null,null,null,null,null,null,null,null,null,null,null,null,null,null,null,null,null,null,null,null,{"$f":"COUNTA(C84:V84)+IF(Gespeeld!D84=\"\",0,Gespeeld!D84)","v":0}]
[{"$f":"IF(VLOOKUP(ROW()-6,Wedstijden!$A$2:$AM$191,$G$1*2-2,FALSE)=\"\",\"\",VLOOKUP(ROW()-6,Wedstijden!$A$2:$AM$191,$G$1*2-2,FALSE))","v":{"$error":"#VALUE!"}},{"$f":"IF(VLOOKUP(ROW()-6,Wedstijden!$A$2:$AM$191,$G$1*2-1,FALSE)=\"\",\"\",VLOOKUP(ROW()-6,Wedstijden!$A$2:$AM$191,$G$1*2-1,FALSE))","v":{"$error":"#VALUE!"}},null,null,null,null,null,null,null,null,null,null,null,null,null,null,null,null,null,null,null,null,{"$f":"COUNTA(C85:V85)+IF(Gespeeld!D85=\"\",0,Gespeeld!D85)","v":0}]
[{"$f":"IF(VLOOKUP(ROW()-6,Wedstijden!$A$2:$AM$191,$G$1*2-2,FALSE)=\"\",\"\",VLOOKUP(ROW()-6,Wedstijden!$A$2:$AM$191,$G$1*2-2,FALSE))","v":{"$error":"#VALUE!"}},{"$f":"IF(VLOOKUP(ROW()-6,Wedstijden!$A$2:$AM$191,$G$1*2-1,FALSE)=\"\",\"\",VLOOKUP(ROW()-6,Wedstijden!$A$2:$AM$191,$G$1*2-1,FALSE))","v":{"$error":"#VALUE!"}},null,null,null,null,null,null,null,null,null,null,null,null,null,null,null,null,null,null,null,null,{"$f":"COUNTA(C86:V86)+IF(Gespeeld!D86=\"\",0,Gespeeld!D86)","v":0}]
[{"$f":"IF(VLOOKUP(ROW()-6,Wedstijden!$A$2:$AM$191,$G$1*2-2,FALSE)=\"\",\"\",VLOOKUP(ROW()-6,Wedstijden!$A$2:$AM$191,$G$1*2-2,FALSE))","v":{"$error":"#VALUE!"}},{"$f":"IF(VLOOKUP(ROW()-6,Wedstijden!$A$2:$AM$191,$G$1*2-1,FALSE)=\"\",\"\",VLOOKUP(ROW()-6,Wedstijden!$A$2:$AM$191,$G$1*2-1,FALSE))","v":{"$error":"#VALUE!"}},null,null,null,null,null,null,null,null,null,null,null,null,null,null,null,null,null,null,null,null,{"$f":"COUNTA(C87:V87)+IF(Gespeeld!D87=\"\",0,Gespeeld!D87)","v":0}]
[{"$f":"IF(VLOOKUP(ROW()-6,Wedstijden!$A$2:$AM$191,$G$1*2-2,FALSE)=\"\",\"\",VLOOKUP(ROW()-6,Wedstijden!$A$2:$AM$191,$G$1*2-2,FALSE))","v":{"$error":"#VALUE!"}},{"$f":"IF(VLOOKUP(ROW()-6,Wedstijden!$A$2:$AM$191,$G$1*2-1,FALSE)=\"\",\"\",VLOOKUP(ROW()-6,Wedstijden!$A$2:$AM$191,$G$1*2-1,FALSE))","v":{"$error":"#VALUE!"}},null,null,null,null,null,null,null,null,null,null,null,null,null,null,null,null,null,null,null,null,{"$f":"COUNTA(C88:V88)+IF(Gespeeld!D88=\"\",0,Gespeeld!D88)","v":0}]
[{"$f":"IF(VLOOKUP(ROW()-6,Wedstijden!$A$2:$AM$191,$G$1*2-2,FALSE)=\"\",\"\",VLOOKUP(ROW()-6,Wedstijden!$A$2:$AM$191,$G$1*2-2,FALSE))","v":{"$error":"#VALUE!"}},{"$f":"IF(VLOOKUP(ROW()-6,Wedstijden!$A$2:$AM$191,$G$1*2-1,FALSE)=\"\",\"\",VLOOKUP(ROW()-6,Wedstijden!$A$2:$AM$191,$G$1*2-1,FALSE))","v":{"$error":"#VALUE!"}},null,null,null,null,null,null,null,null,null,null,null,null,null,null,null,null,null,null,null,null,{"$f":"COUNTA(C89:V89)+IF(Gespeeld!D89=\"\",0,Gespeeld!D89)","v":0}]
[{"$f":"IF(VLOOKUP(ROW()-6,Wedstijden!$A$2:$AM$191,$G$1*2-2,FALSE)=\"\",\"\",VLOOKUP(ROW()-6,Wedstijden!$A$2:$AM$191,$G$1*2-2,FALSE))","v":{"$error":"#VALUE!"}},{"$f":"IF(VLOOKUP(ROW()-6,Wedstijden!$A$2:$AM$191,$G$1*2-1,FALSE)=\"\",\"\",VLOOKUP(ROW()-6,Wedstijden!$A$2:$AM$191,$G$1*2-1,FALSE))","v":{"$error":"#VALUE!"}},null,null,null,null,null,null,null,null,null,null,null,null,null,null,null,null,null,null,null,null,{"$f":"COUNTA(C90:V90)+IF(Gespeeld!D90=\"\",0,Gespeeld!D90)","v":0}]
[{"$f":"IF(VLOOKUP(ROW()-6,Wedstijden!$A$2:$AM$191,$G$1*2-2,FALSE)=\"\",\"\",VLOOKUP(ROW()-6,Wedstijden!$A$2:$AM$191,$G$1*2-2,FALSE))","v":{"$error":"#VALUE!"}},{"$f":"IF(VLOOKUP(ROW()-6,Wedstijden!$A$2:$AM$191,$G$1*2-1,FALSE)=\"\",\"\",VLOOKUP(ROW()-6,Wedstijden!$A$2:$AM$191,$G$1*2-1,FALSE))","v":{"$error":"#VALUE!"}},null,null,null,null,null,null,null,null,null,null,null,null,null,null,null,null,null,null,null,null,{"$f":"COUNTA(C91:V91)+IF(Gespeeld!D91=\"\",0,Gespeeld!D91)","v":0}]
[{"$f":"IF(VLOOKUP(ROW()-6,Wedstijden!$A$2:$AM$191,$G$1*2-2,FALSE)=\"\",\"\",VLOOKUP(ROW()-6,Wedstijden!$A$2:$AM$191,$G$1*2-2,FALSE))","v":{"$error":"#VALUE!"}},{"$f":"IF(VLOOKUP(ROW()-6,Wedstijden!$A$2:$AM$191,$G$1*2-1,FALSE)=\"\",\"\",VLOOKUP(ROW()-6,Wedstijden!$A$2:$AM$191,$G$1*2-1,FALSE))","v":{"$error":"#VALUE!"}},null,null,null,null,null,null,null,null,null,null,null,null,null,null,null,null,null,null,null,null,{"$f":"COUNTA(C92:V92)+IF(Gespeeld!D92=\"\",0,Gespeeld!D92)","v":0}]
[{"$f":"IF(VLOOKUP(ROW()-6,Wedstijden!$A$2:$AM$191,$G$1*2-2,FALSE)=\"\",\"\",VLOOKUP(ROW()-6,Wedstijden!$A$2:$AM$191,$G$1*2-2,FALSE))","v":{"$error":"#VALUE!"}},{"$f":"IF(VLOOKUP(ROW()-6,Wedstijden!$A$2:$AM$191,$G$1*2-1,FALSE)=\"\",\"\",VLOOKUP(ROW()-6,Wedstijden!$A$2:$AM$191,$G$1*2-1,FALSE))","v":{"$error":"#VALUE!"}},null,null,null,null,null,null,null,null,null,null,null,null,null,null,null,null,null,null,null,null,{"$f":"COUNTA(C93:V93)+IF(Gespeeld!D93=\"\",0,Gespeeld!D93)","v":0}]
[{"$f":"IF(VLOOKUP(ROW()-6,Wedstijden!$A$2:$AM$191,$G$1*2-2,FALSE)=\"\",\"\",VLOOKUP(ROW()-6,Wedstijden!$A$2:$AM$191,$G$1*2-2,FALSE))","v":{"$error":"#VALUE!"}},{"$f":"IF(VLOOKUP(ROW()-6,Wedstijden!$A$2:$AM$191,$G$1*2-1,FALSE)=\"\",\"\",VLOOKUP(ROW()-6,Wedstijden!$A$2:$AM$191,$G$1*2-1,FALSE))","v":{"$error":"#VALUE!"}},null,null,null,null,null,null,null,null,null,null,null,null,null,null,null,null,null,null,null,null,{"$f":"COUNTA(C94:V94)+IF(Gespeeld!D94=\"\",0,Gespeeld!D94)","v":0}]
[{"$f":"IF(VLOOKUP(ROW()-6,Wedstijden!$A$2:$AM$191,$G$1*2-2,FALSE)=\"\",\"\",VLOOKUP(ROW()-6,Wedstijden!$A$2:$AM$191,$G$1*2-2,FALSE))","v":{"$error":"#VALUE!"}},{"$f":"IF(VLOOKUP(ROW()-6,Wedstijden!$A$2:$AM$191,$G$1*2-1,FALSE)=\"\",\"\",VLOOKUP(ROW()-6,Wedstijden!$A$2:$AM$191,$G$1*2-1,FALSE))","v":{"$error":"#VALUE!"}},null,null,null,null,null,null,null,null,null,null,null,null,null,null,null,null,null,null,null,null,{"$f":"COUNTA(C95:V95)+IF(Gespeeld!D95=\"\",0,Gespeeld!D95)","v":0}]
[{"$f":"IF(VLOOKUP(ROW()-6,Wedstijden!$A$2:$AM$191,$G$1*2-2,FALSE)=\"\",\"\",VLOOKUP(ROW()-6,Wedstijden!$A$2:$AM$191,$G$1*2-2,FALSE))","v":{"$error":"#VALUE!"}},{"$f":"IF(VLOOKUP(ROW()-6,Wedstijden!$A$2:$AM$191,$G$1*2-1,FALSE)=\"\",\"\",VLOOKUP(ROW()-6,Wedstijden!$A$2:$AM$191,$G$1*2-1,FALSE))","v":{"$error":"#VALUE!"}},null,null,null,null,null,null,null,null,null,null,null,null,null,null,null,null,null,null,null,null,{"$f":"COUNTA(C96:V96)+IF(Gespeeld!D96=\"\",0,Gespeeld!D96)","v":0}]
[{"$f":"IF(VLOOKUP(ROW()-6,Wedstijden!$A$2:$AM$191,$G$1*2-2,FALSE)=\"\",\"\",VLOOKUP(ROW()-6,Wedstijden!$A$2:$AM$191,$G$1*2-2,FALSE))","v":{"$error":"#VALUE!"}},{"$f":"IF(VLOOKUP(ROW()-6,Wedstijden!$A$2:$AM$191,$G$1*2-1,FALSE)=\"\",\"\",VLOOKUP(ROW()-6,Wedstijden!$A$2:$AM$191,$G$1*2-1,FALSE))","v":{"$error":"#VALUE!"}},null,null,null,null,null,null,null,null,null,null,null,null,null,null,null,null,null,null,null,null,{"$f":"COUNTA(C97:V97)+IF(Gespeeld!D97=\"\",0,Gespeeld!D97)","v":0}]
[{"$f":"IF(VLOOKUP(ROW()-6,Wedstijden!$A$2:$AM$191,$G$1*2-2,FALSE)=\"\",\"\",VLOOKUP(ROW()-6,Wedstijden!$A$2:$AM$191,$G$1*2-2,FALSE))","v":{"$error":"#VALUE!"}},{"$f":"IF(VLOOKUP(ROW()-6,Wedstijden!$A$2:$AM$191,$G$1*2-1,FALSE)=\"\",\"\",VLOOKUP(ROW()-6,Wedstijden!$A$2:$AM$191,$G$1*2-1,FALSE))","v":{"$error":"#VALUE!"}},null,null,null,null,null,null,null,null,null,null,null,null,null,null,null,null,null,null,null,null,{"$f":"COUNTA(C98:V98)+IF(Gespeeld!D98=\"\",0,Gespeeld!D98)","v":0}]
[{"$f":"IF(VLOOKUP(ROW()-6,Wedstijden!$A$2:$AM$191,$G$1*2-2,FALSE)=\"\",\"\",VLOOKUP(ROW()-6,Wedstijden!$A$2:$AM$191,$G$1*2-2,FALSE))","v":{"$error":"#VALUE!"}},{"$f":"IF(VLOOKUP(ROW()-6,Wedstijden!$A$2:$AM$191,$G$1*2-1,FALSE)=\"\",\"\",VLOOKUP(ROW()-6,Wedstijden!$A$2:$AM$191,$G$1*2-1,FALSE))","v":{"$error":"#VALUE!"}},null,null,null,null,null,null,null,null,null,null,null,null,null,null,null,null,null,null,null,null,{"$f":"COUNTA(C99:V99)+IF(Gespeeld!D99=\"\",0,Gespeeld!D99)","v":0}]
[{"$f":"IF(VLOOKUP(ROW()-6,Wedstijden!$A$2:$AM$191,$G$1*2-2,FALSE)=\"\",\"\",VLOOKUP(ROW()-6,Wedstijden!$A$2:$AM$191,$G$1*2-2,FALSE))","v":{"$error":"#VALUE!"}},{"$f":"IF(VLOOKUP(ROW()-6,Wedstijden!$A$2:$AM$191,$G$1*2-1,FALSE)=\"\",\"\",VLOOKUP(ROW()-6,Wedstijden!$A$2:$AM$191,$G$1*2-1,FALSE))","v":{"$error":"#VALUE!"}},null,null,null,null,null,null,null,null,null,null,null,null,null,null,null,null,null,null,null,null,{"$f":"COUNTA(C100:V100)+IF(Gespeeld!D100=\"\",0,Gespeeld!D100)","v":0}]
[{"$f":"IF(VLOOKUP(ROW()-6,Wedstijden!$A$2:$AM$191,$G$1*2-2,FALSE)=\"\",\"\",VLOOKUP(ROW()-6,Wedstijden!$A$2:$AM$191,$G$1*2-2,FALSE))","v":{"$error":"#VALUE!"}},{"$f":"IF(VLOOKUP(ROW()-6,Wedstijden!$A$2:$AM$191,$G$1*2-1,FALSE)=\"\",\"\",VLOOKUP(ROW()-6,Wedstijden!$A$2:$AM$191,$G$1*2-1,FALSE))","v":{"$error":"#VALUE!"}},null,null,null,null,null,null,null,null,null,null,null,null,null,null,null,null,null,null,null,null,{"$f":"COUNTA(C101:V101)+IF(Gespeeld!D101=\"\",0,Gespeeld!D101)","v":0}]
[{"$f":"IF(VLOOKUP(ROW()-6,Wedstijden!$A$2:$AM$191,$G$1*2-2,FALSE)=\"\",\"\",VLOOKUP(ROW()-6,Wedstijden!$A$2:$AM$191,$G$1*2-2,FALSE))","v":{"$error":"#VALUE!"}},{"$f":"IF(VLOOKUP(ROW()-6,Wedstijden!$A$2:$AM$191,$G$1*2-1,FALSE)=\"\",\"\",VLOOKUP(ROW()-6,Wedstijden!$A$2:$AM$191,$G$1*2-1,FALSE))","v":{"$error":"#VALUE!"}},null,null,null,null,null,null,null,null,null,null,null,null,null,null,null,null,null,null,null,null,{"$f":"COUNTA(C102:V102)+IF(Gespeeld!D102=\"\",0,Gespeeld!D102)","v":0}]
[{"$f":"IF(VLOOKUP(ROW()-6,Wedstijden!$A$2:$AM$191,$G$1*2-2,FALSE)=\"\",\"\",VLOOKUP(ROW()-6,Wedstijden!$A$2:$AM$191,$G$1*2-2,FALSE))","v":{"$error":"#VALUE!"}},{"$f":"IF(VLOOKUP(ROW()-6,Wedstijden!$A$2:$AM$191,$G$1*2-1,FALSE)=\"\",\"\",VLOOKUP(ROW()-6,Wedstijden!$A$2:$AM$191,$G$1*2-1,FALSE))","v":{"$error":"#VALUE!"}},null,null,null,null,null,null,null,null,null,null,null,null,null,null,null,null,null,null,null,null,{"$f":"COUNTA(C103:V103)+IF(Gespeeld!D103=\"\",0,Gespeeld!D103)","v":0}]
[{"$f":"IF(VLOOKUP(ROW()-6,Wedstijden!$A$2:$AM$191,$G$1*2-2,FALSE)=\"\",\"\",VLOOKUP(ROW()-6,Wedstijden!$A$2:$AM$191,$G$1*2-2,FALSE))","v":{"$error":"#VALUE!"}},{"$f":"IF(VLOOKUP(ROW()-6,Wedstijden!$A$2:$AM$191,$G$1*2-1,FALSE)=\"\",\"\",VLOOKUP(ROW()-6,Wedstijden!$A$2:$AM$191,$G$1*2-1,FALSE))","v":{"$error":"#VALUE!"}},null,null,null,null,null,null,null,null,null,null,null,null,null,null,null,null,null,null,null,null,{"$f":"COUNTA(C104:V104)+IF(Gespeeld!D104=\"\",0,Gespeeld!D104)","v":0}]
[{"$f":"IF(VLOOKUP(ROW()-6,Wedstijden!$A$2:$AM$191,$G$1*2-2,FALSE)=\"\",\"\",VLOOKUP(ROW()-6,Wedstijden!$A$2:$AM$191,$G$1*2-2,FALSE))","v":{"$error":"#VALUE!"}},{"$f":"IF(VLOOKUP(ROW()-6,Wedstijden!$A$2:$AM$191,$G$1*2-1,FALSE)=\"\",\"\",VLOOKUP(ROW()-6,Wedstijden!$A$2:$AM$191,$G$1*2-1,FALSE))","v":{"$error":"#VALUE!"}},null,null,null,null,null,null,null,null,null,null,null,null,null,null,null,null,null,null,null,null,{"$f":"COUNTA(C105:V105)+IF(Gespeeld!D105=\"\",0,Gespeeld!D105)","v":0}]
[{"$f":"IF(VLOOKUP(ROW()-6,Wedstijden!$A$2:$AM$191,$G$1*2-2,FALSE)=\"\",\"\",VLOOKUP(ROW()-6,Wedstijden!$A$2:$AM$191,$G$1*2-2,FALSE))","v":{"$error":"#VALUE!"}},{"$f":"IF(VLOOKUP(ROW()-6,Wedstijden!$A$2:$AM$191,$G$1*2-1,FALSE)=\"\",\"\",VLOOKUP(ROW()-6,Wedstijden!$A$2:$AM$191,$G$1*2-1,FALSE))","v":{"$error":"#VALUE!"}},null,null,null,null,null,null,null,null,null,null,null,null,null,null,null,null,null,null,null,null,{"$f":"COUNTA(C106:V106)+IF(Gespeeld!D106=\"\",0,Gespeeld!D106)","v":0}]
[{"$f":"IF(VLOOKUP(ROW()-6,Wedstijden!$A$2:$AM$191,$G$1*2-2,FALSE)=\"\",\"\",VLOOKUP(ROW()-6,Wedstijden!$A$2:$AM$191,$G$1*2-2,FALSE))","v":{"$error":"#VALUE!"}},{"$f":"IF(VLOOKUP(ROW()-6,Wedstijden!$A$2:$AM$191,$G$1*2-1,FALSE)=\"\",\"\",VLOOKUP(ROW()-6,Wedstijden!$A$2:$AM$191,$G$1*2-1,FALSE))","v":{"$error":"#VALUE!"}},null,null,null,null,null,null,null,null,null,null,null,null,null,null,null,null,null,null,null,null,{"$f":"COUNTA(C107:V107)+IF(Gespeeld!D107=\"\",0,Gespeeld!D107)","v":0}]
[{"$f":"IF(VLOOKUP(ROW()-6,Wedstijden!$A$2:$AM$191,$G$1*2-2,FALSE)=\"\",\"\",VLOOKUP(ROW()-6,Wedstijden!$A$2:$AM$191,$G$1*2-2,FALSE))","v":{"$error":"#VALUE!"}},{"$f":"IF(VLOOKUP(ROW()-6,Wedstijden!$A$2:$AM$191,$G$1*2-1,FALSE)=\"\",\"\",VLOOKUP(ROW()-6,Wedstijden!$A$2:$AM$191,$G$1*2-1,FALSE))","v":{"$error":"#VALUE!"}},null,null,null,null,null,null,null,null,null,null,null,null,null,null,null,null,null,null,null,null,{"$f":"COUNTA(C108:V108)+IF(Gespeeld!D108=\"\",0,Gespeeld!D108)","v":0}]
[{"$f":"IF(VLOOKUP(ROW()-6,Wedstijden!$A$2:$AM$191,$G$1*2-2,FALSE)=\"\",\"\",VLOOKUP(ROW()-6,Wedstijden!$A$2:$AM$191,$G$1*2-2,FALSE))","v":{"$error":"#VALUE!"}},{"$f":"IF(VLOOKUP(ROW()-6,Wedstijden!$A$2:$AM$191,$G$1*2-1,FALSE)=\"\",\"\",VLOOKUP(ROW()-6,Wedstijden!$A$2:$AM$191,$G$1*2-1,FALSE))","v":{"$error":"#VALUE!"}},null,null,null,null,null,null,null,null,null,null,null,null,null,null,null,null,null,null,null,null,{"$f":"COUNTA(C109:V109)+IF(Gespeeld!D109=\"\",0,Gespeeld!D109)","v":0}]
[{"$f":"IF(VLOOKUP(ROW()-6,Wedstijden!$A$2:$AM$191,$G$1*2-2,FALSE)=\"\",\"\",VLOOKUP(ROW()-6,Wedstijden!$A$2:$AM$191,$G$1*2-2,FALSE))","v":{"$error":"#VALUE!"}},{"$f":"IF(VLOOKUP(ROW()-6,Wedstijden!$A$2:$AM$191,$G$1*2-1,FALSE)=\"\",\"\",VLOOKUP(ROW()-6,Wedstijden!$A$2:$AM$191,$G$1*2-1,FALSE))","v":{"$error":"#VALUE!"}},null,null,null,null,null,null,null,null,null,null,null,null,null,null,null,null,null,null,null,null,{"$f":"COUNTA(C110:V110)+IF(Gespeeld!D110=\"\",0,Gespeeld!D110)","v":0}]
[{"$f":"IF(VLOOKUP(ROW()-6,Wedstijden!$A$2:$AM$191,$G$1*2-2,FALSE)=\"\",\"\",VLOOKUP(ROW()-6,Wedstijden!$A$2:$AM$191,$G$1*2-2,FALSE))","v":{"$error":"#VALUE!"}},{"$f":"IF(VLOOKUP(ROW()-6,Wedstijden!$A$2:$AM$191,$G$1*2-1,FALSE)=\"\",\"\",VLOOKUP(ROW()-6,Wedstijden!$A$2:$AM$191,$G$1*2-1,FALSE))","v":{"$error":"#VALUE!"}},null,null,null,null,null,null,null,null,null,null,null,null,null,null,null,null,null,null,null,null,{"$f":"COUNTA(C111:V111)+IF(Gespeeld!D111=\"\",0,Gespeeld!D111)","v":0}]
[{"$f":"IF(VLOOKUP(ROW()-6,Wedstijden!$A$2:$AM$191,$G$1*2-2,FALSE)=\"\",\"\",VLOOKUP(ROW()-6,Wedstijden!$A$2:$AM$191,$G$1*2-2,FALSE))","v":{"$error":"#VALUE!"}},{"$f":"IF(VLOOKUP(ROW()-6,Wedstijden!$A$2:$AM$191,$G$1*2-1,FALSE)=\"\",\"\",VLOOKUP(ROW()-6,Wedstijden!$A$2:$AM$191,$G$1*2-1,FALSE))","v":{"$error":"#VALUE!"}},null,null,null,null,null,null,null,null,null,null,null,null,null,null,null,null,null,null,null,null,{"$f":"COUNTA(C112:V112)+IF(Gespeeld!D112=\"\",0,Gespeeld!D112)","v":0}]
[{"$f":"IF(VLOOKUP(ROW()-6,Wedstijden!$A$2:$AM$191,$G$1*2-2,FALSE)=\"\",\"\",VLOOKUP(ROW()-6,Wedstijden!$A$2:$AM$191,$G$1*2-2,FALSE))","v":{"$error":"#VALUE!"}},{"$f":"IF(VLOOKUP(ROW()-6,Wedstijden!$A$2:$AM$191,$G$1*2-1,FALSE)=\"\",\"\",VLOOKUP(ROW()-6,Wedstijden!$A$2:$AM$191,$G$1*2-1,FALSE))","v":{"$error":"#VALUE!"}},null,null,null,null,null,null,null,null,null,null,null,null,null,null,null,null,null,null,null,null,{"$f":"COUNTA(C113:V113)+IF(Gespeeld!D113=\"\",0,Gespeeld!D113)","v":0}]
[{"$f":"IF(VLOOKUP(ROW()-6,Wedstijden!$A$2:$AM$191,$G$1*2-2,FALSE)=\"\",\"\",VLOOKUP(ROW()-6,Wedstijden!$A$2:$AM$191,$G$1*2-2,FALSE))","v":{"$error":"#VALUE!"}},{"$f":"IF(VLOOKUP(ROW()-6,Wedstijden!$A$2:$AM$191,$G$1*2-1,FALSE)=\"\",\"\",VLOOKUP(ROW()-6,Wedstijden!$A$2:$AM$191,$G$1*2-1,FALSE))","v":{"$error":"#VALUE!"}},null,null,null,null,null,null,null,null,null,null,null,null,null,null,null,null,null,null,null,null,{"$f":"COUNTA(C114:V114)+IF(Gespeeld!D114=\"\",0,Gespeeld!D114)","v":0}]
[{"$f":"IF(VLOOKUP(ROW()-6,Wedstijden!$A$2:$AM$191,$G$1*2-2,FALSE)=\"\",\"\",VLOOKUP(ROW()-6,Wedstijden!$A$2:$AM$191,$G$1*2-2,FALSE))","v":{"$error":"#VALUE!"}},{"$f":"IF(VLOOKUP(ROW()-6,Wedstijden!$A$2:$AM$191,$G$1*2-1,FALSE)=\"\",\"\",VLOOKUP(ROW()-6,Wedstijden!$A$2:$AM$191,$G$1*2-1,FALSE))","v":{"$error":"#VALUE!"}},null,null,null,null,null,null,null,null,null,null,null,null,null,null,null,null,null,null,null,null,{"$f":"COUNTA(C115:V115)+IF(Gespeeld!D115=\"\",0,Gespeeld!D115)","v":0}]
[{"$f":"IF(VLOOKUP(ROW()-6,Wedstijden!$A$2:$AM$191,$G$1*2-2,FALSE)=\"\",\"\",VLOOKUP(ROW()-6,Wedstijden!$A$2:$AM$191,$G$1*2-2,FALSE))","v":{"$error":"#VALUE!"}},{"$f":"IF(VLOOKUP(ROW()-6,Wedstijden!$A$2:$AM$191,$G$1*2-1,FALSE)=\"\",\"\",VLOOKUP(ROW()-6,Wedstijden!$A$2:$AM$191,$G$1*2-1,FALSE))","v":{"$error":"#VALUE!"}},null,null,null,null,null,null,null,null,null,null,null,null,null,null,null,null,null,null,null,null,{"$f":"COUNTA(C116:V116)+IF(Gespeeld!D116=\"\",0,Gespeeld!D116)","v":0}]
[{"$f":"IF(VLOOKUP(ROW()-6,Wedstijden!$A$2:$AM$191,$G$1*2-2,FALSE)=\"\",\"\",VLOOKUP(ROW()-6,Wedstijden!$A$2:$AM$191,$G$1*2-2,FALSE))","v":{"$error":"#VALUE!"}},{"$f":"IF(VLOOKUP(ROW()-6,Wedstijden!$A$2:$AM$191,$G$1*2-1,FALSE)=\"\",\"\",VLOOKUP(ROW()-6,Wedstijden!$A$2:$AM$191,$G$1*2-1,FALSE))","v":{"$error":"#VALUE!"}},null,null,null,null,null,null,null,null,null,null,null,null,null,null,null,null,null,null,null,null,{"$f":"COUNTA(C117:V117)+IF(Gespeeld!D117=\"\",0,Gespeeld!D117)","v":0}]
[{"$f":"IF(VLOOKUP(ROW()-6,Wedstijden!$A$2:$AM$191,$G$1*2-2,FALSE)=\"\",\"\",VLOOKUP(ROW()-6,Wedstijden!$A$2:$AM$191,$G$1*2-2,FALSE))","v":{"$error":"#VALUE!"}},{"$f":"IF(VLOOKUP(ROW()-6,Wedstijden!$A$2:$AM$191,$G$1*2-1,FALSE)=\"\",\"\",VLOOKUP(ROW()-6,Wedstijden!$A$2:$AM$191,$G$1*2-1,FALSE))","v":{"$error":"#VALUE!"}},null,null,null,null,null,null,null,null,null,null,null,null,null,null,null,null,null,null,null,null,{"$f":"COUNTA(C118:V118)+IF(Gespeeld!D118=\"\",0,Gespeeld!D118)","v":0}]
[{"$f":"IF(VLOOKUP(ROW()-6,Wedstijden!$A$2:$AM$191,$G$1*2-2,FALSE)=\"\",\"\",VLOOKUP(ROW()-6,Wedstijden!$A$2:$AM$191,$G$1*2-2,FALSE))","v":{"$error":"#VALUE!"}},{"$f":"IF(VLOOKUP(ROW()-6,Wedstijden!$A$2:$AM$191,$G$1*2-1,FALSE)=\"\",\"\",VLOOKUP(ROW()-6,Wedstijden!$A$2:$AM$191,$G$1*2-1,FALSE))","v":{"$error":"#VALUE!"}},null,null,null,null,null,null,null,null,null,null,null,null,null,null,null,null,null,null,null,null,{"$f":"COUNTA(C119:V119)+IF(Gespeeld!D119=\"\",0,Gespeeld!D119)","v":0}]
[{"$f":"IF(VLOOKUP(ROW()-6,Wedstijden!$A$2:$AM$191,$G$1*2-2,FALSE)=\"\",\"\",VLOOKUP(ROW()-6,Wedstijden!$A$2:$AM$191,$G$1*2-2,FALSE))","v":{"$error":"#VALUE!"}},{"$f":"IF(VLOOKUP(ROW()-6,Wedstijden!$A$2:$AM$191,$G$1*2-1,FALSE)=\"\",\"\",VLOOKUP(ROW()-6,Wedstijden!$A$2:$AM$191,$G$1*2-1,FALSE))","v":{"$error":"#VALUE!"}},null,null,null,null,null,null,null,null,null,null,null,null,null,null,null,null,null,null,null,null,{"$f":"COUNTA(C120:V120)+IF(Gespeeld!D120=\"\",0,Gespeeld!D120)","v":0}]
[{"$f":"IF(VLOOKUP(ROW()-6,Wedstijden!$A$2:$AM$191,$G$1*2-2,FALSE)=\"\",\"\",VLOOKUP(ROW()-6,Wedstijden!$A$2:$AM$191,$G$1*2-2,FALSE))","v":{"$error":"#VALUE!"}},{"$f":"IF(VLOOKUP(ROW()-6,Wedstijden!$A$2:$AM$191,$G$1*2-1,FALSE)=\"\",\"\",VLOOKUP(ROW()-6,Wedstijden!$A$2:$AM$191,$G$1*2-1,FALSE))","v":{"$error":"#VALUE!"}},null,null,null,null,null,null,null,null,null,null,null,null,null,null,null,null,null,null,null,null,{"$f":"COUNTA(C121:V121)+IF(Gespeeld!D121=\"\",0,Gespeeld!D121)","v":0}]
[{"$f":"IF(VLOOKUP(ROW()-6,Wedstijden!$A$2:$AM$191,$G$1*2-2,FALSE)=\"\",\"\",VLOOKUP(ROW()-6,Wedstijden!$A$2:$AM$191,$G$1*2-2,FALSE))","v":{"$error":"#VALUE!"}},{"$f":"IF(VLOOKUP(ROW()-6,Wedstijden!$A$2:$AM$191,$G$1*2-1,FALSE)=\"\",\"\",VLOOKUP(ROW()-6,Wedstijden!$A$2:$AM$191,$G$1*2-1,FALSE))","v":{"$error":"#VALUE!"}},null,null,null,null,null,null,null,null,null,null,null,null,null,null,null,null,null,null,null,null,{"$f":"COUNTA(C122:V122)+IF(Gespeeld!D122=\"\",0,Gespeeld!D122)","v":0}]
[{"$f":"IF(VLOOKUP(ROW()-6,Wedstijden!$A$2:$AM$191,$G$1*2-2,FALSE)=\"\",\"\",VLOOKUP(ROW()-6,Wedstijden!$A$2:$AM$191,$G$1*2-2,FALSE))","v":{"$error":"#VALUE!"}},{"$f":"IF(VLOOKUP(ROW()-6,Wedstijden!$A$2:$AM$191,$G$1*2-1,FALSE)=\"\",\"\",VLOOKUP(ROW()-6,Wedstijden!$A$2:$AM$191,$G$1*2-1,FALSE))","v":{"$error":"#VALUE!"}},null,null,null,null,null,null,null,null,null,null,null,null,null,null,null,null,null,null,null,null,{"$f":"COUNTA(C123:V123)+IF(Gespeeld!D123=\"\",0,Gespeeld!D123)","v":0}]
[{"$f":"IF(VLOOKUP(ROW()-6,Wedstijden!$A$2:$AM$191,$G$1*2-2,FALSE)=\"\",\"\",VLOOKUP(ROW()-6,Wedstijden!$A$2:$AM$191,$G$1*2-2,FALSE))","v":{"$error":"#VALUE!"}},{"$f":"IF(VLOOKUP(ROW()-6,Wedstijden!$A$2:$AM$191,$G$1*2-1,FALSE)=\"\",\"\",VLOOKUP(ROW()-6,Wedstijden!$A$2:$AM$191,$G$1*2-1,FALSE))","v":{"$error":"#VALUE!"}},null,null,null,null,null,null,null,null,null,null,null,null,null,null,null,null,null,null,null,null,{"$f":"COUNTA(C124:V124)+IF(Gespeeld!D124=\"\",0,Gespeeld!D124)","v":0}]
[{"$f":"IF(VLOOKUP(ROW()-6,Wedstijden!$A$2:$AM$191,$G$1*2-2,FALSE)=\"\",\"\",VLOOKUP(ROW()-6,Wedstijden!$A$2:$AM$191,$G$1*2-2,FALSE))","v":{"$error":"#VALUE!"}},{"$f":"IF(VLOOKUP(ROW()-6,Wedstijden!$A$2:$AM$191,$G$1*2-1,FALSE)=\"\",\"\",VLOOKUP(ROW()-6,Wedstijden!$A$2:$AM$191,$G$1*2-1,FALSE))","v":{"$error":"#VALUE!"}},null,null,null,null,null,null,null,null,null,null,null,null,null,null,null,null,null,null,null,null,{"$f":"COUNTA(C125:V125)+IF(Gespeeld!D125=\"\",0,Gespeeld!D125)","v":0}]
[{"$f":"IF(VLOOKUP(ROW()-6,Wedstijden!$A$2:$AM$191,$G$1*2-2,FALSE)=\"\",\"\",VLOOKUP(ROW()-6,Wedstijden!$A$2:$AM$191,$G$1*2-2,FALSE))","v":{"$error":"#VALUE!"}},{"$f":"IF(VLOOKUP(ROW()-6,Wedstijden!$A$2:$AM$191,$G$1*2-1,FALSE)=\"\",\"\",VLOOKUP(ROW()-6,Wedstijden!$A$2:$AM$191,$G$1*2-1,FALSE))","v":{"$error":"#VALUE!"}},null,null,null,null,null,null,null,null,null,null,null,null,null,null,null,null,null,null,null,null,{"$f":"COUNTA(C126:V126)+IF(Gespeeld!D126=\"\",0,Gespeeld!D126)","v":0}]
[{"$f":"IF(VLOOKUP(ROW()-6,Wedstijden!$A$2:$AM$191,$G$1*2-2,FALSE)=\"\",\"\",VLOOKUP(ROW()-6,Wedstijden!$A$2:$AM$191,$G$1*2-2,FALSE))","v":{"$error":"#VALUE!"}},{"$f":"IF(VLOOKUP(ROW()-6,Wedstijden!$A$2:$AM$191,$G$1*2-1,FALSE)=\"\",\"\",VLOOKUP(ROW()-6,Wedstijden!$A$2:$AM$191,$G$1*2-1,FALSE))","v":{"$error":"#VALUE!"}},null,null,null,null,null,null,null,null,null,null,null,null,null,null,null,null,null,null,null,null,{"$f":"COUNTA(C127:V127)+IF(Gespeeld!D127=\"\",0,Gespeeld!D127)","v":0}]
[{"$f":"IF(VLOOKUP(ROW()-6,Wedstijden!$A$2:$AM$191,$G$1*2-2,FALSE)=\"\",\"\",VLOOKUP(ROW()-6,Wedstijden!$A$2:$AM$191,$G$1*2-2,FALSE))","v":{"$error":"#VALUE!"}},{"$f":"IF(VLOOKUP(ROW()-6,Wedstijden!$A$2:$AM$191,$G$1*2-1,FALSE)=\"\",\"\",VLOOKUP(ROW()-6,Wedstijden!$A$2:$AM$191,$G$1*2-1,FALSE))","v":{"$error":"#VALUE!"}},null,null,null,null,null,null,null,null,null,null,null,null,null,null,null,null,null,null,null,null,{"$f":"COUNTA(C128:V128)+IF(Gespeeld!D128=\"\",0,Gespeeld!D128)","v":0}]
[{"$f":"IF(VLOOKUP(ROW()-6,Wedstijden!$A$2:$AM$191,$G$1*2-2,FALSE)=\"\",\"\",VLOOKUP(ROW()-6,Wedstijden!$A$2:$AM$191,$G$1*2-2,FALSE))","v":{"$error":"#VALUE!"}},{"$f":"IF(VLOOKUP(ROW()-6,Wedstijden!$A$2:$AM$191,$G$1*2-1,FALSE)=\"\",\"\",VLOOKUP(ROW()-6,Wedstijden!$A$2:$AM$191,$G$1*2-1,FALSE))","v":{"$error":"#VALUE!"}},null,null,null,null,null,null,null,null,null,null,null,null,null,null,null,null,null,null,null,null,{"$f":"COUNTA(C129:V129)+IF(Gespeeld!D129=\"\",0,Gespeeld!D129)","v":0}]
[{"$f":"IF(VLOOKUP(ROW()-6,Wedstijden!$A$2:$AM$191,$G$1*2-2,FALSE)=\"\",\"\",VLOOKUP(ROW()-6,Wedstijden!$A$2:$AM$191,$G$1*2-2,FALSE))","v":{"$error":"#VALUE!"}},{"$f":"IF(VLOOKUP(ROW()-6,Wedstijden!$A$2:$AM$191,$G$1*2-1,FALSE)=\"\",\"\",VLOOKUP(ROW()-6,Wedstijden!$A$2:$AM$191,$G$1*2-1,FALSE))","v":{"$error":"#VALUE!"}},null,null,null,null,null,null,null,null,null,null,null,null,null,null,null,null,null,null,null,null,{"$f":"COUNTA(C130:V130)+IF(Gespeeld!D130=\"\",0,Gespeeld!D130)","v":0}]
[{"$f":"IF(VLOOKUP(ROW()-6,Wedstijden!$A$2:$AM$191,$G$1*2-2,FALSE)=\"\",\"\",VLOOKUP(ROW()-6,Wedstijden!$A$2:$AM$191,$G$1*2-2,FALSE))","v":{"$error":"#VALUE!"}},{"$f":"IF(VLOOKUP(ROW()-6,Wedstijden!$A$2:$AM$191,$G$1*2-1,FALSE)=\"\",\"\",VLOOKUP(ROW()-6,Wedstijden!$A$2:$AM$191,$G$1*2-1,FALSE))","v":{"$error":"#VALUE!"}},null,null,null,null,null,null,null,null,null,null,null,null,null,null,null,null,null,null,null,null,{"$f":"COUNTA(C131:V131)+IF(Gespeeld!D131=\"\",0,Gespeeld!D131)","v":0}]
[{"$f":"IF(VLOOKUP(ROW()-6,Wedstijden!$A$2:$AM$191,$G$1*2-2,FALSE)=\"\",\"\",VLOOKUP(ROW()-6,Wedstijden!$A$2:$AM$191,$G$1*2-2,FALSE))","v":{"$error":"#VALUE!"}},{"$f":"IF(VLOOKUP(ROW()-6,Wedstijden!$A$2:$AM$191,$G$1*2-1,FALSE)=\"\",\"\",VLOOKUP(ROW()-6,Wedstijden!$A$2:$AM$191,$G$1*2-1,FALSE))","v":{"$error":"#VALUE!"}},null,null,null,null,null,null,null,null,null,null,null,null,null,null,null,null,null,null,null,null,{"$f":"COUNTA(C132:V132)+IF(Gespeeld!D132=\"\",0,Gespeeld!D132)","v":0}]
[{"$f":"IF(VLOOKUP(ROW()-6,Wedstijden!$A$2:$AM$191,$G$1*2-2,FALSE)=\"\",\"\",VLOOKUP(ROW()-6,Wedstijden!$A$2:$AM$191,$G$1*2-2,FALSE))","v":{"$error":"#VALUE!"}},{"$f":"IF(VLOOKUP(ROW()-6,Wedstijden!$A$2:$AM$191,$G$1*2-1,FALSE)=\"\",\"\",VLOOKUP(ROW()-6,Wedstijden!$A$2:$AM$191,$G$1*2-1,FALSE))","v":{"$error":"#VALUE!"}},null,null,null,null,null,null,null,null,null,null,null,null,null,null,null,null,null,null,null,null,{"$f":"COUNTA(C133:V133)+IF(Gespeeld!D133=\"\",0,Gespeeld!D133)","v":0}]
[{"$f":"IF(VLOOKUP(ROW()-6,Wedstijden!$A$2:$AM$191,$G$1*2-2,FALSE)=\"\",\"\",VLOOKUP(ROW()-6,Wedstijden!$A$2:$AM$191,$G$1*2-2,FALSE))","v":{"$error":"#VALUE!"}},{"$f":"IF(VLOOKUP(ROW()-6,Wedstijden!$A$2:$AM$191,$G$1*2-1,FALSE)=\"\",\"\",VLOOKUP(ROW()-6,Wedstijden!$A$2:$AM$191,$G$1*2-1,FALSE))","v":{"$error":"#VALUE!"}},null,null,null,null,null,null,null,null,null,null,null,null,null,null,null,null,null,null,null,null,{"$f":"COUNTA(C134:V134)+IF(Gespeeld!D134=\"\",0,Gespeeld!D134)","v":0}]
[{"$f":"IF(VLOOKUP(ROW()-6,Wedstijden!$A$2:$AM$191,$G$1*2-2,FALSE)=\"\",\"\",VLOOKUP(ROW()-6,Wedstijden!$A$2:$AM$191,$G$1*2-2,FALSE))","v":{"$error":"#VALUE!"}},{"$f":"IF(VLOOKUP(ROW()-6,Wedstijden!$A$2:$AM$191,$G$1*2-1,FALSE)=\"\",\"\",VLOOKUP(ROW()-6,Wedstijden!$A$2:$AM$191,$G$1*2-1,FALSE))","v":{"$error":"#VALUE!"}},null,null,null,null,null,null,null,null,null,null,null,null,null,null,null,null,null,null,null,null,{"$f":"COUNTA(C135:V135)+IF(Gespeeld!D135=\"\",0,Gespeeld!D135)","v":0}]
[{"$f":"IF(VLOOKUP(ROW()-6,Wedstijden!$A$2:$AM$191,$G$1*2-2,FALSE)=\"\",\"\",VLOOKUP(ROW()-6,Wedstijden!$A$2:$AM$191,$G$1*2-2,FALSE))","v":{"$error":"#VALUE!"}},{"$f":"IF(VLOOKUP(ROW()-6,Wedstijden!$A$2:$AM$191,$G$1*2-1,FALSE)=\"\",\"\",VLOOKUP(ROW()-6,Wedstijden!$A$2:$AM$191,$G$1*2-1,FALSE))","v":{"$error":"#VALUE!"}},null,null,null,null,null,null,null,null,null,null,null,null,null,null,null,null,null,null,null,null,{"$f":"COUNTA(C136:V136)+IF(Gespeeld!D136=\"\",0,Gespeeld!D136)","v":0}]
[{"$f":"IF(VLOOKUP(ROW()-6,Wedstijden!$A$2:$AM$191,$G$1*2-2,FALSE)=\"\",\"\",VLOOKUP(ROW()-6,Wedstijden!$A$2:$AM$191,$G$1*2-2,FALSE))","v":{"$error":"#VALUE!"}},{"$f":"IF(VLOOKUP(ROW()-6,Wedstijden!$A$2:$AM$191,$G$1*2-1,FALSE)=\"\",\"\",VLOOKUP(ROW()-6,Wedstijden!$A$2:$AM$191,$G$1*2-1,FALSE))","v":{"$error":"#VALUE!"}},null,null,null,null,null,null,null,null,null,null,null,null,null,null,null,null,null,null,null,null,{"$f":"COUNTA(C137:V137)+IF(Gespeeld!D137=\"\",0,Gespeeld!D137)","v":0}]
[{"$f":"IF(VLOOKUP(ROW()-6,Wedstijden!$A$2:$AM$191,$G$1*2-2,FALSE)=\"\",\"\",VLOOKUP(ROW()-6,Wedstijden!$A$2:$AM$191,$G$1*2-2,FALSE))","v":{"$error":"#VALUE!"}},{"$f":"IF(VLOOKUP(ROW()-6,Wedstijden!$A$2:$AM$191,$G$1*2-1,FALSE)=\"\",\"\",VLOOKUP(ROW()-6,Wedstijden!$A$2:$AM$191,$G$1*2-1,FALSE))","v":{"$error":"#VALUE!"}},null,null,null,null,null,null,null,null,null,null,null,null,null,null,null,null,null,null,null,null,{"$f":"COUNTA(C138:V138)+IF(Gespeeld!D138=\"\",0,Gespeeld!D138)","v":0}]
[{"$f":"IF(VLOOKUP(ROW()-6,Wedstijden!$A$2:$AM$191,$G$1*2-2,FALSE)=\"\",\"\",VLOOKUP(ROW()-6,Wedstijden!$A$2:$AM$191,$G$1*2-2,FALSE))","v":{"$error":"#VALUE!"}},{"$f":"IF(VLOOKUP(ROW()-6,Wedstijden!$A$2:$AM$191,$G$1*2-1,FALSE)=\"\",\"\",VLOOKUP(ROW()-6,Wedstijden!$A$2:$AM$191,$G$1*2-1,FALSE))","v":{"$error":"#VALUE!"}},null,null,null,null,null,null,null,null,null,null,null,null,null,null,null,null,null,null,null,null,{"$f":"COUNTA(C139:V139)+IF(Gespeeld!D139=\"\",0,Gespeeld!D139)","v":0}]
[{"$f":"IF(VLOOKUP(ROW()-6,Wedstijden!$A$2:$AM$191,$G$1*2-2,FALSE)=\"\",\"\",VLOOKUP(ROW()-6,Wedstijden!$A$2:$AM$191,$G$1*2-2,FALSE))","v":{"$error":"#VALUE!"}},{"$f":"IF(VLOOKUP(ROW()-6,Wedstijden!$A$2:$AM$191,$G$1*2-1,FALSE)=\"\",\"\",VLOOKUP(ROW()-6,Wedstijden!$A$2:$AM$191,$G$1*2-1,FALSE))","v":{"$error":"#VALUE!"}},null,null,null,null,null,null,null,null,null,null,null,null,null,null,null,null,null,null,null,null,{"$f":"COUNTA(C140:V140)+IF(Gespeeld!D140=\"\",0,Gespeeld!D140)","v":0}]
[{"$f":"IF(VLOOKUP(ROW()-6,Wedstijden!$A$2:$AM$191,$G$1*2-2,FALSE)=\"\",\"\",VLOOKUP(ROW()-6,Wedstijden!$A$2:$AM$191,$G$1*2-2,FALSE))","v":{"$error":"#VALUE!"}},{"$f":"IF(VLOOKUP(ROW()-6,Wedstijden!$A$2:$AM$191,$G$1*2-1,FALSE)=\"\",\"\",VLOOKUP(ROW()-6,Wedstijden!$A$2:$AM$191,$G$1*2-1,FALSE))","v":{"$error":"#VALUE!"}},null,null,null,null,null,null,null,null,null,null,null,null,null,null,null,null,null,null,null,null,{"$f":"COUNTA(C141:V141)+IF(Gespeeld!D141=\"\",0,Gespeeld!D141)","v":0}]
[{"$f":"IF(VLOOKUP(ROW()-6,Wedstijden!$A$2:$AM$191,$G$1*2-2,FALSE)=\"\",\"\",VLOOKUP(ROW()-6,Wedstijden!$A$2:$AM$191,$G$1*2-2,FALSE))","v":{"$error":"#VALUE!"}},{"$f":"IF(VLOOKUP(ROW()-6,Wedstijden!$A$2:$AM$191,$G$1*2-1,FALSE)=\"\",\"\",VLOOKUP(ROW()-6,Wedstijden!$A$2:$AM$191,$G$1*2-1,FALSE))","v":{"$error":"#VALUE!"}},null,null,null,null,null,null,null,null,null,null,null,null,null,null,null,null,null,null,null,null,{"$f":"COUNTA(C142:V142)+IF(Gespeeld!D142=\"\",0,Gespeeld!D142)","v":0}]
[{"$f":"IF(VLOOKUP(ROW()-6,Wedstijden!$A$2:$AM$191,$G$1*2-2,FALSE)=\"\",\"\",VLOOKUP(ROW()-6,Wedstijden!$A$2:$AM$191,$G$1*2-2,FALSE))","v":{"$error":"#VALUE!"}},{"$f":"IF(VLOOKUP(ROW()-6,Wedstijden!$A$2:$AM$191,$G$1*2-1,FALSE)=\"\",\"\",VLOOKUP(ROW()-6,Wedstijden!$A$2:$AM$191,$G$1*2-1,FALSE))","v":{"$error":"#VALUE!"}},null,null,null,null,null,null,null,null,null,null,null,null,null,null,null,null,null,null,null,null,{"$f":"COUNTA(C143:V143)+IF(Gespeeld!D143=\"\",0,Gespeeld!D143)","v":0}]
[{"$f":"IF(VLOOKUP(ROW()-6,Wedstijden!$A$2:$AM$191,$G$1*2-2,FALSE)=\"\",\"\",VLOOKUP(ROW()-6,Wedstijden!$A$2:$AM$191,$G$1*2-2,FALSE))","v":{"$error":"#VALUE!"}},{"$f":"IF(VLOOKUP(ROW()-6,Wedstijden!$A$2:$AM$191,$G$1*2-1,FALSE)=\"\",\"\",VLOOKUP(ROW()-6,Wedstijden!$A$2:$AM$191,$G$1*2-1,FALSE))","v":{"$error":"#VALUE!"}},null,null,null,null,null,null,null,null,null,null,null,null,null,null,null,null,null,null,null,null,{"$f":"COUNTA(C144:V144)+IF(Gespeeld!D144=\"\",0,Gespeeld!D144)","v":0}]
[{"$f":"IF(VLOOKUP(ROW()-6,Wedstijden!$A$2:$AM$191,$G$1*2-2,FALSE)=\"\",\"\",VLOOKUP(ROW()-6,Wedstijden!$A$2:$AM$191,$G$1*2-2,FALSE))","v":{"$error":"#VALUE!"}},{"$f":"IF(VLOOKUP(ROW()-6,Wedstijden!$A$2:$AM$191,$G$1*2-1,FALSE)=\"\",\"\",VLOOKUP(ROW()-6,Wedstijden!$A$2:$AM$191,$G$1*2-1,FALSE))","v":{"$error":"#VALUE!"}},null,null,null,null,null,null,null,null,null,null,null,null,null,null,null,null,null,null,null,null,{"$f":"COUNTA(C145:V145)+IF(Gespeeld!D145=\"\",0,Gespeeld!D145)","v":0}]
[{"$f":"IF(VLOOKUP(ROW()-6,Wedstijden!$A$2:$AM$191,$G$1*2-2,FALSE)=\"\",\"\",VLOOKUP(ROW()-6,Wedstijden!$A$2:$AM$191,$G$1*2-2,FALSE))","v":{"$error":"#VALUE!"}},{"$f":"IF(VLOOKUP(ROW()-6,Wedstijden!$A$2:$AM$191,$G$1*2-1,FALSE)=\"\",\"\",VLOOKUP(ROW()-6,Wedstijden!$A$2:$AM$191,$G$1*2-1,FALSE))","v":{"$error":"#VALUE!"}},null,null,null,null,null,null,null,null,null,null,null,null,null,null,null,null,null,null,null,null,{"$f":"COUNTA(C146:V146)+IF(Gespeeld!D146=\"\",0,Gespeeld!D146)","v":0}]
[{"$f":"IF(VLOOKUP(ROW()-6,Wedstijden!$A$2:$AM$191,$G$1*2-2,FALSE)=\"\",\"\",VLOOKUP(ROW()-6,Wedstijden!$A$2:$AM$191,$G$1*2-2,FALSE))","v":{"$error":"#VALUE!"}},{"$f":"IF(VLOOKUP(ROW()-6,Wedstijden!$A$2:$AM$191,$G$1*2-1,FALSE)=\"\",\"\",VLOOKUP(ROW()-6,Wedstijden!$A$2:$AM$191,$G$1*2-1,FALSE))","v":{"$error":"#VALUE!"}},null,null,null,null,null,null,null,null,null,null,null,null,null,null,null,null,null,null,null,null,{"$f":"COUNTA(C147:V147)+IF(Gespeeld!D147=\"\",0,Gespeeld!D147)","v":0}]
[{"$f":"IF(VLOOKUP(ROW()-6,Wedstijden!$A$2:$AM$191,$G$1*2-2,FALSE)=\"\",\"\",VLOOKUP(ROW()-6,Wedstijden!$A$2:$AM$191,$G$1*2-2,FALSE))","v":{"$error":"#VALUE!"}},{"$f":"IF(VLOOKUP(ROW()-6,Wedstijden!$A$2:$AM$191,$G$1*2-1,FALSE)=\"\",\"\",VLOOKUP(ROW()-6,Wedstijden!$A$2:$AM$191,$G$1*2-1,FALSE))","v":{"$error":"#VALUE!"}},null,null,null,null,null,null,null,null,null,null,null,null,null,null,null,null,null,null,null,null,{"$f":"COUNTA(C148:V148)+IF(Gespeeld!D148=\"\",0,Gespeeld!D148)","v":0}]
[{"$f":"IF(VLOOKUP(ROW()-6,Wedstijden!$A$2:$AM$191,$G$1*2-2,FALSE)=\"\",\"\",VLOOKUP(ROW()-6,Wedstijden!$A$2:$AM$191,$G$1*2-2,FALSE))","v":{"$error":"#VALUE!"}},{"$f":"IF(VLOOKUP(ROW()-6,Wedstijden!$A$2:$AM$191,$G$1*2-1,FALSE)=\"\",\"\",VLOOKUP(ROW()-6,Wedstijden!$A$2:$AM$191,$G$1*2-1,FALSE))","v":{"$error":"#VALUE!"}},null,null,null,null,null,null,null,null,null,null,null,null,null,null,null,null,null,null,null,null,{"$f":"COUNTA(C149:V149)+IF(Gespeeld!D149=\"\",0,Gespeeld!D149)","v":0}]
[{"$f":"IF(VLOOKUP(ROW()-6,Wedstijden!$A$2:$AM$191,$G$1*2-2,FALSE)=\"\",\"\",VLOOKUP(ROW()-6,Wedstijden!$A$2:$AM$191,$G$1*2-2,FALSE))","v":{"$error":"#VALUE!"}},{"$f":"IF(VLOOKUP(ROW()-6,Wedstijden!$A$2:$AM$191,$G$1*2-1,FALSE)=\"\",\"\",VLOOKUP(ROW()-6,Wedstijden!$A$2:$AM$191,$G$1*2-1,FALSE))","v":{"$error":"#VALUE!"}},null,null,null,null,null,null,null,null,null,null,null,null,null,null,null,null,null,null,null,null,{"$f":"COUNTA(C150:V150)+IF(Gespeeld!D150=\"\",0,Gespeeld!D150)","v":0}]
[{"$f":"IF(VLOOKUP(ROW()-6,Wedstijden!$A$2:$AM$191,$G$1*2-2,FALSE)=\"\",\"\",VLOOKUP(ROW()-6,Wedstijden!$A$2:$AM$191,$G$1*2-2,FALSE))","v":{"$error":"#VALUE!"}},{"$f":"IF(VLOOKUP(ROW()-6,Wedstijden!$A$2:$AM$191,$G$1*2-1,FALSE)=\"\",\"\",VLOOKUP(ROW()-6,Wedstijden!$A$2:$AM$191,$G$1*2-1,FALSE))","v":{"$error":"#VALUE!"}},null,null,null,null,null,null,null,null,null,null,null,null,null,null,null,null,null,null,null,null,{"$f":"COUNTA(C151:V151)+IF(Gespeeld!D151=\"\",0,Gespeeld!D151)","v":0}]
[{"$f":"IF(VLOOKUP(ROW()-6,Wedstijden!$A$2:$AM$191,$G$1*2-2,FALSE)=\"\",\"\",VLOOKUP(ROW()-6,Wedstijden!$A$2:$AM$191,$G$1*2-2,FALSE))","v":{"$error":"#VALUE!"}},{"$f":"IF(VLOOKUP(ROW()-6,Wedstijden!$A$2:$AM$191,$G$1*2-1,FALSE)=\"\",\"\",VLOOKUP(ROW()-6,Wedstijden!$A$2:$AM$191,$G$1*2-1,FALSE))","v":{"$error":"#VALUE!"}},null,null,null,null,null,null,null,null,null,null,null,null,null,null,null,null,null,null,null,null,{"$f":"COUNTA(C152:V152)+IF(Gespeeld!D152=\"\",0,Gespeeld!D152)","v":0}]
[{"$f":"IF(VLOOKUP(ROW()-6,Wedstijden!$A$2:$AM$191,$G$1*2-2,FALSE)=\"\",\"\",VLOOKUP(ROW()-6,Wedstijden!$A$2:$AM$191,$G$1*2-2,FALSE))","v":{"$error":"#VALUE!"}},{"$f":"IF(VLOOKUP(ROW()-6,Wedstijden!$A$2:$AM$191,$G$1*2-1,FALSE)=\"\",\"\",VLOOKUP(ROW()-6,Wedstijden!$A$2:$AM$191,$G$1*2-1,FALSE))","v":{"$error":"#VALUE!"}},null,null,null,null,null,null,null,null,null,null,null,null,null,null,null,null,null,null,null,null,{"$f":"COUNTA(C153:V153)+IF(Gespeeld!D153=\"\",0,Gespeeld!D153)","v":0}]
[{"$f":"IF(VLOOKUP(ROW()-6,Wedstijden!$A$2:$AM$191,$G$1*2-2,FALSE)=\"\",\"\",VLOOKUP(ROW()-6,Wedstijden!$A$2:$AM$191,$G$1*2-2,FALSE))","v":{"$error":"#VALUE!"}},{"$f":"IF(VLOOKUP(ROW()-6,Wedstijden!$A$2:$AM$191,$G$1*2-1,FALSE)=\"\",\"\",VLOOKUP(ROW()-6,Wedstijden!$A$2:$AM$191,$G$1*2-1,FALSE))","v":{"$error":"#VALUE!"}},null,null,null,null,null,null,null,null,null,null,null,null,null,null,null,null,null,null,null,null,{"$f":"COUNTA(C154:V154)+IF(Gespeeld!D154=\"\",0,Gespeeld!D154)","v":0}]
[{"$f":"IF(VLOOKUP(ROW()-6,Wedstijden!$A$2:$AM$191,$G$1*2-2,FALSE)=\"\",\"\",VLOOKUP(ROW()-6,Wedstijden!$A$2:$AM$191,$G$1*2-2,FALSE))","v":{"$error":"#VALUE!"}},{"$f":"IF(VLOOKUP(ROW()-6,Wedstijden!$A$2:$AM$191,$G$1*2-1,FALSE)=\"\",\"\",VLOOKUP(ROW()-6,Wedstijden!$A$2:$AM$191,$G$1*2-1,FALSE))","v":{"$error":"#VALUE!"}},null,null,null,null,null,null,null,null,null,null,null,null,null,null,null,null,null,null,null,null,{"$f":"COUNTA(C155:V155)+IF(Gespeeld!D155=\"\",0,Gespeeld!D155)","v":0}]
[{"$f":"IF(VLOOKUP(ROW()-6,Wedstijden!$A$2:$AM$191,$G$1*2-2,FALSE)=\"\",\"\",VLOOKUP(ROW()-6,Wedstijden!$A$2:$AM$191,$G$1*2-2,FALSE))","v":{"$error":"#VALUE!"}},{"$f":"IF(VLOOKUP(ROW()-6,Wedstijden!$A$2:$AM$191,$G$1*2-1,FALSE)=\"\",\"\",VLOOKUP(ROW()-6,Wedstijden!$A$2:$AM$191,$G$1*2-1,FALSE))","v":{"$error":"#VALUE!"}},null,null,null,null,null,null,null,null,null,null,null,null,null,null,null,null,null,null,null,null,{"$f":"COUNTA(C156:V156)+IF(Gespeeld!D156=\"\",0,Gespeeld!D156)","v":0}]
[{"$f":"IF(VLOOKUP(ROW()-6,Wedstijden!$A$2:$AM$191,$G$1*2-2,FALSE)=\"\",\"\",VLOOKUP(ROW()-6,Wedstijden!$A$2:$AM$191,$G$1*2-2,FALSE))","v":{"$error":"#VALUE!"}},{"$f":"IF(VLOOKUP(ROW()-6,Wedstijden!$A$2:$AM$191,$G$1*2-1,FALSE)=\"\",\"\",VLOOKUP(ROW()-6,Wedstijden!$A$2:$AM$191,$G$1*2-1,FALSE))","v":{"$error":"#VALUE!"}},null,null,null,null,null,null,null,null,null,null,null,null,null,null,null,null,null,null,null,null,{"$f":"COUNTA(C157:V157)+IF(Gespeeld!D157=\"\",0,Gespeeld!D157)","v":0}]
[{"$f":"IF(VLOOKUP(ROW()-6,Wedstijden!$A$2:$AM$191,$G$1*2-2,FALSE)=\"\",\"\",VLOOKUP(ROW()-6,Wedstijden!$A$2:$AM$191,$G$1*2-2,FALSE))","v":{"$error":"#VALUE!"}},{"$f":"IF(VLOOKUP(ROW()-6,Wedstijden!$A$2:$AM$191,$G$1*2-1,FALSE)=\"\",\"\",VLOOKUP(ROW()-6,Wedstijden!$A$2:$AM$191,$G$1*2-1,FALSE))","v":{"$error":"#VALUE!"}},null,null,null,null,null,null,null,null,null,null,null,null,null,null,null,null,null,null,null,null,{"$f":"COUNTA(C158:V158)+IF(Gespeeld!D158=\"\",0,Gespeeld!D158)","v":0}]
[{"$f":"IF(VLOOKUP(ROW()-6,Wedstijden!$A$2:$AM$191,$G$1*2-2,FALSE)=\"\",\"\",VLOOKUP(ROW()-6,Wedstijden!$A$2:$AM$191,$G$1*2-2,FALSE))","v":{"$error":"#VALUE!"}},{"$f":"IF(VLOOKUP(ROW()-6,Wedstijden!$A$2:$AM$191,$G$1*2-1,FALSE)=\"\",\"\",VLOOKUP(ROW()-6,Wedstijden!$A$2:$AM$191,$G$1*2-1,FALSE))","v":{"$error":"#VALUE!"}},null,null,null,null,null,null,null,null,null,null,null,null,null,null,null,null,null,null,null,null,{"$f":"COUNTA(C159:V159)+IF(Gespeeld!D159=\"\",0,Gespeeld!D159)","v":0}]
[{"$f":"IF(VLOOKUP(ROW()-6,Wedstijden!$A$2:$AM$191,$G$1*2-2,FALSE)=\"\",\"\",VLOOKUP(ROW()-6,Wedstijden!$A$2:$AM$191,$G$1*2-2,FALSE))","v":{"$error":"#VALUE!"}},{"$f":"IF(VLOOKUP(ROW()-6,Wedstijden!$A$2:$AM$191,$G$1*2-1,FALSE)=\"\",\"\",VLOOKUP(ROW()-6,Wedstijden!$A$2:$AM$191,$G$1*2-1,FALSE))","v":{"$error":"#VALUE!"}},null,null,null,null,null,null,null,null,null,null,null,null,null,null,null,null,null,null,null,null,{"$f":"COUNTA(C160:V160)+IF(Gespeeld!D160=\"\",0,Gespeeld!D160)","v":0}]
[{"$f":"IF(VLOOKUP(ROW()-6,Wedstijden!$A$2:$AM$191,$G$1*2-2,FALSE)=\"\",\"\",VLOOKUP(ROW()-6,Wedstijden!$A$2:$AM$191,$G$1*2-2,FALSE))","v":{"$error":"#VALUE!"}},{"$f":"IF(VLOOKUP(ROW()-6,Wedstijden!$A$2:$AM$191,$G$1*2-1,FALSE)=\"\",\"\",VLOOKUP(ROW()-6,Wedstijden!$A$2:$AM$191,$G$1*2-1,FALSE))","v":{"$error":"#VALUE!"}},null,null,null,null,null,null,null,null,null,null,null,null,null,null,null,null,null,null,null,null,{"$f":"COUNTA(C161:V161)+IF(Gespeeld!D161=\"\",0,Gespeeld!D161)","v":0}]
[{"$f":"IF(VLOOKUP(ROW()-6,Wedstijden!$A$2:$AM$191,$G$1*2-2,FALSE)=\"\",\"\",VLOOKUP(ROW()-6,Wedstijden!$A$2:$AM$191,$G$1*2-2,FALSE))","v":{"$error":"#VALUE!"}},{"$f":"IF(VLOOKUP(ROW()-6,Wedstijden!$A$2:$AM$191,$G$1*2-1,FALSE)=\"\",\"\",VLOOKUP(ROW()-6,Wedstijden!$A$2:$AM$191,$G$1*2-1,FALSE))","v":{"$error":"#VALUE!"}},null,null,null,null,null,null,null,null,null,null,null,null,null,null,null,null,null,null,null,null,{"$f":"COUNTA(C162:V162)+IF(Gespeeld!D162=\"\",0,Gespeeld!D162)","v":0}]
[{"$f":"IF(VLOOKUP(ROW()-6,Wedstijden!$A$2:$AM$191,$G$1*2-2,FALSE)=\"\",\"\",VLOOKUP(ROW()-6,Wedstijden!$A$2:$AM$191,$G$1*2-2,FALSE))","v":{"$error":"#VALUE!"}},{"$f":"IF(VLOOKUP(ROW()-6,Wedstijden!$A$2:$AM$191,$G$1*2-1,FALSE)=\"\",\"\",VLOOKUP(ROW()-6,Wedstijden!$A$2:$AM$191,$G$1*2-1,FALSE))","v":{"$error":"#VALUE!"}},null,null,null,null,null,null,null,null,null,null,null,null,null,null,null,null,null,null,null,null,{"$f":"COUNTA(C163:V163)+IF(Gespeeld!D163=\"\",0,Gespeeld!D163)","v":0}]
[{"$f":"IF(VLOOKUP(ROW()-6,Wedstijden!$A$2:$AM$191,$G$1*2-2,FALSE)=\"\",\"\",VLOOKUP(ROW()-6,Wedstijden!$A$2:$AM$191,$G$1*2-2,FALSE))","v":{"$error":"#VALUE!"}},{"$f":"IF(VLOOKUP(ROW()-6,Wedstijden!$A$2:$AM$191,$G$1*2-1,FALSE)=\"\",\"\",VLOOKUP(ROW()-6,Wedstijden!$A$2:$AM$191,$G$1*2-1,FALSE))","v":{"$error":"#VALUE!"}},null,null,null,null,null,null,null,null,null,null,null,null,null,null,null,null,null,null,null,null,{"$f":"COUNTA(C164:V164)+IF(Gespeeld!D164=\"\",0,Gespeeld!D164)","v":0}]
[{"$f":"IF(VLOOKUP(ROW()-6,Wedstijden!$A$2:$AM$191,$G$1*2-2,FALSE)=\"\",\"\",VLOOKUP(ROW()-6,Wedstijden!$A$2:$AM$191,$G$1*2-2,FALSE))","v":{"$error":"#VALUE!"}},{"$f":"IF(VLOOKUP(ROW()-6,Wedstijden!$A$2:$AM$191,$G$1*2-1,FALSE)=\"\",\"\",VLOOKUP(ROW()-6,Wedstijden!$A$2:$AM$191,$G$1*2-1,FALSE))","v":{"$error":"#VALUE!"}},null,null,null,null,null,null,null,null,null,null,null,null,null,null,null,null,null,null,null,null,{"$f":"COUNTA(C165:V165)+IF(Gespeeld!D165=\"\",0,Gespeeld!D165)","v":0}]
[{"$f":"IF(VLOOKUP(ROW()-6,Wedstijden!$A$2:$AM$191,$G$1*2-2,FALSE)=\"\",\"\",VLOOKUP(ROW()-6,Wedstijden!$A$2:$AM$191,$G$1*2-2,FALSE))","v":{"$error":"#VALUE!"}},{"$f":"IF(VLOOKUP(ROW()-6,Wedstijden!$A$2:$AM$191,$G$1*2-1,FALSE)=\"\",\"\",VLOOKUP(ROW()-6,Wedstijden!$A$2:$AM$191,$G$1*2-1,FALSE))","v":{"$error":"#VALUE!"}},null,null,null,null,null,null,null,null,null,null,null,null,null,null,null,null,null,null,null,null,{"$f":"COUNTA(C166:V166)+IF(Gespeeld!D166=\"\",0,Gespeeld!D166)","v":0}]
[{"$f":"IF(VLOOKUP(ROW()-6,Wedstijden!$A$2:$AM$191,$G$1*2-2,FALSE)=\"\",\"\",VLOOKUP(ROW()-6,Wedstijden!$A$2:$AM$191,$G$1*2-2,FALSE))","v":{"$error":"#VALUE!"}},{"$f":"IF(VLOOKUP(ROW()-6,Wedstijden!$A$2:$AM$191,$G$1*2-1,FALSE)=\"\",\"\",VLOOKUP(ROW()-6,Wedstijden!$A$2:$AM$191,$G$1*2-1,FALSE))","v":{"$error":"#VALUE!"}},null,null,null,null,null,null,null,null,null,null,null,null,null,null,null,null,null,null,null,null,{"$f":"COUNTA(C167:V167)+IF(Gespeeld!D167=\"\",0,Gespeeld!D167)","v":0}]
[{"$f":"IF(VLOOKUP(ROW()-6,Wedstijden!$A$2:$AM$191,$G$1*2-2,FALSE)=\"\",\"\",VLOOKUP(ROW()-6,Wedstijden!$A$2:$AM$191,$G$1*2-2,FALSE))","v":{"$error":"#VALUE!"}},{"$f":"IF(VLOOKUP(ROW()-6,Wedstijden!$A$2:$AM$191,$G$1*2-1,FALSE)=\"\",\"\",VLOOKUP(ROW()-6,Wedstijden!$A$2:$AM$191,$G$1*2-1,FALSE))","v":{"$error":"#VALUE!"}},null,null,null,null,null,null,null,null,null,null,null,null,null,null,null,null,null,null,null,null,{"$f":"COUNTA(C168:V168)+IF(Gespeeld!D168=\"\",0,Gespeeld!D168)","v":0}]
[{"$f":"IF(VLOOKUP(ROW()-6,Wedstijden!$A$2:$AM$191,$G$1*2-2,FALSE)=\"\",\"\",VLOOKUP(ROW()-6,Wedstijden!$A$2:$AM$191,$G$1*2-2,FALSE))","v":{"$error":"#VALUE!"}},{"$f":"IF(VLOOKUP(ROW()-6,Wedstijden!$A$2:$AM$191,$G$1*2-1,FALSE)=\"\",\"\",VLOOKUP(ROW()-6,Wedstijden!$A$2:$AM$191,$G$1*2-1,FALSE))","v":{"$error":"#VALUE!"}},null,null,null,null,null,null,null,null,null,null,null,null,null,null,null,null,null,null,null,null,{"$f":"COUNTA(C169:V169)+IF(Gespeeld!D169=\"\",0,Gespeeld!D169)","v":0}]
[{"$f":"IF(VLOOKUP(ROW()-6,Wedstijden!$A$2:$AM$191,$G$1*2-2,FALSE)=\"\",\"\",VLOOKUP(ROW()-6,Wedstijden!$A$2:$AM$191,$G$1*2-2,FALSE))","v":{"$error":"#VALUE!"}},{"$f":"IF(VLOOKUP(ROW()-6,Wedstijden!$A$2:$AM$191,$G$1*2-1,FALSE)=\"\",\"\",VLOOKUP(ROW()-6,Wedstijden!$A$2:$AM$191,$G$1*2-1,FALSE))","v":{"$error":"#VALUE!"}},null,null,null,null,null,null,null,null,null,null,null,null,null,null,null,null,null,null,null,null,{"$f":"COUNTA(C170:V170)+IF(Gespeeld!D170=\"\",0,Gespeeld!D170)","v":0}]
[{"$f":"IF(VLOOKUP(ROW()-6,Wedstijden!$A$2:$AM$191,$G$1*2-2,FALSE)=\"\",\"\",VLOOKUP(ROW()-6,Wedstijden!$A$2:$AM$191,$G$1*2-2,FALSE))","v":{"$error":"#VALUE!"}},{"$f":"IF(VLOOKUP(ROW()-6,Wedstijden!$A$2:$AM$191,$G$1*2-1,FALSE)=\"\",\"\",VLOOKUP(ROW()-6,Wedstijden!$A$2:$AM$191,$G$1*2-1,FALSE))","v":{"$error":"#VALUE!"}},null,null,null,null,null,null,null,null,null,null,null,null,null,null,null,null,null,null,null,null,{"$f":"COUNTA(C171:V171)+IF(Gespeeld!D171=\"\",0,Gespeeld!D171)","v":0}]
[{"$f":"IF(VLOOKUP(ROW()-6,Wedstijden!$A$2:$AM$191,$G$1*2-2,FALSE)=\"\",\"\",VLOOKUP(ROW()-6,Wedstijden!$A$2:$AM$191,$G$1*2-2,FALSE))","v":{"$error":"#VALUE!"}},{"$f":"IF(VLOOKUP(ROW()-6,Wedstijden!$A$2:$AM$191,$G$1*2-1,FALSE)=\"\",\"\",VLOOKUP(ROW()-6,Wedstijden!$A$2:$AM$191,$G$1*2-1,FALSE))","v":{"$error":"#VALUE!"}},null,null,null,null,null,null,null,null,null,null,null,null,null,null,null,null,null,null,null,null,{"$f":"COUNTA(C172:V172)+IF(Gespeeld!D172=\"\",0,Gespeeld!D172)","v":0}]
[{"$f":"IF(VLOOKUP(ROW()-6,Wedstijden!$A$2:$AM$191,$G$1*2-2,FALSE)=\"\",\"\",VLOOKUP(ROW()-6,Wedstijden!$A$2:$AM$191,$G$1*2-2,FALSE))","v":{"$error":"#VALUE!"}},{"$f":"IF(VLOOKUP(ROW()-6,Wedstijden!$A$2:$AM$191,$G$1*2-1,FALSE)=\"\",\"\",VLOOKUP(ROW()-6,Wedstijden!$A$2:$AM$191,$G$1*2-1,FALSE))","v":{"$error":"#VALUE!"}},null,null,null,null,null,null,null,null,null,null,null,null,null,null,null,null,null,null,null,null,{"$f":"COUNTA(C173:V173)+IF(Gespeeld!D173=\"\",0,Gespeeld!D173)","v":0}]
[{"$f":"IF(VLOOKUP(ROW()-6,Wedstijden!$A$2:$AM$191,$G$1*2-2,FALSE)=\"\",\"\",VLOOKUP(ROW()-6,Wedstijden!$A$2:$AM$191,$G$1*2-2,FALSE))","v":{"$error":"#VALUE!"}},{"$f":"IF(VLOOKUP(ROW()-6,Wedstijden!$A$2:$AM$191,$G$1*2-1,FALSE)=\"\",\"\",VLOOKUP(ROW()-6,Wedstijden!$A$2:$AM$191,$G$1*2-1,FALSE))","v":{"$error":"#VALUE!"}},null,null,null,null,null,null,null,null,null,null,null,null,null,null,null,null,null,null,null,null,{"$f":"COUNTA(C174:V174)+IF(Gespeeld!D174=\"\",0,Gespeeld!D174)","v":0}]
[{"$f":"IF(VLOOKUP(ROW()-6,Wedstijden!$A$2:$AM$191,$G$1*2-2,FALSE)=\"\",\"\",VLOOKUP(ROW()-6,Wedstijden!$A$2:$AM$191,$G$1*2-2,FALSE))","v":{"$error":"#VALUE!"}},{"$f":"IF(VLOOKUP(ROW()-6,Wedstijden!$A$2:$AM$191,$G$1*2-1,FALSE)=\"\",\"\",VLOOKUP(ROW()-6,Wedstijden!$A$2:$AM$191,$G$1*2-1,FALSE))","v":{"$error":"#VALUE!"}},null,null,null,null,null,null,null,null,null,null,null,null,null,null,null,null,null,null,null,null,{"$f":"COUNTA(C175:V175)+IF(Gespeeld!D175=\"\",0,Gespeeld!D175)","v":0}]
[{"$f":"IF(VLOOKUP(ROW()-6,Wedstijden!$A$2:$AM$191,$G$1*2-2,FALSE)=\"\",\"\",VLOOKUP(ROW()-6,Wedstijden!$A$2:$AM$191,$G$1*2-2,FALSE))","v":{"$error":"#VALUE!"}},{"$f":"IF(VLOOKUP(ROW()-6,Wedstijden!$A$2:$AM$191,$G$1*2-1,FALSE)=\"\",\"\",VLOOKUP(ROW()-6,Wedstijden!$A$2:$AM$191,$G$1*2-1,FALSE))","v":{"$error":"#VALUE!"}},null,null,null,null,null,null,null,null,null,null,null,null,null,null,null,null,null,null,null,null,{"$f":"COUNTA(C176:V176)+IF(Gespeeld!D176=\"\",0,Gespeeld!D176)","v":0}]
[{"$f":"IF(VLOOKUP(ROW()-6,Wedstijden!$A$2:$AM$191,$G$1*2-2,FALSE)=\"\",\"\",VLOOKUP(ROW()-6,Wedstijden!$A$2:$AM$191,$G$1*2-2,FALSE))","v":{"$error":"#VALUE!"}},{"$f":"IF(VLOOKUP(ROW()-6,Wedstijden!$A$2:$AM$191,$G$1*2-1,FALSE)=\"\",\"\",VLOOKUP(ROW()-6,Wedstijden!$A$2:$AM$191,$G$1*2-1,FALSE))","v":{"$error":"#VALUE!"}},null,null,null,null,null,null,null,null,null,null,null,null,null,null,null,null,null,null,null,null,{"$f":"COUNTA(C177:V177)+IF(Gespeeld!D177=\"\",0,Gespeeld!D177)","v":0}]
[{"$f":"IF(VLOOKUP(ROW()-6,Wedstijden!$A$2:$AM$191,$G$1*2-2,FALSE)=\"\",\"\",VLOOKUP(ROW()-6,Wedstijden!$A$2:$AM$191,$G$1*2-2,FALSE))","v":{"$error":"#VALUE!"}},{"$f":"IF(VLOOKUP(ROW()-6,Wedstijden!$A$2:$AM$191,$G$1*2-1,FALSE)=\"\",\"\",VLOOKUP(ROW()-6,Wedstijden!$A$2:$AM$191,$G$1*2-1,FALSE))","v":{"$error":"#VALUE!"}},null,null,null,null,null,null,null,null,null,null,null,null,null,null,null,null,null,null,null,null,{"$f":"COUNTA(C178:V178)+IF(Gespeeld!D178=\"\",0,Gespeeld!D178)","v":0}]
[{"$f":"IF(VLOOKUP(ROW()-6,Wedstijden!$A$2:$AM$191,$G$1*2-2,FALSE)=\"\",\"\",VLOOKUP(ROW()-6,Wedstijden!$A$2:$AM$191,$G$1*2-2,FALSE))","v":{"$error":"#VALUE!"}},{"$f":"IF(VLOOKUP(ROW()-6,Wedstijden!$A$2:$AM$191,$G$1*2-1,FALSE)=\"\",\"\",VLOOKUP(ROW()-6,Wedstijden!$A$2:$AM$191,$G$1*2-1,FALSE))","v":{"$error":"#VALUE!"}},null,null,null,null,null,null,null,null,null,null,null,null,null,null,null,null,null,null,null,null,{"$f":"COUNTA(C179:V179)+IF(Gespeeld!D179=\"\",0,Gespeeld!D179)","v":0}]
[{"$f":"IF(VLOOKUP(ROW()-6,Wedstijden!$A$2:$AM$191,$G$1*2-2,FALSE)=\"\",\"\",VLOOKUP(ROW()-6,Wedstijden!$A$2:$AM$191,$G$1*2-2,FALSE))","v":{"$error":"#VALUE!"}},{"$f":"IF(VLOOKUP(ROW()-6,Wedstijden!$A$2:$AM$191,$G$1*2-1,FALSE)=\"\",\"\",VLOOKUP(ROW()-6,Wedstijden!$A$2:$AM$191,$G$1*2-1,FALSE))","v":{"$error":"#VALUE!"}},null,null,null,null,null,null,null,null,null,null,null,null,null,null,null,null,null,null,null,null,{"$f":"COUNTA(C180:V180)+IF(Gespeeld!D180=\"\",0,Gespeeld!D180)","v":0}]
[{"$f":"IF(VLOOKUP(ROW()-6,Wedstijden!$A$2:$AM$191,$G$1*2-2,FALSE)=\"\",\"\",VLOOKUP(ROW()-6,Wedstijden!$A$2:$AM$191,$G$1*2-2,FALSE))","v":{"$error":"#VALUE!"}},{"$f":"IF(VLOOKUP(ROW()-6,Wedstijden!$A$2:$AM$191,$G$1*2-1,FALSE)=\"\",\"\",VLOOKUP(ROW()-6,Wedstijden!$A$2:$AM$191,$G$1*2-1,FALSE))","v":{"$error":"#VALUE!"}},null,null,null,null,null,null,null,null,null,null,null,null,null,null,null,null,null,null,null,null,{"$f":"COUNTA(C181:V181)+IF(Gespeeld!D181=\"\",0,Gespeeld!D181)","v":0}]
[{"$f":"IF(VLOOKUP(ROW()-6,Wedstijden!$A$2:$AM$191,$G$1*2-2,FALSE)=\"\",\"\",VLOOKUP(ROW()-6,Wedstijden!$A$2:$AM$191,$G$1*2-2,FALSE))","v":{"$error":"#VALUE!"}},{"$f":"IF(VLOOKUP(ROW()-6,Wedstijden!$A$2:$AM$191,$G$1*2-1,FALSE)=\"\",\"\",VLOOKUP(ROW()-6,Wedstijden!$A$2:$AM$191,$G$1*2-1,FALSE))","v":{"$error":"#VALUE!"}},null,null,null,null,null,null,null,null,null,null,null,null,null,null,null,null,null,null,null,null,{"$f":"COUNTA(C182:V182)+IF(Gespeeld!D182=\"\",0,Gespeeld!D182)","v":0}]
[{"$f":"IF(VLOOKUP(ROW()-6,Wedstijden!$A$2:$AM$191,$G$1*2-2,FALSE)=\"\",\"\",VLOOKUP(ROW()-6,Wedstijden!$A$2:$AM$191,$G$1*2-2,FALSE))","v":{"$error":"#VALUE!"}},{"$f":"IF(VLOOKUP(ROW()-6,Wedstijden!$A$2:$AM$191,$G$1*2-1,FALSE)=\"\",\"\",VLOOKUP(ROW()-6,Wedstijden!$A$2:$AM$191,$G$1*2-1,FALSE))","v":{"$error":"#VALUE!"}},null,null,null,null,null,null,null,null,null,null,null,null,null,null,null,null,null,null,null,null,{"$f":"COUNTA(C183:V183)+IF(Gespeeld!D183=\"\",0,Gespeeld!D183)","v":0}]
[{"$f":"IF(VLOOKUP(ROW()-6,Wedstijden!$A$2:$AM$191,$G$1*2-2,FALSE)=\"\",\"\",VLOOKUP(ROW()-6,Wedstijden!$A$2:$AM$191,$G$1*2-2,FALSE))","v":{"$error":"#VALUE!"}},{"$f":"IF(VLOOKUP(ROW()-6,Wedstijden!$A$2:$AM$191,$G$1*2-1,FALSE)=\"\",\"\",VLOOKUP(ROW()-6,Wedstijden!$A$2:$AM$191,$G$1*2-1,FALSE))","v":{"$error":"#VALUE!"}},null,null,null,null,null,null,null,null,null,null,null,null,null,null,null,null,null,null,null,null,{"$f":"COUNTA(C184:V184)+IF(Gespeeld!D184=\"\",0,Gespeeld!D184)","v":0}]
[{"$f":"IF(VLOOKUP(ROW()-6,Wedstijden!$A$2:$AM$191,$G$1*2-2,FALSE)=\"\",\"\",VLOOKUP(ROW()-6,Wedstijden!$A$2:$AM$191,$G$1*2-2,FALSE))","v":{"$error":"#VALUE!"}},{"$f":"IF(VLOOKUP(ROW()-6,Wedstijden!$A$2:$AM$191,$G$1*2-1,FALSE)=\"\",\"\",VLOOKUP(ROW()-6,Wedstijden!$A$2:$AM$191,$G$1*2-1,FALSE))","v":{"$error":"#VALUE!"}},null,null,null,null,null,null,null,null,null,null,null,null,null,null,null,null,null,null,null,null,{"$f":"COUNTA(C185:V185)+IF(Gespeeld!D185=\"\",0,Gespeeld!D185)","v":0}]
[{"$f":"IF(VLOOKUP(ROW()-6,Wedstijden!$A$2:$AM$191,$G$1*2-2,FALSE)=\"\",\"\",VLOOKUP(ROW()-6,Wedstijden!$A$2:$AM$191,$G$1*2-2,FALSE))","v":{"$error":"#VALUE!"}},{"$f":"IF(VLOOKUP(ROW()-6,Wedstijden!$A$2:$AM$191,$G$1*2-1,FALSE)=\"\",\"\",VLOOKUP(ROW()-6,Wedstijden!$A$2:$AM$191,$G$1*2-1,FALSE))","v":{"$error":"#VALUE!"}},null,null,null,null,null,null,null,null,null,null,null,null,null,null,null,null,null,null,null,null,{"$f":"COUNTA(C186:V186)+IF(Gespeeld!D186=\"\",0,Gespeeld!D186)","v":0}]
[{"$f":"IF(VLOOKUP(ROW()-6,Wedstijden!$A$2:$AM$191,$G$1*2-2,FALSE)=\"\",\"\",VLOOKUP(ROW()-6,Wedstijden!$A$2:$AM$191,$G$1*2-2,FALSE))","v":{"$error":"#VALUE!"}},{"$f":"IF(VLOOKUP(ROW()-6,Wedstijden!$A$2:$AM$191,$G$1*2-1,FALSE)=\"\",\"\",VLOOKUP(ROW()-6,Wedstijden!$A$2:$AM$191,$G$1*2-1,FALSE))","v":{"$error":"#VALUE!"}},null,null,null,null,null,null,null,null,null,null,null,null,null,null,null,null,null,null,null,null,{"$f":"COUNTA(C187:V187)+IF(Gespeeld!D187=\"\",0,Gespeeld!D187)","v":0}]
[{"$f":"IF(VLOOKUP(ROW()-6,Wedstijden!$A$2:$AM$191,$G$1*2-2,FALSE)=\"\",\"\",VLOOKUP(ROW()-6,Wedstijden!$A$2:$AM$191,$G$1*2-2,FALSE))","v":{"$error":"#VALUE!"}},{"$f":"IF(VLOOKUP(ROW()-6,Wedstijden!$A$2:$AM$191,$G$1*2-1,FALSE)=\"\",\"\",VLOOKUP(ROW()-6,Wedstijden!$A$2:$AM$191,$G$1*2-1,FALSE))","v":{"$error":"#VALUE!"}},null,null,null,null,null,null,null,null,null,null,null,null,null,null,null,null,null,null,null,null,{"$f":"COUNTA(C188:V188)+IF(Gespeeld!D188=\"\",0,Gespeeld!D188)","v":0}]
[{"$f":"IF(VLOOKUP(ROW()-6,Wedstijden!$A$2:$AM$191,$G$1*2-2,FALSE)=\"\",\"\",VLOOKUP(ROW()-6,Wedstijden!$A$2:$AM$191,$G$1*2-2,FALSE))","v":{"$error":"#VALUE!"}},{"$f":"IF(VLOOKUP(ROW()-6,Wedstijden!$A$2:$AM$191,$G$1*2-1,FALSE)=\"\",\"\",VLOOKUP(ROW()-6,Wedstijden!$A$2:$AM$191,$G$1*2-1,FALSE))","v":{"$error":"#VALUE!"}},null,null,null,null,null,null,null,null,null,null,null,null,null,null,null,null,null,null,null,null,{"$f":"COUNTA(C189:V189)+IF(Gespeeld!D189=\"\",0,Gespeeld!D189)","v":0}]
[{"$f":"IF(VLOOKUP(ROW()-6,Wedstijden!$A$2:$AM$191,$G$1*2-2,FALSE)=\"\",\"\",VLOOKUP(ROW()-6,Wedstijden!$A$2:$AM$191,$G$1*2-2,FALSE))","v":{"$error":"#VALUE!"}},{"$f":"IF(VLOOKUP(ROW()-6,Wedstijden!$A$2:$AM$191,$G$1*2-1,FALSE)=\"\",\"\",VLOOKUP(ROW()-6,Wedstijden!$A$2:$AM$191,$G$1*2-1,FALSE))","v":{"$error":"#VALUE!"}},null,null,null,null,null,null,null,null,null,null,null,null,null,null,null,null,null,null,null,null,{"$f":"COUNTA(C190:V190)+IF(Gespeeld!D190=\"\",0,Gespeeld!D190)","v":0}]
[{"$f":"IF(VLOOKUP(ROW()-6,Wedstijden!$A$2:$AM$191,$G$1*2-2,FALSE)=\"\",\"\",VLOOKUP(ROW()-6,Wedstijden!$A$2:$AM$191,$G$1*2-2,FALSE))","v":{"$error":"#VALUE!"}},{"$f":"IF(VLOOKUP(ROW()-6,Wedstijden!$A$2:$AM$191,$G$1*2-1,FALSE)=\"\",\"\",VLOOKUP(ROW()-6,Wedstijden!$A$2:$AM$191,$G$1*2-1,FALSE))","v":{"$error":"#VALUE!"}},null,null,null,null,null,null,null,null,null,null,null,null,null,null,null,null,null,null,null,null,{"$f":"COUNTA(C191:V191)+IF(Gespeeld!D191=\"\",0,Gespeeld!D191)","v":0}]
[{"$f":"IF(VLOOKUP(ROW()-6,Wedstijden!$A$2:$AM$191,$G$1*2-2,FALSE)=\"\",\"\",VLOOKUP(ROW()-6,Wedstijden!$A$2:$AM$191,$G$1*2-2,FALSE))","v":{"$error":"#VALUE!"}},{"$f":"IF(VLOOKUP(ROW()-6,Wedstijden!$A$2:$AM$191,$G$1*2-1,FALSE)=\"\",\"\",VLOOKUP(ROW()-6,Wedstijden!$A$2:$AM$191,$G$1*2-1,FALSE))","v":{"$error":"#VALUE!"}},null,null,null,null,null,null,null,null,null,null,null,null,null,null,null,null,null,null,null,null,{"$f":"COUNTA(C192:V192)+IF(Gespeeld!D192=\"\",0,Gespeeld!D192)","v":0}]
[{"$f":"IF(VLOOKUP(ROW()-6,Wedstijden!$A$2:$AM$191,$G$1*2-2,FALSE)=\"\",\"\",VLOOKUP(ROW()-6,Wedstijden!$A$2:$AM$191,$G$1*2-2,FALSE))","v":{"$error":"#VALUE!"}},{"$f":"IF(VLOOKUP(ROW()-6,Wedstijden!$A$2:$AM$191,$G$1*2-1,FALSE)=\"\",\"\",VLOOKUP(ROW()-6,Wedstijden!$A$2:$AM$191,$G$1*2-1,FALSE))","v":{"$error":"#VALUE!"}},null,null,null,null,null,null,null,null,null,null,null,null,null,null,null,null,null,null,null,null,{"$f":"COUNTA(C193:V193)+IF(Gespeeld!D193=\"\",0,Gespeeld!D193)","v":0}]
[{"$f":"IF(VLOOKUP(ROW()-6,Wedstijden!$A$2:$AM$191,$G$1*2-2,FALSE)=\"\",\"\",VLOOKUP(ROW()-6,Wedstijden!$A$2:$AM$191,$G$1*2-2,FALSE))","v":{"$error":"#VALUE!"}},{"$f":"IF(VLOOKUP(ROW()-6,Wedstijden!$A$2:$AM$191,$G$1*2-1,FALSE)=\"\",\"\",VLOOKUP(ROW()-6,Wedstijden!$A$2:$AM$191,$G$1*2-1,FALSE))","v":{"$error":"#VALUE!"}},null,null,null,null,null,null,null,null,null,null,null,null,null,null,null,null,null,null,null,null,{"$f":"COUNTA(C194:V194)+IF(Gespeeld!D194=\"\",0,Gespeeld!D194)","v":0}]
[{"$f":"IF(VLOOKUP(ROW()-6,Wedstijden!$A$2:$AM$191,$G$1*2-2,FALSE)=\"\",\"\",VLOOKUP(ROW()-6,Wedstijden!$A$2:$AM$191,$G$1*2-2,FALSE))","v":{"$error":"#VALUE!"}},{"$f":"IF(VLOOKUP(ROW()-6,Wedstijden!$A$2:$AM$191,$G$1*2-1,FALSE)=\"\",\"\",VLOOKUP(ROW()-6,Wedstijden!$A$2:$AM$191,$G$1*2-1,FALSE))","v":{"$error":"#VALUE!"}},null,null,null,null,null,null,null,null,null,null,null,null,null,null,null,null,null,null,null,null,{"$f":"COUNTA(C195:V195)+IF(Gespeeld!D195=\"\",0,Gespeeld!D195)","v":0}]
[{"$f":"IF(VLOOKUP(ROW()-6,Wedstijden!$A$2:$AM$191,$G$1*2-2,FALSE)=\"\",\"\",VLOOKUP(ROW()-6,Wedstijden!$A$2:$AM$191,$G$1*2-2,FALSE))","v":{"$error":"#VALUE!"}},{"$f":"IF(VLOOKUP(ROW()-6,Wedstijden!$A$2:$AM$191,$G$1*2-1,FALSE)=\"\",\"\",VLOOKUP(ROW()-6,Wedstijden!$A$2:$AM$191,$G$1*2-1,FALSE))","v":{"$error":"#VALUE!"}},null,null,null,null,null,null,null,null,null,null,null,null,null,null,null,null,null,null,null,null,{"$f":"COUNTA(C196:V196)+IF(Gespeeld!D196=\"\",0,Gespeeld!D196)","v":0}]

{"sheet":"Werk1","index":7,"n_rows":191,"n_cols":33,"rows_kept":191,"cut":false,"hidden":true,"merged":[[0,23,0,24],[0,16,0,17],[0,31,0,32],[12,15,12,17],[14,1,14,8]]}
["Ingebrachte wedstrijd",null,null,null,null,null,null,null,null,null,null,null,null,null,null,null,"T.b.v. wedstrijdschema",null,"Wednr.","1e speler","2e speler","Wed.code","Gespeeld","Index Schema",null,"Datum","T.b.v. Schema overzichtnamen",null,null,"Extra tbv opmaak schema","wed.code","Index Schema2"]
["Datum","wed.code","beurten","naam1","nummer1","caramb1","hoogste1","naam2","nummer2","caramb2","hoogste2","Nieuw?","Aantal deelnemers",null,{"$f":"MAX(Leden!B3:B22)","v":0},"kolommen",{"$f":"O2*2-2","v":-2},{"$f":"Q2+1","v":-1},{"$f":"1","v":1},{"$f":"VLOOKUP($S2,Schema,Werk1!$Q$2,FALSE)","v":{"$error":"#VALUE!"}},{"$f":"VLOOKUP($S2,Schema,Werk1!$R$2,FALSE)","v":{"$error":"#VALUE!"}},{"$f":"CONCATENATE(T2,\"-\",U2)","v":{"$error":"#VALUE!"}},{"$f":"COUNTIF(Uitslagen1!$C$2:$C$191,$V2&\"*\")","v":0},{"$f":"VLOOKUP($V2,Uitslagen1!$C$2:$T$191,17,FALSE)","v":{"$error":"#VALUE!"}},{"$f":"VLOOKUP($V2,Uitslagen1!$C$2:$T$191,18,FALSE)","v":{"$error":"#VALUE!"}},{"$f":"IF(W2=0,\"\",VLOOKUP(VLOOKUP($V2,Uitslagen1!$C$2:$X$191,22,FALSE),Uitslagtotaal,2,FALSE))","v":""},{"$f":"Leden!B3","v":""},{"$f":"IF(Leden!A3=\"\",\"\",Leden!A3)","v":""},null,null,{"$f":"+V2","v":{"$error":"#VALUE!"}},{"$f":"IF(X2=7,24,23)","v":{"$error":"#VALUE!"}},{"$f":"IF(AF2=24,23,24)","v":{"$error":"#VALUE!"}}]
["2022-12-12",{"$f":"IF(D3=\"\",\"\",CONCATENATE(MIN(E3,I3),\"-\",MAX(E3,I3)))","v":""},null,null,{"$f":"IF($D3=\"\",\"\",VLOOKUP($D3,Leden,2,FALSE))","v":""},null,null,null,{"$f":"IF($H3=\"\",\"\",VLOOKUP($H3,Leden,2,FALSE))","v":""},null,null,{"$f":"VLOOKUP(B3,$V$2:$W$191,2,FALSE)","v":{"$error":"#N/A"}},"Aantal wedstrijden totaal",null,null,{"$f":"MAX(Leden!O3:O22)","v":0},null,null,{"$f":"S2+1","v":2},{"$f":"VLOOKUP($S3,Schema,Werk1!$Q$2,FALSE)","v":{"$error":"#VALUE!"}},{"$f":"VLOOKUP($S3,Schema,Werk1!$R$2,FALSE)","v":{"$error":"#VALUE!"}},{"$error":"#VALUE!"},{"$f":"COUNTIF(Uitslagen1!$C$2:$C$191,$V3&\"*\")","v":0},{"$f":"VLOOKUP($V3,Uitslagen1!$C$2:$T$191,17,FALSE)","v":{"$error":"#VALUE!"}},{"$f":"VLOOKUP($V3,Uitslagen1!$C$2:$T$191,18,FALSE)","v":{"$error":"#VALUE!"}},{"$f":"IF(W3=0,\"\",VLOOKUP(VLOOKUP($V3,Uitslagen1!$C$2:$X$191,22,FALSE),Uitslagtotaal,2,FALSE))","v":""},{"$f":"AA2+1","v":{"$error":"#VALUE!"}},{"$f":"IF(Leden!A4=\"\",\"\",Leden!A4)","v":""},null,null,{"$f":"+V3","v":{"$error":"#VALUE!"}},{"$f":"IF(X3=7,24,23)","v":{"$error":"#VALUE!"}},{"$f":"IF(AF3=24,23,24)","v":{"$error":"#VALUE!"}}]
[0,null,null,{"$f":"IF($D3=\"\",\"\",VLOOKUP($D3,Leden,9,FALSE))","v":""},"moet",{"$f":"IF($D3=\"\",\"\",VLOOKUP($D3,Leden,3,FALSE))","v":""},null,{"$f":"IF($H3=\"\",\"\",VLOOKUP($H3,Leden,9,FALSE))","v":""},"moet",{"$f":"IF($H3=\"\",\"\",VLOOKUP($H3,Leden,3,FALSE))","v":""},null,null,"Aantal wedstrijden gespeeld",null,null,{"$f":"SUM(W2:W191)","v":0},null,null,3,{"$f":"VLOOKUP($S4,Schema,Werk1!$Q$2,FALSE)","v":{"$error":"#VALUE!"}},{"$f":"VLOOKUP($S4,Schema,Werk1!$R$2,FALSE)","v":{"$error":"#VALUE!"}},{"$error":"#VALUE!"},{"$f":"COUNTIF(Uitslagen1!$C$2:$C$191,$V4&\"*\")","v":0},{"$f":"VLOOKUP($V4,Uitslagen1!$C$2:$T$191,17,FALSE)","v":{"$error":"#VALUE!"}},{"$f":"VLOOKUP($V4,Uitslagen1!$C$2:$T$191,18,FALSE)","v":{"$error":"#VALUE!"}},{"$f":"IF(W4=0,\"\",VLOOKUP(VLOOKUP($V4,Uitslagen1!$C$2:$X$191,22,FALSE),Uitslagtotaal,2,FALSE))","v":""},{"$f":"AA3+1","v":{"$error":"#VALUE!"}},{"$f":"IF(Leden!A5=\"\",\"\",Leden!A5)","v":""},null,null,{"$error":"#VALUE!"},{"$error":"#VALUE!"},{"$error":"#VALUE!"}]
["Ingebracht Lid",null,null,null,null,null,"formulier",null,null,null,"formulier",null,"Datum laatste wedstrijd",null,null,{"$f":"MAX(Uitslagen1!B2:'Uitslagen1'!B191)","v":"00:00:00"},null,null,4,{"$f":"VLOOKUP($S5,Schema,Werk1!$Q$2,FALSE)","v":{"$error":"#VALUE!"}},{"$f":"VLOOKUP($S5,Schema,Werk1!$R$2,FALSE)","v":{"$error":"#VALUE!"}},{"$error":"#VALUE!"},{"$f":"COUNTIF(Uitslagen1!$C$2:$C$191,$V5&\"*\")","v":0},{"$f":"VLOOKUP($V5,Uitslagen1!$C$2:$T$191,17,FALSE)","v":{"$error":"#VALUE!"}},{"$f":"VLOOKUP($V5,Uitslagen1!$C$2:$T$191,18,FALSE)","v":{"$error":"#VALUE!"}},{"$f":"IF(W5=0,\"\",VLOOKUP(VLOOKUP($V5,Uitslagen1!$C$2:$X$191,22,FALSE),Uitslagtotaal,2,FALSE))","v":""},{"$error":"#VALUE!"},{"$f":"IF(Leden!A6=\"\",\"\",Leden!A6)","v":""},null,null,{"$error":"#VALUE!"},{"$error":"#VALUE!"},{"$error":"#VALUE!"}]
["naam","caramboles","Gemiddelde","Bestaat?",null,null,null,null,null,null,null,null,null,null,null,null,null,null,5,{"$f":"VLOOKUP($S6,Schema,Werk1!$Q$2,FALSE)","v":{"$error":"#VALUE!"}},{"$f":"VLOOKUP($S6,Schema,Werk1!$R$2,FALSE)","v":{"$error":"#VALUE!"}},{"$error":"#VALUE!"},{"$f":"COUNTIF(Uitslagen1!$C$2:$C$191,$V6&\"*\")","v":0},{"$f":"VLOOKUP($V6,Uitslagen1!$C$2:$T$191,17,FALSE)","v":{"$error":"#VALUE!"}},{"$f":"VLOOKUP($V6,Uitslagen1!$C$2:$T$191,18,FALSE)","v":{"$error":"#VALUE!"}},{"$f":"IF(W6=0,\"\",VLOOKUP(VLOOKUP($V6,Uitslagen1!$C$2:$X$191,22,FALSE),Uitslagtotaal,2,FALSE))","v":""},{"$error":"#VALUE!"},{"$f":"IF(Leden!A7=\"\",\"\",Leden!A7)","v":""},null,null,{"$error":"#VALUE!"},{"$error":"#VALUE!"},{"$error":"#VALUE!"}]
[null,null,null,{"$f":"COUNTIF(Leden!A3:A22,A7)","v":0},null,null,null,null,null,null,null,null,null,null,null,null,null,null,6,{"$f":"VLOOKUP($S7,Schema,Werk1!$Q$2,FALSE)","v":{"$error":"#VALUE!"}},{"$f":"VLOOKUP($S7,Schema,Werk1!$R$2,FALSE)","v":{"$error":"#VALUE!"}},{"$error":"#VALUE!"},{"$f":"COUNTIF(Uitslagen1!$C$2:$C$191,$V7&\"*\")","v":0},{"$f":"VLOOKUP($V7,Uitslagen1!$C$2:$T$191,17,FALSE)","v":{"$error":"#VALUE!"}},{"$f":"VLOOKUP($V7,Uitslagen1!$C$2:$T$191,18,FALSE)","v":{"$error":"#VALUE!"}},{"$f":"IF(W7=0,\"\",VLOOKUP(VLOOKUP($V7,Uitslagen1!$C$2:$X$191,22,FALSE),Uitslagtotaal,2,FALSE))","v":""},{"$error":"#VALUE!"},{"$f":"IF(Leden!A8=\"\",\"\",Leden!A8)","v":""},null,null,{"$error":"#VALUE!"},{"$error":"#VALUE!"},{"$error":"#VALUE!"}]
["Aantal rondes op 1 dag binnen programma",null,null,null,1,null,null,"T.b.v. lidgegevens wijzigen",null,null,null,null,null,null,null,null,null,null,7,{"$f":"VLOOKUP($S8,Schema,Werk1!$Q$2,FALSE)","v":{"$error":"#VALUE!"}},{"$f":"VLOOKUP($S8,Schema,Werk1!$R$2,FALSE)","v":{"$error":"#VALUE!"}},{"$error":"#VALUE!"},{"$f":"COUNTIF(Uitslagen1!$C$2:$C$191,$V8&\"*\")","v":0},{"$f":"VLOOKUP($V8,Uitslagen1!$C$2:$T$191,17,FALSE)","v":{"$error":"#VALUE!"}},{"$f":"VLOOKUP($V8,Uitslagen1!$C$2:$T$191,18,FALSE)","v":{"$error":"#VALUE!"}},{"$f":"IF(W8=0,\"\",VLOOKUP(VLOOKUP($V8,Uitslagen1!$C$2:$X$191,22,FALSE),Uitslagtotaal,2,FALSE))","v":""},{"$error":"#VALUE!"},{"$f":"IF(Leden!A9=\"\",\"\",Leden!A9)","v":""},null,null,{"$error":"#VALUE!"},{"$error":"#VALUE!"},{"$error":"#VALUE!"}]
["Foutkode",null,"Wordt gebruikt voor bepaling foutboodschap in Instellingen",null,null,null,null,null,null,"Ophalen o.b.v. selectie",null,null,"gebruikt door formulier",null,null,"Nieuwe instelling",null,null,8,{"$f":"VLOOKUP($S9,Schema,Werk1!$Q$2,FALSE)","v":{"$error":"#VALUE!"}},{"$f":"VLOOKUP($S9,Schema,Werk1!$R$2,FALSE)","v":{"$error":"#VALUE!"}},{"$error":"#VALUE!"},{"$f":"COUNTIF(Uitslagen1!$C$2:$C$191,$V9&\"*\")","v":0},{"$f":"VLOOKUP($V9,Uitslagen1!$C$2:$T$191,17,FALSE)","v":{"$error":"#VALUE!"}},{"$f":"VLOOKUP($V9,Uitslagen1!$C$2:$T$191,18,FALSE)","v":{"$error":"#VALUE!"}},{"$f":"IF(W9=0,\"\",VLOOKUP(VLOOKUP($V9,Uitslagen1!$C$2:$X$191,22,FALSE),Uitslagtotaal,2,FALSE))","v":""},{"$error":"#VALUE!"},{"$f":"IF(Leden!A10=\"\",\"\",Leden!A10)","v":""},null,null,{"$error":"#VALUE!"},{"$error":"#VALUE!"},{"$error":"#VALUE!"}]
["Carambolescontr",0,"Als keus bij invoer is 1 dan geen controle opbehaalde caramboles",null,null,null,null,null,null,"naam","caramboles","Gemiddelde","naam","caramboles","Gemiddelde","caramboles","Gemiddelde","Naam",9,{"$f":"VLOOKUP($S10,Schema,Werk1!$Q$2,FALSE)","v":{"$error":"#VALUE!"}},{"$f":"VLOOKUP($S10,Schema,Werk1!$R$2,FALSE)","v":{"$error":"#VALUE!"}},{"$error":"#VALUE!"},{"$f":"COUNTIF(Uitslagen1!$C$2:$C$191,$V10&\"*\")","v":0},{"$f":"VLOOKUP($V10,Uitslagen1!$C$2:$T$191,17,FALSE)","v":{"$error":"#VALUE!"}},{"$f":"VLOOKUP($V10,Uitslagen1!$C$2:$T$191,18,FALSE)","v":{"$error":"#VALUE!"}},{"$f":"IF(W10=0,\"\",VLOOKUP(VLOOKUP($V10,Uitslagen1!$C$2:$X$191,22,FALSE),Uitslagtotaal,2,FALSE))","v":""},{"$error":"#VALUE!"},{"$f":"IF(Leden!A11=\"\",\"\",Leden!A11)","v":""},null,null,{"$error":"#VALUE!"},{"$error":"#VALUE!"},{"$error":"#VALUE!"}]
["Lid-naam","xx","Wordt gebruikt voor selecteren van een lid",null,null,null,null,null,"selectiegegevens",{"$f":"+B11","v":"xx"},{"$f":"VLOOKUP(J11,Leden,3,FALSE)","v":{"$error":"#N/A"}},{"$f":"VLOOKUP(J11,Leden,4,FALSE)","v":{"$error":"#N/A"}},"xx",35,1,null,null,null,10,{"$f":"VLOOKUP($S11,Schema,Werk1!$Q$2,FALSE)","v":{"$error":"#VALUE!"}},{"$f":"VLOOKUP($S11,Schema,Werk1!$R$2,FALSE)","v":{"$error":"#VALUE!"}},{"$error":"#VALUE!"},{"$f":"COUNTIF(Uitslagen1!$C$2:$C$191,$V11&\"*\")","v":0},{"$f":"VLOOKUP($V11,Uitslagen1!$C$2:$T$191,17,FALSE)","v":{"$error":"#VALUE!"}},{"$f":"VLOOKUP($V11,Uitslagen1!$C$2:$T$191,18,FALSE)","v":{"$error":"#VALUE!"}},{"$f":"IF(W11=0,\"\",VLOOKUP(VLOOKUP($V11,Uitslagen1!$C$2:$X$191,22,FALSE),Uitslagtotaal,2,FALSE))","v":""},{"$error":"#VALUE!"},{"$f":"IF(Leden!A12=\"\",\"\",Leden!A12)","v":""},null,null,{"$error":"#VALUE!"},{"$error":"#VALUE!"},{"$error":"#VALUE!"}]
["Afsluitkode",0," 0 = hele ridel nog doorlopen; 1 = sluit meteen",null,null,null,null,null,"actief/inact",{"$f":"VLOOKUP(J11,Leden,9,FALSE)","v":{"$error":"#N/A"}},"Gehele comp","Laatste 5",5,"Gehele comp","Laatste 5",null,null,null,11,{"$f":"VLOOKUP($S12,Schema,Werk1!$Q$2,FALSE)","v":{"$error":"#VALUE!"}},{"$f":"VLOOKUP($S12,Schema,Werk1!$R$2,FALSE)","v":{"$error":"#VALUE!"}},{"$error":"#VALUE!"},{"$f":"COUNTIF(Uitslagen1!$C$2:$C$191,$V12&\"*\")","v":0},{"$f":"VLOOKUP($V12,Uitslagen1!$C$2:$T$191,17,FALSE)","v":{"$error":"#VALUE!"}},{"$f":"VLOOKUP($V12,Uitslagen1!$C$2:$T$191,18,FALSE)","v":{"$error":"#VALUE!"}},{"$f":"IF(W12=0,\"\",VLOOKUP(VLOOKUP($V12,Uitslagen1!$C$2:$X$191,22,FALSE),Uitslagtotaal,2,FALSE))","v":""},{"$error":"#VALUE!"},{"$f":"IF(Leden!A13=\"\",\"\",Leden!A13)","v":""},null,null,{"$error":"#VALUE!"},{"$error":"#VALUE!"},{"$error":"#VALUE!"}]
[null,null,null,null,null,null,null,null,null,"Caramb",{"$f":"VLOOKUP(J11,Leden,12,FALSE)","v":{"$error":"#N/A"}},{"$f":"VLOOKUP(J11,Leden,13,FALSE)","v":{"$error":"#N/A"}},"Caramb",41,41,"Oorspronkelijk",null,null,12,{"$f":"VLOOKUP($S13,Schema,Werk1!$Q$2,FALSE)","v":{"$error":"#VALUE!"}},{"$f":"VLOOKUP($S13,Schema,Werk1!$R$2,FALSE)","v":{"$error":"#VALUE!"}},{"$error":"#VALUE!"},{"$f":"COUNTIF(Uitslagen1!$C$2:$C$191,$V13&\"*\")","v":0},{"$f":"VLOOKUP($V13,Uitslagen1!$C$2:$T$191,17,FALSE)","v":{"$error":"#VALUE!"}},{"$f":"VLOOKUP($V13,Uitslagen1!$C$2:$T$191,18,FALSE)","v":{"$error":"#VALUE!"}},{"$f":"IF(W13=0,\"\",VLOOKUP(VLOOKUP($V13,Uitslagen1!$C$2:$X$191,22,FALSE),Uitslagtotaal,2,FALSE))","v":""},{"$error":"#VALUE!"},{"$f":"IF(Leden!A14=\"\",\"\",Leden!A14)","v":""},null,null,{"$error":"#VALUE!"},{"$error":"#VALUE!"},{"$error":"#VALUE!"}]
[null,null,null,null,null,null,null,null,null,"gemiddelde",{"$f":"VLOOKUP(J11,Leden,10,FALSE)","v":{"$error":"#N/A"}},{"$f":"VLOOKUP(J11,Leden,14,FALSE)","v":{"$error":"#N/A"}},"gemiddelde",1.22,1.22,38,1.18,null,13,{"$f":"VLOOKUP($S14,Schema,Werk1!$Q$2,FALSE)","v":{"$error":"#VALUE!"}},{"$f":"VLOOKUP($S14,Schema,Werk1!$R$2,FALSE)","v":{"$error":"#VALUE!"}},{"$error":"#VALUE!"},{"$f":"COUNTIF(Uitslagen1!$C$2:$C$191,$V14&\"*\")","v":0},{"$f":"VLOOKUP($V14,Uitslagen1!$C$2:$T$191,17,FALSE)","v":{"$error":"#VALUE!"}},{"$f":"VLOOKUP($V14,Uitslagen1!$C$2:$T$191,18,FALSE)","v":{"$error":"#VALUE!"}},{"$f":"IF(W14=0,\"\",VLOOKUP(VLOOKUP($V14,Uitslagen1!$C$2:$X$191,22,FALSE),Uitslagtotaal,2,FALSE))","v":""},{"$error":"#VALUE!"},{"$f":"IF(Leden!A15=\"\",\"\",Leden!A15)","v":""},null,null,{"$error":"#VALUE!"},{"$error":"#VALUE!"},{"$error":"#VALUE!"}]
["Gekozen pad",{"$f":"B16","v":"D:\\SynologyDrive\\Biljart\\Programmas\\"},null,null,null,null,null,null,null,null,{"$f":"IF(J12=-1,\"Lid is inactief, wordt bij opslaan weer actief\",\"\")","v":{"$error":"#N/A"}},null,"",null,null,null,null,null,14,{"$f":"VLOOKUP($S15,Schema,Werk1!$Q$2,FALSE)","v":{"$error":"#VALUE!"}},{"$f":"VLOOKUP($S15,Schema,Werk1!$R$2,FALSE)","v":{"$error":"#VALUE!"}},{"$error":"#VALUE!"},{"$f":"COUNTIF(Uitslagen1!$C$2:$C$191,$V15&\"*\")","v":0},{"$f":"VLOOKUP($V15,Uitslagen1!$C$2:$T$191,17,FALSE)","v":{"$error":"#VALUE!"}},{"$f":"VLOOKUP($V15,Uitslagen1!$C$2:$T$191,18,FALSE)","v":{"$error":"#VALUE!"}},{"$f":"IF(W15=0,\"\",VLOOKUP(VLOOKUP($V15,Uitslagen1!$C$2:$X$191,22,FALSE),Uitslagtotaal,2,FALSE))","v":""},{"$error":"#VALUE!"},{"$f":"IF(Leden!A16=\"\",\"\",Leden!A16)","v":""},null,null,{"$error":"#VALUE!"},{"$error":"#VALUE!"},{"$error":"#VALUE!"}]
["Pad",{"$f":"LEFT(CELL(\"bestandsnaam\",A2),FIND(\"\\[\",CELL(\"bestandsnaam\",A2),1))","v":"D:\\SynologyDrive\\Biljart\\Programmas\\"},null,null,null,"Drive",{"$f":"LEFT(B16,1)","v":"D"},null,null,null,{"$f":"IF(J12=-1,\"Lid is inactief\",\"\")","v":{"$error":"#N/A"}},null,"Wedstrijden","GW","GL","VL","PT",null,15,{"$f":"VLOOKUP($S16,Schema,Werk1!$Q$2,FALSE)","v":{"$error":"#VALUE!"}},{"$f":"VLOOKUP($S16,Schema,Werk1!$R$2,FALSE)","v":{"$error":"#VALUE!"}},{"$error":"#VALUE!"},{"$f":"COUNTIF(Uitslagen1!$C$2:$C$191,$V16&\"*\")","v":0},{"$f":"VLOOKUP($V16,Uitslagen1!$C$2:$T$191,17,FALSE)","v":{"$error":"#VALUE!"}},{"$f":"VLOOKUP($V16,Uitslagen1!$C$2:$T$191,18,FALSE)","v":{"$error":"#VALUE!"}},{"$f":"IF(W16=0,\"\",VLOOKUP(VLOOKUP($V16,Uitslagen1!$C$2:$X$191,22,FALSE),Uitslagtotaal,2,FALSE))","v":""},{"$error":"#VALUE!"},{"$f":"IF(Leden!A17=\"\",\"\",Leden!A17)","v":""},null,null,{"$error":"#VALUE!"},{"$error":"#VALUE!"},{"$error":"#VALUE!"}]
["Bestandsnaam",null,null,null,null,null,null,null,null,null,null,null,2,2,0,0,5,null,16,{"$f":"VLOOKUP($S17,Schema,Werk1!$Q$2,FALSE)","v":{"$error":"#VALUE!"}},{"$f":"VLOOKUP($S17,Schema,Werk1!$R$2,FALSE)","v":{"$error":"#VALUE!"}},{"$error":"#VALUE!"},{"$f":"COUNTIF(Uitslagen1!$C$2:$C$191,$V17&\"*\")","v":0},{"$f":"VLOOKUP($V17,Uitslagen1!$C$2:$T$191,17,FALSE)","v":{"$error":"#VALUE!"}},{"$f":"VLOOKUP($V17,Uitslagen1!$C$2:$T$191,18,FALSE)","v":{"$error":"#VALUE!"}},{"$f":"IF(W17=0,\"\",VLOOKUP(VLOOKUP($V17,Uitslagen1!$C$2:$X$191,22,FALSE),Uitslagtotaal,2,FALSE))","v":""},{"$error":"#VALUE!"},{"$f":"IF(Leden!A18=\"\",\"\",Leden!A18)","v":""},null,null,{"$error":"#VALUE!"},{"$error":"#VALUE!"},{"$error":"#VALUE!"}]
["Wedstrijd gespeeld? T.b.v. bekijken gespeelde uitslag met behulp van rij 3",null,null,null,null,null,null,null,null,null,null,null,"Obv zonder min en max:",null,1.22,41,null,null,17,{"$f":"VLOOKUP($S18,Schema,Werk1!$Q$2,FALSE)","v":{"$error":"#VALUE!"}},{"$f":"VLOOKUP($S18,Schema,Werk1!$R$2,FALSE)","v":{"$error":"#VALUE!"}},{"$error":"#VALUE!"},{"$f":"COUNTIF(Uitslagen1!$C$2:$C$191,$V18&\"*\")","v":0},{"$f":"VLOOKUP($V18,Uitslagen1!$C$2:$T$191,17,FALSE)","v":{"$error":"#VALUE!"}},{"$f":"VLOOKUP($V18,Uitslagen1!$C$2:$T$191,18,FALSE)","v":{"$error":"#VALUE!"}},{"$f":"IF(W18=0,\"\",VLOOKUP(VLOOKUP($V18,Uitslagen1!$C$2:$X$191,22,FALSE),Uitslagtotaal,2,FALSE))","v":""},{"$error":"#VALUE!"},{"$f":"IF(Leden!A19=\"\",\"\",Leden!A19)","v":""},null,null,{"$error":"#VALUE!"},{"$error":"#VALUE!"},{"$error":"#VALUE!"}]
["Datum","wed.code","beurten","naam1","Punten1","caramb1","hoogste1","naam2","Punten 2","caramb2","hoogste2","wedstr.nr",null,null,null,null,null,null,18,{"$f":"VLOOKUP($S19,Schema,Werk1!$Q$2,FALSE)","v":{"$error":"#VALUE!"}},{"$f":"VLOOKUP($S19,Schema,Werk1!$R$2,FALSE)","v":{"$error":"#VALUE!"}},{"$error":"#VALUE!"},{"$f":"COUNTIF(Uitslagen1!$C$2:$C$191,$V19&\"*\")","v":0},{"$f":"VLOOKUP($V19,Uitslagen1!$C$2:$T$191,17,FALSE)","v":{"$error":"#VALUE!"}},{"$f":"VLOOKUP($V19,Uitslagen1!$C$2:$T$191,18,FALSE)","v":{"$error":"#VALUE!"}},{"$f":"IF(W19=0,\"\",VLOOKUP(VLOOKUP($V19,Uitslagen1!$C$2:$X$191,22,FALSE),Uitslagtotaal,2,FALSE))","v":""},{"$error":"#VALUE!"},{"$f":"IF(Leden!A20=\"\",\"\",Leden!A20)","v":""},null,null,{"$error":"#VALUE!"},{"$error":"#VALUE!"},{"$error":"#VALUE!"}]
[null,null,null,null,null,null,null,null,null,null,null,null,"formulier",null,null,null,null,null,19,{"$f":"VLOOKUP($S20,Schema,Werk1!$Q$2,FALSE)","v":{"$error":"#VALUE!"}},{"$f":"VLOOKUP($S20,Schema,Werk1!$R$2,FALSE)","v":{"$error":"#VALUE!"}},{"$error":"#VALUE!"},{"$f":"COUNTIF(Uitslagen1!$C$2:$C$191,$V20&\"*\")","v":0},{"$f":"VLOOKUP($V20,Uitslagen1!$C$2:$T$191,17,FALSE)","v":{"$error":"#VALUE!"}},{"$f":"VLOOKUP($V20,Uitslagen1!$C$2:$T$191,18,FALSE)","v":{"$error":"#VALUE!"}},{"$f":"IF(W20=0,\"\",VLOOKUP(VLOOKUP($V20,Uitslagen1!$C$2:$X$191,22,FALSE),Uitslagtotaal,2,FALSE))","v":""},{"$error":"#VALUE!"},{"$f":"IF(Leden!A21=\"\",\"\",Leden!A21)","v":""},null,null,{"$error":"#VALUE!"},{"$error":"#VALUE!"},{"$error":"#VALUE!"}]
[{"$f":"VLOOKUP($B$3,$V$2:$Z$191,5,FALSE)","v":{"$error":"#N/A"}},{"$f":"IF(D3=\"\",\"\",CONCATENATE(MIN(E3,I3),\"-\",MAX(E3,I3)))","v":""},{"$f":"VLOOKUP($B$3,Uitslag,2,FALSE)","v":0},{"$f":"VLOOKUP($B$3,Uitslag,3,FALSE)","v":0},{"$f":"VLOOKUP($B$3,Uitslag,9,FALSE)","v":""},{"$f":"VLOOKUP($B$3,Uitslag,5,FALSE)","v":0},{"$f":"VLOOKUP($B$3,Uitslag,6,FALSE)","v":0},{"$f":"VLOOKUP($B$3,Uitslag,10,FALSE)","v":0},{"$f":"VLOOKUP($B$3,Uitslag,16,FALSE)","v":""},{"$f":"VLOOKUP($B$3,Uitslag,12,FALSE)","v":0},{"$f":"VLOOKUP($B$3,Uitslag,13,FALSE)","v":0},{"$f":"VLOOKUP($B$3,Uitslag,22,FALSE)","v":""},"formules",null,null,null,null,null,20,{"$f":"VLOOKUP($S21,Schema,Werk1!$Q$2,FALSE)","v":{"$error":"#VALUE!"}},{"$f":"VLOOKUP($S21,Schema,Werk1!$R$2,FALSE)","v":{"$error":"#VALUE!"}},{"$error":"#VALUE!"},{"$f":"COUNTIF(Uitslagen1!$C$2:$C$191,$V21&\"*\")","v":0},{"$f":"VLOOKUP($V21,Uitslagen1!$C$2:$T$191,17,FALSE)","v":{"$error":"#VALUE!"}},{"$f":"VLOOKUP($V21,Uitslagen1!$C$2:$T$191,18,FALSE)","v":{"$error":"#VALUE!"}},{"$f":"IF(W21=0,\"\",VLOOKUP(VLOOKUP($V21,Uitslagen1!$C$2:$X$191,22,FALSE),Uitslagtotaal,2,FALSE))","v":""},{"$error":"#VALUE!"},{"$f":"IF(Leden!A22=\"\",\"\",Leden!A22)","v":""},null,null,{"$error":"#VALUE!"},{"$error":"#VALUE!"},{"$error":"#VALUE!"}]
[null,null,null,null,"moet",{"$f":"IF(D21=D3,F4,J4)","v":""},38,null,null,{"$f":"IF(H21=H3,J4,F4)","v":""},29,null,null,null,null,null,null,null,21,{"$f":"VLOOKUP($S22,Schema,Werk1!$Q$2,FALSE)","v":{"$error":"#VALUE!"}},{"$f":"VLOOKUP($S22,Schema,Werk1!$R$2,FALSE)","v":{"$error":"#VALUE!"}},{"$error":"#VALUE!"},{"$f":"COUNTIF(Uitslagen1!$C$2:$C$191,$V22&\"*\")","v":0},{"$f":"VLOOKUP($V22,Uitslagen1!$C$2:$T$191,17,FALSE)","v":{"$error":"#VALUE!"}},{"$f":"VLOOKUP($V22,Uitslagen1!$C$2:$T$191,18,FALSE)","v":{"$error":"#VALUE!"}},{"$f":"IF(W22=0,\"\",VLOOKUP(VLOOKUP($V22,Uitslagen1!$C$2:$X$191,22,FALSE),Uitslagtotaal,2,FALSE))","v":""},null,null,null,null,{"$error":"#VALUE!"},{"$error":"#VALUE!"},{"$error":"#VALUE!"}]
[null,1," 0 = som der competities; 1 betekent alleen huidige competitie printen!!!",null,null,null,null,null,null,null,null,null,null,null,null,null,null,null,22,{"$f":"VLOOKUP($S23,Schema,Werk1!$Q$2,FALSE)","v":{"$error":"#VALUE!"}},{"$f":"VLOOKUP($S23,Schema,Werk1!$R$2,FALSE)","v":{"$error":"#VALUE!"}},{"$error":"#VALUE!"},{"$f":"COUNTIF(Uitslagen1!$C$2:$C$191,$V23&\"*\")","v":0},{"$f":"VLOOKUP($V23,Uitslagen1!$C$2:$T$191,17,FALSE)","v":{"$error":"#VALUE!"}},{"$f":"VLOOKUP($V23,Uitslagen1!$C$2:$T$191,18,FALSE)","v":{"$error":"#VALUE!"}},{"$f":"IF(W23=0,\"\",VLOOKUP(VLOOKUP($V23,Uitslagen1!$C$2:$X$191,22,FALSE),Uitslagtotaal,2,FALSE))","v":""},"Onderstaande t.b.v. invulveld op formulier",null,null,null,{"$error":"#VALUE!"},{"$error":"#VALUE!"},{"$error":"#VALUE!"}]
["Onderdeel bedoeld voor ranglijstsamenstelling. (vanaf 5-10-2009 inclusief eventueel eerdere telling, zie tabblad Vorigpunt)",null,null,null,null,null,null,null,null,null,null,null,null,null,"Perc*weds",null,null,null,23,{"$f":"VLOOKUP($S24,Schema,Werk1!$Q$2,FALSE)","v":{"$error":"#VALUE!"}},{"$f":"VLOOKUP($S24,Schema,Werk1!$R$2,FALSE)","v":{"$error":"#VALUE!"}},{"$error":"#VALUE!"},{"$f":"COUNTIF(Uitslagen1!$C$2:$C$191,$V24&\"*\")","v":0},{"$f":"VLOOKUP($V24,Uitslagen1!$C$2:$T$191,17,FALSE)","v":{"$error":"#VALUE!"}},{"$f":"VLOOKUP($V24,Uitslagen1!$C$2:$T$191,18,FALSE)","v":{"$error":"#VALUE!"}},{"$f":"IF(W24=0,\"\",VLOOKUP(VLOOKUP($V24,Uitslagen1!$C$2:$X$191,22,FALSE),Uitslagtotaal,2,FALSE))","v":""},"Caramboles",0,null,null,{"$error":"#VALUE!"},{"$error":"#VALUE!"},{"$error":"#VALUE!"}]
["Uit tabblad Leden",null,null,null,null,null,null,null,"Kolom(Vorigpunt)",3,4,5,6,7,9,8,null,null,24,{"$f":"VLOOKUP($S25,Schema,Werk1!$Q$2,FALSE)","v":{"$error":"#VALUE!"}},{"$f":"VLOOKUP($S25,Schema,Werk1!$R$2,FALSE)","v":{"$error":"#VALUE!"}},{"$error":"#VALUE!"},{"$f":"COUNTIF(Uitslagen1!$C$2:$C$191,$V25&\"*\")","v":0},{"$f":"VLOOKUP($V25,Uitslagen1!$C$2:$T$191,17,FALSE)","v":{"$error":"#VALUE!"}},{"$f":"VLOOKUP($V25,Uitslagen1!$C$2:$T$191,18,FALSE)","v":{"$error":"#VALUE!"}},{"$f":"IF(W25=0,\"\",VLOOKUP(VLOOKUP($V25,Uitslagen1!$C$2:$X$191,22,FALSE),Uitslagtotaal,2,FALSE))","v":""},"controle",1,null,null,{"$error":"#VALUE!"},{"$error":"#VALUE!"},{"$error":"#VALUE!"}]
[{"$f":"IF(+Leden!$A3=\"\",\"\",Leden!A3)","v":""},{"$f":"IF(+Leden!$A3=\"\",\"\",Leden!E3)","v":""},{"$f":"IF(+Leden!$A3=\"\",\"\",Leden!F3)","v":""},{"$f":"IF(+Leden!$A3=\"\",\"\",Leden!G3)","v":""},{"$f":"IF(+Leden!$A3=\"\",\"\",Leden!H3)","v":""},{"$f":"IF(+Leden!$A3=\"\",\"\",Leden!I3)","v":""},{"$f":"IF(ISERROR(IF(+Leden!$A3=\"\",\"\",IF(Instellingen!$L$28=1,IF($B$23=0,Leden!L3/Leden!C3,Leden!L3/Leden!C3*B26),IF($B$23=0,Leden!J3,Leden!J3*B26)))),0,IF(+Leden!$A3=\"\",\"\",IF(Instellingen!$L$28=1,IF($B$23=0,Leden!L3/Leden!C3,Leden!L3/Leden!C3*B26),IF($B$23=0,Leden!J3,Leden!J3*B26))))","v":""},{"$f":"IF(+Leden!$A3=\"\",\"\",Leden!K3)","v":""},{"$f":"IF(A26=\"\",\"\",A26)","v":""},{"$f":"IF($A26=\"\",\"\",B26+VLOOKUP($I26,Vorigpunt!$A$3:$H$22,J$25,FALSE))","v":""},{"$f":"IF($A26=\"\",\"\",C26+VLOOKUP($I26,Vorigpunt!$A$3:$H$22,K$25,FALSE))","v":""},{"$f":"IF($A26=\"\",\"\",D26+VLOOKUP($I26,Vorigpunt!$A$3:$H$22,L$25,FALSE))","v":""},{"$f":"IF($A26=\"\",\"\",E26+VLOOKUP($I26,Vorigpunt!$A$3:$H$22,M$25,FALSE))","v":""},{"$f":"IF($A26=\"\",\"\",F26+IF(VLOOKUP($I26,Vorigpunt!$A$3:$H$22,N$25,FALSE)=\"\",0,VLOOKUP($I26,Vorigpunt!$A$3:$H$22,N$25,FALSE)))","v":""},{"$f":"IF(ISERROR(IF($A26=\"\",\"\",(G26+IF(VLOOKUP($I26,Vorigpunt!$A$3:$I$22,O$25,FALSE)=\"\",0,VLOOKUP($I26,Vorigpunt!$A$3:$I$22,O$25,FALSE)))/(MAX(1,J26)))),0,IF($A26=\"\",\"\",(G26+IF(VLOOKUP($I26,Vorigpunt!$A$3:$I$22,O$25,FALSE)=\"\",0,VLOOKUP($I26,Vorigpunt!$A$3:$I$22,O$25,FALSE)))/(MAX(1,J26))))","v":""},{"$f":"IF($A26=\"\",\"\",MAX(H26,VLOOKUP($I26,Vorigpunt!$A$3:$H$22,P$25,FALSE)))","v":""},null,null,25,{"$f":"VLOOKUP($S26,Schema,Werk1!$Q$2,FALSE)","v":{"$error":"#VALUE!"}},{"$f":"VLOOKUP($S26,Schema,Werk1!$R$2,FALSE)","v":{"$error":"#VALUE!"}},{"$error":"#VALUE!"},{"$f":"COUNTIF(Uitslagen1!$C$2:$C$191,$V26&\"*\")","v":0},{"$f":"VLOOKUP($V26,Uitslagen1!$C$2:$T$191,17,FALSE)","v":{"$error":"#VALUE!"}},{"$f":"VLOOKUP($V26,Uitslagen1!$C$2:$T$191,18,FALSE)","v":{"$error":"#VALUE!"}},{"$f":"IF(W26=0,\"\",VLOOKUP(VLOOKUP($V26,Uitslagen1!$C$2:$X$191,22,FALSE),Uitslagtotaal,2,FALSE))","v":""},null,null,null,null,{"$error":"#VALUE!"},{"$error":"#VALUE!"},{"$error":"#VALUE!"}]
[{"$f":"IF(+Leden!$A4=\"\",\"\",Leden!A4)","v":""},{"$f":"IF(+Leden!$A4=\"\",\"\",Leden!E4)","v":""},{"$f":"IF(+Leden!$A4=\"\",\"\",Leden!F4)","v":""},{"$f":"IF(+Leden!$A4=\"\",\"\",Leden!G4)","v":""},{"$f":"IF(+Leden!$A4=\"\",\"\",Leden!H4)","v":""},{"$f":"IF(+Leden!$A4=\"\",\"\",Leden!I4)","v":""},{"$f":"IF(ISERROR(IF(+Leden!$A4=\"\",\"\",IF(Instellingen!$L$28=1,IF($B$23=0,Leden!L4/Leden!C4,Leden!L4/Leden!C4*B27),IF($B$23=0,Leden!J4,Leden!J4*B27)))),0,IF(+Leden!$A4=\"\",\"\",IF(Instellingen!$L$28=1,IF($B$23=0,Leden!L4/Leden!C4,Leden!L4/Leden!C4*B27),IF($B$23=0,Leden!J4,Leden!J4*B27))))","v":""},{"$f":"IF(+Leden!$A4=\"\",\"\",Leden!K4)","v":""},"",{"$f":"IF($A27=\"\",\"\",B27+VLOOKUP($I27,Vorigpunt!$A$3:$H$22,J$25,FALSE))","v":""},{"$f":"IF($A27=\"\",\"\",C27+VLOOKUP($I27,Vorigpunt!$A$3:$H$22,K$25,FALSE))","v":""},{"$f":"IF($A27=\"\",\"\",D27+VLOOKUP($I27,Vorigpunt!$A$3:$H$22,L$25,FALSE))","v":""},{"$f":"IF($A27=\"\",\"\",E27+VLOOKUP($I27,Vorigpunt!$A$3:$H$22,M$25,FALSE))","v":""},{"$f":"IF($A27=\"\",\"\",F27+IF(VLOOKUP($I27,Vorigpunt!$A$3:$H$22,N$25,FALSE)=\"\",0,VLOOKUP($I27,Vorigpunt!$A$3:$H$22,N$25,FALSE)))","v":""},{"$f":"IF(ISERROR(IF($A27=\"\",\"\",(G27+IF(VLOOKUP($I27,Vorigpunt!$A$3:$I$22,O$25,FALSE)=\"\",0,VLOOKUP($I27,Vorigpunt!$A$3:$I$22,O$25,FALSE)))/(MAX(1,J27)))),0,IF($A27=\"\",\"\",(G27+IF(VLOOKUP($I27,Vorigpunt!$A$3:$I$22,O$25,FALSE)=\"\",0,VLOOKUP($I27,Vorigpunt!$A$3:$I$22,O$25,FALSE)))/(MAX(1,J27))))","v":""},{"$f":"IF($A27=\"\",\"\",MAX(H27,VLOOKUP($I27,Vorigpunt!$A$3:$H$22,P$25,FALSE)))","v":""},null,null,26,{"$f":"VLOOKUP($S27,Schema,Werk1!$Q$2,FALSE)","v":{"$error":"#VALUE!"}},{"$f":"VLOOKUP($S27,Schema,Werk1!$R$2,FALSE)","v":{"$error":"#VALUE!"}},{"$error":"#VALUE!"},{"$f":"COUNTIF(Uitslagen1!$C$2:$C$191,$V27&\"*\")","v":0},{"$f":"VLOOKUP($V27,Uitslagen1!$C$2:$T$191,17,FALSE)","v":{"$error":"#VALUE!"}},{"$f":"VLOOKUP($V27,Uitslagen1!$C$2:$T$191,18,FALSE)","v":{"$error":"#VALUE!"}},{"$f":"IF(W27=0,\"\",VLOOKUP(VLOOKUP($V27,Uitslagen1!$C$2:$X$191,22,FALSE),Uitslagtotaal,2,FALSE))","v":""},null,null,null,null,{"$error":"#VALUE!"},{"$error":"#VALUE!"},{"$error":"#VALUE!"}]
[{"$f":"IF(+Leden!$A5=\"\",\"\",Leden!A5)","v":""},{"$f":"IF(+Leden!$A5=\"\",\"\",Leden!E5)","v":""},{"$f":"IF(+Leden!$A5=\"\",\"\",Leden!F5)","v":""},{"$f":"IF(+Leden!$A5=\"\",\"\",Leden!G5)","v":""},{"$f":"IF(+Leden!$A5=\"\",\"\",Leden!H5)","v":""},{"$f":"IF(+Leden!$A5=\"\",\"\",Leden!I5)","v":""},{"$f":"IF(ISERROR(IF(+Leden!$A5=\"\",\"\",IF(Instellingen!$L$28=1,IF($B$23=0,Leden!L5/Leden!C5,Leden!L5/Leden!C5*B28),IF($B$23=0,Leden!J5,Leden!J5*B28)))),0,IF(+Leden!$A5=\"\",\"\",IF(Instellingen!$L$28=1,IF($B$23=0,Leden!L5/Leden!C5,Leden!L5/Leden!C5*B28),IF($B$23=0,Leden!J5,Leden!J5*B28))))","v":""},{"$f":"IF(+Leden!$A5=\"\",\"\",Leden!K5)","v":""},"",{"$f":"IF($A28=\"\",\"\",B28+VLOOKUP($I28,Vorigpunt!$A$3:$H$22,J$25,FALSE))","v":""},{"$f":"IF($A28=\"\",\"\",C28+VLOOKUP($I28,Vorigpunt!$A$3:$H$22,K$25,FALSE))","v":""},{"$f":"IF($A28=\"\",\"\",D28+VLOOKUP($I28,Vorigpunt!$A$3:$H$22,L$25,FALSE))","v":""},{"$f":"IF($A28=\"\",\"\",E28+VLOOKUP($I28,Vorigpunt!$A$3:$H$22,M$25,FALSE))","v":""},{"$f":"IF($A28=\"\",\"\",F28+IF(VLOOKUP($I28,Vorigpunt!$A$3:$H$22,N$25,FALSE)=\"\",0,VLOOKUP($I28,Vorigpunt!$A$3:$H$22,N$25,FALSE)))","v":""},{"$f":"IF(ISERROR(IF($A28=\"\",\"\",(G28+IF(VLOOKUP($I28,Vorigpunt!$A$3:$I$22,O$25,FALSE)=\"\",0,VLOOKUP($I28,Vorigpunt!$A$3:$I$22,O$25,FALSE)))/(MAX(1,J28)))),0,IF($A28=\"\",\"\",(G28+IF(VLOOKUP($I28,Vorigpunt!$A$3:$I$22,O$25,FALSE)=\"\",0,VLOOKUP($I28,Vorigpunt!$A$3:$I$22,O$25,FALSE)))/(MAX(1,J28))))","v":""},{"$f":"IF($A28=\"\",\"\",MAX(H28,VLOOKUP($I28,Vorigpunt!$A$3:$H$22,P$25,FALSE)))","v":""},null,null,27,{"$f":"VLOOKUP($S28,Schema,Werk1!$Q$2,FALSE)","v":{"$error":"#VALUE!"}},{"$f":"VLOOKUP($S28,Schema,Werk1!$R$2,FALSE)","v":{"$error":"#VALUE!"}},{"$error":"#VALUE!"},{"$f":"COUNTIF(Uitslagen1!$C$2:$C$191,$V28&\"*\")","v":0},{"$f":"VLOOKUP($V28,Uitslagen1!$C$2:$T$191,17,FALSE)","v":{"$error":"#VALUE!"}},{"$f":"VLOOKUP($V28,Uitslagen1!$C$2:$T$191,18,FALSE)","v":{"$error":"#VALUE!"}},{"$f":"IF(W28=0,\"\",VLOOKUP(VLOOKUP($V28,Uitslagen1!$C$2:$X$191,22,FALSE),Uitslagtotaal,2,FALSE))","v":""},null,null,null,null,{"$error":"#VALUE!"},{"$error":"#VALUE!"},{"$error":"#VALUE!"}]
[{"$f":"IF(+Leden!$A6=\"\",\"\",Leden!A6)","v":""},{"$f":"IF(+Leden!$A6=\"\",\"\",Leden!E6)","v":""},{"$f":"IF(+Leden!$A6=\"\",\"\",Leden!F6)","v":""},{"$f":"IF(+Leden!$A6=\"\",\"\",Leden!G6)","v":""},{"$f":"IF(+Leden!$A6=\"\",\"\",Leden!H6)","v":""},{"$f":"IF(+Leden!$A6=\"\",\"\",Leden!I6)","v":""},{"$f":"IF(ISERROR(IF(+Leden!$A6=\"\",\"\",IF(Instellingen!$L$28=1,IF($B$23=0,Leden!L6/Leden!C6,Leden!L6/Leden!C6*B29),IF($B$23=0,Leden!J6,Leden!J6*B29)))),0,IF(+Leden!$A6=\"\",\"\",IF(Instellingen!$L$28=1,IF($B$23=0,Leden!L6/Leden!C6,Leden!L6/Leden!C6*B29),IF($B$23=0,Leden!J6,Leden!J6*B29))))","v":""},{"$f":"IF(+Leden!$A6=\"\",\"\",Leden!K6)","v":""},"",{"$f":"IF($A29=\"\",\"\",B29+VLOOKUP($I29,Vorigpunt!$A$3:$H$22,J$25,FALSE))","v":""},{"$f":"IF($A29=\"\",\"\",C29+VLOOKUP($I29,Vorigpunt!$A$3:$H$22,K$25,FALSE))","v":""},{"$f":"IF($A29=\"\",\"\",D29+VLOOKUP($I29,Vorigpunt!$A$3:$H$22,L$25,FALSE))","v":""},{"$f":"IF($A29=\"\",\"\",E29+VLOOKUP($I29,Vorigpunt!$A$3:$H$22,M$25,FALSE))","v":""},{"$f":"IF($A29=\"\",\"\",F29+IF(VLOOKUP($I29,Vorigpunt!$A$3:$H$22,N$25,FALSE)=\"\",0,VLOOKUP($I29,Vorigpunt!$A$3:$H$22,N$25,FALSE)))","v":""},{"$f":"IF(ISERROR(IF($A29=\"\",\"\",(G29+IF(VLOOKUP($I29,Vorigpunt!$A$3:$I$22,O$25,FALSE)=\"\",0,VLOOKUP($I29,Vorigpunt!$A$3:$I$22,O$25,FALSE)))/(MAX(1,J29)))),0,IF($A29=\"\",\"\",(G29+IF(VLOOKUP($I29,Vorigpunt!$A$3:$I$22,O$25,FALSE)=\"\",0,VLOOKUP($I29,Vorigpunt!$A$3:$I$22,O$25,FALSE)))/(MAX(1,J29))))","v":""},{"$f":"IF($A29=\"\",\"\",MAX(H29,VLOOKUP($I29,Vorigpunt!$A$3:$H$22,P$25,FALSE)))","v":""},null,null,28,{"$f":"VLOOKUP($S29,Schema,Werk1!$Q$2,FALSE)","v":{"$error":"#VALUE!"}},{"$f":"VLOOKUP($S29,Schema,Werk1!$R$2,FALSE)","v":{"$error":"#VALUE!"}},{"$error":"#VALUE!"},{"$f":"COUNTIF(Uitslagen1!$C$2:$C$191,$V29&\"*\")","v":0},{"$f":"VLOOKUP($V29,Uitslagen1!$C$2:$T$191,17,FALSE)","v":{"$error":"#VALUE!"}},{"$f":"VLOOKUP($V29,Uitslagen1!$C$2:$T$191,18,FALSE)","v":{"$error":"#VALUE!"}},{"$f":"IF(W29=0,\"\",VLOOKUP(VLOOKUP($V29,Uitslagen1!$C$2:$X$191,22,FALSE),Uitslagtotaal,2,FALSE))","v":""},null,null,null,null,{"$error":"#VALUE!"},{"$error":"#VALUE!"},{"$error":"#VALUE!"}]
[{"$f":"IF(+Leden!$A7=\"\",\"\",Leden!A7)","v":""},{"$f":"IF(+Leden!$A7=\"\",\"\",Leden!E7)","v":""},{"$f":"IF(+Leden!$A7=\"\",\"\",Leden!F7)","v":""},{"$f":"IF(+Leden!$A7=\"\",\"\",Leden!G7)","v":""},{"$f":"IF(+Leden!$A7=\"\",\"\",Leden!H7)","v":""},{"$f":"IF(+Leden!$A7=\"\",\"\",Leden!I7)","v":""},{"$f":"IF(ISERROR(IF(+Leden!$A7=\"\",\"\",IF(Instellingen!$L$28=1,IF($B$23=0,Leden!L7/Leden!C7,Leden!L7/Leden!C7*B30),IF($B$23=0,Leden!J7,Leden!J7*B30)))),0,IF(+Leden!$A7=\"\",\"\",IF(Instellingen!$L$28=1,IF($B$23=0,Leden!L7/Leden!C7,Leden!L7/Leden!C7*B30),IF($B$23=0,Leden!J7,Leden!J7*B30))))","v":""},{"$f":"IF(+Leden!$A7=\"\",\"\",Leden!K7)","v":""},"",{"$f":"IF($A30=\"\",\"\",B30+VLOOKUP($I30,Vorigpunt!$A$3:$H$22,J$25,FALSE))","v":""},{"$f":"IF($A30=\"\",\"\",C30+VLOOKUP($I30,Vorigpunt!$A$3:$H$22,K$25,FALSE))","v":""},{"$f":"IF($A30=\"\",\"\",D30+VLOOKUP($I30,Vorigpunt!$A$3:$H$22,L$25,FALSE))","v":""},{"$f":"IF($A30=\"\",\"\",E30+VLOOKUP($I30,Vorigpunt!$A$3:$H$22,M$25,FALSE))","v":""},{"$f":"IF($A30=\"\",\"\",F30+IF(VLOOKUP($I30,Vorigpunt!$A$3:$H$22,N$25,FALSE)=\"\",0,VLOOKUP($I30,Vorigpunt!$A$3:$H$22,N$25,FALSE)))","v":""},{"$f":"IF(ISERROR(IF($A30=\"\",\"\",(G30+IF(VLOOKUP($I30,Vorigpunt!$A$3:$I$22,O$25,FALSE)=\"\",0,VLOOKUP($I30,Vorigpunt!$A$3:$I$22,O$25,FALSE)))/(MAX(1,J30)))),0,IF($A30=\"\",\"\",(G30+IF(VLOOKUP($I30,Vorigpunt!$A$3:$I$22,O$25,FALSE)=\"\",0,VLOOKUP($I30,Vorigpunt!$A$3:$I$22,O$25,FALSE)))/(MAX(1,J30))))","v":""},{"$f":"IF($A30=\"\",\"\",MAX(H30,VLOOKUP($I30,Vorigpunt!$A$3:$H$22,P$25,FALSE)))","v":""},null,null,29,{"$f":"VLOOKUP($S30,Schema,Werk1!$Q$2,FALSE)","v":{"$error":"#VALUE!"}},{"$f":"VLOOKUP($S30,Schema,Werk1!$R$2,FALSE)","v":{"$error":"#VALUE!"}},{"$error":"#VALUE!"},{"$f":"COUNTIF(Uitslagen1!$C$2:$C$191,$V30&\"*\")","v":0},{"$f":"VLOOKUP($V30,Uitslagen1!$C$2:$T$191,17,FALSE)","v":{"$error":"#VALUE!"}},{"$f":"VLOOKUP($V30,Uitslagen1!$C$2:$T$191,18,FALSE)","v":{"$error":"#VALUE!"}},{"$f":"IF(W30=0,\"\",VLOOKUP(VLOOKUP($V30,Uitslagen1!$C$2:$X$191,22,FALSE),Uitslagtotaal,2,FALSE))","v":""},null,null,null,null,{"$error":"#VALUE!"},{"$error":"#VALUE!"},{"$error":"#VALUE!"}]
[{"$f":"IF(+Leden!$A8=\"\",\"\",Leden!A8)","v":""},{"$f":"IF(+Leden!$A8=\"\",\"\",Leden!E8)","v":""},{"$f":"IF(+Leden!$A8=\"\",\"\",Leden!F8)","v":""},{"$f":"IF(+Leden!$A8=\"\",\"\",Leden!G8)","v":""},{"$f":"IF(+Leden!$A8=\"\",\"\",Leden!H8)","v":""},{"$f":"IF(+Leden!$A8=\"\",\"\",Leden!I8)","v":""},{"$f":"IF(ISERROR(IF(+Leden!$A8=\"\",\"\",IF(Instellingen!$L$28=1,IF($B$23=0,Leden!L8/Leden!C8,Leden!L8/Leden!C8*B31),IF($B$23=0,Leden!J8,Leden!J8*B31)))),0,IF(+Leden!$A8=\"\",\"\",IF(Instellingen!$L$28=1,IF($B$23=0,Leden!L8/Leden!C8,Leden!L8/Leden!C8*B31),IF($B$23=0,Leden!J8,Leden!J8*B31))))","v":""},{"$f":"IF(+Leden!$A8=\"\",\"\",Leden!K8)","v":""},"",{"$f":"IF($A31=\"\",\"\",B31+VLOOKUP($I31,Vorigpunt!$A$3:$H$22,J$25,FALSE))","v":""},{"$f":"IF($A31=\"\",\"\",C31+VLOOKUP($I31,Vorigpunt!$A$3:$H$22,K$25,FALSE))","v":""},{"$f":"IF($A31=\"\",\"\",D31+VLOOKUP($I31,Vorigpunt!$A$3:$H$22,L$25,FALSE))","v":""},{"$f":"IF($A31=\"\",\"\",E31+VLOOKUP($I31,Vorigpunt!$A$3:$H$22,M$25,FALSE))","v":""},{"$f":"IF($A31=\"\",\"\",F31+IF(VLOOKUP($I31,Vorigpunt!$A$3:$H$22,N$25,FALSE)=\"\",0,VLOOKUP($I31,Vorigpunt!$A$3:$H$22,N$25,FALSE)))","v":""},{"$f":"IF(ISERROR(IF($A31=\"\",\"\",(G31+IF(VLOOKUP($I31,Vorigpunt!$A$3:$I$22,O$25,FALSE)=\"\",0,VLOOKUP($I31,Vorigpunt!$A$3:$I$22,O$25,FALSE)))/(MAX(1,J31)))),0,IF($A31=\"\",\"\",(G31+IF(VLOOKUP($I31,Vorigpunt!$A$3:$I$22,O$25,FALSE)=\"\",0,VLOOKUP($I31,Vorigpunt!$A$3:$I$22,O$25,FALSE)))/(MAX(1,J31))))","v":""},{"$f":"IF($A31=\"\",\"\",MAX(H31,VLOOKUP($I31,Vorigpunt!$A$3:$H$22,P$25,FALSE)))","v":""},null,null,30,{"$f":"VLOOKUP($S31,Schema,Werk1!$Q$2,FALSE)","v":{"$error":"#VALUE!"}},{"$f":"VLOOKUP($S31,Schema,Werk1!$R$2,FALSE)","v":{"$error":"#VALUE!"}},{"$error":"#VALUE!"},{"$f":"COUNTIF(Uitslagen1!$C$2:$C$191,$V31&\"*\")","v":0},{"$f":"VLOOKUP($V31,Uitslagen1!$C$2:$T$191,17,FALSE)","v":{"$error":"#VALUE!"}},{"$f":"VLOOKUP($V31,Uitslagen1!$C$2:$T$191,18,FALSE)","v":{"$error":"#VALUE!"}},{"$f":"IF(W31=0,\"\",VLOOKUP(VLOOKUP($V31,Uitslagen1!$C$2:$X$191,22,FALSE),Uitslagtotaal,2,FALSE))","v":""},null,null,null,null,{"$error":"#VALUE!"},{"$error":"#VALUE!"},{"$error":"#VALUE!"}]
[{"$f":"IF(+Leden!$A9=\"\",\"\",Leden!A9)","v":""},{"$f":"IF(+Leden!$A9=\"\",\"\",Leden!E9)","v":""},{"$f":"IF(+Leden!$A9=\"\",\"\",Leden!F9)","v":""},{"$f":"IF(+Leden!$A9=\"\",\"\",Leden!G9)","v":""},{"$f":"IF(+Leden!$A9=\"\",\"\",Leden!H9)","v":""},{"$f":"IF(+Leden!$A9=\"\",\"\",Leden!I9)","v":""},{"$f":"IF(ISERROR(IF(+Leden!$A9=\"\",\"\",IF(Instellingen!$L$28=1,IF($B$23=0,Leden!L9/Leden!C9,Leden!L9/Leden!C9*B32),IF($B$23=0,Leden!J9,Leden!J9*B32)))),0,IF(+Leden!$A9=\"\",\"\",IF(Instellingen!$L$28=1,IF($B$23=0,Leden!L9/Leden!C9,Leden!L9/Leden!C9*B32),IF($B$23=0,Leden!J9,Leden!J9*B32))))","v":""},{"$f":"IF(+Leden!$A9=\"\",\"\",Leden!K9)","v":""},"",{"$f":"IF($A32=\"\",\"\",B32+VLOOKUP($I32,Vorigpunt!$A$3:$H$22,J$25,FALSE))","v":""},{"$f":"IF($A32=\"\",\"\",C32+VLOOKUP($I32,Vorigpunt!$A$3:$H$22,K$25,FALSE))","v":""},{"$f":"IF($A32=\"\",\"\",D32+VLOOKUP($I32,Vorigpunt!$A$3:$H$22,L$25,FALSE))","v":""},{"$f":"IF($A32=\"\",\"\",E32+VLOOKUP($I32,Vorigpunt!$A$3:$H$22,M$25,FALSE))","v":""},{"$f":"IF($A32=\"\",\"\",F32+IF(VLOOKUP($I32,Vorigpunt!$A$3:$H$22,N$25,FALSE)=\"\",0,VLOOKUP($I32,Vorigpunt!$A$3:$H$22,N$25,FALSE)))","v":""},{"$f":"IF(ISERROR(IF($A32=\"\",\"\",(G32+IF(VLOOKUP($I32,Vorigpunt!$A$3:$I$22,O$25,FALSE)=\"\",0,VLOOKUP($I32,Vorigpunt!$A$3:$I$22,O$25,FALSE)))/(MAX(1,J32)))),0,IF($A32=\"\",\"\",(G32+IF(VLOOKUP($I32,Vorigpunt!$A$3:$I$22,O$25,FALSE)=\"\",0,VLOOKUP($I32,Vorigpunt!$A$3:$I$22,O$25,FALSE)))/(MAX(1,J32))))","v":""},{"$f":"IF($A32=\"\",\"\",MAX(H32,VLOOKUP($I32,Vorigpunt!$A$3:$H$22,P$25,FALSE)))","v":""},null,null,31,{"$f":"VLOOKUP($S32,Schema,Werk1!$Q$2,FALSE)","v":{"$error":"#VALUE!"}},{"$f":"VLOOKUP($S32,Schema,Werk1!$R$2,FALSE)","v":{"$error":"#VALUE!"}},{"$error":"#VALUE!"},{"$f":"COUNTIF(Uitslagen1!$C$2:$C$191,$V32&\"*\")","v":0},{"$f":"VLOOKUP($V32,Uitslagen1!$C$2:$T$191,17,FALSE)","v":{"$error":"#VALUE!"}},{"$f":"VLOOKUP($V32,Uitslagen1!$C$2:$T$191,18,FALSE)","v":{"$error":"#VALUE!"}},{"$f":"IF(W32=0,\"\",VLOOKUP(VLOOKUP($V32,Uitslagen1!$C$2:$X$191,22,FALSE),Uitslagtotaal,2,FALSE))","v":""},null,null,null,null,{"$error":"#VALUE!"},{"$error":"#VALUE!"},{"$error":"#VALUE!"}]
[{"$f":"IF(+Leden!$A10=\"\",\"\",Leden!A10)","v":""},{"$f":"IF(+Leden!$A10=\"\",\"\",Leden!E10)","v":""},{"$f":"IF(+Leden!$A10=\"\",\"\",Leden!F10)","v":""},{"$f":"IF(+Leden!$A10=\"\",\"\",Leden!G10)","v":""},{"$f":"IF(+Leden!$A10=\"\",\"\",Leden!H10)","v":""},{"$f":"IF(+Leden!$A10=\"\",\"\",Leden!I10)","v":""},{"$f":"IF(ISERROR(IF(+Leden!$A10=\"\",\"\",IF(Instellingen!$L$28=1,IF($B$23=0,Leden!L10/Leden!C10,Leden!L10/Leden!C10*B33),IF($B$23=0,Leden!J10,Leden!J10*B33)))),0,IF(+Leden!$A10=\"\",\"\",IF(Instellingen!$L$28=1,IF($B$23=0,Leden!L10/Leden!C10,Leden!L10/Leden!C10*B33),IF($B$23=0,Leden!J10,Leden!J10*B33))))","v":""},{"$f":"IF(+Leden!$A10=\"\",\"\",Leden!K10)","v":""},"",{"$f":"IF($A33=\"\",\"\",B33+VLOOKUP($I33,Vorigpunt!$A$3:$H$22,J$25,FALSE))","v":""},{"$f":"IF($A33=\"\",\"\",C33+VLOOKUP($I33,Vorigpunt!$A$3:$H$22,K$25,FALSE))","v":""},{"$f":"IF($A33=\"\",\"\",D33+VLOOKUP($I33,Vorigpunt!$A$3:$H$22,L$25,FALSE))","v":""},{"$f":"IF($A33=\"\",\"\",E33+VLOOKUP($I33,Vorigpunt!$A$3:$H$22,M$25,FALSE))","v":""},{"$f":"IF($A33=\"\",\"\",F33+IF(VLOOKUP($I33,Vorigpunt!$A$3:$H$22,N$25,FALSE)=\"\",0,VLOOKUP($I33,Vorigpunt!$A$3:$H$22,N$25,FALSE)))","v":""},{"$f":"IF(ISERROR(IF($A33=\"\",\"\",(G33+IF(VLOOKUP($I33,Vorigpunt!$A$3:$I$22,O$25,FALSE)=\"\",0,VLOOKUP($I33,Vorigpunt!$A$3:$I$22,O$25,FALSE)))/(MAX(1,J33)))),0,IF($A33=\"\",\"\",(G33+IF(VLOOKUP($I33,Vorigpunt!$A$3:$I$22,O$25,FALSE)=\"\",0,VLOOKUP($I33,Vorigpunt!$A$3:$I$22,O$25,FALSE)))/(MAX(1,J33))))","v":""},{"$f":"IF($A33=\"\",\"\",MAX(H33,VLOOKUP($I33,Vorigpunt!$A$3:$H$22,P$25,FALSE)))","v":""},null,null,32,{"$f":"VLOOKUP($S33,Schema,Werk1!$Q$2,FALSE)","v":{"$error":"#VALUE!"}},{"$f":"VLOOKUP($S33,Schema,Werk1!$R$2,FALSE)","v":{"$error":"#VALUE!"}},{"$error":"#VALUE!"},{"$f":"COUNTIF(Uitslagen1!$C$2:$C$191,$V33&\"*\")","v":0},{"$f":"VLOOKUP($V33,Uitslagen1!$C$2:$T$191,17,FALSE)","v":{"$error":"#VALUE!"}},{"$f":"VLOOKUP($V33,Uitslagen1!$C$2:$T$191,18,FALSE)","v":{"$error":"#VALUE!"}},{"$f":"IF(W33=0,\"\",VLOOKUP(VLOOKUP($V33,Uitslagen1!$C$2:$X$191,22,FALSE),Uitslagtotaal,2,FALSE))","v":""},null,null,null,null,{"$error":"#VALUE!"},{"$error":"#VALUE!"},{"$error":"#VALUE!"}]
[{"$f":"IF(+Leden!$A11=\"\",\"\",Leden!A11)","v":""},{"$f":"IF(+Leden!$A11=\"\",\"\",Leden!E11)","v":""},{"$f":"IF(+Leden!$A11=\"\",\"\",Leden!F11)","v":""},{"$f":"IF(+Leden!$A11=\"\",\"\",Leden!G11)","v":""},{"$f":"IF(+Leden!$A11=\"\",\"\",Leden!H11)","v":""},{"$f":"IF(+Leden!$A11=\"\",\"\",Leden!I11)","v":""},{"$f":"IF(ISERROR(IF(+Leden!$A11=\"\",\"\",IF(Instellingen!$L$28=1,IF($B$23=0,Leden!L11/Leden!C11,Leden!L11/Leden!C11*B34),IF($B$23=0,Leden!J11,Leden!J11*B34)))),0,IF(+Leden!$A11=\"\",\"\",IF(Instellingen!$L$28=1,IF($B$23=0,Leden!L11/Leden!C11,Leden!L11/Leden!C11*B34),IF($B$23=0,Leden!J11,Leden!J11*B34))))","v":""},{"$f":"IF(+Leden!$A11=\"\",\"\",Leden!K11)","v":""},"",{"$f":"IF($A34=\"\",\"\",B34+VLOOKUP($I34,Vorigpunt!$A$3:$H$22,J$25,FALSE))","v":""},{"$f":"IF($A34=\"\",\"\",C34+VLOOKUP($I34,Vorigpunt!$A$3:$H$22,K$25,FALSE))","v":""},{"$f":"IF($A34=\"\",\"\",D34+VLOOKUP($I34,Vorigpunt!$A$3:$H$22,L$25,FALSE))","v":""},{"$f":"IF($A34=\"\",\"\",E34+VLOOKUP($I34,Vorigpunt!$A$3:$H$22,M$25,FALSE))","v":""},{"$f":"IF($A34=\"\",\"\",F34+IF(VLOOKUP($I34,Vorigpunt!$A$3:$H$22,N$25,FALSE)=\"\",0,VLOOKUP($I34,Vorigpunt!$A$3:$H$22,N$25,FALSE)))","v":""},{"$f":"IF(ISERROR(IF($A34=\"\",\"\",(G34+IF(VLOOKUP($I34,Vorigpunt!$A$3:$I$22,O$25,FALSE)=\"\",0,VLOOKUP($I34,Vorigpunt!$A$3:$I$22,O$25,FALSE)))/(MAX(1,J34)))),0,IF($A34=\"\",\"\",(G34+IF(VLOOKUP($I34,Vorigpunt!$A$3:$I$22,O$25,FALSE)=\"\",0,VLOOKUP($I34,Vorigpunt!$A$3:$I$22,O$25,FALSE)))/(MAX(1,J34))))","v":""},{"$f":"IF($A34=\"\",\"\",MAX(H34,VLOOKUP($I34,Vorigpunt!$A$3:$H$22,P$25,FALSE)))","v":""},null,null,33,{"$f":"VLOOKUP($S34,Schema,Werk1!$Q$2,FALSE)","v":{"$error":"#VALUE!"}},{"$f":"VLOOKUP($S34,Schema,Werk1!$R$2,FALSE)","v":{"$error":"#VALUE!"}},{"$error":"#VALUE!"},{"$f":"COUNTIF(Uitslagen1!$C$2:$C$191,$V34&\"*\")","v":0},{"$f":"VLOOKUP($V34,Uitslagen1!$C$2:$T$191,17,FALSE)","v":{"$error":"#VALUE!"}},{"$f":"VLOOKUP($V34,Uitslagen1!$C$2:$T$191,18,FALSE)","v":{"$error":"#VALUE!"}},{"$f":"IF(W34=0,\"\",VLOOKUP(VLOOKUP($V34,Uitslagen1!$C$2:$X$191,22,FALSE),Uitslagtotaal,2,FALSE))","v":""},null,null,null,null,{"$error":"#VALUE!"},{"$error":"#VALUE!"},{"$error":"#VALUE!"}]
[{"$f":"IF(+Leden!$A12=\"\",\"\",Leden!A12)","v":""},{"$f":"IF(+Leden!$A12=\"\",\"\",Leden!E12)","v":""},{"$f":"IF(+Leden!$A12=\"\",\"\",Leden!F12)","v":""},{"$f":"IF(+Leden!$A12=\"\",\"\",Leden!G12)","v":""},{"$f":"IF(+Leden!$A12=\"\",\"\",Leden!H12)","v":""},{"$f":"IF(+Leden!$A12=\"\",\"\",Leden!I12)","v":""},{"$f":"IF(ISERROR(IF(+Leden!$A12=\"\",\"\",IF(Instellingen!$L$28=1,IF($B$23=0,Leden!L12/Leden!C12,Leden!L12/Leden!C12*B35),IF($B$23=0,Leden!J12,Leden!J12*B35)))),0,IF(+Leden!$A12=\"\",\"\",IF(Instellingen!$L$28=1,IF($B$23=0,Leden!L12/Leden!C12,Leden!L12/Leden!C12*B35),IF($B$23=0,Leden!J12,Leden!J12*B35))))","v":""},{"$f":"IF(+Leden!$A12=\"\",\"\",Leden!K12)","v":""},"",{"$f":"IF($A35=\"\",\"\",B35+VLOOKUP($I35,Vorigpunt!$A$3:$H$22,J$25,FALSE))","v":""},{"$f":"IF($A35=\"\",\"\",C35+VLOOKUP($I35,Vorigpunt!$A$3:$H$22,K$25,FALSE))","v":""},{"$f":"IF($A35=\"\",\"\",D35+VLOOKUP($I35,Vorigpunt!$A$3:$H$22,L$25,FALSE))","v":""},{"$f":"IF($A35=\"\",\"\",E35+VLOOKUP($I35,Vorigpunt!$A$3:$H$22,M$25,FALSE))","v":""},{"$f":"IF($A35=\"\",\"\",F35+IF(VLOOKUP($I35,Vorigpunt!$A$3:$H$22,N$25,FALSE)=\"\",0,VLOOKUP($I35,Vorigpunt!$A$3:$H$22,N$25,FALSE)))","v":""},{"$f":"IF(ISERROR(IF($A35=\"\",\"\",(G35+IF(VLOOKUP($I35,Vorigpunt!$A$3:$I$22,O$25,FALSE)=\"\",0,VLOOKUP($I35,Vorigpunt!$A$3:$I$22,O$25,FALSE)))/(MAX(1,J35)))),0,IF($A35=\"\",\"\",(G35+IF(VLOOKUP($I35,Vorigpunt!$A$3:$I$22,O$25,FALSE)=\"\",0,VLOOKUP($I35,Vorigpunt!$A$3:$I$22,O$25,FALSE)))/(MAX(1,J35))))","v":""},{"$f":"IF($A35=\"\",\"\",MAX(H35,VLOOKUP($I35,Vorigpunt!$A$3:$H$22,P$25,FALSE)))","v":""},null,null,34,{"$f":"VLOOKUP($S35,Schema,Werk1!$Q$2,FALSE)","v":{"$error":"#VALUE!"}},{"$f":"VLOOKUP($S35,Schema,Werk1!$R$2,FALSE)","v":{"$error":"#VALUE!"}},{"$error":"#VALUE!"},{"$f":"COUNTIF(Uitslagen1!$C$2:$C$191,$V35&\"*\")","v":0},{"$f":"VLOOKUP($V35,Uitslagen1!$C$2:$T$191,17,FALSE)","v":{"$error":"#VALUE!"}},{"$f":"VLOOKUP($V35,Uitslagen1!$C$2:$T$191,18,FALSE)","v":{"$error":"#VALUE!"}},{"$f":"IF(W35=0,\"\",VLOOKUP(VLOOKUP($V35,Uitslagen1!$C$2:$X$191,22,FALSE),Uitslagtotaal,2,FALSE))","v":""},null,null,null,null,{"$error":"#VALUE!"},{"$error":"#VALUE!"},{"$error":"#VALUE!"}]
[{"$f":"IF(+Leden!$A13=\"\",\"\",Leden!A13)","v":""},{"$f":"IF(+Leden!$A13=\"\",\"\",Leden!E13)","v":""},{"$f":"IF(+Leden!$A13=\"\",\"\",Leden!F13)","v":""},{"$f":"IF(+Leden!$A13=\"\",\"\",Leden!G13)","v":""},{"$f":"IF(+Leden!$A13=\"\",\"\",Leden!H13)","v":""},{"$f":"IF(+Leden!$A13=\"\",\"\",Leden!I13)","v":""},{"$f":"IF(ISERROR(IF(+Leden!$A13=\"\",\"\",IF(Instellingen!$L$28=1,IF($B$23=0,Leden!L13/Leden!C13,Leden!L13/Leden!C13*B36),IF($B$23=0,Leden!J13,Leden!J13*B36)))),0,IF(+Leden!$A13=\"\",\"\",IF(Instellingen!$L$28=1,IF($B$23=0,Leden!L13/Leden!C13,Leden!L13/Leden!C13*B36),IF($B$23=0,Leden!J13,Leden!J13*B36))))","v":""},{"$f":"IF(+Leden!$A13=\"\",\"\",Leden!K13)","v":""},"",{"$f":"IF($A36=\"\",\"\",B36+VLOOKUP($I36,Vorigpunt!$A$3:$H$22,J$25,FALSE))","v":""},{"$f":"IF($A36=\"\",\"\",C36+VLOOKUP($I36,Vorigpunt!$A$3:$H$22,K$25,FALSE))","v":""},{"$f":"IF($A36=\"\",\"\",D36+VLOOKUP($I36,Vorigpunt!$A$3:$H$22,L$25,FALSE))","v":""},{"$f":"IF($A36=\"\",\"\",E36+VLOOKUP($I36,Vorigpunt!$A$3:$H$22,M$25,FALSE))","v":""},{"$f":"IF($A36=\"\",\"\",F36+IF(VLOOKUP($I36,Vorigpunt!$A$3:$H$22,N$25,FALSE)=\"\",0,VLOOKUP($I36,Vorigpunt!$A$3:$H$22,N$25,FALSE)))","v":""},{"$f":"IF(ISERROR(IF($A36=\"\",\"\",(G36+IF(VLOOKUP($I36,Vorigpunt!$A$3:$I$22,O$25,FALSE)=\"\",0,VLOOKUP($I36,Vorigpunt!$A$3:$I$22,O$25,FALSE)))/(MAX(1,J36)))),0,IF($A36=\"\",\"\",(G36+IF(VLOOKUP($I36,Vorigpunt!$A$3:$I$22,O$25,FALSE)=\"\",0,VLOOKUP($I36,Vorigpunt!$A$3:$I$22,O$25,FALSE)))/(MAX(1,J36))))","v":""},{"$f":"IF($A36=\"\",\"\",MAX(H36,VLOOKUP($I36,Vorigpunt!$A$3:$H$22,P$25,FALSE)))","v":""},null,null,35,{"$f":"VLOOKUP($S36,Schema,Werk1!$Q$2,FALSE)","v":{"$error":"#VALUE!"}},{"$f":"VLOOKUP($S36,Schema,Werk1!$R$2,FALSE)","v":{"$error":"#VALUE!"}},{"$error":"#VALUE!"},{"$f":"COUNTIF(Uitslagen1!$C$2:$C$191,$V36&\"*\")","v":0},{"$f":"VLOOKUP($V36,Uitslagen1!$C$2:$T$191,17,FALSE)","v":{"$error":"#VALUE!"}},{"$f":"VLOOKUP($V36,Uitslagen1!$C$2:$T$191,18,FALSE)","v":{"$error":"#VALUE!"}},{"$f":"IF(W36=0,\"\",VLOOKUP(VLOOKUP($V36,Uitslagen1!$C$2:$X$191,22,FALSE),Uitslagtotaal,2,FALSE))","v":""},null,null,null,null,{"$error":"#VALUE!"},{"$error":"#VALUE!"},{"$error":"#VALUE!"}]
[{"$f":"IF(+Leden!$A14=\"\",\"\",Leden!A14)","v":""},{"$f":"IF(+Leden!$A14=\"\",\"\",Leden!E14)","v":""},{"$f":"IF(+Leden!$A14=\"\",\"\",Leden!F14)","v":""},{"$f":"IF(+Leden!$A14=\"\",\"\",Leden!G14)","v":""},{"$f":"IF(+Leden!$A14=\"\",\"\",Leden!H14)","v":""},{"$f":"IF(+Leden!$A14=\"\",\"\",Leden!I14)","v":""},{"$f":"IF(ISERROR(IF(+Leden!$A14=\"\",\"\",IF(Instellingen!$L$28=1,IF($B$23=0,Leden!L14/Leden!C14,Leden!L14/Leden!C14*B37),IF($B$23=0,Leden!J14,Leden!J14*B37)))),0,IF(+Leden!$A14=\"\",\"\",IF(Instellingen!$L$28=1,IF($B$23=0,Leden!L14/Leden!C14,Leden!L14/Leden!C14*B37),IF($B$23=0,Leden!J14,Leden!J14*B37))))","v":""},{"$f":"IF(+Leden!$A14=\"\",\"\",Leden!K14)","v":""},"",{"$f":"IF($A37=\"\",\"\",B37+VLOOKUP($I37,Vorigpunt!$A$3:$H$22,J$25,FALSE))","v":""},{"$f":"IF($A37=\"\",\"\",C37+VLOOKUP($I37,Vorigpunt!$A$3:$H$22,K$25,FALSE))","v":""},{"$f":"IF($A37=\"\",\"\",D37+VLOOKUP($I37,Vorigpunt!$A$3:$H$22,L$25,FALSE))","v":""},{"$f":"IF($A37=\"\",\"\",E37+VLOOKUP($I37,Vorigpunt!$A$3:$H$22,M$25,FALSE))","v":""},{"$f":"IF($A37=\"\",\"\",F37+IF(VLOOKUP($I37,Vorigpunt!$A$3:$H$22,N$25,FALSE)=\"\",0,VLOOKUP($I37,Vorigpunt!$A$3:$H$22,N$25,FALSE)))","v":""},{"$f":"IF(ISERROR(IF($A37=\"\",\"\",(G37+IF(VLOOKUP($I37,Vorigpunt!$A$3:$I$22,O$25,FALSE)=\"\",0,VLOOKUP($I37,Vorigpunt!$A$3:$I$22,O$25,FALSE)))/(MAX(1,J37)))),0,IF($A37=\"\",\"\",(G37+IF(VLOOKUP($I37,Vorigpunt!$A$3:$I$22,O$25,FALSE)=\"\",0,VLOOKUP($I37,Vorigpunt!$A$3:$I$22,O$25,FALSE)))/(MAX(1,J37))))","v":""},{"$f":"IF($A37=\"\",\"\",MAX(H37,VLOOKUP($I37,Vorigpunt!$A$3:$H$22,P$25,FALSE)))","v":""},null,null,36,{"$f":"VLOOKUP($S37,Schema,Werk1!$Q$2,FALSE)","v":{"$error":"#VALUE!"}},{"$f":"VLOOKUP($S37,Schema,Werk1!$R$2,FALSE)","v":{"$error":"#VALUE!"}},{"$error":"#VALUE!"},{"$f":"COUNTIF(Uitslagen1!$C$2:$C$191,$V37&\"*\")","v":0},{"$f":"VLOOKUP($V37,Uitslagen1!$C$2:$T$191,17,FALSE)","v":{"$error":"#VALUE!"}},{"$f":"VLOOKUP($V37,Uitslagen1!$C$2:$T$191,18,FALSE)","v":{"$error":"#VALUE!"}},{"$f":"IF(W37=0,\"\",VLOOKUP(VLOOKUP($V37,Uitslagen1!$C$2:$X$191,22,FALSE),Uitslagtotaal,2,FALSE))","v":""},null,null,null,null,{"$error":"#VALUE!"},{"$error":"#VALUE!"},{"$error":"#VALUE!"}]
[{"$f":"IF(+Leden!$A15=\"\",\"\",Leden!A15)","v":""},{"$f":"IF(+Leden!$A15=\"\",\"\",Leden!E15)","v":""},{"$f":"IF(+Leden!$A15=\"\",\"\",Leden!F15)","v":""},{"$f":"IF(+Leden!$A15=\"\",\"\",Leden!G15)","v":""},{"$f":"IF(+Leden!$A15=\"\",\"\",Leden!H15)","v":""},{"$f":"IF(+Leden!$A15=\"\",\"\",Leden!I15)","v":""},{"$f":"IF(ISERROR(IF(+Leden!$A15=\"\",\"\",IF(Instellingen!$L$28=1,IF($B$23=0,Leden!L15/Leden!C15,Leden!L15/Leden!C15*B38),IF($B$23=0,Leden!J15,Leden!J15*B38)))),0,IF(+Leden!$A15=\"\",\"\",IF(Instellingen!$L$28=1,IF($B$23=0,Leden!L15/Leden!C15,Leden!L15/Leden!C15*B38),IF($B$23=0,Leden!J15,Leden!J15*B38))))","v":""},{"$f":"IF(+Leden!$A15=\"\",\"\",Leden!K15)","v":""},"",{"$f":"IF($A38=\"\",\"\",B38+VLOOKUP($I38,Vorigpunt!$A$3:$H$22,J$25,FALSE))","v":""},{"$f":"IF($A38=\"\",\"\",C38+VLOOKUP($I38,Vorigpunt!$A$3:$H$22,K$25,FALSE))","v":""},{"$f":"IF($A38=\"\",\"\",D38+VLOOKUP($I38,Vorigpunt!$A$3:$H$22,L$25,FALSE))","v":""},{"$f":"IF($A38=\"\",\"\",E38+VLOOKUP($I38,Vorigpunt!$A$3:$H$22,M$25,FALSE))","v":""},{"$f":"IF($A38=\"\",\"\",F38+IF(VLOOKUP($I38,Vorigpunt!$A$3:$H$22,N$25,FALSE)=\"\",0,VLOOKUP($I38,Vorigpunt!$A$3:$H$22,N$25,FALSE)))","v":""},{"$f":"IF(ISERROR(IF($A38=\"\",\"\",(G38+IF(VLOOKUP($I38,Vorigpunt!$A$3:$I$22,O$25,FALSE)=\"\",0,VLOOKUP($I38,Vorigpunt!$A$3:$I$22,O$25,FALSE)))/(MAX(1,J38)))),0,IF($A38=\"\",\"\",(G38+IF(VLOOKUP($I38,Vorigpunt!$A$3:$I$22,O$25,FALSE)=\"\",0,VLOOKUP($I38,Vorigpunt!$A$3:$I$22,O$25,FALSE)))/(MAX(1,J38))))","v":""},{"$f":"IF($A38=\"\",\"\",MAX(H38,VLOOKUP($I38,Vorigpunt!$A$3:$H$22,P$25,FALSE)))","v":""},null,null,37,{"$f":"VLOOKUP($S38,Schema,Werk1!$Q$2,FALSE)","v":{"$error":"#VALUE!"}},{"$f":"VLOOKUP($S38,Schema,Werk1!$R$2,FALSE)","v":{"$error":"#VALUE!"}},{"$error":"#VALUE!"},{"$f":"COUNTIF(Uitslagen1!$C$2:$C$191,$V38&\"*\")","v":0},{"$f":"VLOOKUP($V38,Uitslagen1!$C$2:$T$191,17,FALSE)","v":{"$error":"#VALUE!"}},{"$f":"VLOOKUP($V38,Uitslagen1!$C$2:$T$191,18,FALSE)","v":{"$error":"#VALUE!"}},{"$f":"IF(W38=0,\"\",VLOOKUP(VLOOKUP($V38,Uitslagen1!$C$2:$X$191,22,FALSE),Uitslagtotaal,2,FALSE))","v":""},null,null,null,null,{"$error":"#VALUE!"},{"$error":"#VALUE!"},{"$error":"#VALUE!"}]
[{"$f":"IF(+Leden!$A16=\"\",\"\",Leden!A16)","v":""},{"$f":"IF(+Leden!$A16=\"\",\"\",Leden!E16)","v":""},{"$f":"IF(+Leden!$A16=\"\",\"\",Leden!F16)","v":""},{"$f":"IF(+Leden!$A16=\"\",\"\",Leden!G16)","v":""},{"$f":"IF(+Leden!$A16=\"\",\"\",Leden!H16)","v":""},{"$f":"IF(+Leden!$A16=\"\",\"\",Leden!I16)","v":""},{"$f":"IF(ISERROR(IF(+Leden!$A16=\"\",\"\",IF(Instellingen!$L$28=1,IF($B$23=0,Leden!L16/Leden!C16,Leden!L16/Leden!C16*B39),IF($B$23=0,Leden!J16,Leden!J16*B39)))),0,IF(+Leden!$A16=\"\",\"\",IF(Instellingen!$L$28=1,IF($B$23=0,Leden!L16/Leden!C16,Leden!L16/Leden!C16*B39),IF($B$23=0,Leden!J16,Leden!J16*B39))))","v":""},{"$f":"IF(+Leden!$A16=\"\",\"\",Leden!K16)","v":""},"",{"$f":"IF($A39=\"\",\"\",B39+VLOOKUP($I39,Vorigpunt!$A$3:$H$22,J$25,FALSE))","v":""},{"$f":"IF($A39=\"\",\"\",C39+VLOOKUP($I39,Vorigpunt!$A$3:$H$22,K$25,FALSE))","v":""},{"$f":"IF($A39=\"\",\"\",D39+VLOOKUP($I39,Vorigpunt!$A$3:$H$22,L$25,FALSE))","v":""},{"$f":"IF($A39=\"\",\"\",E39+VLOOKUP($I39,Vorigpunt!$A$3:$H$22,M$25,FALSE))","v":""},{"$f":"IF($A39=\"\",\"\",F39+IF(VLOOKUP($I39,Vorigpunt!$A$3:$H$22,N$25,FALSE)=\"\",0,VLOOKUP($I39,Vorigpunt!$A$3:$H$22,N$25,FALSE)))","v":""},{"$f":"IF(ISERROR(IF($A39=\"\",\"\",(G39+IF(VLOOKUP($I39,Vorigpunt!$A$3:$I$22,O$25,FALSE)=\"\",0,VLOOKUP($I39,Vorigpunt!$A$3:$I$22,O$25,FALSE)))/(MAX(1,J39)))),0,IF($A39=\"\",\"\",(G39+IF(VLOOKUP($I39,Vorigpunt!$A$3:$I$22,O$25,FALSE)=\"\",0,VLOOKUP($I39,Vorigpunt!$A$3:$I$22,O$25,FALSE)))/(MAX(1,J39))))","v":""},{"$f":"IF($A39=\"\",\"\",MAX(H39,VLOOKUP($I39,Vorigpunt!$A$3:$H$22,P$25,FALSE)))","v":""},null,null,38,{"$f":"VLOOKUP($S39,Schema,Werk1!$Q$2,FALSE)","v":{"$error":"#VALUE!"}},{"$f":"VLOOKUP($S39,Schema,Werk1!$R$2,FALSE)","v":{"$error":"#VALUE!"}},{"$error":"#VALUE!"},{"$f":"COUNTIF(Uitslagen1!$C$2:$C$191,$V39&\"*\")","v":0},{"$f":"VLOOKUP($V39,Uitslagen1!$C$2:$T$191,17,FALSE)","v":{"$error":"#VALUE!"}},{"$f":"VLOOKUP($V39,Uitslagen1!$C$2:$T$191,18,FALSE)","v":{"$error":"#VALUE!"}},{"$f":"IF(W39=0,\"\",VLOOKUP(VLOOKUP($V39,Uitslagen1!$C$2:$X$191,22,FALSE),Uitslagtotaal,2,FALSE))","v":""},null,null,null,null,{"$error":"#VALUE!"},{"$error":"#VALUE!"},{"$error":"#VALUE!"}]
[{"$f":"IF(+Leden!$A17=\"\",\"\",Leden!A17)","v":""},{"$f":"IF(+Leden!$A17=\"\",\"\",Leden!E17)","v":""},{"$f":"IF(+Leden!$A17=\"\",\"\",Leden!F17)","v":""},{"$f":"IF(+Leden!$A17=\"\",\"\",Leden!G17)","v":""},{"$f":"IF(+Leden!$A17=\"\",\"\",Leden!H17)","v":""},{"$f":"IF(+Leden!$A17=\"\",\"\",Leden!I17)","v":""},{"$f":"IF(ISERROR(IF(+Leden!$A17=\"\",\"\",IF(Instellingen!$L$28=1,IF($B$23=0,Leden!L17/Leden!C17,Leden!L17/Leden!C17*B40),IF($B$23=0,Leden!J17,Leden!J17*B40)))),0,IF(+Leden!$A17=\"\",\"\",IF(Instellingen!$L$28=1,IF($B$23=0,Leden!L17/Leden!C17,Leden!L17/Leden!C17*B40),IF($B$23=0,Leden!J17,Leden!J17*B40))))","v":""},{"$f":"IF(+Leden!$A17=\"\",\"\",Leden!K17)","v":""},"",{"$f":"IF($A40=\"\",\"\",B40+VLOOKUP($I40,Vorigpunt!$A$3:$H$22,J$25,FALSE))","v":""},{"$f":"IF($A40=\"\",\"\",C40+VLOOKUP($I40,Vorigpunt!$A$3:$H$22,K$25,FALSE))","v":""},{"$f":"IF($A40=\"\",\"\",D40+VLOOKUP($I40,Vorigpunt!$A$3:$H$22,L$25,FALSE))","v":""},{"$f":"IF($A40=\"\",\"\",E40+VLOOKUP($I40,Vorigpunt!$A$3:$H$22,M$25,FALSE))","v":""},{"$f":"IF($A40=\"\",\"\",F40+IF(VLOOKUP($I40,Vorigpunt!$A$3:$H$22,N$25,FALSE)=\"\",0,VLOOKUP($I40,Vorigpunt!$A$3:$H$22,N$25,FALSE)))","v":""},{"$f":"IF(ISERROR(IF($A40=\"\",\"\",(G40+IF(VLOOKUP($I40,Vorigpunt!$A$3:$I$22,O$25,FALSE)=\"\",0,VLOOKUP($I40,Vorigpunt!$A$3:$I$22,O$25,FALSE)))/(MAX(1,J40)))),0,IF($A40=\"\",\"\",(G40+IF(VLOOKUP($I40,Vorigpunt!$A$3:$I$22,O$25,FALSE)=\"\",0,VLOOKUP($I40,Vorigpunt!$A$3:$I$22,O$25,FALSE)))/(MAX(1,J40))))","v":""},{"$f":"IF($A40=\"\",\"\",MAX(H40,VLOOKUP($I40,Vorigpunt!$A$3:$H$22,P$25,FALSE)))","v":""},null,null,39,{"$f":"VLOOKUP($S40,Schema,Werk1!$Q$2,FALSE)","v":{"$error":"#VALUE!"}},{"$f":"VLOOKUP($S40,Schema,Werk1!$R$2,FALSE)","v":{"$error":"#VALUE!"}},{"$error":"#VALUE!"},{"$f":"COUNTIF(Uitslagen1!$C$2:$C$191,$V40&\"*\")","v":0},{"$f":"VLOOKUP($V40,Uitslagen1!$C$2:$T$191,17,FALSE)","v":{"$error":"#VALUE!"}},{"$f":"VLOOKUP($V40,Uitslagen1!$C$2:$T$191,18,FALSE)","v":{"$error":"#VALUE!"}},{"$f":"IF(W40=0,\"\",VLOOKUP(VLOOKUP($V40,Uitslagen1!$C$2:$X$191,22,FALSE),Uitslagtotaal,2,FALSE))","v":""},null,null,null,null,{"$error":"#VALUE!"},{"$error":"#VALUE!"},{"$error":"#VALUE!"}]
[{"$f":"IF(+Leden!$A18=\"\",\"\",Leden!A18)","v":""},{"$f":"IF(+Leden!$A18=\"\",\"\",Leden!E18)","v":""},{"$f":"IF(+Leden!$A18=\"\",\"\",Leden!F18)","v":""},{"$f":"IF(+Leden!$A18=\"\",\"\",Leden!G18)","v":""},{"$f":"IF(+Leden!$A18=\"\",\"\",Leden!H18)","v":""},{"$f":"IF(+Leden!$A18=\"\",\"\",Leden!I18)","v":""},{"$f":"IF(ISERROR(IF(+Leden!$A18=\"\",\"\",IF(Instellingen!$L$28=1,IF($B$23=0,Leden!L18/Leden!C18,Leden!L18/Leden!C18*B41),IF($B$23=0,Leden!J18,Leden!J18*B41)))),0,IF(+Leden!$A18=\"\",\"\",IF(Instellingen!$L$28=1,IF($B$23=0,Leden!L18/Leden!C18,Leden!L18/Leden!C18*B41),IF($B$23=0,Leden!J18,Leden!J18*B41))))","v":""},{"$f":"IF(+Leden!$A18=\"\",\"\",Leden!K18)","v":""},"",{"$f":"IF($A41=\"\",\"\",B41+VLOOKUP($I41,Vorigpunt!$A$3:$H$22,J$25,FALSE))","v":""},{"$f":"IF($A41=\"\",\"\",C41+VLOOKUP($I41,Vorigpunt!$A$3:$H$22,K$25,FALSE))","v":""},{"$f":"IF($A41=\"\",\"\",D41+VLOOKUP($I41,Vorigpunt!$A$3:$H$22,L$25,FALSE))","v":""},{"$f":"IF($A41=\"\",\"\",E41+VLOOKUP($I41,Vorigpunt!$A$3:$H$22,M$25,FALSE))","v":""},{"$f":"IF($A41=\"\",\"\",F41+IF(VLOOKUP($I41,Vorigpunt!$A$3:$H$22,N$25,FALSE)=\"\",0,VLOOKUP($I41,Vorigpunt!$A$3:$H$22,N$25,FALSE)))","v":""},{"$f":"IF(ISERROR(IF($A41=\"\",\"\",(G41+IF(VLOOKUP($I41,Vorigpunt!$A$3:$I$22,O$25,FALSE)=\"\",0,VLOOKUP($I41,Vorigpunt!$A$3:$I$22,O$25,FALSE)))/(MAX(1,J41)))),0,IF($A41=\"\",\"\",(G41+IF(VLOOKUP($I41,Vorigpunt!$A$3:$I$22,O$25,FALSE)=\"\",0,VLOOKUP($I41,Vorigpunt!$A$3:$I$22,O$25,FALSE)))/(MAX(1,J41))))","v":""},{"$f":"IF($A41=\"\",\"\",MAX(H41,VLOOKUP($I41,Vorigpunt!$A$3:$H$22,P$25,FALSE)))","v":""},null,null,40,{"$f":"VLOOKUP($S41,Schema,Werk1!$Q$2,FALSE)","v":{"$error":"#VALUE!"}},{"$f":"VLOOKUP($S41,Schema,Werk1!$R$2,FALSE)","v":{"$error":"#VALUE!"}},{"$error":"#VALUE!"},{"$f":"COUNTIF(Uitslagen1!$C$2:$C$191,$V41&\"*\")","v":0},{"$f":"VLOOKUP($V41,Uitslagen1!$C$2:$T$191,17,FALSE)","v":{"$error":"#VALUE!"}},{"$f":"VLOOKUP($V41,Uitslagen1!$C$2:$T$191,18,FALSE)","v":{"$error":"#VALUE!"}},{"$f":"IF(W41=0,\"\",VLOOKUP(VLOOKUP($V41,Uitslagen1!$C$2:$X$191,22,FALSE),Uitslagtotaal,2,FALSE))","v":""},null,null,null,null,{"$error":"#VALUE!"},{"$error":"#VALUE!"},{"$error":"#VALUE!"}]
[{"$f":"IF(+Leden!$A19=\"\",\"\",Leden!A19)","v":""},{"$f":"IF(+Leden!$A19=\"\",\"\",Leden!E19)","v":""},{"$f":"IF(+Leden!$A19=\"\",\"\",Leden!F19)","v":""},{"$f":"IF(+Leden!$A19=\"\",\"\",Leden!G19)","v":""},{"$f":"IF(+Leden!$A19=\"\",\"\",Leden!H19)","v":""},{"$f":"IF(+Leden!$A19=\"\",\"\",Leden!I19)","v":""},{"$f":"IF(ISERROR(IF(+Leden!$A19=\"\",\"\",IF(Instellingen!$L$28=1,IF($B$23=0,Leden!L19/Leden!C19,Leden!L19/Leden!C19*B42),IF($B$23=0,Leden!J19,Leden!J19*B42)))),0,IF(+Leden!$A19=\"\",\"\",IF(Instellingen!$L$28=1,IF($B$23=0,Leden!L19/Leden!C19,Leden!L19/Leden!C19*B42),IF($B$23=0,Leden!J19,Leden!J19*B42))))","v":""},{"$f":"IF(+Leden!$A19=\"\",\"\",Leden!K19)","v":""},"",{"$f":"IF($A42=\"\",\"\",B42+VLOOKUP($I42,Vorigpunt!$A$3:$H$22,J$25,FALSE))","v":""},{"$f":"IF($A42=\"\",\"\",C42+VLOOKUP($I42,Vorigpunt!$A$3:$H$22,K$25,FALSE))","v":""},{"$f":"IF($A42=\"\",\"\",D42+VLOOKUP($I42,Vorigpunt!$A$3:$H$22,L$25,FALSE))","v":""},{"$f":"IF($A42=\"\",\"\",E42+VLOOKUP($I42,Vorigpunt!$A$3:$H$22,M$25,FALSE))","v":""},{"$f":"IF($A42=\"\",\"\",F42+IF(VLOOKUP($I42,Vorigpunt!$A$3:$H$22,N$25,FALSE)=\"\",0,VLOOKUP($I42,Vorigpunt!$A$3:$H$22,N$25,FALSE)))","v":""},{"$f":"IF(ISERROR(IF($A42=\"\",\"\",(G42+IF(VLOOKUP($I42,Vorigpunt!$A$3:$I$22,O$25,FALSE)=\"\",0,VLOOKUP($I42,Vorigpunt!$A$3:$I$22,O$25,FALSE)))/(MAX(1,J42)))),0,IF($A42=\"\",\"\",(G42+IF(VLOOKUP($I42,Vorigpunt!$A$3:$I$22,O$25,FALSE)=\"\",0,VLOOKUP($I42,Vorigpunt!$A$3:$I$22,O$25,FALSE)))/(MAX(1,J42))))","v":""},{"$f":"IF($A42=\"\",\"\",MAX(H42,VLOOKUP($I42,Vorigpunt!$A$3:$H$22,P$25,FALSE)))","v":""},null,null,41,{"$f":"VLOOKUP($S42,Schema,Werk1!$Q$2,FALSE)","v":{"$error":"#VALUE!"}},{"$f":"VLOOKUP($S42,Schema,Werk1!$R$2,FALSE)","v":{"$error":"#VALUE!"}},{"$error":"#VALUE!"},{"$f":"COUNTIF(Uitslagen1!$C$2:$C$191,$V42&\"*\")","v":0},{"$f":"VLOOKUP($V42,Uitslagen1!$C$2:$T$191,17,FALSE)","v":{"$error":"#VALUE!"}},{"$f":"VLOOKUP($V42,Uitslagen1!$C$2:$T$191,18,FALSE)","v":{"$error":"#VALUE!"}},{"$f":"IF(W42=0,\"\",VLOOKUP(VLOOKUP($V42,Uitslagen1!$C$2:$X$191,22,FALSE),Uitslagtotaal,2,FALSE))","v":""},null,null,null,null,{"$error":"#VALUE!"},{"$error":"#VALUE!"},{"$error":"#VALUE!"}]
[{"$f":"IF(+Leden!$A20=\"\",\"\",Leden!A20)","v":""},{"$f":"IF(+Leden!$A20=\"\",\"\",Leden!E20)","v":""},{"$f":"IF(+Leden!$A20=\"\",\"\",Leden!F20)","v":""},{"$f":"IF(+Leden!$A20=\"\",\"\",Leden!G20)","v":""},{"$f":"IF(+Leden!$A20=\"\",\"\",Leden!H20)","v":""},{"$f":"IF(+Leden!$A20=\"\",\"\",Leden!I20)","v":""},{"$f":"IF(ISERROR(IF(+Leden!$A20=\"\",\"\",IF(Instellingen!$L$28=1,IF($B$23=0,Leden!L20/Leden!C20,Leden!L20/Leden!C20*B43),IF($B$23=0,Leden!J20,Leden!J20*B43)))),0,IF(+Leden!$A20=\"\",\"\",IF(Instellingen!$L$28=1,IF($B$23=0,Leden!L20/Leden!C20,Leden!L20/Leden!C20*B43),IF($B$23=0,Leden!J20,Leden!J20*B43))))","v":""},{"$f":"IF(+Leden!$A20=\"\",\"\",Leden!K20)","v":""},"",{"$f":"IF($A43=\"\",\"\",B43+VLOOKUP($I43,Vorigpunt!$A$3:$H$22,J$25,FALSE))","v":""},{"$f":"IF($A43=\"\",\"\",C43+VLOOKUP($I43,Vorigpunt!$A$3:$H$22,K$25,FALSE))","v":""},{"$f":"IF($A43=\"\",\"\",D43+VLOOKUP($I43,Vorigpunt!$A$3:$H$22,L$25,FALSE))","v":""},{"$f":"IF($A43=\"\",\"\",E43+VLOOKUP($I43,Vorigpunt!$A$3:$H$22,M$25,FALSE))","v":""},{"$f":"IF($A43=\"\",\"\",F43+IF(VLOOKUP($I43,Vorigpunt!$A$3:$H$22,N$25,FALSE)=\"\",0,VLOOKUP($I43,Vorigpunt!$A$3:$H$22,N$25,FALSE)))","v":""},{"$f":"IF(ISERROR(IF($A43=\"\",\"\",(G43+IF(VLOOKUP($I43,Vorigpunt!$A$3:$I$22,O$25,FALSE)=\"\",0,VLOOKUP($I43,Vorigpunt!$A$3:$I$22,O$25,FALSE)))/(MAX(1,J43)))),0,IF($A43=\"\",\"\",(G43+IF(VLOOKUP($I43,Vorigpunt!$A$3:$I$22,O$25,FALSE)=\"\",0,VLOOKUP($I43,Vorigpunt!$A$3:$I$22,O$25,FALSE)))/(MAX(1,J43))))","v":""},{"$f":"IF($A43=\"\",\"\",MAX(H43,VLOOKUP($I43,Vorigpunt!$A$3:$H$22,P$25,FALSE)))","v":""},null,null,42,{"$f":"VLOOKUP($S43,Schema,Werk1!$Q$2,FALSE)","v":{"$error":"#VALUE!"}},{"$f":"VLOOKUP($S43,Schema,Werk1!$R$2,FALSE)","v":{"$error":"#VALUE!"}},{"$error":"#VALUE!"},{"$f":"COUNTIF(Uitslagen1!$C$2:$C$191,$V43&\"*\")","v":0},{"$f":"VLOOKUP($V43,Uitslagen1!$C$2:$T$191,17,FALSE)","v":{"$error":"#VALUE!"}},{"$f":"VLOOKUP($V43,Uitslagen1!$C$2:$T$191,18,FALSE)","v":{"$error":"#VALUE!"}},{"$f":"IF(W43=0,\"\",VLOOKUP(VLOOKUP($V43,Uitslagen1!$C$2:$X$191,22,FALSE),Uitslagtotaal,2,FALSE))","v":""},null,null,null,null,{"$error":"#VALUE!"},{"$error":"#VALUE!"},{"$error":"#VALUE!"}]
[{"$f":"IF(+Leden!$A21=\"\",\"\",Leden!A21)","v":""},{"$f":"IF(+Leden!$A21=\"\",\"\",Leden!E21)","v":""},{"$f":"IF(+Leden!$A21=\"\",\"\",Leden!F21)","v":""},{"$f":"IF(+Leden!$A21=\"\",\"\",Leden!G21)","v":""},{"$f":"IF(+Leden!$A21=\"\",\"\",Leden!H21)","v":""},{"$f":"IF(+Leden!$A21=\"\",\"\",Leden!I21)","v":""},{"$f":"IF(ISERROR(IF(+Leden!$A21=\"\",\"\",IF(Instellingen!$L$28=1,IF($B$23=0,Leden!L21/Leden!C21,Leden!L21/Leden!C21*B44),IF($B$23=0,Leden!J21,Leden!J21*B44)))),0,IF(+Leden!$A21=\"\",\"\",IF(Instellingen!$L$28=1,IF($B$23=0,Leden!L21/Leden!C21,Leden!L21/Leden!C21*B44),IF($B$23=0,Leden!J21,Leden!J21*B44))))","v":""},{"$f":"IF(+Leden!$A21=\"\",\"\",Leden!K21)","v":""},"",{"$f":"IF($A44=\"\",\"\",B44+VLOOKUP($I44,Vorigpunt!$A$3:$H$22,J$25,FALSE))","v":""},{"$f":"IF($A44=\"\",\"\",C44+VLOOKUP($I44,Vorigpunt!$A$3:$H$22,K$25,FALSE))","v":""},{"$f":"IF($A44=\"\",\"\",D44+VLOOKUP($I44,Vorigpunt!$A$3:$H$22,L$25,FALSE))","v":""},{"$f":"IF($A44=\"\",\"\",E44+VLOOKUP($I44,Vorigpunt!$A$3:$H$22,M$25,FALSE))","v":""},{"$f":"IF($A44=\"\",\"\",F44+IF(VLOOKUP($I44,Vorigpunt!$A$3:$H$22,N$25,FALSE)=\"\",0,VLOOKUP($I44,Vorigpunt!$A$3:$H$22,N$25,FALSE)))","v":""},{"$f":"IF(ISERROR(IF($A44=\"\",\"\",(G44+IF(VLOOKUP($I44,Vorigpunt!$A$3:$I$22,O$25,FALSE)=\"\",0,VLOOKUP($I44,Vorigpunt!$A$3:$I$22,O$25,FALSE)))/(MAX(1,J44)))),0,IF($A44=\"\",\"\",(G44+IF(VLOOKUP($I44,Vorigpunt!$A$3:$I$22,O$25,FALSE)=\"\",0,VLOOKUP($I44,Vorigpunt!$A$3:$I$22,O$25,FALSE)))/(MAX(1,J44))))","v":""},{"$f":"IF($A44=\"\",\"\",MAX(H44,VLOOKUP($I44,Vorigpunt!$A$3:$H$22,P$25,FALSE)))","v":""},null,null,43,{"$f":"VLOOKUP($S44,Schema,Werk1!$Q$2,FALSE)","v":{"$error":"#VALUE!"}},{"$f":"VLOOKUP($S44,Schema,Werk1!$R$2,FALSE)","v":{"$error":"#VALUE!"}},{"$error":"#VALUE!"},{"$f":"COUNTIF(Uitslagen1!$C$2:$C$191,$V44&\"*\")","v":0},{"$f":"VLOOKUP($V44,Uitslagen1!$C$2:$T$191,17,FALSE)","v":{"$error":"#VALUE!"}},{"$f":"VLOOKUP($V44,Uitslagen1!$C$2:$T$191,18,FALSE)","v":{"$error":"#VALUE!"}},{"$f":"IF(W44=0,\"\",VLOOKUP(VLOOKUP($V44,Uitslagen1!$C$2:$X$191,22,FALSE),Uitslagtotaal,2,FALSE))","v":""},null,null,null,null,{"$error":"#VALUE!"},{"$error":"#VALUE!"},{"$error":"#VALUE!"}]
[{"$f":"IF(+Leden!$A22=\"\",\"\",Leden!A22)","v":""},{"$f":"IF(+Leden!$A22=\"\",\"\",Leden!E22)","v":""},{"$f":"IF(+Leden!$A22=\"\",\"\",Leden!F22)","v":""},{"$f":"IF(+Leden!$A22=\"\",\"\",Leden!G22)","v":""},{"$f":"IF(+Leden!$A22=\"\",\"\",Leden!H22)","v":""},{"$f":"IF(+Leden!$A22=\"\",\"\",Leden!I22)","v":""},{"$f":"IF(ISERROR(IF(+Leden!$A22=\"\",\"\",IF(Instellingen!$L$28=1,IF($B$23=0,Leden!L22/Leden!C22,Leden!L22/Leden!C22*B45),IF($B$23=0,Leden!J22,Leden!J22*B45)))),0,IF(+Leden!$A22=\"\",\"\",IF(Instellingen!$L$28=1,IF($B$23=0,Leden!L22/Leden!C22,Leden!L22/Leden!C22*B45),IF($B$23=0,Leden!J22,Leden!J22*B45))))","v":""},{"$f":"IF(+Leden!$A22=\"\",\"\",Leden!K22)","v":""},"",{"$f":"IF($A45=\"\",\"\",B45+VLOOKUP($I45,Vorigpunt!$A$3:$H$22,J$25,FALSE))","v":""},{"$f":"IF($A45=\"\",\"\",C45+VLOOKUP($I45,Vorigpunt!$A$3:$H$22,K$25,FALSE))","v":""},{"$f":"IF($A45=\"\",\"\",D45+VLOOKUP($I45,Vorigpunt!$A$3:$H$22,L$25,FALSE))","v":""},{"$f":"IF($A45=\"\",\"\",E45+VLOOKUP($I45,Vorigpunt!$A$3:$H$22,M$25,FALSE))","v":""},{"$f":"IF($A45=\"\",\"\",F45+IF(VLOOKUP($I45,Vorigpunt!$A$3:$H$22,N$25,FALSE)=\"\",0,VLOOKUP($I45,Vorigpunt!$A$3:$H$22,N$25,FALSE)))","v":""},{"$f":"IF(ISERROR(IF($A45=\"\",\"\",(G45+IF(VLOOKUP($I45,Vorigpunt!$A$3:$I$22,O$25,FALSE)=\"\",0,VLOOKUP($I45,Vorigpunt!$A$3:$I$22,O$25,FALSE)))/(MAX(1,J45)))),0,IF($A45=\"\",\"\",(G45+IF(VLOOKUP($I45,Vorigpunt!$A$3:$I$22,O$25,FALSE)=\"\",0,VLOOKUP($I45,Vorigpunt!$A$3:$I$22,O$25,FALSE)))/(MAX(1,J45))))","v":""},{"$f":"IF($A45=\"\",\"\",MAX(H45,VLOOKUP($I45,Vorigpunt!$A$3:$H$22,P$25,FALSE)))","v":""},null,null,44,{"$f":"VLOOKUP($S45,Schema,Werk1!$Q$2,FALSE)","v":{"$error":"#VALUE!"}},{"$f":"VLOOKUP($S45,Schema,Werk1!$R$2,FALSE)","v":{"$error":"#VALUE!"}},{"$error":"#VALUE!"},{"$f":"COUNTIF(Uitslagen1!$C$2:$C$191,$V45&\"*\")","v":0},{"$f":"VLOOKUP($V45,Uitslagen1!$C$2:$T$191,17,FALSE)","v":{"$error":"#VALUE!"}},{"$f":"VLOOKUP($V45,Uitslagen1!$C$2:$T$191,18,FALSE)","v":{"$error":"#VALUE!"}},{"$f":"IF(W45=0,\"\",VLOOKUP(VLOOKUP($V45,Uitslagen1!$C$2:$X$191,22,FALSE),Uitslagtotaal,2,FALSE))","v":""},null,null,null,null,{"$error":"#VALUE!"},{"$error":"#VALUE!"},{"$error":"#VALUE!"}]
[null,null,null,null,null,null,null,null,null,null,null,null,null,null,null,null,null,null,{"$f":"S45+1","v":45},{"$f":"VLOOKUP($S46,Schema,Werk1!$Q$2,FALSE)","v":{"$error":"#VALUE!"}},{"$f":"VLOOKUP($S46,Schema,Werk1!$R$2,FALSE)","v":{"$error":"#VALUE!"}},{"$f":"CONCATENATE(T46,\"-\",U46)","v":{"$error":"#VALUE!"}},{"$f":"COUNTIF(Uitslagen1!$C$2:$C$191,$V46&\"*\")","v":0},{"$f":"VLOOKUP($V46,Uitslagen1!$C$2:$T$191,17,FALSE)","v":{"$error":"#VALUE!"}},{"$f":"VLOOKUP($V46,Uitslagen1!$C$2:$T$191,18,FALSE)","v":{"$error":"#VALUE!"}},{"$f":"IF(W46=0,\"\",VLOOKUP(VLOOKUP($V46,Uitslagen1!$C$2:$X$191,22,FALSE),Uitslagtotaal,2,FALSE))","v":""},null,null,null,null,{"$error":"#VALUE!"},{"$error":"#VALUE!"},{"$error":"#VALUE!"}]
["Hyperlink hulp tbv HELP (zie macro Helpsectie)",null,null,null,null,null,null,null,null,null,null,null,null,null,null,null,null,null,46,{"$f":"VLOOKUP($S47,Schema,Werk1!$Q$2,FALSE)","v":{"$error":"#VALUE!"}},{"$f":"VLOOKUP($S47,Schema,Werk1!$R$2,FALSE)","v":{"$error":"#VALUE!"}},{"$error":"#VALUE!"},{"$f":"COUNTIF(Uitslagen1!$C$2:$C$191,$V47&\"*\")","v":0},{"$f":"VLOOKUP($V47,Uitslagen1!$C$2:$T$191,17,FALSE)","v":{"$error":"#VALUE!"}},{"$f":"VLOOKUP($V47,Uitslagen1!$C$2:$T$191,18,FALSE)","v":{"$error":"#VALUE!"}},{"$f":"IF(W47=0,\"\",VLOOKUP(VLOOKUP($V47,Uitslagen1!$C$2:$X$191,22,FALSE),Uitslagtotaal,2,FALSE))","v":""},null,null,null,null,{"$error":"#VALUE!"},{"$error":"#VALUE!"},{"$error":"#VALUE!"}]
["http://www.kwjansma.nl/biljart/Help",null,null,null,null,null,null,null,null,null,null,null,null,null,null,null,null,null,47,{"$f":"VLOOKUP($S48,Schema,Werk1!$Q$2,FALSE)","v":{"$error":"#VALUE!"}},{"$f":"VLOOKUP($S48,Schema,Werk1!$R$2,FALSE)","v":{"$error":"#VALUE!"}},{"$error":"#VALUE!"},{"$f":"COUNTIF(Uitslagen1!$C$2:$C$191,$V48&\"*\")","v":0},{"$f":"VLOOKUP($V48,Uitslagen1!$C$2:$T$191,17,FALSE)","v":{"$error":"#VALUE!"}},{"$f":"VLOOKUP($V48,Uitslagen1!$C$2:$T$191,18,FALSE)","v":{"$error":"#VALUE!"}},{"$f":"IF(W48=0,\"\",VLOOKUP(VLOOKUP($V48,Uitslagen1!$C$2:$X$191,22,FALSE),Uitslagtotaal,2,FALSE))","v":""},null,null,null,null,{"$error":"#VALUE!"},{"$error":"#VALUE!"},{"$error":"#VALUE!"}]
[null,null,null,null,null,null,null,null,null,null,null,null,null,null,null,null,null,null,48,{"$f":"VLOOKUP($S49,Schema,Werk1!$Q$2,FALSE)","v":{"$error":"#VALUE!"}},{"$f":"VLOOKUP($S49,Schema,Werk1!$R$2,FALSE)","v":{"$error":"#VALUE!"}},{"$error":"#VALUE!"},{"$f":"COUNTIF(Uitslagen1!$C$2:$C$191,$V49&\"*\")","v":0},{"$f":"VLOOKUP($V49,Uitslagen1!$C$2:$T$191,17,FALSE)","v":{"$error":"#VALUE!"}},{"$f":"VLOOKUP($V49,Uitslagen1!$C$2:$T$191,18,FALSE)","v":{"$error":"#VALUE!"}},{"$f":"IF(W49=0,\"\",VLOOKUP(VLOOKUP($V49,Uitslagen1!$C$2:$X$191,22,FALSE),Uitslagtotaal,2,FALSE))","v":""},null,null,null,null,{"$error":"#VALUE!"},{"$error":"#VALUE!"},{"$error":"#VALUE!"}]
[null,null,null,null,null,null,null,null,null,null,null,null,null,null,null,null,null,null,49,{"$f":"VLOOKUP($S50,Schema,Werk1!$Q$2,FALSE)","v":{"$error":"#VALUE!"}},{"$f":"VLOOKUP($S50,Schema,Werk1!$R$2,FALSE)","v":{"$error":"#VALUE!"}},{"$error":"#VALUE!"},{"$f":"COUNTIF(Uitslagen1!$C$2:$C$191,$V50&\"*\")","v":0},{"$f":"VLOOKUP($V50,Uitslagen1!$C$2:$T$191,17,FALSE)","v":{"$error":"#VALUE!"}},{"$f":"VLOOKUP($V50,Uitslagen1!$C$2:$T$191,18,FALSE)","v":{"$error":"#VALUE!"}},{"$f":"IF(W50=0,\"\",VLOOKUP(VLOOKUP($V50,Uitslagen1!$C$2:$X$191,22,FALSE),Uitslagtotaal,2,FALSE))","v":""},null,null,null,null,{"$error":"#VALUE!"},{"$error":"#VALUE!"},{"$error":"#VALUE!"}]
[null,null,null,null,null,null,null,null,null,null,null,null,null,null,null,null,null,null,50,{"$f":"VLOOKUP($S51,Schema,Werk1!$Q$2,FALSE)","v":{"$error":"#VALUE!"}},{"$f":"VLOOKUP($S51,Schema,Werk1!$R$2,FALSE)","v":{"$error":"#VALUE!"}},{"$error":"#VALUE!"},{"$f":"COUNTIF(Uitslagen1!$C$2:$C$191,$V51&\"*\")","v":0},{"$f":"VLOOKUP($V51,Uitslagen1!$C$2:$T$191,17,FALSE)","v":{"$error":"#VALUE!"}},{"$f":"VLOOKUP($V51,Uitslagen1!$C$2:$T$191,18,FALSE)","v":{"$error":"#VALUE!"}},{"$f":"IF(W51=0,\"\",VLOOKUP(VLOOKUP($V51,Uitslagen1!$C$2:$X$191,22,FALSE),Uitslagtotaal,2,FALSE))","v":""},null,null,null,null,{"$error":"#VALUE!"},{"$error":"#VALUE!"},{"$error":"#VALUE!"}]
[null,null,null,null,null,null,null,null,null,null,null,null,null,null,null,null,null,null,51,{"$f":"VLOOKUP($S52,Schema,Werk1!$Q$2,FALSE)","v":{"$error":"#VALUE!"}},{"$f":"VLOOKUP($S52,Schema,Werk1!$R$2,FALSE)","v":{"$error":"#VALUE!"}},{"$error":"#VALUE!"},{"$f":"COUNTIF(Uitslagen1!$C$2:$C$191,$V52&\"*\")","v":0},{"$f":"VLOOKUP($V52,Uitslagen1!$C$2:$T$191,17,FALSE)","v":{"$error":"#VALUE!"}},{"$f":"VLOOKUP($V52,Uitslagen1!$C$2:$T$191,18,FALSE)","v":{"$error":"#VALUE!"}},{"$f":"IF(W52=0,\"\",VLOOKUP(VLOOKUP($V52,Uitslagen1!$C$2:$X$191,22,FALSE),Uitslagtotaal,2,FALSE))","v":""},null,null,null,null,{"$error":"#VALUE!"},{"$error":"#VALUE!"},{"$error":"#VALUE!"}]
[null,null,null,null,null,null,null,null,null,null,null,null,null,null,null,null,null,null,52,{"$f":"VLOOKUP($S53,Schema,Werk1!$Q$2,FALSE)","v":{"$error":"#VALUE!"}},{"$f":"VLOOKUP($S53,Schema,Werk1!$R$2,FALSE)","v":{"$error":"#VALUE!"}},{"$error":"#VALUE!"},{"$f":"COUNTIF(Uitslagen1!$C$2:$C$191,$V53&\"*\")","v":0},{"$f":"VLOOKUP($V53,Uitslagen1!$C$2:$T$191,17,FALSE)","v":{"$error":"#VALUE!"}},{"$f":"VLOOKUP($V53,Uitslagen1!$C$2:$T$191,18,FALSE)","v":{"$error":"#VALUE!"}},{"$f":"IF(W53=0,\"\",VLOOKUP(VLOOKUP($V53,Uitslagen1!$C$2:$X$191,22,FALSE),Uitslagtotaal,2,FALSE))","v":""},null,null,null,null,{"$error":"#VALUE!"},{"$error":"#VALUE!"},{"$error":"#VALUE!"}]
[null,null,null,null,null,null,null,null,null,null,null,null,null,null,null,null,null,null,53,{"$f":"VLOOKUP($S54,Schema,Werk1!$Q$2,FALSE)","v":{"$error":"#VALUE!"}},{"$f":"VLOOKUP($S54,Schema,Werk1!$R$2,FALSE)","v":{"$error":"#VALUE!"}},{"$error":"#VALUE!"},{"$f":"COUNTIF(Uitslagen1!$C$2:$C$191,$V54&\"*\")","v":0},{"$f":"VLOOKUP($V54,Uitslagen1!$C$2:$T$191,17,FALSE)","v":{"$error":"#VALUE!"}},{"$f":"VLOOKUP($V54,Uitslagen1!$C$2:$T$191,18,FALSE)","v":{"$error":"#VALUE!"}},{"$f":"IF(W54=0,\"\",VLOOKUP(VLOOKUP($V54,Uitslagen1!$C$2:$X$191,22,FALSE),Uitslagtotaal,2,FALSE))","v":""},null,null,null,null,{"$error":"#VALUE!"},{"$error":"#VALUE!"},{"$error":"#VALUE!"}]
[null,null,null,null,null,null,null,null,null,null,null,null,null,null,null,null,null,null,54,{"$f":"VLOOKUP($S55,Schema,Werk1!$Q$2,FALSE)","v":{"$error":"#VALUE!"}},{"$f":"VLOOKUP($S55,Schema,Werk1!$R$2,FALSE)","v":{"$error":"#VALUE!"}},{"$error":"#VALUE!"},{"$f":"COUNTIF(Uitslagen1!$C$2:$C$191,$V55&\"*\")","v":0},{"$f":"VLOOKUP($V55,Uitslagen1!$C$2:$T$191,17,FALSE)","v":{"$error":"#VALUE!"}},{"$f":"VLOOKUP($V55,Uitslagen1!$C$2:$T$191,18,FALSE)","v":{"$error":"#VALUE!"}},{"$f":"IF(W55=0,\"\",VLOOKUP(VLOOKUP($V55,Uitslagen1!$C$2:$X$191,22,FALSE),Uitslagtotaal,2,FALSE))","v":""},null,null,null,null,{"$error":"#VALUE!"},{"$error":"#VALUE!"},{"$error":"#VALUE!"}]
[null,null,null,null,null,null,null,null,null,null,null,null,null,null,null,null,null,null,55,{"$f":"VLOOKUP($S56,Schema,Werk1!$Q$2,FALSE)","v":{"$error":"#VALUE!"}},{"$f":"VLOOKUP($S56,Schema,Werk1!$R$2,FALSE)","v":{"$error":"#VALUE!"}},{"$error":"#VALUE!"},{"$f":"COUNTIF(Uitslagen1!$C$2:$C$191,$V56&\"*\")","v":0},{"$f":"VLOOKUP($V56,Uitslagen1!$C$2:$T$191,17,FALSE)","v":{"$error":"#VALUE!"}},{"$f":"VLOOKUP($V56,Uitslagen1!$C$2:$T$191,18,FALSE)","v":{"$error":"#VALUE!"}},{"$f":"IF(W56=0,\"\",VLOOKUP(VLOOKUP($V56,Uitslagen1!$C$2:$X$191,22,FALSE),Uitslagtotaal,2,FALSE))","v":""},null,null,null,null,{"$error":"#VALUE!"},{"$error":"#VALUE!"},{"$error":"#VALUE!"}]
["","","","","","","","",null,null,null,null,null,null,null,null,null,null,56,{"$f":"VLOOKUP($S57,Schema,Werk1!$Q$2,FALSE)","v":{"$error":"#VALUE!"}},{"$f":"VLOOKUP($S57,Schema,Werk1!$R$2,FALSE)","v":{"$error":"#VALUE!"}},{"$error":"#VALUE!"},{"$f":"COUNTIF(Uitslagen1!$C$2:$C$191,$V57&\"*\")","v":0},{"$f":"VLOOKUP($V57,Uitslagen1!$C$2:$T$191,17,FALSE)","v":{"$error":"#VALUE!"}},{"$f":"VLOOKUP($V57,Uitslagen1!$C$2:$T$191,18,FALSE)","v":{"$error":"#VALUE!"}},{"$f":"IF(W57=0,\"\",VLOOKUP(VLOOKUP($V57,Uitslagen1!$C$2:$X$191,22,FALSE),Uitslagtotaal,2,FALSE))","v":""},null,null,null,null,{"$error":"#VALUE!"},{"$error":"#VALUE!"},{"$error":"#VALUE!"}]
["","","","","","","","",null,null,null,null,null,null,null,null,null,null,57,{"$f":"VLOOKUP($S58,Schema,Werk1!$Q$2,FALSE)","v":{"$error":"#VALUE!"}},{"$f":"VLOOKUP($S58,Schema,Werk1!$R$2,FALSE)","v":{"$error":"#VALUE!"}},{"$error":"#VALUE!"},{"$f":"COUNTIF(Uitslagen1!$C$2:$C$191,$V58&\"*\")","v":0},{"$f":"VLOOKUP($V58,Uitslagen1!$C$2:$T$191,17,FALSE)","v":{"$error":"#VALUE!"}},{"$f":"VLOOKUP($V58,Uitslagen1!$C$2:$T$191,18,FALSE)","v":{"$error":"#VALUE!"}},{"$f":"IF(W58=0,\"\",VLOOKUP(VLOOKUP($V58,Uitslagen1!$C$2:$X$191,22,FALSE),Uitslagtotaal,2,FALSE))","v":""},null,null,null,null,{"$error":"#VALUE!"},{"$error":"#VALUE!"},{"$error":"#VALUE!"}]
["","","","","","","","",null,null,null,null,null,null,null,null,null,null,58,{"$f":"VLOOKUP($S59,Schema,Werk1!$Q$2,FALSE)","v":{"$error":"#VALUE!"}},{"$f":"VLOOKUP($S59,Schema,Werk1!$R$2,FALSE)","v":{"$error":"#VALUE!"}},{"$error":"#VALUE!"},{"$f":"COUNTIF(Uitslagen1!$C$2:$C$191,$V59&\"*\")","v":0},{"$f":"VLOOKUP($V59,Uitslagen1!$C$2:$T$191,17,FALSE)","v":{"$error":"#VALUE!"}},{"$f":"VLOOKUP($V59,Uitslagen1!$C$2:$T$191,18,FALSE)","v":{"$error":"#VALUE!"}},{"$f":"IF(W59=0,\"\",VLOOKUP(VLOOKUP($V59,Uitslagen1!$C$2:$X$191,22,FALSE),Uitslagtotaal,2,FALSE))","v":""},null,null,null,null,{"$error":"#VALUE!"},{"$error":"#VALUE!"},{"$error":"#VALUE!"}]
["","","","","","","","",null,null,null,null,null,null,null,null,null,null,59,{"$f":"VLOOKUP($S60,Schema,Werk1!$Q$2,FALSE)","v":{"$error":"#VALUE!"}},{"$f":"VLOOKUP($S60,Schema,Werk1!$R$2,FALSE)","v":{"$error":"#VALUE!"}},{"$error":"#VALUE!"},{"$f":"COUNTIF(Uitslagen1!$C$2:$C$191,$V60&\"*\")","v":0},{"$f":"VLOOKUP($V60,Uitslagen1!$C$2:$T$191,17,FALSE)","v":{"$error":"#VALUE!"}},{"$f":"VLOOKUP($V60,Uitslagen1!$C$2:$T$191,18,FALSE)","v":{"$error":"#VALUE!"}},{"$f":"IF(W60=0,\"\",VLOOKUP(VLOOKUP($V60,Uitslagen1!$C$2:$X$191,22,FALSE),Uitslagtotaal,2,FALSE))","v":""},null,null,null,null,{"$error":"#VALUE!"},{"$error":"#VALUE!"},{"$error":"#VALUE!"}]
["","","","","","","","",null,null,null,null,null,null,null,null,null,null,60,{"$f":"VLOOKUP($S61,Schema,Werk1!$Q$2,FALSE)","v":{"$error":"#VALUE!"}},{"$f":"VLOOKUP($S61,Schema,Werk1!$R$2,FALSE)","v":{"$error":"#VALUE!"}},{"$error":"#VALUE!"},{"$f":"COUNTIF(Uitslagen1!$C$2:$C$191,$V61&\"*\")","v":0},{"$f":"VLOOKUP($V61,Uitslagen1!$C$2:$T$191,17,FALSE)","v":{"$error":"#VALUE!"}},{"$f":"VLOOKUP($V61,Uitslagen1!$C$2:$T$191,18,FALSE)","v":{"$error":"#VALUE!"}},{"$f":"IF(W61=0,\"\",VLOOKUP(VLOOKUP($V61,Uitslagen1!$C$2:$X$191,22,FALSE),Uitslagtotaal,2,FALSE))","v":""},null,null,null,null,{"$error":"#VALUE!"},{"$error":"#VALUE!"},{"$error":"#VALUE!"}]
["","","","","","","","",null,null,null,null,null,null,null,null,null,null,61,{"$f":"VLOOKUP($S62,Schema,Werk1!$Q$2,FALSE)","v":{"$error":"#VALUE!"}},{"$f":"VLOOKUP($S62,Schema,Werk1!$R$2,FALSE)","v":{"$error":"#VALUE!"}},{"$error":"#VALUE!"},{"$f":"COUNTIF(Uitslagen1!$C$2:$C$191,$V62&\"*\")","v":0},{"$f":"VLOOKUP($V62,Uitslagen1!$C$2:$T$191,17,FALSE)","v":{"$error":"#VALUE!"}},{"$f":"VLOOKUP($V62,Uitslagen1!$C$2:$T$191,18,FALSE)","v":{"$error":"#VALUE!"}},{"$f":"IF(W62=0,\"\",VLOOKUP(VLOOKUP($V62,Uitslagen1!$C$2:$X$191,22,FALSE),Uitslagtotaal,2,FALSE))","v":""},null,null,null,null,{"$error":"#VALUE!"},{"$error":"#VALUE!"},{"$error":"#VALUE!"}]
["","","","","","","","",null,null,null,null,null,null,null,null,null,null,62,{"$f":"VLOOKUP($S63,Schema,Werk1!$Q$2,FALSE)","v":{"$error":"#VALUE!"}},{"$f":"VLOOKUP($S63,Schema,Werk1!$R$2,FALSE)","v":{"$error":"#VALUE!"}},{"$error":"#VALUE!"},{"$f":"COUNTIF(Uitslagen1!$C$2:$C$191,$V63&\"*\")","v":0},{"$f":"VLOOKUP($V63,Uitslagen1!$C$2:$T$191,17,FALSE)","v":{"$error":"#VALUE!"}},{"$f":"VLOOKUP($V63,Uitslagen1!$C$2:$T$191,18,FALSE)","v":{"$error":"#VALUE!"}},{"$f":"IF(W63=0,\"\",VLOOKUP(VLOOKUP($V63,Uitslagen1!$C$2:$X$191,22,FALSE),Uitslagtotaal,2,FALSE))","v":""},null,null,null,null,{"$error":"#VALUE!"},{"$error":"#VALUE!"},{"$error":"#VALUE!"}]
["","","","","","","","",null,null,null,null,null,null,null,null,null,null,63,{"$f":"VLOOKUP($S64,Schema,Werk1!$Q$2,FALSE)","v":{"$error":"#VALUE!"}},{"$f":"VLOOKUP($S64,Schema,Werk1!$R$2,FALSE)","v":{"$error":"#VALUE!"}},{"$error":"#VALUE!"},{"$f":"COUNTIF(Uitslagen1!$C$2:$C$191,$V64&\"*\")","v":0},{"$f":"VLOOKUP($V64,Uitslagen1!$C$2:$T$191,17,FALSE)","v":{"$error":"#VALUE!"}},{"$f":"VLOOKUP($V64,Uitslagen1!$C$2:$T$191,18,FALSE)","v":{"$error":"#VALUE!"}},{"$f":"IF(W64=0,\"\",VLOOKUP(VLOOKUP($V64,Uitslagen1!$C$2:$X$191,22,FALSE),Uitslagtotaal,2,FALSE))","v":""},null,null,null,null,{"$error":"#VALUE!"},{"$error":"#VALUE!"},{"$error":"#VALUE!"}]
["","","","","","","","",null,null,null,null,null,null,null,null,null,null,64,{"$f":"VLOOKUP($S65,Schema,Werk1!$Q$2,FALSE)","v":{"$error":"#VALUE!"}},{"$f":"VLOOKUP($S65,Schema,Werk1!$R$2,FALSE)","v":{"$error":"#VALUE!"}},{"$error":"#VALUE!"},{"$f":"COUNTIF(Uitslagen1!$C$2:$C$191,$V65&\"*\")","v":0},{"$f":"VLOOKUP($V65,Uitslagen1!$C$2:$T$191,17,FALSE)","v":{"$error":"#VALUE!"}},{"$f":"VLOOKUP($V65,Uitslagen1!$C$2:$T$191,18,FALSE)","v":{"$error":"#VALUE!"}},{"$f":"IF(W65=0,\"\",VLOOKUP(VLOOKUP($V65,Uitslagen1!$C$2:$X$191,22,FALSE),Uitslagtotaal,2,FALSE))","v":""},null,null,null,null,{"$error":"#VALUE!"},{"$error":"#VALUE!"},{"$error":"#VALUE!"}]
["","","","","","","","",null,null,null,null,null,null,null,null,null,null,65,{"$f":"VLOOKUP($S66,Schema,Werk1!$Q$2,FALSE)","v":{"$error":"#VALUE!"}},{"$f":"VLOOKUP($S66,Schema,Werk1!$R$2,FALSE)","v":{"$error":"#VALUE!"}},{"$error":"#VALUE!"},{"$f":"COUNTIF(Uitslagen1!$C$2:$C$191,$V66&\"*\")","v":0},{"$f":"VLOOKUP($V66,Uitslagen1!$C$2:$T$191,17,FALSE)","v":{"$error":"#VALUE!"}},{"$f":"VLOOKUP($V66,Uitslagen1!$C$2:$T$191,18,FALSE)","v":{"$error":"#VALUE!"}},{"$f":"IF(W66=0,\"\",VLOOKUP(VLOOKUP($V66,Uitslagen1!$C$2:$X$191,22,FALSE),Uitslagtotaal,2,FALSE))","v":""},null,null,null,null,{"$error":"#VALUE!"},{"$error":"#VALUE!"},{"$error":"#VALUE!"}]
["","","","","","","","",null,null,null,null,null,null,null,null,null,null,66,{"$f":"VLOOKUP($S67,Schema,Werk1!$Q$2,FALSE)","v":{"$error":"#VALUE!"}},{"$f":"VLOOKUP($S67,Schema,Werk1!$R$2,FALSE)","v":{"$error":"#VALUE!"}},{"$error":"#VALUE!"},{"$f":"COUNTIF(Uitslagen1!$C$2:$C$191,$V67&\"*\")","v":0},{"$f":"VLOOKUP($V67,Uitslagen1!$C$2:$T$191,17,FALSE)","v":{"$error":"#VALUE!"}},{"$f":"VLOOKUP($V67,Uitslagen1!$C$2:$T$191,18,FALSE)","v":{"$error":"#VALUE!"}},{"$f":"IF(W67=0,\"\",VLOOKUP(VLOOKUP($V67,Uitslagen1!$C$2:$X$191,22,FALSE),Uitslagtotaal,2,FALSE))","v":""},null,null,null,null,{"$f":"+V67","v":{"$error":"#VALUE!"}},{"$f":"IF(X67=7,24,23)","v":{"$error":"#VALUE!"}},{"$f":"IF(AF67=24,23,24)","v":{"$error":"#VALUE!"}}]
[null,null,null,null,null,null,null,null,null,null,null,null,null,null,null,null,null,null,67,{"$f":"VLOOKUP($S68,Schema,Werk1!$Q$2,FALSE)","v":{"$error":"#VALUE!"}},{"$f":"VLOOKUP($S68,Schema,Werk1!$R$2,FALSE)","v":{"$error":"#VALUE!"}},{"$error":"#VALUE!"},{"$f":"COUNTIF(Uitslagen1!$C$2:$C$191,$V68&\"*\")","v":0},{"$f":"VLOOKUP($V68,Uitslagen1!$C$2:$T$191,17,FALSE)","v":{"$error":"#VALUE!"}},{"$f":"VLOOKUP($V68,Uitslagen1!$C$2:$T$191,18,FALSE)","v":{"$error":"#VALUE!"}},{"$f":"IF(W68=0,\"\",VLOOKUP(VLOOKUP($V68,Uitslagen1!$C$2:$X$191,22,FALSE),Uitslagtotaal,2,FALSE))","v":""},null,null,null,null,{"$error":"#VALUE!"},{"$error":"#VALUE!"},{"$error":"#VALUE!"}]
[null,null,null,null,null,null,null,null,null,null,null,null,null,null,null,null,null,null,68,{"$f":"VLOOKUP($S69,Schema,Werk1!$Q$2,FALSE)","v":{"$error":"#VALUE!"}},{"$f":"VLOOKUP($S69,Schema,Werk1!$R$2,FALSE)","v":{"$error":"#VALUE!"}},{"$error":"#VALUE!"},{"$f":"COUNTIF(Uitslagen1!$C$2:$C$191,$V69&\"*\")","v":0},{"$f":"VLOOKUP($V69,Uitslagen1!$C$2:$T$191,17,FALSE)","v":{"$error":"#VALUE!"}},{"$f":"VLOOKUP($V69,Uitslagen1!$C$2:$T$191,18,FALSE)","v":{"$error":"#VALUE!"}},{"$f":"IF(W69=0,\"\",VLOOKUP(VLOOKUP($V69,Uitslagen1!$C$2:$X$191,22,FALSE),Uitslagtotaal,2,FALSE))","v":""},null,null,null,null,{"$error":"#VALUE!"},{"$error":"#VALUE!"},{"$error":"#VALUE!"}]
[null,null,null,null,null,null,null,null,null,null,null,null,null,null,null,null,null,null,69,{"$f":"VLOOKUP($S70,Schema,Werk1!$Q$2,FALSE)","v":{"$error":"#VALUE!"}},{"$f":"VLOOKUP($S70,Schema,Werk1!$R$2,FALSE)","v":{"$error":"#VALUE!"}},{"$error":"#VALUE!"},{"$f":"COUNTIF(Uitslagen1!$C$2:$C$191,$V70&\"*\")","v":0},{"$f":"VLOOKUP($V70,Uitslagen1!$C$2:$T$191,17,FALSE)","v":{"$error":"#VALUE!"}},{"$f":"VLOOKUP($V70,Uitslagen1!$C$2:$T$191,18,FALSE)","v":{"$error":"#VALUE!"}},{"$f":"IF(W70=0,\"\",VLOOKUP(VLOOKUP($V70,Uitslagen1!$C$2:$X$191,22,FALSE),Uitslagtotaal,2,FALSE))","v":""},null,null,null,null,{"$error":"#VALUE!"},{"$error":"#VALUE!"},{"$error":"#VALUE!"}]
[null,null,null,null,null,null,null,null,null,null,null,null,null,null,null,null,null,null,70,{"$f":"VLOOKUP($S71,Schema,Werk1!$Q$2,FALSE)","v":{"$error":"#VALUE!"}},{"$f":"VLOOKUP($S71,Schema,Werk1!$R$2,FALSE)","v":{"$error":"#VALUE!"}},{"$error":"#VALUE!"},{"$f":"COUNTIF(Uitslagen1!$C$2:$C$191,$V71&\"*\")","v":0},{"$f":"VLOOKUP($V71,Uitslagen1!$C$2:$T$191,17,FALSE)","v":{"$error":"#VALUE!"}},{"$f":"VLOOKUP($V71,Uitslagen1!$C$2:$T$191,18,FALSE)","v":{"$error":"#VALUE!"}},{"$f":"IF(W71=0,\"\",VLOOKUP(VLOOKUP($V71,Uitslagen1!$C$2:$X$191,22,FALSE),Uitslagtotaal,2,FALSE))","v":""},null,null,null,null,{"$error":"#VALUE!"},{"$error":"#VALUE!"},{"$error":"#VALUE!"}]
[null,null,null,null,null,null,null,null,null,null,null,null,null,null,null,null,null,null,71,{"$f":"VLOOKUP($S72,Schema,Werk1!$Q$2,FALSE)","v":{"$error":"#VALUE!"}},{"$f":"VLOOKUP($S72,Schema,Werk1!$R$2,FALSE)","v":{"$error":"#VALUE!"}},{"$error":"#VALUE!"},{"$f":"COUNTIF(Uitslagen1!$C$2:$C$191,$V72&\"*\")","v":0},{"$f":"VLOOKUP($V72,Uitslagen1!$C$2:$T$191,17,FALSE)","v":{"$error":"#VALUE!"}},{"$f":"VLOOKUP($V72,Uitslagen1!$C$2:$T$191,18,FALSE)","v":{"$error":"#VALUE!"}},{"$f":"IF(W72=0,\"\",VLOOKUP(VLOOKUP($V72,Uitslagen1!$C$2:$X$191,22,FALSE),Uitslagtotaal,2,FALSE))","v":""},null,null,null,null,{"$error":"#VALUE!"},{"$error":"#VALUE!"},{"$error":"#VALUE!"}]
[null,null,null,null,null,null,null,null,null,null,null,null,null,null,null,null,null,null,72,{"$f":"VLOOKUP($S73,Schema,Werk1!$Q$2,FALSE)","v":{"$error":"#VALUE!"}},{"$f":"VLOOKUP($S73,Schema,Werk1!$R$2,FALSE)","v":{"$error":"#VALUE!"}},{"$error":"#VALUE!"},{"$f":"COUNTIF(Uitslagen1!$C$2:$C$191,$V73&\"*\")","v":0},{"$f":"VLOOKUP($V73,Uitslagen1!$C$2:$T$191,17,FALSE)","v":{"$error":"#VALUE!"}},{"$f":"VLOOKUP($V73,Uitslagen1!$C$2:$T$191,18,FALSE)","v":{"$error":"#VALUE!"}},{"$f":"IF(W73=0,\"\",VLOOKUP(VLOOKUP($V73,Uitslagen1!$C$2:$X$191,22,FALSE),Uitslagtotaal,2,FALSE))","v":""},null,null,null,null,{"$error":"#VALUE!"},{"$error":"#VALUE!"},{"$error":"#VALUE!"}]
[null,null,null,null,null,null,null,null,null,null,null,null,null,null,null,null,null,null,73,{"$f":"VLOOKUP($S74,Schema,Werk1!$Q$2,FALSE)","v":{"$error":"#VALUE!"}},{"$f":"VLOOKUP($S74,Schema,Werk1!$R$2,FALSE)","v":{"$error":"#VALUE!"}},{"$error":"#VALUE!"},{"$f":"COUNTIF(Uitslagen1!$C$2:$C$191,$V74&\"*\")","v":0},{"$f":"VLOOKUP($V74,Uitslagen1!$C$2:$T$191,17,FALSE)","v":{"$error":"#VALUE!"}},{"$f":"VLOOKUP($V74,Uitslagen1!$C$2:$T$191,18,FALSE)","v":{"$error":"#VALUE!"}},{"$f":"IF(W74=0,\"\",VLOOKUP(VLOOKUP($V74,Uitslagen1!$C$2:$X$191,22,FALSE),Uitslagtotaal,2,FALSE))","v":""},null,null,null,null,{"$error":"#VALUE!"},{"$error":"#VALUE!"},{"$error":"#VALUE!"}]
[null,null,null,null,null,null,null,null,null,null,null,null,null,null,null,null,null,null,74,{"$f":"VLOOKUP($S75,Schema,Werk1!$Q$2,FALSE)","v":{"$error":"#VALUE!"}},{"$f":"VLOOKUP($S75,Schema,Werk1!$R$2,FALSE)","v":{"$error":"#VALUE!"}},{"$error":"#VALUE!"},{"$f":"COUNTIF(Uitslagen1!$C$2:$C$191,$V75&\"*\")","v":0},{"$f":"VLOOKUP($V75,Uitslagen1!$C$2:$T$191,17,FALSE)","v":{"$error":"#VALUE!"}},{"$f":"VLOOKUP($V75,Uitslagen1!$C$2:$T$191,18,FALSE)","v":{"$error":"#VALUE!"}},{"$f":"IF(W75=0,\"\",VLOOKUP(VLOOKUP($V75,Uitslagen1!$C$2:$X$191,22,FALSE),Uitslagtotaal,2,FALSE))","v":""},null,null,null,null,{"$error":"#VALUE!"},{"$error":"#VALUE!"},{"$error":"#VALUE!"}]
[null,null,null,null,null,null,null,null,null,null,null,null,null,null,null,null,null,null,75,{"$f":"VLOOKUP($S76,Schema,Werk1!$Q$2,FALSE)","v":{"$error":"#VALUE!"}},{"$f":"VLOOKUP($S76,Schema,Werk1!$R$2,FALSE)","v":{"$error":"#VALUE!"}},{"$error":"#VALUE!"},{"$f":"COUNTIF(Uitslagen1!$C$2:$C$191,$V76&\"*\")","v":0},{"$f":"VLOOKUP($V76,Uitslagen1!$C$2:$T$191,17,FALSE)","v":{"$error":"#VALUE!"}},{"$f":"VLOOKUP($V76,Uitslagen1!$C$2:$T$191,18,FALSE)","v":{"$error":"#VALUE!"}},{"$f":"IF(W76=0,\"\",VLOOKUP(VLOOKUP($V76,Uitslagen1!$C$2:$X$191,22,FALSE),Uitslagtotaal,2,FALSE))","v":""},null,null,null,null,{"$error":"#VALUE!"},{"$error":"#VALUE!"},{"$error":"#VALUE!"}]
[null,null,null,null,null,null,null,null,null,null,null,null,null,null,null,null,null,null,76,{"$f":"VLOOKUP($S77,Schema,Werk1!$Q$2,FALSE)","v":{"$error":"#VALUE!"}},{"$f":"VLOOKUP($S77,Schema,Werk1!$R$2,FALSE)","v":{"$error":"#VALUE!"}},{"$error":"#VALUE!"},{"$f":"COUNTIF(Uitslagen1!$C$2:$C$191,$V77&\"*\")","v":0},{"$f":"VLOOKUP($V77,Uitslagen1!$C$2:$T$191,17,FALSE)","v":{"$error":"#VALUE!"}},{"$f":"VLOOKUP($V77,Uitslagen1!$C$2:$T$191,18,FALSE)","v":{"$error":"#VALUE!"}},{"$f":"IF(W77=0,\"\",VLOOKUP(VLOOKUP($V77,Uitslagen1!$C$2:$X$191,22,FALSE),Uitslagtotaal,2,FALSE))","v":""},null,null,null,null,{"$error":"#VALUE!"},{"$error":"#VALUE!"},{"$error":"#VALUE!"}]
[null,null,null,null,null,null,null,null,null,null,null,null,null,null,null,null,null,null,77,{"$f":"VLOOKUP($S78,Schema,Werk1!$Q$2,FALSE)","v":{"$error":"#VALUE!"}},{"$f":"VLOOKUP($S78,Schema,Werk1!$R$2,FALSE)","v":{"$error":"#VALUE!"}},{"$error":"#VALUE!"},{"$f":"COUNTIF(Uitslagen1!$C$2:$C$191,$V78&\"*\")","v":0},{"$f":"VLOOKUP($V78,Uitslagen1!$C$2:$T$191,17,FALSE)","v":{"$error":"#VALUE!"}},{"$f":"VLOOKUP($V78,Uitslagen1!$C$2:$T$191,18,FALSE)","v":{"$error":"#VALUE!"}},{"$f":"IF(W78=0,\"\",VLOOKUP(VLOOKUP($V78,Uitslagen1!$C$2:$X$191,22,FALSE),Uitslagtotaal,2,FALSE))","v":""},null,null,null,null,{"$error":"#VALUE!"},{"$error":"#VALUE!"},{"$error":"#VALUE!"}]
[null,null,null,null,null,null,null,null,null,null,null,null,null,null,null,null,null,null,78,{"$f":"VLOOKUP($S79,Schema,Werk1!$Q$2,FALSE)","v":{"$error":"#VALUE!"}},{"$f":"VLOOKUP($S79,Schema,Werk1!$R$2,FALSE)","v":{"$error":"#VALUE!"}},{"$error":"#VALUE!"},{"$f":"COUNTIF(Uitslagen1!$C$2:$C$191,$V79&\"*\")","v":0},{"$f":"VLOOKUP($V79,Uitslagen1!$C$2:$T$191,17,FALSE)","v":{"$error":"#VALUE!"}},{"$f":"VLOOKUP($V79,Uitslagen1!$C$2:$T$191,18,FALSE)","v":{"$error":"#VALUE!"}},{"$f":"IF(W79=0,\"\",VLOOKUP(VLOOKUP($V79,Uitslagen1!$C$2:$X$191,22,FALSE),Uitslagtotaal,2,FALSE))","v":""},null,null,null,null,{"$error":"#VALUE!"},{"$error":"#VALUE!"},{"$error":"#VALUE!"}]
[null,null,null,null,null,null,null,null,null,null,null,null,null,null,null,null,null,null,79,{"$f":"VLOOKUP($S80,Schema,Werk1!$Q$2,FALSE)","v":{"$error":"#VALUE!"}},{"$f":"VLOOKUP($S80,Schema,Werk1!$R$2,FALSE)","v":{"$error":"#VALUE!"}},{"$error":"#VALUE!"},{"$f":"COUNTIF(Uitslagen1!$C$2:$C$191,$V80&\"*\")","v":0},{"$f":"VLOOKUP($V80,Uitslagen1!$C$2:$T$191,17,FALSE)","v":{"$error":"#VALUE!"}},{"$f":"VLOOKUP($V80,Uitslagen1!$C$2:$T$191,18,FALSE)","v":{"$error":"#VALUE!"}},{"$f":"IF(W80=0,\"\",VLOOKUP(VLOOKUP($V80,Uitslagen1!$C$2:$X$191,22,FALSE),Uitslagtotaal,2,FALSE))","v":""},null,null,null,null,{"$error":"#VALUE!"},{"$error":"#VALUE!"},{"$error":"#VALUE!"}]
[null,null,null,null,null,null,null,null,null,null,null,null,null,null,null,null,null,null,80,{"$f":"VLOOKUP($S81,Schema,Werk1!$Q$2,FALSE)","v":{"$error":"#VALUE!"}},{"$f":"VLOOKUP($S81,Schema,Werk1!$R$2,FALSE)","v":{"$error":"#VALUE!"}},{"$error":"#VALUE!"},{"$f":"COUNTIF(Uitslagen1!$C$2:$C$191,$V81&\"*\")","v":0},{"$f":"VLOOKUP($V81,Uitslagen1!$C$2:$T$191,17,FALSE)","v":{"$error":"#VALUE!"}},{"$f":"VLOOKUP($V81,Uitslagen1!$C$2:$T$191,18,FALSE)","v":{"$error":"#VALUE!"}},{"$f":"IF(W81=0,\"\",VLOOKUP(VLOOKUP($V81,Uitslagen1!$C$2:$X$191,22,FALSE),Uitslagtotaal,2,FALSE))","v":""},null,null,null,null,{"$error":"#VALUE!"},{"$error":"#VALUE!"},{"$error":"#VALUE!"}]
[null,null,null,null,null,null,null,null,null,null,null,null,null,null,null,null,null,null,81,{"$f":"VLOOKUP($S82,Schema,Werk1!$Q$2,FALSE)","v":{"$error":"#VALUE!"}},{"$f":"VLOOKUP($S82,Schema,Werk1!$R$2,FALSE)","v":{"$error":"#VALUE!"}},{"$error":"#VALUE!"},{"$f":"COUNTIF(Uitslagen1!$C$2:$C$191,$V82&\"*\")","v":0},{"$f":"VLOOKUP($V82,Uitslagen1!$C$2:$T$191,17,FALSE)","v":{"$error":"#VALUE!"}},{"$f":"VLOOKUP($V82,Uitslagen1!$C$2:$T$191,18,FALSE)","v":{"$error":"#VALUE!"}},{"$f":"IF(W82=0,\"\",VLOOKUP(VLOOKUP($V82,Uitslagen1!$C$2:$X$191,22,FALSE),Uitslagtotaal,2,FALSE))","v":""},null,null,null,null,{"$error":"#VALUE!"},{"$error":"#VALUE!"},{"$error":"#VALUE!"}]
[null,null,null,null,null,null,null,null,null,null,null,null,null,null,null,null,null,null,82,{"$f":"VLOOKUP($S83,Schema,Werk1!$Q$2,FALSE)","v":{"$error":"#VALUE!"}},{"$f":"VLOOKUP($S83,Schema,Werk1!$R$2,FALSE)","v":{"$error":"#VALUE!"}},{"$error":"#VALUE!"},{"$f":"COUNTIF(Uitslagen1!$C$2:$C$191,$V83&\"*\")","v":0},{"$f":"VLOOKUP($V83,Uitslagen1!$C$2:$T$191,17,FALSE)","v":{"$error":"#VALUE!"}},{"$f":"VLOOKUP($V83,Uitslagen1!$C$2:$T$191,18,FALSE)","v":{"$error":"#VALUE!"}},{"$f":"IF(W83=0,\"\",VLOOKUP(VLOOKUP($V83,Uitslagen1!$C$2:$X$191,22,FALSE),Uitslagtotaal,2,FALSE))","v":""},null,null,null,null,{"$error":"#VALUE!"},{"$error":"#VALUE!"},{"$error":"#VALUE!"}]
[null,null,null,null,null,null,null,null,null,null,null,null,null,null,null,null,null,null,83,{"$f":"VLOOKUP($S84,Schema,Werk1!$Q$2,FALSE)","v":{"$error":"#VALUE!"}},{"$f":"VLOOKUP($S84,Schema,Werk1!$R$2,FALSE)","v":{"$error":"#VALUE!"}},{"$error":"#VALUE!"},{"$f":"COUNTIF(Uitslagen1!$C$2:$C$191,$V84&\"*\")","v":0},{"$f":"VLOOKUP($V84,Uitslagen1!$C$2:$T$191,17,FALSE)","v":{"$error":"#VALUE!"}},{"$f":"VLOOKUP($V84,Uitslagen1!$C$2:$T$191,18,FALSE)","v":{"$error":"#VALUE!"}},{"$f":"IF(W84=0,\"\",VLOOKUP(VLOOKUP($V84,Uitslagen1!$C$2:$X$191,22,FALSE),Uitslagtotaal,2,FALSE))","v":""},null,null,null,null,{"$error":"#VALUE!"},{"$error":"#VALUE!"},{"$error":"#VALUE!"}]
[null,null,null,null,null,null,null,null,null,null,null,null,null,null,null,null,null,null,84,{"$f":"VLOOKUP($S85,Schema,Werk1!$Q$2,FALSE)","v":{"$error":"#VALUE!"}},{"$f":"VLOOKUP($S85,Schema,Werk1!$R$2,FALSE)","v":{"$error":"#VALUE!"}},{"$error":"#VALUE!"},{"$f":"COUNTIF(Uitslagen1!$C$2:$C$191,$V85&\"*\")","v":0},{"$f":"VLOOKUP($V85,Uitslagen1!$C$2:$T$191,17,FALSE)","v":{"$error":"#VALUE!"}},{"$f":"VLOOKUP($V85,Uitslagen1!$C$2:$T$191,18,FALSE)","v":{"$error":"#VALUE!"}},{"$f":"IF(W85=0,\"\",VLOOKUP(VLOOKUP($V85,Uitslagen1!$C$2:$X$191,22,FALSE),Uitslagtotaal,2,FALSE))","v":""},null,null,null,null,{"$error":"#VALUE!"},{"$error":"#VALUE!"},{"$error":"#VALUE!"}]
[null,null,null,null,null,null,null,null,null,null,null,null,null,null,null,null,null,null,85,{"$f":"VLOOKUP($S86,Schema,Werk1!$Q$2,FALSE)","v":{"$error":"#VALUE!"}},{"$f":"VLOOKUP($S86,Schema,Werk1!$R$2,FALSE)","v":{"$error":"#VALUE!"}},{"$error":"#VALUE!"},{"$f":"COUNTIF(Uitslagen1!$C$2:$C$191,$V86&\"*\")","v":0},{"$f":"VLOOKUP($V86,Uitslagen1!$C$2:$T$191,17,FALSE)","v":{"$error":"#VALUE!"}},{"$f":"VLOOKUP($V86,Uitslagen1!$C$2:$T$191,18,FALSE)","v":{"$error":"#VALUE!"}},{"$f":"IF(W86=0,\"\",VLOOKUP(VLOOKUP($V86,Uitslagen1!$C$2:$X$191,22,FALSE),Uitslagtotaal,2,FALSE))","v":""},null,null,null,null,{"$error":"#VALUE!"},{"$error":"#VALUE!"},{"$error":"#VALUE!"}]
[null,null,null,null,null,null,null,null,null,null,null,null,null,null,null,null,null,null,86,{"$f":"VLOOKUP($S87,Schema,Werk1!$Q$2,FALSE)","v":{"$error":"#VALUE!"}},{"$f":"VLOOKUP($S87,Schema,Werk1!$R$2,FALSE)","v":{"$error":"#VALUE!"}},{"$error":"#VALUE!"},{"$f":"COUNTIF(Uitslagen1!$C$2:$C$191,$V87&\"*\")","v":0},{"$f":"VLOOKUP($V87,Uitslagen1!$C$2:$T$191,17,FALSE)","v":{"$error":"#VALUE!"}},{"$f":"VLOOKUP($V87,Uitslagen1!$C$2:$T$191,18,FALSE)","v":{"$error":"#VALUE!"}},{"$f":"IF(W87=0,\"\",VLOOKUP(VLOOKUP($V87,Uitslagen1!$C$2:$X$191,22,FALSE),Uitslagtotaal,2,FALSE))","v":""},null,null,null,null,{"$error":"#VALUE!"},{"$error":"#VALUE!"},{"$error":"#VALUE!"}]
[null,null,null,null,null,null,null,null,null,null,null,null,null,null,null,null,null,null,87,{"$f":"VLOOKUP($S88,Schema,Werk1!$Q$2,FALSE)","v":{"$error":"#VALUE!"}},{"$f":"VLOOKUP($S88,Schema,Werk1!$R$2,FALSE)","v":{"$error":"#VALUE!"}},{"$error":"#VALUE!"},{"$f":"COUNTIF(Uitslagen1!$C$2:$C$191,$V88&\"*\")","v":0},{"$f":"VLOOKUP($V88,Uitslagen1!$C$2:$T$191,17,FALSE)","v":{"$error":"#VALUE!"}},{"$f":"VLOOKUP($V88,Uitslagen1!$C$2:$T$191,18,FALSE)","v":{"$error":"#VALUE!"}},{"$f":"IF(W88=0,\"\",VLOOKUP(VLOOKUP($V88,Uitslagen1!$C$2:$X$191,22,FALSE),Uitslagtotaal,2,FALSE))","v":""},null,null,null,null,{"$error":"#VALUE!"},{"$error":"#VALUE!"},{"$error":"#VALUE!"}]
[null,null,null,null,null,null,null,null,null,null,null,null,null,null,null,null,null,null,88,{"$f":"VLOOKUP($S89,Schema,Werk1!$Q$2,FALSE)","v":{"$error":"#VALUE!"}},{"$f":"VLOOKUP($S89,Schema,Werk1!$R$2,FALSE)","v":{"$error":"#VALUE!"}},{"$error":"#VALUE!"},{"$f":"COUNTIF(Uitslagen1!$C$2:$C$191,$V89&\"*\")","v":0},{"$f":"VLOOKUP($V89,Uitslagen1!$C$2:$T$191,17,FALSE)","v":{"$error":"#VALUE!"}},{"$f":"VLOOKUP($V89,Uitslagen1!$C$2:$T$191,18,FALSE)","v":{"$error":"#VALUE!"}},{"$f":"IF(W89=0,\"\",VLOOKUP(VLOOKUP($V89,Uitslagen1!$C$2:$X$191,22,FALSE),Uitslagtotaal,2,FALSE))","v":""},null,null,null,null,{"$error":"#VALUE!"},{"$error":"#VALUE!"},{"$error":"#VALUE!"}]
[null,null,null,null,null,null,null,null,null,null,null,null,null,null,null,null,null,null,89,{"$f":"VLOOKUP($S90,Schema,Werk1!$Q$2,FALSE)","v":{"$error":"#VALUE!"}},{"$f":"VLOOKUP($S90,Schema,Werk1!$R$2,FALSE)","v":{"$error":"#VALUE!"}},{"$error":"#VALUE!"},{"$f":"COUNTIF(Uitslagen1!$C$2:$C$191,$V90&\"*\")","v":0},{"$f":"VLOOKUP($V90,Uitslagen1!$C$2:$T$191,17,FALSE)","v":{"$error":"#VALUE!"}},{"$f":"VLOOKUP($V90,Uitslagen1!$C$2:$T$191,18,FALSE)","v":{"$error":"#VALUE!"}},{"$f":"IF(W90=0,\"\",VLOOKUP(VLOOKUP($V90,Uitslagen1!$C$2:$X$191,22,FALSE),Uitslagtotaal,2,FALSE))","v":""},null,null,null,null,{"$error":"#VALUE!"},{"$error":"#VALUE!"},{"$error":"#VALUE!"}]
[null,null,null,null,null,null,null,null,null,null,null,null,null,null,null,null,null,null,90,{"$f":"VLOOKUP($S91,Schema,Werk1!$Q$2,FALSE)","v":{"$error":"#VALUE!"}},{"$f":"VLOOKUP($S91,Schema,Werk1!$R$2,FALSE)","v":{"$error":"#VALUE!"}},{"$error":"#VALUE!"},{"$f":"COUNTIF(Uitslagen1!$C$2:$C$191,$V91&\"*\")","v":0},{"$f":"VLOOKUP($V91,Uitslagen1!$C$2:$T$191,17,FALSE)","v":{"$error":"#VALUE!"}},{"$f":"VLOOKUP($V91,Uitslagen1!$C$2:$T$191,18,FALSE)","v":{"$error":"#VALUE!"}},{"$f":"IF(W91=0,\"\",VLOOKUP(VLOOKUP($V91,Uitslagen1!$C$2:$X$191,22,FALSE),Uitslagtotaal,2,FALSE))","v":""},null,null,null,null,{"$error":"#VALUE!"},{"$error":"#VALUE!"},{"$error":"#VALUE!"}]
[null,null,null,null,null,null,null,null,null,null,null,null,null,null,null,null,null,null,91,{"$f":"VLOOKUP($S92,Schema,Werk1!$Q$2,FALSE)","v":{"$error":"#VALUE!"}},{"$f":"VLOOKUP($S92,Schema,Werk1!$R$2,FALSE)","v":{"$error":"#VALUE!"}},{"$error":"#VALUE!"},{"$f":"COUNTIF(Uitslagen1!$C$2:$C$191,$V92&\"*\")","v":0},{"$f":"VLOOKUP($V92,Uitslagen1!$C$2:$T$191,17,FALSE)","v":{"$error":"#VALUE!"}},{"$f":"VLOOKUP($V92,Uitslagen1!$C$2:$T$191,18,FALSE)","v":{"$error":"#VALUE!"}},{"$f":"IF(W92=0,\"\",VLOOKUP(VLOOKUP($V92,Uitslagen1!$C$2:$X$191,22,FALSE),Uitslagtotaal,2,FALSE))","v":""},null,null,null,null,{"$error":"#VALUE!"},{"$error":"#VALUE!"},{"$error":"#VALUE!"}]
[null,null,null,null,null,null,null,null,null,null,null,null,null,null,null,null,null,null,92,{"$f":"VLOOKUP($S93,Schema,Werk1!$Q$2,FALSE)","v":{"$error":"#VALUE!"}},{"$f":"VLOOKUP($S93,Schema,Werk1!$R$2,FALSE)","v":{"$error":"#VALUE!"}},{"$error":"#VALUE!"},{"$f":"COUNTIF(Uitslagen1!$C$2:$C$191,$V93&\"*\")","v":0},{"$f":"VLOOKUP($V93,Uitslagen1!$C$2:$T$191,17,FALSE)","v":{"$error":"#VALUE!"}},{"$f":"VLOOKUP($V93,Uitslagen1!$C$2:$T$191,18,FALSE)","v":{"$error":"#VALUE!"}},{"$f":"IF(W93=0,\"\",VLOOKUP(VLOOKUP($V93,Uitslagen1!$C$2:$X$191,22,FALSE),Uitslagtotaal,2,FALSE))","v":""},null,null,null,null,{"$error":"#VALUE!"},{"$error":"#VALUE!"},{"$error":"#VALUE!"}]
[null,null,null,null,null,null,null,null,null,null,null,null,null,null,null,null,null,null,93,{"$f":"VLOOKUP($S94,Schema,Werk1!$Q$2,FALSE)","v":{"$error":"#VALUE!"}},{"$f":"VLOOKUP($S94,Schema,Werk1!$R$2,FALSE)","v":{"$error":"#VALUE!"}},{"$error":"#VALUE!"},{"$f":"COUNTIF(Uitslagen1!$C$2:$C$191,$V94&\"*\")","v":0},{"$f":"VLOOKUP($V94,Uitslagen1!$C$2:$T$191,17,FALSE)","v":{"$error":"#VALUE!"}},{"$f":"VLOOKUP($V94,Uitslagen1!$C$2:$T$191,18,FALSE)","v":{"$error":"#VALUE!"}},{"$f":"IF(W94=0,\"\",VLOOKUP(VLOOKUP($V94,Uitslagen1!$C$2:$X$191,22,FALSE),Uitslagtotaal,2,FALSE))","v":""},null,null,null,null,{"$error":"#VALUE!"},{"$error":"#VALUE!"},{"$error":"#VALUE!"}]
[null,null,null,null,null,null,null,null,null,null,null,null,null,null,null,null,null,null,94,{"$f":"VLOOKUP($S95,Schema,Werk1!$Q$2,FALSE)","v":{"$error":"#VALUE!"}},{"$f":"VLOOKUP($S95,Schema,Werk1!$R$2,FALSE)","v":{"$error":"#VALUE!"}},{"$error":"#VALUE!"},{"$f":"COUNTIF(Uitslagen1!$C$2:$C$191,$V95&\"*\")","v":0},{"$f":"VLOOKUP($V95,Uitslagen1!$C$2:$T$191,17,FALSE)","v":{"$error":"#VALUE!"}},{"$f":"VLOOKUP($V95,Uitslagen1!$C$2:$T$191,18,FALSE)","v":{"$error":"#VALUE!"}},{"$f":"IF(W95=0,\"\",VLOOKUP(VLOOKUP($V95,Uitslagen1!$C$2:$X$191,22,FALSE),Uitslagtotaal,2,FALSE))","v":""},null,null,null,null,{"$error":"#VALUE!"},{"$error":"#VALUE!"},{"$error":"#VALUE!"}]
[null,null,null,null,null,null,null,null,null,null,null,null,null,null,null,null,null,null,95,{"$f":"VLOOKUP($S96,Schema,Werk1!$Q$2,FALSE)","v":{"$error":"#VALUE!"}},{"$f":"VLOOKUP($S96,Schema,Werk1!$R$2,FALSE)","v":{"$error":"#VALUE!"}},{"$error":"#VALUE!"},{"$f":"COUNTIF(Uitslagen1!$C$2:$C$191,$V96&\"*\")","v":0},{"$f":"VLOOKUP($V96,Uitslagen1!$C$2:$T$191,17,FALSE)","v":{"$error":"#VALUE!"}},{"$f":"VLOOKUP($V96,Uitslagen1!$C$2:$T$191,18,FALSE)","v":{"$error":"#VALUE!"}},{"$f":"IF(W96=0,\"\",VLOOKUP(VLOOKUP($V96,Uitslagen1!$C$2:$X$191,22,FALSE),Uitslagtotaal,2,FALSE))","v":""},null,null,null,null,{"$error":"#VALUE!"},{"$error":"#VALUE!"},{"$error":"#VALUE!"}]
[null,null,null,null,null,null,null,null,null,null,null,null,null,null,null,null,null,null,96,{"$f":"VLOOKUP($S97,Schema,Werk1!$Q$2,FALSE)","v":{"$error":"#VALUE!"}},{"$f":"VLOOKUP($S97,Schema,Werk1!$R$2,FALSE)","v":{"$error":"#VALUE!"}},{"$error":"#VALUE!"},{"$f":"COUNTIF(Uitslagen1!$C$2:$C$191,$V97&\"*\")","v":0},{"$f":"VLOOKUP($V97,Uitslagen1!$C$2:$T$191,17,FALSE)","v":{"$error":"#VALUE!"}},{"$f":"VLOOKUP($V97,Uitslagen1!$C$2:$T$191,18,FALSE)","v":{"$error":"#VALUE!"}},{"$f":"IF(W97=0,\"\",VLOOKUP(VLOOKUP($V97,Uitslagen1!$C$2:$X$191,22,FALSE),Uitslagtotaal,2,FALSE))","v":""},null,null,null,null,{"$error":"#VALUE!"},{"$error":"#VALUE!"},{"$error":"#VALUE!"}]
[null,null,null,null,null,null,null,null,null,null,null,null,null,null,null,null,null,null,97,{"$f":"VLOOKUP($S98,Schema,Werk1!$Q$2,FALSE)","v":{"$error":"#VALUE!"}},{"$f":"VLOOKUP($S98,Schema,Werk1!$R$2,FALSE)","v":{"$error":"#VALUE!"}},{"$error":"#VALUE!"},{"$f":"COUNTIF(Uitslagen1!$C$2:$C$191,$V98&\"*\")","v":0},{"$f":"VLOOKUP($V98,Uitslagen1!$C$2:$T$191,17,FALSE)","v":{"$error":"#VALUE!"}},{"$f":"VLOOKUP($V98,Uitslagen1!$C$2:$T$191,18,FALSE)","v":{"$error":"#VALUE!"}},{"$f":"IF(W98=0,\"\",VLOOKUP(VLOOKUP($V98,Uitslagen1!$C$2:$X$191,22,FALSE),Uitslagtotaal,2,FALSE))","v":""},null,null,null,null,{"$error":"#VALUE!"},{"$error":"#VALUE!"},{"$error":"#VALUE!"}]
[null,null,null,null,null,null,null,null,null,null,null,null,null,null,null,null,null,null,98,{"$f":"VLOOKUP($S99,Schema,Werk1!$Q$2,FALSE)","v":{"$error":"#VALUE!"}},{"$f":"VLOOKUP($S99,Schema,Werk1!$R$2,FALSE)","v":{"$error":"#VALUE!"}},{"$error":"#VALUE!"},{"$f":"COUNTIF(Uitslagen1!$C$2:$C$191,$V99&\"*\")","v":0},{"$f":"VLOOKUP($V99,Uitslagen1!$C$2:$T$191,17,FALSE)","v":{"$error":"#VALUE!"}},{"$f":"VLOOKUP($V99,Uitslagen1!$C$2:$T$191,18,FALSE)","v":{"$error":"#VALUE!"}},{"$f":"IF(W99=0,\"\",VLOOKUP(VLOOKUP($V99,Uitslagen1!$C$2:$X$191,22,FALSE),Uitslagtotaal,2,FALSE))","v":""},null,null,null,null,{"$error":"#VALUE!"},{"$error":"#VALUE!"},{"$error":"#VALUE!"}]
[null,null,null,null,null,null,null,null,null,null,null,null,null,null,null,null,null,null,99,{"$f":"VLOOKUP($S100,Schema,Werk1!$Q$2,FALSE)","v":{"$error":"#VALUE!"}},{"$f":"VLOOKUP($S100,Schema,Werk1!$R$2,FALSE)","v":{"$error":"#VALUE!"}},{"$error":"#VALUE!"},{"$f":"COUNTIF(Uitslagen1!$C$2:$C$191,$V100&\"*\")","v":0},{"$f":"VLOOKUP($V100,Uitslagen1!$C$2:$T$191,17,FALSE)","v":{"$error":"#VALUE!"}},{"$f":"VLOOKUP($V100,Uitslagen1!$C$2:$T$191,18,FALSE)","v":{"$error":"#VALUE!"}},{"$f":"IF(W100=0,\"\",VLOOKUP(VLOOKUP($V100,Uitslagen1!$C$2:$X$191,22,FALSE),Uitslagtotaal,2,FALSE))","v":""},null,null,null,null,{"$error":"#VALUE!"},{"$error":"#VALUE!"},{"$error":"#VALUE!"}]
[null,null,null,null,null,null,null,null,null,null,null,null,null,null,null,null,null,null,100,{"$f":"VLOOKUP($S101,Schema,Werk1!$Q$2,FALSE)","v":{"$error":"#VALUE!"}},{"$f":"VLOOKUP($S101,Schema,Werk1!$R$2,FALSE)","v":{"$error":"#VALUE!"}},{"$error":"#VALUE!"},{"$f":"COUNTIF(Uitslagen1!$C$2:$C$191,$V101&\"*\")","v":0},{"$f":"VLOOKUP($V101,Uitslagen1!$C$2:$T$191,17,FALSE)","v":{"$error":"#VALUE!"}},{"$f":"VLOOKUP($V101,Uitslagen1!$C$2:$T$191,18,FALSE)","v":{"$error":"#VALUE!"}},{"$f":"IF(W101=0,\"\",VLOOKUP(VLOOKUP($V101,Uitslagen1!$C$2:$X$191,22,FALSE),Uitslagtotaal,2,FALSE))","v":""},null,null,null,null,{"$error":"#VALUE!"},{"$error":"#VALUE!"},{"$error":"#VALUE!"}]
[null,null,null,null,null,null,null,null,null,null,null,null,null,null,null,null,null,null,101,{"$f":"VLOOKUP($S102,Schema,Werk1!$Q$2,FALSE)","v":{"$error":"#VALUE!"}},{"$f":"VLOOKUP($S102,Schema,Werk1!$R$2,FALSE)","v":{"$error":"#VALUE!"}},{"$error":"#VALUE!"},{"$f":"COUNTIF(Uitslagen1!$C$2:$C$191,$V102&\"*\")","v":0},{"$f":"VLOOKUP($V102,Uitslagen1!$C$2:$T$191,17,FALSE)","v":{"$error":"#VALUE!"}},{"$f":"VLOOKUP($V102,Uitslagen1!$C$2:$T$191,18,FALSE)","v":{"$error":"#VALUE!"}},{"$f":"IF(W102=0,\"\",VLOOKUP(VLOOKUP($V102,Uitslagen1!$C$2:$X$191,22,FALSE),Uitslagtotaal,2,FALSE))","v":""},null,null,null,null,{"$error":"#VALUE!"},{"$error":"#VALUE!"},{"$error":"#VALUE!"}]
[null,null,null,null,null,null,null,null,null,null,null,null,null,null,null,null,null,null,102,{"$f":"VLOOKUP($S103,Schema,Werk1!$Q$2,FALSE)","v":{"$error":"#VALUE!"}},{"$f":"VLOOKUP($S103,Schema,Werk1!$R$2,FALSE)","v":{"$error":"#VALUE!"}},{"$error":"#VALUE!"},{"$f":"COUNTIF(Uitslagen1!$C$2:$C$191,$V103&\"*\")","v":0},{"$f":"VLOOKUP($V103,Uitslagen1!$C$2:$T$191,17,FALSE)","v":{"$error":"#VALUE!"}},{"$f":"VLOOKUP($V103,Uitslagen1!$C$2:$T$191,18,FALSE)","v":{"$error":"#VALUE!"}},{"$f":"IF(W103=0,\"\",VLOOKUP(VLOOKUP($V103,Uitslagen1!$C$2:$X$191,22,FALSE),Uitslagtotaal,2,FALSE))","v":""},null,null,null,null,{"$error":"#VALUE!"},{"$error":"#VALUE!"},{"$error":"#VALUE!"}]
[null,null,null,null,null,null,null,null,null,null,null,null,null,null,null,null,null,null,103,{"$f":"VLOOKUP($S104,Schema,Werk1!$Q$2,FALSE)","v":{"$error":"#VALUE!"}},{"$f":"VLOOKUP($S104,Schema,Werk1!$R$2,FALSE)","v":{"$error":"#VALUE!"}},{"$error":"#VALUE!"},{"$f":"COUNTIF(Uitslagen1!$C$2:$C$191,$V104&\"*\")","v":0},{"$f":"VLOOKUP($V104,Uitslagen1!$C$2:$T$191,17,FALSE)","v":{"$error":"#VALUE!"}},{"$f":"VLOOKUP($V104,Uitslagen1!$C$2:$T$191,18,FALSE)","v":{"$error":"#VALUE!"}},{"$f":"IF(W104=0,\"\",VLOOKUP(VLOOKUP($V104,Uitslagen1!$C$2:$X$191,22,FALSE),Uitslagtotaal,2,FALSE))","v":""},null,null,null,null,{"$error":"#VALUE!"},{"$error":"#VALUE!"},{"$error":"#VALUE!"}]
[null,null,null,null,null,null,null,null,null,null,null,null,null,null,null,null,null,null,104,{"$f":"VLOOKUP($S105,Schema,Werk1!$Q$2,FALSE)","v":{"$error":"#VALUE!"}},{"$f":"VLOOKUP($S105,Schema,Werk1!$R$2,FALSE)","v":{"$error":"#VALUE!"}},{"$error":"#VALUE!"},{"$f":"COUNTIF(Uitslagen1!$C$2:$C$191,$V105&\"*\")","v":0},{"$f":"VLOOKUP($V105,Uitslagen1!$C$2:$T$191,17,FALSE)","v":{"$error":"#VALUE!"}},{"$f":"VLOOKUP($V105,Uitslagen1!$C$2:$T$191,18,FALSE)","v":{"$error":"#VALUE!"}},{"$f":"IF(W105=0,\"\",VLOOKUP(VLOOKUP($V105,Uitslagen1!$C$2:$X$191,22,FALSE),Uitslagtotaal,2,FALSE))","v":""},null,null,null,null,{"$error":"#VALUE!"},{"$error":"#VALUE!"},{"$error":"#VALUE!"}]
[null,null,null,null,null,null,null,null,null,null,null,null,null,null,null,null,null,null,105,{"$f":"VLOOKUP($S106,Schema,Werk1!$Q$2,FALSE)","v":{"$error":"#VALUE!"}},{"$f":"VLOOKUP($S106,Schema,Werk1!$R$2,FALSE)","v":{"$error":"#VALUE!"}},{"$error":"#VALUE!"},{"$f":"COUNTIF(Uitslagen1!$C$2:$C$191,$V106&\"*\")","v":0},{"$f":"VLOOKUP($V106,Uitslagen1!$C$2:$T$191,17,FALSE)","v":{"$error":"#VALUE!"}},{"$f":"VLOOKUP($V106,Uitslagen1!$C$2:$T$191,18,FALSE)","v":{"$error":"#VALUE!"}},{"$f":"IF(W106=0,\"\",VLOOKUP(VLOOKUP($V106,Uitslagen1!$C$2:$X$191,22,FALSE),Uitslagtotaal,2,FALSE))","v":""},null,null,null,null,{"$error":"#VALUE!"},{"$error":"#VALUE!"},{"$error":"#VALUE!"}]
[null,null,null,null,null,null,null,null,null,null,null,null,null,null,null,null,null,null,106,{"$f":"VLOOKUP($S107,Schema,Werk1!$Q$2,FALSE)","v":{"$error":"#VALUE!"}},{"$f":"VLOOKUP($S107,Schema,Werk1!$R$2,FALSE)","v":{"$error":"#VALUE!"}},{"$error":"#VALUE!"},{"$f":"COUNTIF(Uitslagen1!$C$2:$C$191,$V107&\"*\")","v":0},{"$f":"VLOOKUP($V107,Uitslagen1!$C$2:$T$191,17,FALSE)","v":{"$error":"#VALUE!"}},{"$f":"VLOOKUP($V107,Uitslagen1!$C$2:$T$191,18,FALSE)","v":{"$error":"#VALUE!"}},{"$f":"IF(W107=0,\"\",VLOOKUP(VLOOKUP($V107,Uitslagen1!$C$2:$X$191,22,FALSE),Uitslagtotaal,2,FALSE))","v":""},null,null,null,null,{"$error":"#VALUE!"},{"$error":"#VALUE!"},{"$error":"#VALUE!"}]
[null,null,null,null,null,null,null,null,null,null,null,null,null,null,null,null,null,null,107,{"$f":"VLOOKUP($S108,Schema,Werk1!$Q$2,FALSE)","v":{"$error":"#VALUE!"}},{"$f":"VLOOKUP($S108,Schema,Werk1!$R$2,FALSE)","v":{"$error":"#VALUE!"}},{"$error":"#VALUE!"},{"$f":"COUNTIF(Uitslagen1!$C$2:$C$191,$V108&\"*\")","v":0},{"$f":"VLOOKUP($V108,Uitslagen1!$C$2:$T$191,17,FALSE)","v":{"$error":"#VALUE!"}},{"$f":"VLOOKUP($V108,Uitslagen1!$C$2:$T$191,18,FALSE)","v":{"$error":"#VALUE!"}},{"$f":"IF(W108=0,\"\",VLOOKUP(VLOOKUP($V108,Uitslagen1!$C$2:$X$191,22,FALSE),Uitslagtotaal,2,FALSE))","v":""},null,null,null,null,{"$error":"#VALUE!"},{"$error":"#VALUE!"},{"$error":"#VALUE!"}]
[null,null,null,null,null,null,null,null,null,null,null,null,null,null,null,null,null,null,108,{"$f":"VLOOKUP($S109,Schema,Werk1!$Q$2,FALSE)","v":{"$error":"#VALUE!"}},{"$f":"VLOOKUP($S109,Schema,Werk1!$R$2,FALSE)","v":{"$error":"#VALUE!"}},{"$error":"#VALUE!"},{"$f":"COUNTIF(Uitslagen1!$C$2:$C$191,$V109&\"*\")","v":0},{"$f":"VLOOKUP($V109,Uitslagen1!$C$2:$T$191,17,FALSE)","v":{"$error":"#VALUE!"}},{"$f":"VLOOKUP($V109,Uitslagen1!$C$2:$T$191,18,FALSE)","v":{"$error":"#VALUE!"}},{"$f":"IF(W109=0,\"\",VLOOKUP(VLOOKUP($V109,Uitslagen1!$C$2:$X$191,22,FALSE),Uitslagtotaal,2,FALSE))","v":""},null,null,null,null,{"$error":"#VALUE!"},{"$error":"#VALUE!"},{"$error":"#VALUE!"}]
[null,null,null,null,null,null,null,null,null,null,null,null,null,null,null,null,null,null,{"$f":"S109+1","v":109},{"$f":"VLOOKUP($S110,Schema,Werk1!$Q$2,FALSE)","v":{"$error":"#VALUE!"}},{"$f":"VLOOKUP($S110,Schema,Werk1!$R$2,FALSE)","v":{"$error":"#VALUE!"}},{"$f":"CONCATENATE(T110,\"-\",U110)","v":{"$error":"#VALUE!"}},{"$f":"COUNTIF(Uitslagen1!$C$2:$C$191,$V110&\"*\")","v":0},{"$f":"VLOOKUP($V110,Uitslagen1!$C$2:$T$191,17,FALSE)","v":{"$error":"#VALUE!"}},{"$f":"VLOOKUP($V110,Uitslagen1!$C$2:$T$191,18,FALSE)","v":{"$error":"#VALUE!"}},{"$f":"IF(W110=0,\"\",VLOOKUP(VLOOKUP($V110,Uitslagen1!$C$2:$X$191,22,FALSE),Uitslagtotaal,2,FALSE))","v":""},null,null,null,null,{"$error":"#VALUE!"},{"$error":"#VALUE!"},{"$error":"#VALUE!"}]
[null,null,null,null,null,null,null,null,null,null,null,null,null,null,null,null,null,null,110,{"$f":"VLOOKUP($S111,Schema,Werk1!$Q$2,FALSE)","v":{"$error":"#VALUE!"}},{"$f":"VLOOKUP($S111,Schema,Werk1!$R$2,FALSE)","v":{"$error":"#VALUE!"}},{"$error":"#VALUE!"},{"$f":"COUNTIF(Uitslagen1!$C$2:$C$191,$V111&\"*\")","v":0},{"$f":"VLOOKUP($V111,Uitslagen1!$C$2:$T$191,17,FALSE)","v":{"$error":"#VALUE!"}},{"$f":"VLOOKUP($V111,Uitslagen1!$C$2:$T$191,18,FALSE)","v":{"$error":"#VALUE!"}},{"$f":"IF(W111=0,\"\",VLOOKUP(VLOOKUP($V111,Uitslagen1!$C$2:$X$191,22,FALSE),Uitslagtotaal,2,FALSE))","v":""},null,null,null,null,{"$error":"#VALUE!"},{"$error":"#VALUE!"},{"$error":"#VALUE!"}]
[null,null,null,null,null,null,null,null,null,null,null,null,null,null,null,null,null,null,111,{"$f":"VLOOKUP($S112,Schema,Werk1!$Q$2,FALSE)","v":{"$error":"#VALUE!"}},{"$f":"VLOOKUP($S112,Schema,Werk1!$R$2,FALSE)","v":{"$error":"#VALUE!"}},{"$error":"#VALUE!"},{"$f":"COUNTIF(Uitslagen1!$C$2:$C$191,$V112&\"*\")","v":0},{"$f":"VLOOKUP($V112,Uitslagen1!$C$2:$T$191,17,FALSE)","v":{"$error":"#VALUE!"}},{"$f":"VLOOKUP($V112,Uitslagen1!$C$2:$T$191,18,FALSE)","v":{"$error":"#VALUE!"}},{"$f":"IF(W112=0,\"\",VLOOKUP(VLOOKUP($V112,Uitslagen1!$C$2:$X$191,22,FALSE),Uitslagtotaal,2,FALSE))","v":""},null,null,null,null,{"$error":"#VALUE!"},{"$error":"#VALUE!"},{"$error":"#VALUE!"}]
[null,null,null,null,null,null,null,null,null,null,null,null,null,null,null,null,null,null,112,{"$f":"VLOOKUP($S113,Schema,Werk1!$Q$2,FALSE)","v":{"$error":"#VALUE!"}},{"$f":"VLOOKUP($S113,Schema,Werk1!$R$2,FALSE)","v":{"$error":"#VALUE!"}},{"$error":"#VALUE!"},{"$f":"COUNTIF(Uitslagen1!$C$2:$C$191,$V113&\"*\")","v":0},{"$f":"VLOOKUP($V113,Uitslagen1!$C$2:$T$191,17,FALSE)","v":{"$error":"#VALUE!"}},{"$f":"VLOOKUP($V113,Uitslagen1!$C$2:$T$191,18,FALSE)","v":{"$error":"#VALUE!"}},{"$f":"IF(W113=0,\"\",VLOOKUP(VLOOKUP($V113,Uitslagen1!$C$2:$X$191,22,FALSE),Uitslagtotaal,2,FALSE))","v":""},null,null,null,null,{"$error":"#VALUE!"},{"$error":"#VALUE!"},{"$error":"#VALUE!"}]
[null,null,null,null,null,null,null,null,null,null,null,null,null,null,null,null,null,null,113,{"$f":"VLOOKUP($S114,Schema,Werk1!$Q$2,FALSE)","v":{"$error":"#VALUE!"}},{"$f":"VLOOKUP($S114,Schema,Werk1!$R$2,FALSE)","v":{"$error":"#VALUE!"}},{"$error":"#VALUE!"},{"$f":"COUNTIF(Uitslagen1!$C$2:$C$191,$V114&\"*\")","v":0},{"$f":"VLOOKUP($V114,Uitslagen1!$C$2:$T$191,17,FALSE)","v":{"$error":"#VALUE!"}},{"$f":"VLOOKUP($V114,Uitslagen1!$C$2:$T$191,18,FALSE)","v":{"$error":"#VALUE!"}},{"$f":"IF(W114=0,\"\",VLOOKUP(VLOOKUP($V114,Uitslagen1!$C$2:$X$191,22,FALSE),Uitslagtotaal,2,FALSE))","v":""},null,null,null,null,{"$error":"#VALUE!"},{"$error":"#VALUE!"},{"$error":"#VALUE!"}]
[null,null,null,null,null,null,null,null,null,null,null,null,null,null,null,null,null,null,114,{"$f":"VLOOKUP($S115,Schema,Werk1!$Q$2,FALSE)","v":{"$error":"#VALUE!"}},{"$f":"VLOOKUP($S115,Schema,Werk1!$R$2,FALSE)","v":{"$error":"#VALUE!"}},{"$error":"#VALUE!"},{"$f":"COUNTIF(Uitslagen1!$C$2:$C$191,$V115&\"*\")","v":0},{"$f":"VLOOKUP($V115,Uitslagen1!$C$2:$T$191,17,FALSE)","v":{"$error":"#VALUE!"}},{"$f":"VLOOKUP($V115,Uitslagen1!$C$2:$T$191,18,FALSE)","v":{"$error":"#VALUE!"}},{"$f":"IF(W115=0,\"\",VLOOKUP(VLOOKUP($V115,Uitslagen1!$C$2:$X$191,22,FALSE),Uitslagtotaal,2,FALSE))","v":""},null,null,null,null,{"$error":"#VALUE!"},{"$error":"#VALUE!"},{"$error":"#VALUE!"}]
[null,null,null,null,null,null,null,null,null,null,null,null,null,null,null,null,null,null,115,{"$f":"VLOOKUP($S116,Schema,Werk1!$Q$2,FALSE)","v":{"$error":"#VALUE!"}},{"$f":"VLOOKUP($S116,Schema,Werk1!$R$2,FALSE)","v":{"$error":"#VALUE!"}},{"$error":"#VALUE!"},{"$f":"COUNTIF(Uitslagen1!$C$2:$C$191,$V116&\"*\")","v":0},{"$f":"VLOOKUP($V116,Uitslagen1!$C$2:$T$191,17,FALSE)","v":{"$error":"#VALUE!"}},{"$f":"VLOOKUP($V116,Uitslagen1!$C$2:$T$191,18,FALSE)","v":{"$error":"#VALUE!"}},{"$f":"IF(W116=0,\"\",VLOOKUP(VLOOKUP($V116,Uitslagen1!$C$2:$X$191,22,FALSE),Uitslagtotaal,2,FALSE))","v":""},null,null,null,null,{"$error":"#VALUE!"},{"$error":"#VALUE!"},{"$error":"#VALUE!"}]
[null,null,null,null,null,null,null,null,null,null,null,null,null,null,null,null,null,null,116,{"$f":"VLOOKUP($S117,Schema,Werk1!$Q$2,FALSE)","v":{"$error":"#VALUE!"}},{"$f":"VLOOKUP($S117,Schema,Werk1!$R$2,FALSE)","v":{"$error":"#VALUE!"}},{"$error":"#VALUE!"},{"$f":"COUNTIF(Uitslagen1!$C$2:$C$191,$V117&\"*\")","v":0},{"$f":"VLOOKUP($V117,Uitslagen1!$C$2:$T$191,17,FALSE)","v":{"$error":"#VALUE!"}},{"$f":"VLOOKUP($V117,Uitslagen1!$C$2:$T$191,18,FALSE)","v":{"$error":"#VALUE!"}},{"$f":"IF(W117=0,\"\",VLOOKUP(VLOOKUP($V117,Uitslagen1!$C$2:$X$191,22,FALSE),Uitslagtotaal,2,FALSE))","v":""},null,null,null,null,{"$error":"#VALUE!"},{"$error":"#VALUE!"},{"$error":"#VALUE!"}]
[null,null,null,null,null,null,null,null,null,null,null,null,null,null,null,null,null,null,117,{"$f":"VLOOKUP($S118,Schema,Werk1!$Q$2,FALSE)","v":{"$error":"#VALUE!"}},{"$f":"VLOOKUP($S118,Schema,Werk1!$R$2,FALSE)","v":{"$error":"#VALUE!"}},{"$error":"#VALUE!"},{"$f":"COUNTIF(Uitslagen1!$C$2:$C$191,$V118&\"*\")","v":0},{"$f":"VLOOKUP($V118,Uitslagen1!$C$2:$T$191,17,FALSE)","v":{"$error":"#VALUE!"}},{"$f":"VLOOKUP($V118,Uitslagen1!$C$2:$T$191,18,FALSE)","v":{"$error":"#VALUE!"}},{"$f":"IF(W118=0,\"\",VLOOKUP(VLOOKUP($V118,Uitslagen1!$C$2:$X$191,22,FALSE),Uitslagtotaal,2,FALSE))","v":""},null,null,null,null,{"$error":"#VALUE!"},{"$error":"#VALUE!"},{"$error":"#VALUE!"}]
[null,null,null,null,null,null,null,null,null,null,null,null,null,null,null,null,null,null,118,{"$f":"VLOOKUP($S119,Schema,Werk1!$Q$2,FALSE)","v":{"$error":"#VALUE!"}},{"$f":"VLOOKUP($S119,Schema,Werk1!$R$2,FALSE)","v":{"$error":"#VALUE!"}},{"$error":"#VALUE!"},{"$f":"COUNTIF(Uitslagen1!$C$2:$C$191,$V119&\"*\")","v":0},{"$f":"VLOOKUP($V119,Uitslagen1!$C$2:$T$191,17,FALSE)","v":{"$error":"#VALUE!"}},{"$f":"VLOOKUP($V119,Uitslagen1!$C$2:$T$191,18,FALSE)","v":{"$error":"#VALUE!"}},{"$f":"IF(W119=0,\"\",VLOOKUP(VLOOKUP($V119,Uitslagen1!$C$2:$X$191,22,FALSE),Uitslagtotaal,2,FALSE))","v":""},null,null,null,null,{"$error":"#VALUE!"},{"$error":"#VALUE!"},{"$error":"#VALUE!"}]
[null,null,null,null,null,null,null,null,null,null,null,null,null,null,null,null,null,null,119,{"$f":"VLOOKUP($S120,Schema,Werk1!$Q$2,FALSE)","v":{"$error":"#VALUE!"}},{"$f":"VLOOKUP($S120,Schema,Werk1!$R$2,FALSE)","v":{"$error":"#VALUE!"}},{"$error":"#VALUE!"},{"$f":"COUNTIF(Uitslagen1!$C$2:$C$191,$V120&\"*\")","v":0},{"$f":"VLOOKUP($V120,Uitslagen1!$C$2:$T$191,17,FALSE)","v":{"$error":"#VALUE!"}},{"$f":"VLOOKUP($V120,Uitslagen1!$C$2:$T$191,18,FALSE)","v":{"$error":"#VALUE!"}},{"$f":"IF(W120=0,\"\",VLOOKUP(VLOOKUP($V120,Uitslagen1!$C$2:$X$191,22,FALSE),Uitslagtotaal,2,FALSE))","v":""},null,null,null,null,{"$error":"#VALUE!"},{"$error":"#VALUE!"},{"$error":"#VALUE!"}]
[null,null,null,null,null,null,null,null,null,null,null,null,null,null,null,null,null,null,120,{"$f":"VLOOKUP($S121,Schema,Werk1!$Q$2,FALSE)","v":{"$error":"#VALUE!"}},{"$f":"VLOOKUP($S121,Schema,Werk1!$R$2,FALSE)","v":{"$error":"#VALUE!"}},{"$error":"#VALUE!"},{"$f":"COUNTIF(Uitslagen1!$C$2:$C$191,$V121&\"*\")","v":0},{"$f":"VLOOKUP($V121,Uitslagen1!$C$2:$T$191,17,FALSE)","v":{"$error":"#VALUE!"}},{"$f":"VLOOKUP($V121,Uitslagen1!$C$2:$T$191,18,FALSE)","v":{"$error":"#VALUE!"}},{"$f":"IF(W121=0,\"\",VLOOKUP(VLOOKUP($V121,Uitslagen1!$C$2:$X$191,22,FALSE),Uitslagtotaal,2,FALSE))","v":""},null,null,null,null,{"$error":"#VALUE!"},{"$error":"#VALUE!"},{"$error":"#VALUE!"}]
[null,null,null,null,null,null,null,null,null,null,null,null,null,null,null,null,null,null,121,{"$f":"VLOOKUP($S122,Schema,Werk1!$Q$2,FALSE)","v":{"$error":"#VALUE!"}},{"$f":"VLOOKUP($S122,Schema,Werk1!$R$2,FALSE)","v":{"$error":"#VALUE!"}},{"$error":"#VALUE!"},{"$f":"COUNTIF(Uitslagen1!$C$2:$C$191,$V122&\"*\")","v":0},{"$f":"VLOOKUP($V122,Uitslagen1!$C$2:$T$191,17,FALSE)","v":{"$error":"#VALUE!"}},{"$f":"VLOOKUP($V122,Uitslagen1!$C$2:$T$191,18,FALSE)","v":{"$error":"#VALUE!"}},{"$f":"IF(W122=0,\"\",VLOOKUP(VLOOKUP($V122,Uitslagen1!$C$2:$X$191,22,FALSE),Uitslagtotaal,2,FALSE))","v":""},null,null,null,null,{"$error":"#VALUE!"},{"$error":"#VALUE!"},{"$error":"#VALUE!"}]
[null,null,null,null,null,null,null,null,null,null,null,null,null,null,null,null,null,null,122,{"$f":"VLOOKUP($S123,Schema,Werk1!$Q$2,FALSE)","v":{"$error":"#VALUE!"}},{"$f":"VLOOKUP($S123,Schema,Werk1!$R$2,FALSE)","v":{"$error":"#VALUE!"}},{"$error":"#VALUE!"},{"$f":"COUNTIF(Uitslagen1!$C$2:$C$191,$V123&\"*\")","v":0},{"$f":"VLOOKUP($V123,Uitslagen1!$C$2:$T$191,17,FALSE)","v":{"$error":"#VALUE!"}},{"$f":"VLOOKUP($V123,Uitslagen1!$C$2:$T$191,18,FALSE)","v":{"$error":"#VALUE!"}},{"$f":"IF(W123=0,\"\",VLOOKUP(VLOOKUP($V123,Uitslagen1!$C$2:$X$191,22,FALSE),Uitslagtotaal,2,FALSE))","v":""},null,null,null,null,{"$error":"#VALUE!"},{"$error":"#VALUE!"},{"$error":"#VALUE!"}]
[null,null,null,null,null,null,null,null,null,null,null,null,null,null,null,null,null,null,123,{"$f":"VLOOKUP($S124,Schema,Werk1!$Q$2,FALSE)","v":{"$error":"#VALUE!"}},{"$f":"VLOOKUP($S124,Schema,Werk1!$R$2,FALSE)","v":{"$error":"#VALUE!"}},{"$error":"#VALUE!"},{"$f":"COUNTIF(Uitslagen1!$C$2:$C$191,$V124&\"*\")","v":0},{"$f":"VLOOKUP($V124,Uitslagen1!$C$2:$T$191,17,FALSE)","v":{"$error":"#VALUE!"}},{"$f":"VLOOKUP($V124,Uitslagen1!$C$2:$T$191,18,FALSE)","v":{"$error":"#VALUE!"}},{"$f":"IF(W124=0,\"\",VLOOKUP(VLOOKUP($V124,Uitslagen1!$C$2:$X$191,22,FALSE),Uitslagtotaal,2,FALSE))","v":""},null,null,null,null,{"$error":"#VALUE!"},{"$error":"#VALUE!"},{"$error":"#VALUE!"}]
[null,null,null,null,null,null,null,null,null,null,null,null,null,null,null,null,null,null,124,{"$f":"VLOOKUP($S125,Schema,Werk1!$Q$2,FALSE)","v":{"$error":"#VALUE!"}},{"$f":"VLOOKUP($S125,Schema,Werk1!$R$2,FALSE)","v":{"$error":"#VALUE!"}},{"$error":"#VALUE!"},{"$f":"COUNTIF(Uitslagen1!$C$2:$C$191,$V125&\"*\")","v":0},{"$f":"VLOOKUP($V125,Uitslagen1!$C$2:$T$191,17,FALSE)","v":{"$error":"#VALUE!"}},{"$f":"VLOOKUP($V125,Uitslagen1!$C$2:$T$191,18,FALSE)","v":{"$error":"#VALUE!"}},{"$f":"IF(W125=0,\"\",VLOOKUP(VLOOKUP($V125,Uitslagen1!$C$2:$X$191,22,FALSE),Uitslagtotaal,2,FALSE))","v":""},null,null,null,null,{"$error":"#VALUE!"},{"$error":"#VALUE!"},{"$error":"#VALUE!"}]
[null,null,null,null,null,null,null,null,null,null,null,null,null,null,null,null,null,null,125,{"$f":"VLOOKUP($S126,Schema,Werk1!$Q$2,FALSE)","v":{"$error":"#VALUE!"}},{"$f":"VLOOKUP($S126,Schema,Werk1!$R$2,FALSE)","v":{"$error":"#VALUE!"}},{"$error":"#VALUE!"},{"$f":"COUNTIF(Uitslagen1!$C$2:$C$191,$V126&\"*\")","v":0},{"$f":"VLOOKUP($V126,Uitslagen1!$C$2:$T$191,17,FALSE)","v":{"$error":"#VALUE!"}},{"$f":"VLOOKUP($V126,Uitslagen1!$C$2:$T$191,18,FALSE)","v":{"$error":"#VALUE!"}},{"$f":"IF(W126=0,\"\",VLOOKUP(VLOOKUP($V126,Uitslagen1!$C$2:$X$191,22,FALSE),Uitslagtotaal,2,FALSE))","v":""},null,null,null,null,{"$error":"#VALUE!"},{"$error":"#VALUE!"},{"$error":"#VALUE!"}]
[null,null,null,null,null,null,null,null,null,null,null,null,null,null,null,null,null,null,126,{"$f":"VLOOKUP($S127,Schema,Werk1!$Q$2,FALSE)","v":{"$error":"#VALUE!"}},{"$f":"VLOOKUP($S127,Schema,Werk1!$R$2,FALSE)","v":{"$error":"#VALUE!"}},{"$error":"#VALUE!"},{"$f":"COUNTIF(Uitslagen1!$C$2:$C$191,$V127&\"*\")","v":0},{"$f":"VLOOKUP($V127,Uitslagen1!$C$2:$T$191,17,FALSE)","v":{"$error":"#VALUE!"}},{"$f":"VLOOKUP($V127,Uitslagen1!$C$2:$T$191,18,FALSE)","v":{"$error":"#VALUE!"}},{"$f":"IF(W127=0,\"\",VLOOKUP(VLOOKUP($V127,Uitslagen1!$C$2:$X$191,22,FALSE),Uitslagtotaal,2,FALSE))","v":""},null,null,null,null,{"$error":"#VALUE!"},{"$error":"#VALUE!"},{"$error":"#VALUE!"}]
[null,null,null,null,null,null,null,null,null,null,null,null,null,null,null,null,null,null,127,{"$f":"VLOOKUP($S128,Schema,Werk1!$Q$2,FALSE)","v":{"$error":"#VALUE!"}},{"$f":"VLOOKUP($S128,Schema,Werk1!$R$2,FALSE)","v":{"$error":"#VALUE!"}},{"$error":"#VALUE!"},{"$f":"COUNTIF(Uitslagen1!$C$2:$C$191,$V128&\"*\")","v":0},{"$f":"VLOOKUP($V128,Uitslagen1!$C$2:$T$191,17,FALSE)","v":{"$error":"#VALUE!"}},{"$f":"VLOOKUP($V128,Uitslagen1!$C$2:$T$191,18,FALSE)","v":{"$error":"#VALUE!"}},{"$f":"IF(W128=0,\"\",VLOOKUP(VLOOKUP($V128,Uitslagen1!$C$2:$X$191,22,FALSE),Uitslagtotaal,2,FALSE))","v":""},null,null,null,null,{"$error":"#VALUE!"},{"$error":"#VALUE!"},{"$error":"#VALUE!"}]
[null,null,null,null,null,null,null,null,null,null,null,null,null,null,null,null,null,null,128,{"$f":"VLOOKUP($S129,Schema,Werk1!$Q$2,FALSE)","v":{"$error":"#VALUE!"}},{"$f":"VLOOKUP($S129,Schema,Werk1!$R$2,FALSE)","v":{"$error":"#VALUE!"}},{"$error":"#VALUE!"},{"$f":"COUNTIF(Uitslagen1!$C$2:$C$191,$V129&\"*\")","v":0},{"$f":"VLOOKUP($V129,Uitslagen1!$C$2:$T$191,17,FALSE)","v":{"$error":"#VALUE!"}},{"$f":"VLOOKUP($V129,Uitslagen1!$C$2:$T$191,18,FALSE)","v":{"$error":"#VALUE!"}},{"$f":"IF(W129=0,\"\",VLOOKUP(VLOOKUP($V129,Uitslagen1!$C$2:$X$191,22,FALSE),Uitslagtotaal,2,FALSE))","v":""},null,null,null,null,{"$error":"#VALUE!"},{"$error":"#VALUE!"},{"$error":"#VALUE!"}]
[null,null,null,null,null,null,null,null,null,null,null,null,null,null,null,null,null,null,129,{"$f":"VLOOKUP($S130,Schema,Werk1!$Q$2,FALSE)","v":{"$error":"#VALUE!"}},{"$f":"VLOOKUP($S130,Schema,Werk1!$R$2,FALSE)","v":{"$error":"#VALUE!"}},{"$error":"#VALUE!"},{"$f":"COUNTIF(Uitslagen1!$C$2:$C$191,$V130&\"*\")","v":0},{"$f":"VLOOKUP($V130,Uitslagen1!$C$2:$T$191,17,FALSE)","v":{"$error":"#VALUE!"}},{"$f":"VLOOKUP($V130,Uitslagen1!$C$2:$T$191,18,FALSE)","v":{"$error":"#VALUE!"}},{"$f":"IF(W130=0,\"\",VLOOKUP(VLOOKUP($V130,Uitslagen1!$C$2:$X$191,22,FALSE),Uitslagtotaal,2,FALSE))","v":""},null,null,null,null,{"$error":"#VALUE!"},{"$error":"#VALUE!"},{"$error":"#VALUE!"}]
[null,null,null,null,null,null,null,null,null,null,null,null,null,null,null,null,null,null,130,{"$f":"VLOOKUP($S131,Schema,Werk1!$Q$2,FALSE)","v":{"$error":"#VALUE!"}},{"$f":"VLOOKUP($S131,Schema,Werk1!$R$2,FALSE)","v":{"$error":"#VALUE!"}},{"$error":"#VALUE!"},{"$f":"COUNTIF(Uitslagen1!$C$2:$C$191,$V131&\"*\")","v":0},{"$f":"VLOOKUP($V131,Uitslagen1!$C$2:$T$191,17,FALSE)","v":{"$error":"#VALUE!"}},{"$f":"VLOOKUP($V131,Uitslagen1!$C$2:$T$191,18,FALSE)","v":{"$error":"#VALUE!"}},{"$f":"IF(W131=0,\"\",VLOOKUP(VLOOKUP($V131,Uitslagen1!$C$2:$X$191,22,FALSE),Uitslagtotaal,2,FALSE))","v":""},null,null,null,null,{"$f":"+V131","v":{"$error":"#VALUE!"}},{"$f":"IF(X131=7,24,23)","v":{"$error":"#VALUE!"}},{"$f":"IF(AF131=24,23,24)","v":{"$error":"#VALUE!"}}]
[null,null,null,null,null,null,null,null,null,null,null,null,null,null,null,null,null,null,131,{"$f":"VLOOKUP($S132,Schema,Werk1!$Q$2,FALSE)","v":{"$error":"#VALUE!"}},{"$f":"VLOOKUP($S132,Schema,Werk1!$R$2,FALSE)","v":{"$error":"#VALUE!"}},{"$error":"#VALUE!"},{"$f":"COUNTIF(Uitslagen1!$C$2:$C$191,$V132&\"*\")","v":0},{"$f":"VLOOKUP($V132,Uitslagen1!$C$2:$T$191,17,FALSE)","v":{"$error":"#VALUE!"}},{"$f":"VLOOKUP($V132,Uitslagen1!$C$2:$T$191,18,FALSE)","v":{"$error":"#VALUE!"}},{"$f":"IF(W132=0,\"\",VLOOKUP(VLOOKUP($V132,Uitslagen1!$C$2:$X$191,22,FALSE),Uitslagtotaal,2,FALSE))","v":""},null,null,null,null,{"$error":"#VALUE!"},{"$error":"#VALUE!"},{"$error":"#VALUE!"}]
[null,null,null,null,null,null,null,null,null,null,null,null,null,null,null,null,null,null,132,{"$f":"VLOOKUP($S133,Schema,Werk1!$Q$2,FALSE)","v":{"$error":"#VALUE!"}},{"$f":"VLOOKUP($S133,Schema,Werk1!$R$2,FALSE)","v":{"$error":"#VALUE!"}},{"$error":"#VALUE!"},{"$f":"COUNTIF(Uitslagen1!$C$2:$C$191,$V133&\"*\")","v":0},{"$f":"VLOOKUP($V133,Uitslagen1!$C$2:$T$191,17,FALSE)","v":{"$error":"#VALUE!"}},{"$f":"VLOOKUP($V133,Uitslagen1!$C$2:$T$191,18,FALSE)","v":{"$error":"#VALUE!"}},{"$f":"IF(W133=0,\"\",VLOOKUP(VLOOKUP($V133,Uitslagen1!$C$2:$X$191,22,FALSE),Uitslagtotaal,2,FALSE))","v":""},null,null,null,null,{"$error":"#VALUE!"},{"$error":"#VALUE!"},{"$error":"#VALUE!"}]
[null,null,null,null,null,null,null,null,null,null,null,null,null,null,null,null,null,null,133,{"$f":"VLOOKUP($S134,Schema,Werk1!$Q$2,FALSE)","v":{"$error":"#VALUE!"}},{"$f":"VLOOKUP($S134,Schema,Werk1!$R$2,FALSE)","v":{"$error":"#VALUE!"}},{"$error":"#VALUE!"},{"$f":"COUNTIF(Uitslagen1!$C$2:$C$191,$V134&\"*\")","v":0},{"$f":"VLOOKUP($V134,Uitslagen1!$C$2:$T$191,17,FALSE)","v":{"$error":"#VALUE!"}},{"$f":"VLOOKUP($V134,Uitslagen1!$C$2:$T$191,18,FALSE)","v":{"$error":"#VALUE!"}},{"$f":"IF(W134=0,\"\",VLOOKUP(VLOOKUP($V134,Uitslagen1!$C$2:$X$191,22,FALSE),Uitslagtotaal,2,FALSE))","v":""},null,null,null,null,{"$error":"#VALUE!"},{"$error":"#VALUE!"},{"$error":"#VALUE!"}]
[null,null,null,null,null,null,null,null,null,null,null,null,null,null,null,null,null,null,134,{"$f":"VLOOKUP($S135,Schema,Werk1!$Q$2,FALSE)","v":{"$error":"#VALUE!"}},{"$f":"VLOOKUP($S135,Schema,Werk1!$R$2,FALSE)","v":{"$error":"#VALUE!"}},{"$error":"#VALUE!"},{"$f":"COUNTIF(Uitslagen1!$C$2:$C$191,$V135&\"*\")","v":0},{"$f":"VLOOKUP($V135,Uitslagen1!$C$2:$T$191,17,FALSE)","v":{"$error":"#VALUE!"}},{"$f":"VLOOKUP($V135,Uitslagen1!$C$2:$T$191,18,FALSE)","v":{"$error":"#VALUE!"}},{"$f":"IF(W135=0,\"\",VLOOKUP(VLOOKUP($V135,Uitslagen1!$C$2:$X$191,22,FALSE),Uitslagtotaal,2,FALSE))","v":""},null,null,null,null,{"$error":"#VALUE!"},{"$error":"#VALUE!"},{"$error":"#VALUE!"}]
[null,null,null,null,null,null,null,null,null,null,null,null,null,null,null,null,null,null,135,{"$f":"VLOOKUP($S136,Schema,Werk1!$Q$2,FALSE)","v":{"$error":"#VALUE!"}},{"$f":"VLOOKUP($S136,Schema,Werk1!$R$2,FALSE)","v":{"$error":"#VALUE!"}},{"$error":"#VALUE!"},{"$f":"COUNTIF(Uitslagen1!$C$2:$C$191,$V136&\"*\")","v":0},{"$f":"VLOOKUP($V136,Uitslagen1!$C$2:$T$191,17,FALSE)","v":{"$error":"#VALUE!"}},{"$f":"VLOOKUP($V136,Uitslagen1!$C$2:$T$191,18,FALSE)","v":{"$error":"#VALUE!"}},{"$f":"IF(W136=0,\"\",VLOOKUP(VLOOKUP($V136,Uitslagen1!$C$2:$X$191,22,FALSE),Uitslagtotaal,2,FALSE))","v":""},null,null,null,null,{"$error":"#VALUE!"},{"$error":"#VALUE!"},{"$error":"#VALUE!"}]
[null,null,null,null,null,null,null,null,null,null,null,null,null,null,null,null,null,null,136,{"$f":"VLOOKUP($S137,Schema,Werk1!$Q$2,FALSE)","v":{"$error":"#VALUE!"}},{"$f":"VLOOKUP($S137,Schema,Werk1!$R$2,FALSE)","v":{"$error":"#VALUE!"}},{"$error":"#VALUE!"},{"$f":"COUNTIF(Uitslagen1!$C$2:$C$191,$V137&\"*\")","v":0},{"$f":"VLOOKUP($V137,Uitslagen1!$C$2:$T$191,17,FALSE)","v":{"$error":"#VALUE!"}},{"$f":"VLOOKUP($V137,Uitslagen1!$C$2:$T$191,18,FALSE)","v":{"$error":"#VALUE!"}},{"$f":"IF(W137=0,\"\",VLOOKUP(VLOOKUP($V137,Uitslagen1!$C$2:$X$191,22,FALSE),Uitslagtotaal,2,FALSE))","v":""},null,null,null,null,{"$error":"#VALUE!"},{"$error":"#VALUE!"},{"$error":"#VALUE!"}]
[null,null,null,null,null,null,null,null,null,null,null,null,null,null,null,null,null,null,137,{"$f":"VLOOKUP($S138,Schema,Werk1!$Q$2,FALSE)","v":{"$error":"#VALUE!"}},{"$f":"VLOOKUP($S138,Schema,Werk1!$R$2,FALSE)","v":{"$error":"#VALUE!"}},{"$error":"#VALUE!"},{"$f":"COUNTIF(Uitslagen1!$C$2:$C$191,$V138&\"*\")","v":0},{"$f":"VLOOKUP($V138,Uitslagen1!$C$2:$T$191,17,FALSE)","v":{"$error":"#VALUE!"}},{"$f":"VLOOKUP($V138,Uitslagen1!$C$2:$T$191,18,FALSE)","v":{"$error":"#VALUE!"}},{"$f":"IF(W138=0,\"\",VLOOKUP(VLOOKUP($V138,Uitslagen1!$C$2:$X$191,22,FALSE),Uitslagtotaal,2,FALSE))","v":""},null,null,null,null,{"$error":"#VALUE!"},{"$error":"#VALUE!"},{"$error":"#VALUE!"}]
[null,null,null,null,null,null,null,null,null,null,null,null,null,null,null,null,null,null,138,{"$f":"VLOOKUP($S139,Schema,Werk1!$Q$2,FALSE)","v":{"$error":"#VALUE!"}},{"$f":"VLOOKUP($S139,Schema,Werk1!$R$2,FALSE)","v":{"$error":"#VALUE!"}},{"$error":"#VALUE!"},{"$f":"COUNTIF(Uitslagen1!$C$2:$C$191,$V139&\"*\")","v":0},{"$f":"VLOOKUP($V139,Uitslagen1!$C$2:$T$191,17,FALSE)","v":{"$error":"#VALUE!"}},{"$f":"VLOOKUP($V139,Uitslagen1!$C$2:$T$191,18,FALSE)","v":{"$error":"#VALUE!"}},{"$f":"IF(W139=0,\"\",VLOOKUP(VLOOKUP($V139,Uitslagen1!$C$2:$X$191,22,FALSE),Uitslagtotaal,2,FALSE))","v":""},null,null,null,null,{"$error":"#VALUE!"},{"$error":"#VALUE!"},{"$error":"#VALUE!"}]
[null,null,null,null,null,null,null,null,null,null,null,null,null,null,null,null,null,null,139,{"$f":"VLOOKUP($S140,Schema,Werk1!$Q$2,FALSE)","v":{"$error":"#VALUE!"}},{"$f":"VLOOKUP($S140,Schema,Werk1!$R$2,FALSE)","v":{"$error":"#VALUE!"}},{"$error":"#VALUE!"},{"$f":"COUNTIF(Uitslagen1!$C$2:$C$191,$V140&\"*\")","v":0},{"$f":"VLOOKUP($V140,Uitslagen1!$C$2:$T$191,17,FALSE)","v":{"$error":"#VALUE!"}},{"$f":"VLOOKUP($V140,Uitslagen1!$C$2:$T$191,18,FALSE)","v":{"$error":"#VALUE!"}},{"$f":"IF(W140=0,\"\",VLOOKUP(VLOOKUP($V140,Uitslagen1!$C$2:$X$191,22,FALSE),Uitslagtotaal,2,FALSE))","v":""},null,null,null,null,{"$error":"#VALUE!"},{"$error":"#VALUE!"},{"$error":"#VALUE!"}]
[null,null,null,null,null,null,null,null,null,null,null,null,null,null,null,null,null,null,140,{"$f":"VLOOKUP($S141,Schema,Werk1!$Q$2,FALSE)","v":{"$error":"#VALUE!"}},{"$f":"VLOOKUP($S141,Schema,Werk1!$R$2,FALSE)","v":{"$error":"#VALUE!"}},{"$error":"#VALUE!"},{"$f":"COUNTIF(Uitslagen1!$C$2:$C$191,$V141&\"*\")","v":0},{"$f":"VLOOKUP($V141,Uitslagen1!$C$2:$T$191,17,FALSE)","v":{"$error":"#VALUE!"}},{"$f":"VLOOKUP($V141,Uitslagen1!$C$2:$T$191,18,FALSE)","v":{"$error":"#VALUE!"}},{"$f":"IF(W141=0,\"\",VLOOKUP(VLOOKUP($V141,Uitslagen1!$C$2:$X$191,22,FALSE),Uitslagtotaal,2,FALSE))","v":""},null,null,null,null,{"$error":"#VALUE!"},{"$error":"#VALUE!"},{"$error":"#VALUE!"}]
[null,null,null,null,null,null,null,null,null,null,null,null,null,null,null,null,null,null,141,{"$f":"VLOOKUP($S142,Schema,Werk1!$Q$2,FALSE)","v":{"$error":"#VALUE!"}},{"$f":"VLOOKUP($S142,Schema,Werk1!$R$2,FALSE)","v":{"$error":"#VALUE!"}},{"$error":"#VALUE!"},{"$f":"COUNTIF(Uitslagen1!$C$2:$C$191,$V142&\"*\")","v":0},{"$f":"VLOOKUP($V142,Uitslagen1!$C$2:$T$191,17,FALSE)","v":{"$error":"#VALUE!"}},{"$f":"VLOOKUP($V142,Uitslagen1!$C$2:$T$191,18,FALSE)","v":{"$error":"#VALUE!"}},{"$f":"IF(W142=0,\"\",VLOOKUP(VLOOKUP($V142,Uitslagen1!$C$2:$X$191,22,FALSE),Uitslagtotaal,2,FALSE))","v":""},null,null,null,null,{"$error":"#VALUE!"},{"$error":"#VALUE!"},{"$error":"#VALUE!"}]
[null,null,null,null,null,null,null,null,null,null,null,null,null,null,null,null,null,null,142,{"$f":"VLOOKUP($S143,Schema,Werk1!$Q$2,FALSE)","v":{"$error":"#VALUE!"}},{"$f":"VLOOKUP($S143,Schema,Werk1!$R$2,FALSE)","v":{"$error":"#VALUE!"}},{"$error":"#VALUE!"},{"$f":"COUNTIF(Uitslagen1!$C$2:$C$191,$V143&\"*\")","v":0},{"$f":"VLOOKUP($V143,Uitslagen1!$C$2:$T$191,17,FALSE)","v":{"$error":"#VALUE!"}},{"$f":"VLOOKUP($V143,Uitslagen1!$C$2:$T$191,18,FALSE)","v":{"$error":"#VALUE!"}},{"$f":"IF(W143=0,\"\",VLOOKUP(VLOOKUP($V143,Uitslagen1!$C$2:$X$191,22,FALSE),Uitslagtotaal,2,FALSE))","v":""},null,null,null,null,{"$error":"#VALUE!"},{"$error":"#VALUE!"},{"$error":"#VALUE!"}]
[null,null,null,null,null,null,null,null,null,null,null,null,null,null,null,null,null,null,143,{"$f":"VLOOKUP($S144,Schema,Werk1!$Q$2,FALSE)","v":{"$error":"#VALUE!"}},{"$f":"VLOOKUP($S144,Schema,Werk1!$R$2,FALSE)","v":{"$error":"#VALUE!"}},{"$error":"#VALUE!"},{"$f":"COUNTIF(Uitslagen1!$C$2:$C$191,$V144&\"*\")","v":0},{"$f":"VLOOKUP($V144,Uitslagen1!$C$2:$T$191,17,FALSE)","v":{"$error":"#VALUE!"}},{"$f":"VLOOKUP($V144,Uitslagen1!$C$2:$T$191,18,FALSE)","v":{"$error":"#VALUE!"}},{"$f":"IF(W144=0,\"\",VLOOKUP(VLOOKUP($V144,Uitslagen1!$C$2:$X$191,22,FALSE),Uitslagtotaal,2,FALSE))","v":""},null,null,null,null,{"$error":"#VALUE!"},{"$error":"#VALUE!"},{"$error":"#VALUE!"}]
[null,null,null,null,null,null,null,null,null,null,null,null,null,null,null,null,null,null,144,{"$f":"VLOOKUP($S145,Schema,Werk1!$Q$2,FALSE)","v":{"$error":"#VALUE!"}},{"$f":"VLOOKUP($S145,Schema,Werk1!$R$2,FALSE)","v":{"$error":"#VALUE!"}},{"$error":"#VALUE!"},{"$f":"COUNTIF(Uitslagen1!$C$2:$C$191,$V145&\"*\")","v":0},{"$f":"VLOOKUP($V145,Uitslagen1!$C$2:$T$191,17,FALSE)","v":{"$error":"#VALUE!"}},{"$f":"VLOOKUP($V145,Uitslagen1!$C$2:$T$191,18,FALSE)","v":{"$error":"#VALUE!"}},{"$f":"IF(W145=0,\"\",VLOOKUP(VLOOKUP($V145,Uitslagen1!$C$2:$X$191,22,FALSE),Uitslagtotaal,2,FALSE))","v":""},null,null,null,null,{"$error":"#VALUE!"},{"$error":"#VALUE!"},{"$error":"#VALUE!"}]
[null,null,null,null,null,null,null,null,null,null,null,null,null,null,null,null,null,null,145,{"$f":"VLOOKUP($S146,Schema,Werk1!$Q$2,FALSE)","v":{"$error":"#VALUE!"}},{"$f":"VLOOKUP($S146,Schema,Werk1!$R$2,FALSE)","v":{"$error":"#VALUE!"}},{"$error":"#VALUE!"},{"$f":"COUNTIF(Uitslagen1!$C$2:$C$191,$V146&\"*\")","v":0},{"$f":"VLOOKUP($V146,Uitslagen1!$C$2:$T$191,17,FALSE)","v":{"$error":"#VALUE!"}},{"$f":"VLOOKUP($V146,Uitslagen1!$C$2:$T$191,18,FALSE)","v":{"$error":"#VALUE!"}},{"$f":"IF(W146=0,\"\",VLOOKUP(VLOOKUP($V146,Uitslagen1!$C$2:$X$191,22,FALSE),Uitslagtotaal,2,FALSE))","v":""},null,null,null,null,{"$error":"#VALUE!"},{"$error":"#VALUE!"},{"$error":"#VALUE!"}]
[null,null,null,null,null,null,null,null,null,null,null,null,null,null,null,null,null,null,146,{"$f":"VLOOKUP($S147,Schema,Werk1!$Q$2,FALSE)","v":{"$error":"#VALUE!"}},{"$f":"VLOOKUP($S147,Schema,Werk1!$R$2,FALSE)","v":{"$error":"#VALUE!"}},{"$error":"#VALUE!"},{"$f":"COUNTIF(Uitslagen1!$C$2:$C$191,$V147&\"*\")","v":0},{"$f":"VLOOKUP($V147,Uitslagen1!$C$2:$T$191,17,FALSE)","v":{"$error":"#VALUE!"}},{"$f":"VLOOKUP($V147,Uitslagen1!$C$2:$T$191,18,FALSE)","v":{"$error":"#VALUE!"}},{"$f":"IF(W147=0,\"\",VLOOKUP(VLOOKUP($V147,Uitslagen1!$C$2:$X$191,22,FALSE),Uitslagtotaal,2,FALSE))","v":""},null,null,null,null,{"$error":"#VALUE!"},{"$error":"#VALUE!"},{"$error":"#VALUE!"}]
[null,null,null,null,null,null,null,null,null,null,null,null,null,null,null,null,null,null,147,{"$f":"VLOOKUP($S148,Schema,Werk1!$Q$2,FALSE)","v":{"$error":"#VALUE!"}},{"$f":"VLOOKUP($S148,Schema,Werk1!$R$2,FALSE)","v":{"$error":"#VALUE!"}},{"$error":"#VALUE!"},{"$f":"COUNTIF(Uitslagen1!$C$2:$C$191,$V148&\"*\")","v":0},{"$f":"VLOOKUP($V148,Uitslagen1!$C$2:$T$191,17,FALSE)","v":{"$error":"#VALUE!"}},{"$f":"VLOOKUP($V148,Uitslagen1!$C$2:$T$191,18,FALSE)","v":{"$error":"#VALUE!"}},{"$f":"IF(W148=0,\"\",VLOOKUP(VLOOKUP($V148,Uitslagen1!$C$2:$X$191,22,FALSE),Uitslagtotaal,2,FALSE))","v":""},null,null,null,null,{"$error":"#VALUE!"},{"$error":"#VALUE!"},{"$error":"#VALUE!"}]
[null,null,null,null,null,null,null,null,null,null,null,null,null,null,null,null,null,null,148,{"$f":"VLOOKUP($S149,Schema,Werk1!$Q$2,FALSE)","v":{"$error":"#VALUE!"}},{"$f":"VLOOKUP($S149,Schema,Werk1!$R$2,FALSE)","v":{"$error":"#VALUE!"}},{"$error":"#VALUE!"},{"$f":"COUNTIF(Uitslagen1!$C$2:$C$191,$V149&\"*\")","v":0},{"$f":"VLOOKUP($V149,Uitslagen1!$C$2:$T$191,17,FALSE)","v":{"$error":"#VALUE!"}},{"$f":"VLOOKUP($V149,Uitslagen1!$C$2:$T$191,18,FALSE)","v":{"$error":"#VALUE!"}},{"$f":"IF(W149=0,\"\",VLOOKUP(VLOOKUP($V149,Uitslagen1!$C$2:$X$191,22,FALSE),Uitslagtotaal,2,FALSE))","v":""},null,null,null,null,{"$error":"#VALUE!"},{"$error":"#VALUE!"},{"$error":"#VALUE!"}]
[null,null,null,null,null,null,null,null,null,null,null,null,null,null,null,null,null,null,149,{"$f":"VLOOKUP($S150,Schema,Werk1!$Q$2,FALSE)","v":{"$error":"#VALUE!"}},{"$f":"VLOOKUP($S150,Schema,Werk1!$R$2,FALSE)","v":{"$error":"#VALUE!"}},{"$error":"#VALUE!"},{"$f":"COUNTIF(Uitslagen1!$C$2:$C$191,$V150&\"*\")","v":0},{"$f":"VLOOKUP($V150,Uitslagen1!$C$2:$T$191,17,FALSE)","v":{"$error":"#VALUE!"}},{"$f":"VLOOKUP($V150,Uitslagen1!$C$2:$T$191,18,FALSE)","v":{"$error":"#VALUE!"}},{"$f":"IF(W150=0,\"\",VLOOKUP(VLOOKUP($V150,Uitslagen1!$C$2:$X$191,22,FALSE),Uitslagtotaal,2,FALSE))","v":""},null,null,null,null,{"$error":"#VALUE!"},{"$error":"#VALUE!"},{"$error":"#VALUE!"}]
[null,null,null,null,null,null,null,null,null,null,null,null,null,null,null,null,null,null,150,{"$f":"VLOOKUP($S151,Schema,Werk1!$Q$2,FALSE)","v":{"$error":"#VALUE!"}},{"$f":"VLOOKUP($S151,Schema,Werk1!$R$2,FALSE)","v":{"$error":"#VALUE!"}},{"$error":"#VALUE!"},{"$f":"COUNTIF(Uitslagen1!$C$2:$C$191,$V151&\"*\")","v":0},{"$f":"VLOOKUP($V151,Uitslagen1!$C$2:$T$191,17,FALSE)","v":{"$error":"#VALUE!"}},{"$f":"VLOOKUP($V151,Uitslagen1!$C$2:$T$191,18,FALSE)","v":{"$error":"#VALUE!"}},{"$f":"IF(W151=0,\"\",VLOOKUP(VLOOKUP($V151,Uitslagen1!$C$2:$X$191,22,FALSE),Uitslagtotaal,2,FALSE))","v":""},null,null,null,null,{"$error":"#VALUE!"},{"$error":"#VALUE!"},{"$error":"#VALUE!"}]
[null,null,null,null,null,null,null,null,null,null,null,null,null,null,null,null,null,null,151,{"$f":"VLOOKUP($S152,Schema,Werk1!$Q$2,FALSE)","v":{"$error":"#VALUE!"}},{"$f":"VLOOKUP($S152,Schema,Werk1!$R$2,FALSE)","v":{"$error":"#VALUE!"}},{"$error":"#VALUE!"},{"$f":"COUNTIF(Uitslagen1!$C$2:$C$191,$V152&\"*\")","v":0},{"$f":"VLOOKUP($V152,Uitslagen1!$C$2:$T$191,17,FALSE)","v":{"$error":"#VALUE!"}},{"$f":"VLOOKUP($V152,Uitslagen1!$C$2:$T$191,18,FALSE)","v":{"$error":"#VALUE!"}},{"$f":"IF(W152=0,\"\",VLOOKUP(VLOOKUP($V152,Uitslagen1!$C$2:$X$191,22,FALSE),Uitslagtotaal,2,FALSE))","v":""},null,null,null,null,{"$error":"#VALUE!"},{"$error":"#VALUE!"},{"$error":"#VALUE!"}]
[null,null,null,null,null,null,null,null,null,null,null,null,null,null,null,null,null,null,152,{"$f":"VLOOKUP($S153,Schema,Werk1!$Q$2,FALSE)","v":{"$error":"#VALUE!"}},{"$f":"VLOOKUP($S153,Schema,Werk1!$R$2,FALSE)","v":{"$error":"#VALUE!"}},{"$error":"#VALUE!"},{"$f":"COUNTIF(Uitslagen1!$C$2:$C$191,$V153&\"*\")","v":0},{"$f":"VLOOKUP($V153,Uitslagen1!$C$2:$T$191,17,FALSE)","v":{"$error":"#VALUE!"}},{"$f":"VLOOKUP($V153,Uitslagen1!$C$2:$T$191,18,FALSE)","v":{"$error":"#VALUE!"}},{"$f":"IF(W153=0,\"\",VLOOKUP(VLOOKUP($V153,Uitslagen1!$C$2:$X$191,22,FALSE),Uitslagtotaal,2,FALSE))","v":""},null,null,null,null,{"$error":"#VALUE!"},{"$error":"#VALUE!"},{"$error":"#VALUE!"}]
[null,null,null,null,null,null,null,null,null,null,null,null,null,null,null,null,null,null,153,{"$f":"VLOOKUP($S154,Schema,Werk1!$Q$2,FALSE)","v":{"$error":"#VALUE!"}},{"$f":"VLOOKUP($S154,Schema,Werk1!$R$2,FALSE)","v":{"$error":"#VALUE!"}},{"$error":"#VALUE!"},{"$f":"COUNTIF(Uitslagen1!$C$2:$C$191,$V154&\"*\")","v":0},{"$f":"VLOOKUP($V154,Uitslagen1!$C$2:$T$191,17,FALSE)","v":{"$error":"#VALUE!"}},{"$f":"VLOOKUP($V154,Uitslagen1!$C$2:$T$191,18,FALSE)","v":{"$error":"#VALUE!"}},{"$f":"IF(W154=0,\"\",VLOOKUP(VLOOKUP($V154,Uitslagen1!$C$2:$X$191,22,FALSE),Uitslagtotaal,2,FALSE))","v":""},null,null,null,null,{"$error":"#VALUE!"},{"$error":"#VALUE!"},{"$error":"#VALUE!"}]
[null,null,null,null,null,null,null,null,null,null,null,null,null,null,null,null,null,null,154,{"$f":"VLOOKUP($S155,Schema,Werk1!$Q$2,FALSE)","v":{"$error":"#VALUE!"}},{"$f":"VLOOKUP($S155,Schema,Werk1!$R$2,FALSE)","v":{"$error":"#VALUE!"}},{"$error":"#VALUE!"},{"$f":"COUNTIF(Uitslagen1!$C$2:$C$191,$V155&\"*\")","v":0},{"$f":"VLOOKUP($V155,Uitslagen1!$C$2:$T$191,17,FALSE)","v":{"$error":"#VALUE!"}},{"$f":"VLOOKUP($V155,Uitslagen1!$C$2:$T$191,18,FALSE)","v":{"$error":"#VALUE!"}},{"$f":"IF(W155=0,\"\",VLOOKUP(VLOOKUP($V155,Uitslagen1!$C$2:$X$191,22,FALSE),Uitslagtotaal,2,FALSE))","v":""},null,null,null,null,{"$error":"#VALUE!"},{"$error":"#VALUE!"},{"$error":"#VALUE!"}]
[null,null,null,null,null,null,null,null,null,null,null,null,null,null,null,null,null,null,155,{"$f":"VLOOKUP($S156,Schema,Werk1!$Q$2,FALSE)","v":{"$error":"#VALUE!"}},{"$f":"VLOOKUP($S156,Schema,Werk1!$R$2,FALSE)","v":{"$error":"#VALUE!"}},{"$error":"#VALUE!"},{"$f":"COUNTIF(Uitslagen1!$C$2:$C$191,$V156&\"*\")","v":0},{"$f":"VLOOKUP($V156,Uitslagen1!$C$2:$T$191,17,FALSE)","v":{"$error":"#VALUE!"}},{"$f":"VLOOKUP($V156,Uitslagen1!$C$2:$T$191,18,FALSE)","v":{"$error":"#VALUE!"}},{"$f":"IF(W156=0,\"\",VLOOKUP(VLOOKUP($V156,Uitslagen1!$C$2:$X$191,22,FALSE),Uitslagtotaal,2,FALSE))","v":""},null,null,null,null,{"$error":"#VALUE!"},{"$error":"#VALUE!"},{"$error":"#VALUE!"}]
[null,null,null,null,null,null,null,null,null,null,null,null,null,null,null,null,null,null,156,{"$f":"VLOOKUP($S157,Schema,Werk1!$Q$2,FALSE)","v":{"$error":"#VALUE!"}},{"$f":"VLOOKUP($S157,Schema,Werk1!$R$2,FALSE)","v":{"$error":"#VALUE!"}},{"$error":"#VALUE!"},{"$f":"COUNTIF(Uitslagen1!$C$2:$C$191,$V157&\"*\")","v":0},{"$f":"VLOOKUP($V157,Uitslagen1!$C$2:$T$191,17,FALSE)","v":{"$error":"#VALUE!"}},{"$f":"VLOOKUP($V157,Uitslagen1!$C$2:$T$191,18,FALSE)","v":{"$error":"#VALUE!"}},{"$f":"IF(W157=0,\"\",VLOOKUP(VLOOKUP($V157,Uitslagen1!$C$2:$X$191,22,FALSE),Uitslagtotaal,2,FALSE))","v":""},null,null,null,null,{"$error":"#VALUE!"},{"$error":"#VALUE!"},{"$error":"#VALUE!"}]
[null,null,null,null,null,null,null,null,null,null,null,null,null,null,null,null,null,null,157,{"$f":"VLOOKUP($S158,Schema,Werk1!$Q$2,FALSE)","v":{"$error":"#VALUE!"}},{"$f":"VLOOKUP($S158,Schema,Werk1!$R$2,FALSE)","v":{"$error":"#VALUE!"}},{"$error":"#VALUE!"},{"$f":"COUNTIF(Uitslagen1!$C$2:$C$191,$V158&\"*\")","v":0},{"$f":"VLOOKUP($V158,Uitslagen1!$C$2:$T$191,17,FALSE)","v":{"$error":"#VALUE!"}},{"$f":"VLOOKUP($V158,Uitslagen1!$C$2:$T$191,18,FALSE)","v":{"$error":"#VALUE!"}},{"$f":"IF(W158=0,\"\",VLOOKUP(VLOOKUP($V158,Uitslagen1!$C$2:$X$191,22,FALSE),Uitslagtotaal,2,FALSE))","v":""},null,null,null,null,{"$error":"#VALUE!"},{"$error":"#VALUE!"},{"$error":"#VALUE!"}]
[null,null,null,null,null,null,null,null,null,null,null,null,null,null,null,null,null,null,158,{"$f":"VLOOKUP($S159,Schema,Werk1!$Q$2,FALSE)","v":{"$error":"#VALUE!"}},{"$f":"VLOOKUP($S159,Schema,Werk1!$R$2,FALSE)","v":{"$error":"#VALUE!"}},{"$error":"#VALUE!"},{"$f":"COUNTIF(Uitslagen1!$C$2:$C$191,$V159&\"*\")","v":0},{"$f":"VLOOKUP($V159,Uitslagen1!$C$2:$T$191,17,FALSE)","v":{"$error":"#VALUE!"}},{"$f":"VLOOKUP($V159,Uitslagen1!$C$2:$T$191,18,FALSE)","v":{"$error":"#VALUE!"}},{"$f":"IF(W159=0,\"\",VLOOKUP(VLOOKUP($V159,Uitslagen1!$C$2:$X$191,22,FALSE),Uitslagtotaal,2,FALSE))","v":""},null,null,null,null,{"$error":"#VALUE!"},{"$error":"#VALUE!"},{"$error":"#VALUE!"}]
[null,null,null,null,null,null,null,null,null,null,null,null,null,null,null,null,null,null,159,{"$f":"VLOOKUP($S160,Schema,Werk1!$Q$2,FALSE)","v":{"$error":"#VALUE!"}},{"$f":"VLOOKUP($S160,Schema,Werk1!$R$2,FALSE)","v":{"$error":"#VALUE!"}},{"$error":"#VALUE!"},{"$f":"COUNTIF(Uitslagen1!$C$2:$C$191,$V160&\"*\")","v":0},{"$f":"VLOOKUP($V160,Uitslagen1!$C$2:$T$191,17,FALSE)","v":{"$error":"#VALUE!"}},{"$f":"VLOOKUP($V160,Uitslagen1!$C$2:$T$191,18,FALSE)","v":{"$error":"#VALUE!"}},{"$f":"IF(W160=0,\"\",VLOOKUP(VLOOKUP($V160,Uitslagen1!$C$2:$X$191,22,FALSE),Uitslagtotaal,2,FALSE))","v":""},null,null,null,null,{"$error":"#VALUE!"},{"$error":"#VALUE!"},{"$error":"#VALUE!"}]
[null,null,null,null,null,null,null,null,null,null,null,null,null,null,null,null,null,null,160,{"$f":"VLOOKUP($S161,Schema,Werk1!$Q$2,FALSE)","v":{"$error":"#VALUE!"}},{"$f":"VLOOKUP($S161,Schema,Werk1!$R$2,FALSE)","v":{"$error":"#VALUE!"}},{"$error":"#VALUE!"},{"$f":"COUNTIF(Uitslagen1!$C$2:$C$191,$V161&\"*\")","v":0},{"$f":"VLOOKUP($V161,Uitslagen1!$C$2:$T$191,17,FALSE)","v":{"$error":"#VALUE!"}},{"$f":"VLOOKUP($V161,Uitslagen1!$C$2:$T$191,18,FALSE)","v":{"$error":"#VALUE!"}},{"$f":"IF(W161=0,\"\",VLOOKUP(VLOOKUP($V161,Uitslagen1!$C$2:$X$191,22,FALSE),Uitslagtotaal,2,FALSE))","v":""},null,null,null,null,{"$error":"#VALUE!"},{"$error":"#VALUE!"},{"$error":"#VALUE!"}]
[null,null,null,null,null,null,null,null,null,null,null,null,null,null,null,null,null,null,161,{"$f":"VLOOKUP($S162,Schema,Werk1!$Q$2,FALSE)","v":{"$error":"#VALUE!"}},{"$f":"VLOOKUP($S162,Schema,Werk1!$R$2,FALSE)","v":{"$error":"#VALUE!"}},{"$error":"#VALUE!"},{"$f":"COUNTIF(Uitslagen1!$C$2:$C$191,$V162&\"*\")","v":0},{"$f":"VLOOKUP($V162,Uitslagen1!$C$2:$T$191,17,FALSE)","v":{"$error":"#VALUE!"}},{"$f":"VLOOKUP($V162,Uitslagen1!$C$2:$T$191,18,FALSE)","v":{"$error":"#VALUE!"}},{"$f":"IF(W162=0,\"\",VLOOKUP(VLOOKUP($V162,Uitslagen1!$C$2:$X$191,22,FALSE),Uitslagtotaal,2,FALSE))","v":""},null,null,null,null,{"$error":"#VALUE!"},{"$error":"#VALUE!"},{"$error":"#VALUE!"}]
[null,null,null,null,null,null,null,null,null,null,null,null,null,null,null,null,null,null,162,{"$f":"VLOOKUP($S163,Schema,Werk1!$Q$2,FALSE)","v":{"$error":"#VALUE!"}},{"$f":"VLOOKUP($S163,Schema,Werk1!$R$2,FALSE)","v":{"$error":"#VALUE!"}},{"$error":"#VALUE!"},{"$f":"COUNTIF(Uitslagen1!$C$2:$C$191,$V163&\"*\")","v":0},{"$f":"VLOOKUP($V163,Uitslagen1!$C$2:$T$191,17,FALSE)","v":{"$error":"#VALUE!"}},{"$f":"VLOOKUP($V163,Uitslagen1!$C$2:$T$191,18,FALSE)","v":{"$error":"#VALUE!"}},{"$f":"IF(W163=0,\"\",VLOOKUP(VLOOKUP($V163,Uitslagen1!$C$2:$X$191,22,FALSE),Uitslagtotaal,2,FALSE))","v":""},null,null,null,null,{"$error":"#VALUE!"},{"$error":"#VALUE!"},{"$error":"#VALUE!"}]
[null,null,null,null,null,null,null,null,null,null,null,null,null,null,null,null,null,null,163,{"$f":"VLOOKUP($S164,Schema,Werk1!$Q$2,FALSE)","v":{"$error":"#VALUE!"}},{"$f":"VLOOKUP($S164,Schema,Werk1!$R$2,FALSE)","v":{"$error":"#VALUE!"}},{"$error":"#VALUE!"},{"$f":"COUNTIF(Uitslagen1!$C$2:$C$191,$V164&\"*\")","v":0},{"$f":"VLOOKUP($V164,Uitslagen1!$C$2:$T$191,17,FALSE)","v":{"$error":"#VALUE!"}},{"$f":"VLOOKUP($V164,Uitslagen1!$C$2:$T$191,18,FALSE)","v":{"$error":"#VALUE!"}},{"$f":"IF(W164=0,\"\",VLOOKUP(VLOOKUP($V164,Uitslagen1!$C$2:$X$191,22,FALSE),Uitslagtotaal,2,FALSE))","v":""},null,null,null,null,{"$error":"#VALUE!"},{"$error":"#VALUE!"},{"$error":"#VALUE!"}]
[null,null,null,null,null,null,null,null,null,null,null,null,null,null,null,null,null,null,164,{"$f":"VLOOKUP($S165,Schema,Werk1!$Q$2,FALSE)","v":{"$error":"#VALUE!"}},{"$f":"VLOOKUP($S165,Schema,Werk1!$R$2,FALSE)","v":{"$error":"#VALUE!"}},{"$error":"#VALUE!"},{"$f":"COUNTIF(Uitslagen1!$C$2:$C$191,$V165&\"*\")","v":0},{"$f":"VLOOKUP($V165,Uitslagen1!$C$2:$T$191,17,FALSE)","v":{"$error":"#VALUE!"}},{"$f":"VLOOKUP($V165,Uitslagen1!$C$2:$T$191,18,FALSE)","v":{"$error":"#VALUE!"}},{"$f":"IF(W165=0,\"\",VLOOKUP(VLOOKUP($V165,Uitslagen1!$C$2:$X$191,22,FALSE),Uitslagtotaal,2,FALSE))","v":""},null,null,null,null,{"$error":"#VALUE!"},{"$error":"#VALUE!"},{"$error":"#VALUE!"}]
[null,null,null,null,null,null,null,null,null,null,null,null,null,null,null,null,null,null,{"$f":"S165+1","v":165},{"$f":"VLOOKUP($S166,Schema,Werk1!$Q$2,FALSE)","v":{"$error":"#VALUE!"}},{"$f":"VLOOKUP($S166,Schema,Werk1!$R$2,FALSE)","v":{"$error":"#VALUE!"}},{"$f":"CONCATENATE(T166,\"-\",U166)","v":{"$error":"#VALUE!"}},{"$f":"COUNTIF(Uitslagen1!$C$2:$C$191,$V166&\"*\")","v":0},{"$f":"VLOOKUP($V166,Uitslagen1!$C$2:$T$191,17,FALSE)","v":{"$error":"#VALUE!"}},{"$f":"VLOOKUP($V166,Uitslagen1!$C$2:$T$191,18,FALSE)","v":{"$error":"#VALUE!"}},{"$f":"IF(W166=0,\"\",VLOOKUP(VLOOKUP($V166,Uitslagen1!$C$2:$X$191,22,FALSE),Uitslagtotaal,2,FALSE))","v":""},null,null,null,null,{"$error":"#VALUE!"},{"$error":"#VALUE!"},{"$error":"#VALUE!"}]
[null,null,null,null,null,null,null,null,null,null,null,null,null,null,null,null,null,null,166,{"$f":"VLOOKUP($S167,Schema,Werk1!$Q$2,FALSE)","v":{"$error":"#VALUE!"}},{"$f":"VLOOKUP($S167,Schema,Werk1!$R$2,FALSE)","v":{"$error":"#VALUE!"}},{"$error":"#VALUE!"},{"$f":"COUNTIF(Uitslagen1!$C$2:$C$191,$V167&\"*\")","v":0},{"$f":"VLOOKUP($V167,Uitslagen1!$C$2:$T$191,17,FALSE)","v":{"$error":"#VALUE!"}},{"$f":"VLOOKUP($V167,Uitslagen1!$C$2:$T$191,18,FALSE)","v":{"$error":"#VALUE!"}},{"$f":"IF(W167=0,\"\",VLOOKUP(VLOOKUP($V167,Uitslagen1!$C$2:$X$191,22,FALSE),Uitslagtotaal,2,FALSE))","v":""},null,null,null,null,{"$error":"#VALUE!"},{"$error":"#VALUE!"},{"$error":"#VALUE!"}]
[null,null,null,null,null,null,null,null,null,null,null,null,null,null,null,null,null,null,167,{"$f":"VLOOKUP($S168,Schema,Werk1!$Q$2,FALSE)","v":{"$error":"#VALUE!"}},{"$f":"VLOOKUP($S168,Schema,Werk1!$R$2,FALSE)","v":{"$error":"#VALUE!"}},{"$error":"#VALUE!"},{"$f":"COUNTIF(Uitslagen1!$C$2:$C$191,$V168&\"*\")","v":0},{"$f":"VLOOKUP($V168,Uitslagen1!$C$2:$T$191,17,FALSE)","v":{"$error":"#VALUE!"}},{"$f":"VLOOKUP($V168,Uitslagen1!$C$2:$T$191,18,FALSE)","v":{"$error":"#VALUE!"}},{"$f":"IF(W168=0,\"\",VLOOKUP(VLOOKUP($V168,Uitslagen1!$C$2:$X$191,22,FALSE),Uitslagtotaal,2,FALSE))","v":""},null,null,null,null,{"$error":"#VALUE!"},{"$error":"#VALUE!"},{"$error":"#VALUE!"}]
[null,null,null,null,null,null,null,null,null,null,null,null,null,null,null,null,null,null,168,{"$f":"VLOOKUP($S169,Schema,Werk1!$Q$2,FALSE)","v":{"$error":"#VALUE!"}},{"$f":"VLOOKUP($S169,Schema,Werk1!$R$2,FALSE)","v":{"$error":"#VALUE!"}},{"$error":"#VALUE!"},{"$f":"COUNTIF(Uitslagen1!$C$2:$C$191,$V169&\"*\")","v":0},{"$f":"VLOOKUP($V169,Uitslagen1!$C$2:$T$191,17,FALSE)","v":{"$error":"#VALUE!"}},{"$f":"VLOOKUP($V169,Uitslagen1!$C$2:$T$191,18,FALSE)","v":{"$error":"#VALUE!"}},{"$f":"IF(W169=0,\"\",VLOOKUP(VLOOKUP($V169,Uitslagen1!$C$2:$X$191,22,FALSE),Uitslagtotaal,2,FALSE))","v":""},null,null,null,null,{"$error":"#VALUE!"},{"$error":"#VALUE!"},{"$error":"#VALUE!"}]
[null,null,null,null,null,null,null,null,null,null,null,null,null,null,null,null,null,null,169,{"$f":"VLOOKUP($S170,Schema,Werk1!$Q$2,FALSE)","v":{"$error":"#VALUE!"}},{"$f":"VLOOKUP($S170,Schema,Werk1!$R$2,FALSE)","v":{"$error":"#VALUE!"}},{"$error":"#VALUE!"},{"$f":"COUNTIF(Uitslagen1!$C$2:$C$191,$V170&\"*\")","v":0},{"$f":"VLOOKUP($V170,Uitslagen1!$C$2:$T$191,17,FALSE)","v":{"$error":"#VALUE!"}},{"$f":"VLOOKUP($V170,Uitslagen1!$C$2:$T$191,18,FALSE)","v":{"$error":"#VALUE!"}},{"$f":"IF(W170=0,\"\",VLOOKUP(VLOOKUP($V170,Uitslagen1!$C$2:$X$191,22,FALSE),Uitslagtotaal,2,FALSE))","v":""},null,null,null,null,{"$error":"#VALUE!"},{"$error":"#VALUE!"},{"$error":"#VALUE!"}]
[null,null,null,null,null,null,null,null,null,null,null,null,null,null,null,null,null,null,170,{"$f":"VLOOKUP($S171,Schema,Werk1!$Q$2,FALSE)","v":{"$error":"#VALUE!"}},{"$f":"VLOOKUP($S171,Schema,Werk1!$R$2,FALSE)","v":{"$error":"#VALUE!"}},{"$error":"#VALUE!"},{"$f":"COUNTIF(Uitslagen1!$C$2:$C$191,$V171&\"*\")","v":0},{"$f":"VLOOKUP($V171,Uitslagen1!$C$2:$T$191,17,FALSE)","v":{"$error":"#VALUE!"}},{"$f":"VLOOKUP($V171,Uitslagen1!$C$2:$T$191,18,FALSE)","v":{"$error":"#VALUE!"}},{"$f":"IF(W171=0,\"\",VLOOKUP(VLOOKUP($V171,Uitslagen1!$C$2:$X$191,22,FALSE),Uitslagtotaal,2,FALSE))","v":""},null,null,null,null,{"$error":"#VALUE!"},{"$error":"#VALUE!"},{"$error":"#VALUE!"}]
[null,null,null,null,null,null,null,null,null,null,null,null,null,null,null,null,null,null,171,{"$f":"VLOOKUP($S172,Schema,Werk1!$Q$2,FALSE)","v":{"$error":"#VALUE!"}},{"$f":"VLOOKUP($S172,Schema,Werk1!$R$2,FALSE)","v":{"$error":"#VALUE!"}},{"$error":"#VALUE!"},{"$f":"COUNTIF(Uitslagen1!$C$2:$C$191,$V172&\"*\")","v":0},{"$f":"VLOOKUP($V172,Uitslagen1!$C$2:$T$191,17,FALSE)","v":{"$error":"#VALUE!"}},{"$f":"VLOOKUP($V172,Uitslagen1!$C$2:$T$191,18,FALSE)","v":{"$error":"#VALUE!"}},{"$f":"IF(W172=0,\"\",VLOOKUP(VLOOKUP($V172,Uitslagen1!$C$2:$X$191,22,FALSE),Uitslagtotaal,2,FALSE))","v":""},null,null,null,null,{"$error":"#VALUE!"},{"$error":"#VALUE!"},{"$error":"#VALUE!"}]
[null,null,null,null,null,null,null,null,null,null,null,null,null,null,null,null,null,null,172,{"$f":"VLOOKUP($S173,Schema,Werk1!$Q$2,FALSE)","v":{"$error":"#VALUE!"}},{"$f":"VLOOKUP($S173,Schema,Werk1!$R$2,FALSE)","v":{"$error":"#VALUE!"}},{"$error":"#VALUE!"},{"$f":"COUNTIF(Uitslagen1!$C$2:$C$191,$V173&\"*\")","v":0},{"$f":"VLOOKUP($V173,Uitslagen1!$C$2:$T$191,17,FALSE)","v":{"$error":"#VALUE!"}},{"$f":"VLOOKUP($V173,Uitslagen1!$C$2:$T$191,18,FALSE)","v":{"$error":"#VALUE!"}},{"$f":"IF(W173=0,\"\",VLOOKUP(VLOOKUP($V173,Uitslagen1!$C$2:$X$191,22,FALSE),Uitslagtotaal,2,FALSE))","v":""},null,null,null,null,{"$error":"#VALUE!"},{"$error":"#VALUE!"},{"$error":"#VALUE!"}]
[null,null,null,null,null,null,null,null,null,null,null,null,null,null,null,null,null,null,173,{"$f":"VLOOKUP($S174,Schema,Werk1!$Q$2,FALSE)","v":{"$error":"#VALUE!"}},{"$f":"VLOOKUP($S174,Schema,Werk1!$R$2,FALSE)","v":{"$error":"#VALUE!"}},{"$error":"#VALUE!"},{"$f":"COUNTIF(Uitslagen1!$C$2:$C$191,$V174&\"*\")","v":0},{"$f":"VLOOKUP($V174,Uitslagen1!$C$2:$T$191,17,FALSE)","v":{"$error":"#VALUE!"}},{"$f":"VLOOKUP($V174,Uitslagen1!$C$2:$T$191,18,FALSE)","v":{"$error":"#VALUE!"}},{"$f":"IF(W174=0,\"\",VLOOKUP(VLOOKUP($V174,Uitslagen1!$C$2:$X$191,22,FALSE),Uitslagtotaal,2,FALSE))","v":""},null,null,null,null,{"$error":"#VALUE!"},{"$error":"#VALUE!"},{"$error":"#VALUE!"}]
[null,null,null,null,null,null,null,null,null,null,null,null,null,null,null,null,null,null,174,{"$f":"VLOOKUP($S175,Schema,Werk1!$Q$2,FALSE)","v":{"$error":"#VALUE!"}},{"$f":"VLOOKUP($S175,Schema,Werk1!$R$2,FALSE)","v":{"$error":"#VALUE!"}},{"$error":"#VALUE!"},{"$f":"COUNTIF(Uitslagen1!$C$2:$C$191,$V175&\"*\")","v":0},{"$f":"VLOOKUP($V175,Uitslagen1!$C$2:$T$191,17,FALSE)","v":{"$error":"#VALUE!"}},{"$f":"VLOOKUP($V175,Uitslagen1!$C$2:$T$191,18,FALSE)","v":{"$error":"#VALUE!"}},{"$f":"IF(W175=0,\"\",VLOOKUP(VLOOKUP($V175,Uitslagen1!$C$2:$X$191,22,FALSE),Uitslagtotaal,2,FALSE))","v":""},null,null,null,null,{"$error":"#VALUE!"},{"$error":"#VALUE!"},{"$error":"#VALUE!"}]
[null,null,null,null,null,null,null,null,null,null,null,null,null,null,null,null,null,null,175,{"$f":"VLOOKUP($S176,Schema,Werk1!$Q$2,FALSE)","v":{"$error":"#VALUE!"}},{"$f":"VLOOKUP($S176,Schema,Werk1!$R$2,FALSE)","v":{"$error":"#VALUE!"}},{"$error":"#VALUE!"},{"$f":"COUNTIF(Uitslagen1!$C$2:$C$191,$V176&\"*\")","v":0},{"$f":"VLOOKUP($V176,Uitslagen1!$C$2:$T$191,17,FALSE)","v":{"$error":"#VALUE!"}},{"$f":"VLOOKUP($V176,Uitslagen1!$C$2:$T$191,18,FALSE)","v":{"$error":"#VALUE!"}},{"$f":"IF(W176=0,\"\",VLOOKUP(VLOOKUP($V176,Uitslagen1!$C$2:$X$191,22,FALSE),Uitslagtotaal,2,FALSE))","v":""},null,null,null,null,{"$error":"#VALUE!"},{"$error":"#VALUE!"},{"$error":"#VALUE!"}]
[null,null,null,null,null,null,null,null,null,null,null,null,null,null,null,null,null,null,176,{"$f":"VLOOKUP($S177,Schema,Werk1!$Q$2,FALSE)","v":{"$error":"#VALUE!"}},{"$f":"VLOOKUP($S177,Schema,Werk1!$R$2,FALSE)","v":{"$error":"#VALUE!"}},{"$error":"#VALUE!"},{"$f":"COUNTIF(Uitslagen1!$C$2:$C$191,$V177&\"*\")","v":0},{"$f":"VLOOKUP($V177,Uitslagen1!$C$2:$T$191,17,FALSE)","v":{"$error":"#VALUE!"}},{"$f":"VLOOKUP($V177,Uitslagen1!$C$2:$T$191,18,FALSE)","v":{"$error":"#VALUE!"}},{"$f":"IF(W177=0,\"\",VLOOKUP(VLOOKUP($V177,Uitslagen1!$C$2:$X$191,22,FALSE),Uitslagtotaal,2,FALSE))","v":""},null,null,null,null,{"$error":"#VALUE!"},{"$error":"#VALUE!"},{"$error":"#VALUE!"}]
[null,null,null,null,null,null,null,null,null,null,null,null,null,null,null,null,null,null,177,{"$f":"VLOOKUP($S178,Schema,Werk1!$Q$2,FALSE)","v":{"$error":"#VALUE!"}},{"$f":"VLOOKUP($S178,Schema,Werk1!$R$2,FALSE)","v":{"$error":"#VALUE!"}},{"$error":"#VALUE!"},{"$f":"COUNTIF(Uitslagen1!$C$2:$C$191,$V178&\"*\")","v":0},{"$f":"VLOOKUP($V178,Uitslagen1!$C$2:$T$191,17,FALSE)","v":{"$error":"#VALUE!"}},{"$f":"VLOOKUP($V178,Uitslagen1!$C$2:$T$191,18,FALSE)","v":{"$error":"#VALUE!"}},{"$f":"IF(W178=0,\"\",VLOOKUP(VLOOKUP($V178,Uitslagen1!$C$2:$X$191,22,FALSE),Uitslagtotaal,2,FALSE))","v":""},null,null,null,null,{"$error":"#VALUE!"},{"$error":"#VALUE!"},{"$error":"#VALUE!"}]
[null,null,null,null,null,null,null,null,null,null,null,null,null,null,null,null,null,null,178,{"$f":"VLOOKUP($S179,Schema,Werk1!$Q$2,FALSE)","v":{"$error":"#VALUE!"}},{"$f":"VLOOKUP($S179,Schema,Werk1!$R$2,FALSE)","v":{"$error":"#VALUE!"}},{"$error":"#VALUE!"},{"$f":"COUNTIF(Uitslagen1!$C$2:$C$191,$V179&\"*\")","v":0},{"$f":"VLOOKUP($V179,Uitslagen1!$C$2:$T$191,17,FALSE)","v":{"$error":"#VALUE!"}},{"$f":"VLOOKUP($V179,Uitslagen1!$C$2:$T$191,18,FALSE)","v":{"$error":"#VALUE!"}},{"$f":"IF(W179=0,\"\",VLOOKUP(VLOOKUP($V179,Uitslagen1!$C$2:$X$191,22,FALSE),Uitslagtotaal,2,FALSE))","v":""},null,null,null,null,{"$error":"#VALUE!"},{"$error":"#VALUE!"},{"$error":"#VALUE!"}]
[null,null,null,null,null,null,null,null,null,null,null,null,null,null,null,null,null,null,179,{"$f":"VLOOKUP($S180,Schema,Werk1!$Q$2,FALSE)","v":{"$error":"#VALUE!"}},{"$f":"VLOOKUP($S180,Schema,Werk1!$R$2,FALSE)","v":{"$error":"#VALUE!"}},{"$error":"#VALUE!"},{"$f":"COUNTIF(Uitslagen1!$C$2:$C$191,$V180&\"*\")","v":0},{"$f":"VLOOKUP($V180,Uitslagen1!$C$2:$T$191,17,FALSE)","v":{"$error":"#VALUE!"}},{"$f":"VLOOKUP($V180,Uitslagen1!$C$2:$T$191,18,FALSE)","v":{"$error":"#VALUE!"}},{"$f":"IF(W180=0,\"\",VLOOKUP(VLOOKUP($V180,Uitslagen1!$C$2:$X$191,22,FALSE),Uitslagtotaal,2,FALSE))","v":""},null,null,null,null,{"$error":"#VALUE!"},{"$error":"#VALUE!"},{"$error":"#VALUE!"}]
[null,null,null,null,null,null,null,null,null,null,null,null,null,null,null,null,null,null,180,{"$f":"VLOOKUP($S181,Schema,Werk1!$Q$2,FALSE)","v":{"$error":"#VALUE!"}},{"$f":"VLOOKUP($S181,Schema,Werk1!$R$2,FALSE)","v":{"$error":"#VALUE!"}},{"$error":"#VALUE!"},{"$f":"COUNTIF(Uitslagen1!$C$2:$C$191,$V181&\"*\")","v":0},{"$f":"VLOOKUP($V181,Uitslagen1!$C$2:$T$191,17,FALSE)","v":{"$error":"#VALUE!"}},{"$f":"VLOOKUP($V181,Uitslagen1!$C$2:$T$191,18,FALSE)","v":{"$error":"#VALUE!"}},{"$f":"IF(W181=0,\"\",VLOOKUP(VLOOKUP($V181,Uitslagen1!$C$2:$X$191,22,FALSE),Uitslagtotaal,2,FALSE))","v":""},null,null,null,null,{"$error":"#VALUE!"},{"$error":"#VALUE!"},{"$error":"#VALUE!"}]
[null,null,null,null,null,null,null,null,null,null,null,null,null,null,null,null,null,null,181,{"$f":"VLOOKUP($S182,Schema,Werk1!$Q$2,FALSE)","v":{"$error":"#VALUE!"}},{"$f":"VLOOKUP($S182,Schema,Werk1!$R$2,FALSE)","v":{"$error":"#VALUE!"}},{"$error":"#VALUE!"},{"$f":"COUNTIF(Uitslagen1!$C$2:$C$191,$V182&\"*\")","v":0},{"$f":"VLOOKUP($V182,Uitslagen1!$C$2:$T$191,17,FALSE)","v":{"$error":"#VALUE!"}},{"$f":"VLOOKUP($V182,Uitslagen1!$C$2:$T$191,18,FALSE)","v":{"$error":"#VALUE!"}},{"$f":"IF(W182=0,\"\",VLOOKUP(VLOOKUP($V182,Uitslagen1!$C$2:$X$191,22,FALSE),Uitslagtotaal,2,FALSE))","v":""},null,null,null,null,{"$error":"#VALUE!"},{"$error":"#VALUE!"},{"$error":"#VALUE!"}]
[null,null,null,null,null,null,null,null,null,null,null,null,null,null,null,null,null,null,182,{"$f":"VLOOKUP($S183,Schema,Werk1!$Q$2,FALSE)","v":{"$error":"#VALUE!"}},{"$f":"VLOOKUP($S183,Schema,Werk1!$R$2,FALSE)","v":{"$error":"#VALUE!"}},{"$error":"#VALUE!"},{"$f":"COUNTIF(Uitslagen1!$C$2:$C$191,$V183&\"*\")","v":0},{"$f":"VLOOKUP($V183,Uitslagen1!$C$2:$T$191,17,FALSE)","v":{"$error":"#VALUE!"}},{"$f":"VLOOKUP($V183,Uitslagen1!$C$2:$T$191,18,FALSE)","v":{"$error":"#VALUE!"}},{"$f":"IF(W183=0,\"\",VLOOKUP(VLOOKUP($V183,Uitslagen1!$C$2:$X$191,22,FALSE),Uitslagtotaal,2,FALSE))","v":""},null,null,null,null,{"$error":"#VALUE!"},{"$error":"#VALUE!"},{"$error":"#VALUE!"}]
[null,null,null,null,null,null,null,null,null,null,null,null,null,null,null,null,null,null,183,{"$f":"VLOOKUP($S184,Schema,Werk1!$Q$2,FALSE)","v":{"$error":"#VALUE!"}},{"$f":"VLOOKUP($S184,Schema,Werk1!$R$2,FALSE)","v":{"$error":"#VALUE!"}},{"$error":"#VALUE!"},{"$f":"COUNTIF(Uitslagen1!$C$2:$C$191,$V184&\"*\")","v":0},{"$f":"VLOOKUP($V184,Uitslagen1!$C$2:$T$191,17,FALSE)","v":{"$error":"#VALUE!"}},{"$f":"VLOOKUP($V184,Uitslagen1!$C$2:$T$191,18,FALSE)","v":{"$error":"#VALUE!"}},{"$f":"IF(W184=0,\"\",VLOOKUP(VLOOKUP($V184,Uitslagen1!$C$2:$X$191,22,FALSE),Uitslagtotaal,2,FALSE))","v":""},null,null,null,null,{"$error":"#VALUE!"},{"$error":"#VALUE!"},{"$error":"#VALUE!"}]
[null,null,null,null,null,null,null,null,null,null,null,null,null,null,null,null,null,null,184,{"$f":"VLOOKUP($S185,Schema,Werk1!$Q$2,FALSE)","v":{"$error":"#VALUE!"}},{"$f":"VLOOKUP($S185,Schema,Werk1!$R$2,FALSE)","v":{"$error":"#VALUE!"}},{"$error":"#VALUE!"},{"$f":"COUNTIF(Uitslagen1!$C$2:$C$191,$V185&\"*\")","v":0},{"$f":"VLOOKUP($V185,Uitslagen1!$C$2:$T$191,17,FALSE)","v":{"$error":"#VALUE!"}},{"$f":"VLOOKUP($V185,Uitslagen1!$C$2:$T$191,18,FALSE)","v":{"$error":"#VALUE!"}},{"$f":"IF(W185=0,\"\",VLOOKUP(VLOOKUP($V185,Uitslagen1!$C$2:$X$191,22,FALSE),Uitslagtotaal,2,FALSE))","v":""},null,null,null,null,{"$error":"#VALUE!"},{"$error":"#VALUE!"},{"$error":"#VALUE!"}]
[null,null,null,null,null,null,null,null,null,null,null,null,null,null,null,null,null,null,185,{"$f":"VLOOKUP($S186,Schema,Werk1!$Q$2,FALSE)","v":{"$error":"#VALUE!"}},{"$f":"VLOOKUP($S186,Schema,Werk1!$R$2,FALSE)","v":{"$error":"#VALUE!"}},{"$error":"#VALUE!"},{"$f":"COUNTIF(Uitslagen1!$C$2:$C$191,$V186&\"*\")","v":0},{"$f":"VLOOKUP($V186,Uitslagen1!$C$2:$T$191,17,FALSE)","v":{"$error":"#VALUE!"}},{"$f":"VLOOKUP($V186,Uitslagen1!$C$2:$T$191,18,FALSE)","v":{"$error":"#VALUE!"}},{"$f":"IF(W186=0,\"\",VLOOKUP(VLOOKUP($V186,Uitslagen1!$C$2:$X$191,22,FALSE),Uitslagtotaal,2,FALSE))","v":""},null,null,null,null,{"$error":"#VALUE!"},{"$error":"#VALUE!"},{"$error":"#VALUE!"}]
[null,null,null,null,null,null,null,null,null,null,null,null,null,null,null,null,null,null,186,{"$f":"VLOOKUP($S187,Schema,Werk1!$Q$2,FALSE)","v":{"$error":"#VALUE!"}},{"$f":"VLOOKUP($S187,Schema,Werk1!$R$2,FALSE)","v":{"$error":"#VALUE!"}},{"$error":"#VALUE!"},{"$f":"COUNTIF(Uitslagen1!$C$2:$C$191,$V187&\"*\")","v":0},{"$f":"VLOOKUP($V187,Uitslagen1!$C$2:$T$191,17,FALSE)","v":{"$error":"#VALUE!"}},{"$f":"VLOOKUP($V187,Uitslagen1!$C$2:$T$191,18,FALSE)","v":{"$error":"#VALUE!"}},{"$f":"IF(W187=0,\"\",VLOOKUP(VLOOKUP($V187,Uitslagen1!$C$2:$X$191,22,FALSE),Uitslagtotaal,2,FALSE))","v":""},null,null,null,null,{"$error":"#VALUE!"},{"$error":"#VALUE!"},{"$error":"#VALUE!"}]
[null,null,null,null,null,null,null,null,null,null,null,null,null,null,null,null,null,null,187,{"$f":"VLOOKUP($S188,Schema,Werk1!$Q$2,FALSE)","v":{"$error":"#VALUE!"}},{"$f":"VLOOKUP($S188,Schema,Werk1!$R$2,FALSE)","v":{"$error":"#VALUE!"}},{"$error":"#VALUE!"},{"$f":"COUNTIF(Uitslagen1!$C$2:$C$191,$V188&\"*\")","v":0},{"$f":"VLOOKUP($V188,Uitslagen1!$C$2:$T$191,17,FALSE)","v":{"$error":"#VALUE!"}},{"$f":"VLOOKUP($V188,Uitslagen1!$C$2:$T$191,18,FALSE)","v":{"$error":"#VALUE!"}},{"$f":"IF(W188=0,\"\",VLOOKUP(VLOOKUP($V188,Uitslagen1!$C$2:$X$191,22,FALSE),Uitslagtotaal,2,FALSE))","v":""},null,null,null,null,{"$error":"#VALUE!"},{"$error":"#VALUE!"},{"$error":"#VALUE!"}]
[null,null,null,null,null,null,null,null,null,null,null,null,null,null,null,null,null,null,188,{"$f":"VLOOKUP($S189,Schema,Werk1!$Q$2,FALSE)","v":{"$error":"#VALUE!"}},{"$f":"VLOOKUP($S189,Schema,Werk1!$R$2,FALSE)","v":{"$error":"#VALUE!"}},{"$error":"#VALUE!"},{"$f":"COUNTIF(Uitslagen1!$C$2:$C$191,$V189&\"*\")","v":0},{"$f":"VLOOKUP($V189,Uitslagen1!$C$2:$T$191,17,FALSE)","v":{"$error":"#VALUE!"}},{"$f":"VLOOKUP($V189,Uitslagen1!$C$2:$T$191,18,FALSE)","v":{"$error":"#VALUE!"}},{"$f":"IF(W189=0,\"\",VLOOKUP(VLOOKUP($V189,Uitslagen1!$C$2:$X$191,22,FALSE),Uitslagtotaal,2,FALSE))","v":""},null,null,null,null,{"$error":"#VALUE!"},{"$error":"#VALUE!"},{"$error":"#VALUE!"}]
[null,null,null,null,null,null,null,null,null,null,null,null,null,null,null,null,null,null,189,{"$f":"VLOOKUP($S190,Schema,Werk1!$Q$2,FALSE)","v":{"$error":"#VALUE!"}},{"$f":"VLOOKUP($S190,Schema,Werk1!$R$2,FALSE)","v":{"$error":"#VALUE!"}},{"$error":"#VALUE!"},{"$f":"COUNTIF(Uitslagen1!$C$2:$C$191,$V190&\"*\")","v":0},{"$f":"VLOOKUP($V190,Uitslagen1!$C$2:$T$191,17,FALSE)","v":{"$error":"#VALUE!"}},{"$f":"VLOOKUP($V190,Uitslagen1!$C$2:$T$191,18,FALSE)","v":{"$error":"#VALUE!"}},{"$f":"IF(W190=0,\"\",VLOOKUP(VLOOKUP($V190,Uitslagen1!$C$2:$X$191,22,FALSE),Uitslagtotaal,2,FALSE))","v":""},null,null,null,null,{"$error":"#VALUE!"},{"$error":"#VALUE!"},{"$error":"#VALUE!"}]
[null,null,null,null,null,null,null,null,null,null,null,null,null,null,null,null,null,null,190,{"$f":"VLOOKUP($S191,Schema,Werk1!$Q$2,FALSE)","v":{"$error":"#VALUE!"}},{"$f":"VLOOKUP($S191,Schema,Werk1!$R$2,FALSE)","v":{"$error":"#VALUE!"}},{"$error":"#VALUE!"},{"$f":"COUNTIF(Uitslagen1!$C$2:$C$191,$V191&\"*\")","v":0},{"$f":"VLOOKUP($V191,Uitslagen1!$C$2:$T$191,17,FALSE)","v":{"$error":"#VALUE!"}},{"$f":"VLOOKUP($V191,Uitslagen1!$C$2:$T$191,18,FALSE)","v":{"$error":"#VALUE!"}},{"$f":"IF(W191=0,\"\",VLOOKUP(VLOOKUP($V191,Uitslagen1!$C$2:$X$191,22,FALSE),Uitslagtotaal,2,FALSE))","v":""},null,null,null,null,{"$error":"#VALUE!"},{"$error":"#VALUE!"},{"$error":"#VALUE!"}]

{"sheet":"Import","index":8,"n_rows":38,"n_cols":22,"rows_kept":38,"cut":false,"hidden":true,"merged":[[24,1,24,9],[28,1,28,2]]}
["Import leden","Oorspronkelijk",null,"Nieuwe getallen",null,null,null,null,null,null,null,null,null,null,null,null,null,null,null,null,null,"Oorspronkelijk"]
["Naam","Caramaboles","Gemiddelde","Comp.tot","Gem.Tot","Comp.5","Gem. 5",null,null,null,null,null,null,null,null,null,null,null,null,null,null,"Gehele competitie"]
[null,null,null,null,null,null,null,null,null,null,null,null,null,null,null,null,null,null,null,null,null,"Laatste 5 wedstrijden"]
[]
[]
[]
[]
[]
[]
[]
[]
[]
[]
[]
[]
[]
[]
[]
[]
[]
[]
[]
[]
[null,null,null,null,null,null,null,null,null,null,null,null,null,null,null,null,null,null,null,null,null,"Help"]
[null,"Geen bestand geselecteerd",null,null,null,null,null,null,null,null,null,null,null,null,null,null,null,null,null,null,null,"KWJbil_v17.0.0_tester.xlsm"]
[]
["Welke gegevens:",2,"    1 = alleen ledennamen en scores (geen uitslagen!!)"]
[null,null,"    2 = ledennamen uitslagen etc. (alles!!!)",null,null,null," ==> bij deze keus doet soort score er niet toe. ",null,null,null," Immers dan wordt de huidige (mogelijk nog niet afgeronde) competitie in de actuele situatie ingelezen (om eventueel verder te gaan!! "]
["Soort score:","Oorspronkelijk",null,{"$f":"IF(scoreimport=2,\"Gehele comptitie wordt ingelezen, incl. uitslagen, dan is soort score altijd \"&V1,\"U heeft de keus uit: \"&V1&\" ; \"&V2 &\" ; \"&V3)","v":"Gehele comptitie wordt ingelezen, incl. uitslagen, dan is soort score altijd Oorspronkelijk"}]
[]
[]
[]
[]
["D.m.v. deze  keuzes heeft u de mogelijkheid gegevens van een ander (deels of volledig uitgespeeld) bestand in te lezen."]
["Alle namen met scores worden ingelezen. Dus u kunt niet leden individueel selecteren."]
["Bij Welke gegevens kun je kiezen voor 1 of 2. Bij 2 wordt in principe alles ingelezen, zoals die er op dat moment uitziet. Is dus de optie om, bijvoorbeeld, te importeren in een nieuwe versie!!"]
["Bij de  Soort scores heeft u de mogelijkheid van de oorspronkelijk ingebrachte scores,  gehele competitie van de te importeren gegevens of de score van de laatste 5 gespeelde wedstrijden."]
["Default kun je het beste uitgaan van bij Welke gegevens de keus 2 en bij Soort score Oorspronkelijk"]

{"sheet":"Leden","index":9,"n_rows":22,"n_cols":42,"rows_kept":22,"cut":false,"hidden":true,"merged":[[0,11,0,12]]}
[null,null,null,null,null,null,null,null,null,null,null,"Caramboles",null,"Gemid.","Max.Aantal","Inactieve",null,"Wedstrijden","In",null,"Niet in programm","Hulpveld",null,null,null,null,null,null,null,null,null,null,null,null,null,null,null,null,null,null,"Hulpvelden tbv"]
["Naam","Nr.","Caramaboles","Gemiddelde","gespeeld","gewonnen","gelijk","verloren","punten","gemiddelde","hoogste","Gehele comp","Laatste 5","Laatste 5","wedstrijden","Leden",{"$f":"COUNTIF(I3:I22,-1)","v":0},"niet","Programma","Naam",{"$f":"+COUNTIF(S3:S22,\"nee\")","v":0},1,"1= normaal",null,null,null,null,null,null,null,null,null,null,null,null,null,null,null,null,null,"buiten programma"]
[null,{"$f":"IF(A3=\"\",\"\",1)","v":""},null,null,null,null,null,null,null,null,null,null,null,null,{"$f":"IF(A3=\"\",\"\",0)","v":""},null,null,0,null,{"$f":"IF(A3=\"\",\"\",A3)","v":""},null,null,"2 = komt uit programma opstellen",null,null,null,null,null,null,null,null,null,null,null,null,null,null,null,null,null,{"$f":"IF(A3=\"\",\"nvt\",\"ja\")","v":"nvt"},{"$f":"IF(A3=\"\",\"nvt\",IF(I3>-1,\"nee\",\"ja\"))","v":"nvt"}]
[null,{"$f":"IF(A4=\"\",\"\",B3+1)","v":""},null,null,null,null,null,null,null,null,null,null,null,null,{"$f":"IF(A4=\"\",\"\",1-R4)","v":""},null,null,{"$f":"IF(A4=\"\",\"\",IF(A5=\"\",B3*$Q$2,0))","v":""},null,{"$f":"IF(A4=\"\",\"\",A4)","v":""},null,null,"3 = komt uit wedstrijdlijst opstellen",null,null,null,null,null,null,null,null,null,null,null,null,null,null,null,null,null,{"$f":"IF(A4=\"\",\"nvt\",\"ja\")","v":"nvt"},{"$f":"IF(A4=\"\",\"nvt\",IF(I4>-1,\"nee\",\"ja\"))","v":"nvt"}]
[null,"",null,null,null,null,null,null,null,null,null,null,null,null,{"$f":"IF(A5=\"\",\"\",O4+B4-R5)","v":""},null,null,{"$f":"IF(A5=\"\",\"\",IF(A6=\"\",B4*$Q$2,0))","v":""},null,"",null,null,null,null,null,null,null,null,null,null,null,null,null,null,null,null,null,null,null,null,"nvt","nvt"]
[null,"",null,null,null,null,null,null,null,null,null,null,null,null,{"$f":"IF(A6=\"\",\"\",O5+B5-R6)","v":""},null,null,"",null,"",null,null,null,null,null,null,null,null,null,null,null,null,null,null,null,null,null,null,null,null,"nvt","nvt"]
[null,"",null,null,null,null,null,null,null,null,null,null,null,null,"",null,null,"",null,"",null,null,null,null,null,null,null,null,null,null,null,null,null,null,null,null,null,null,null,null,"nvt","nvt"]
[null,"",null,null,null,null,null,null,null,null,null,null,null,null,"",null,null,"",null,"",null,null,null,null,null,null,null,null,null,null,null,null,null,null,null,null,null,null,null,null,"nvt","nvt"]
[null,"",null,null,null,null,null,null,null,null,null,null,null,null,"",null,null,"",null,"",null,null,null,null,null,null,null,null,null,null,null,null,null,null,null,null,null,null,null,null,"nvt","nvt"]
[null,"",null,null,null,null,null,null,null,null,null,null,null,null,"",null,null,"",null,"",null,null,null,null,null,null,null,null,null,null,null,null,null,null,null,null,null,null,null,null,"nvt","nvt"]
[null,"",null,null,null,null,null,null,null,null,null,null,null,null,"",null,null,"",null,"",null,null,null,null,null,null,null,null,null,null,null,null,null,null,null,null,null,null,null,null,"nvt","nvt"]
[null,"",null,null,null,null,null,null,null,null,null,null,null,null,"",null,null,"",null,"",null,null,null,null,null,null,null,null,null,null,null,null,null,null,null,null,null,null,null,null,"nvt","nvt"]
[null,"",null,null,null,null,null,null,null,null,null,null,null,null,"",null,null,"",null,"",null,null,null,null,null,null,null,null,null,null,null,null,null,null,null,null,null,null,null,null,"nvt","nvt"]
[null,"",null,null,null,null,null,null,null,null,null,null,null,null,"",null,null,"",null,"",null,null,null,null,null,null,null,null,null,null,null,null,null,null,null,null,null,null,null,null,"nvt","nvt"]
[null,"",null,null,null,null,null,null,null,null,null,null,null,null,"",null,null,"",null,"",null,null,null,null,null,null,null,null,null,null,null,null,null,null,null,null,null,null,null,null,"nvt","nvt"]
[null,"",null,null,null,null,null,null,null,null,null,null,null,null,"",null,null,"",null,"",null,null,null,null,null,null,null,null,null,null,null,null,null,null,null,null,null,null,null,null,"nvt","nvt"]
[null,"",null,null,null,null,null,null,null,null,null,null,null,null,"",null,null,"",null,"",null,null,null,null,null,null,null,null,null,null,null,null,null,null,null,null,null,null,null,null,"nvt","nvt"]
[null,"",null,null,null,null,null,null,null,null,null,null,null,null,"",null,null,"",null,"",null,null,null,null,null,null,null,null,null,null,null,null,null,null,null,null,null,null,null,null,"nvt","nvt"]
[null,"",null,null,null,null,null,null,null,null,null,null,null,null,"",null,null,"",null,"",null,null,null,null,null,null,null,null,null,null,null,null,null,null,null,null,null,null,null,null,"nvt","nvt"]
[null,"",null,null,null,null,null,null,null,null,null,null,null,null,"",null,null,"",null,"",null,null,null,null,null,null,null,null,null,null,null,null,null,null,null,null,null,null,null,null,"nvt","nvt"]
[null,"",null,null,null,null,null,null,null,null,null,null,null,null,"",null,null,"",null,"",null,null,null,null,null,null,null,null,null,null,null,null,null,null,null,null,null,null,null,null,"nvt","nvt"]
[null,"",null,null,null,null,null,null,null,null,null,null,null,null,"",null,null,"",null,"",null,null,null,null,null,null,null,null,null,null,null,null,null,null,null,null,null,null,null,null,"nvt","nvt"]

{"sheet":"Schema1","index":10,"n_rows":52,"n_cols":45,"rows_kept":52,"cut":false,"hidden":true,"merged":[[26,3,26,10],[27,3,27,10],[28,3,28,10],[29,3,29,10],[0,2,0,10],[25,3,25,10]]}
["Schema: ",null,{"$f":"Instellingen!J5","v":0},null,null,null,null,null,null,null,null,null,null,null,null,null,null,null,null,null,null,null,null,null,"Voor de voorwaardelijke opmaak!!!"]
[null,null,"Caramboles",{"$f":"CONCATENATE(\" \",VLOOKUP(D3,Werk1!$AA$2:$AB$21,2,FALSE))","v":{"$error":"#N/A"}},{"$f":"CONCATENATE(\" \",VLOOKUP(E3,Werk1!$AA$2:$AB$21,2,FALSE))","v":{"$error":"#N/A"}},{"$f":"CONCATENATE(\" \",VLOOKUP(F3,Werk1!$AA$2:$AB$21,2,FALSE))","v":{"$error":"#N/A"}},{"$f":"CONCATENATE(\" \",VLOOKUP(G3,Werk1!$AA$2:$AB$21,2,FALSE))","v":{"$error":"#N/A"}},{"$f":"CONCATENATE(\" \",VLOOKUP(H3,Werk1!$AA$2:$AB$21,2,FALSE))","v":{"$error":"#N/A"}},{"$f":"CONCATENATE(\" \",VLOOKUP(I3,Werk1!$AA$2:$AB$21,2,FALSE))","v":{"$error":"#N/A"}},{"$f":"CONCATENATE(\" \",VLOOKUP(J3,Werk1!$AA$2:$AB$21,2,FALSE))","v":{"$error":"#N/A"}},{"$f":"CONCATENATE(\" \",VLOOKUP(K3,Werk1!$AA$2:$AB$21,2,FALSE))","v":{"$error":"#N/A"}},{"$f":"CONCATENATE(\" \",VLOOKUP(L3,Werk1!$AA$2:$AB$21,2,FALSE))","v":{"$error":"#N/A"}},{"$f":"CONCATENATE(\" \",VLOOKUP(M3,Werk1!$AA$2:$AB$21,2,FALSE))","v":{"$error":"#N/A"}},{"$f":"CONCATENATE(\" \",VLOOKUP(N3,Werk1!$AA$2:$AB$21,2,FALSE))","v":{"$error":"#N/A"}},{"$f":"CONCATENATE(\" \",VLOOKUP(O3,Werk1!$AA$2:$AB$21,2,FALSE))","v":{"$error":"#N/A"}},{"$f":"CONCATENATE(\" \",VLOOKUP(P3,Werk1!$AA$2:$AB$21,2,FALSE))","v":{"$error":"#N/A"}},{"$f":"CONCATENATE(\" \",VLOOKUP(Q3,Werk1!$AA$2:$AB$21,2,FALSE))","v":{"$error":"#N/A"}},{"$f":"CONCATENATE(\" \",VLOOKUP(R3,Werk1!$AA$2:$AB$21,2,FALSE))","v":{"$error":"#N/A"}},{"$f":"CONCATENATE(\" \",VLOOKUP(S3,Werk1!$AA$2:$AB$21,2,FALSE))","v":{"$error":"#N/A"}},{"$f":"CONCATENATE(\" \",VLOOKUP(T3,Werk1!$AA$2:$AB$21,2,FALSE))","v":{"$error":"#N/A"}},{"$f":"CONCATENATE(\" \",VLOOKUP(U3,Werk1!$AA$2:$AB$21,2,FALSE))","v":{"$error":"#N/A"}},{"$f":"CONCATENATE(\" \",VLOOKUP(V3,Werk1!$AA$2:$AB$21,2,FALSE))","v":{"$error":"#N/A"}},{"$f":"CONCATENATE(\" \",VLOOKUP(W3,Werk1!$AA$2:$AB$21,2,FALSE))","v":{"$error":"#N/A"}},null,null,null,null,null,null,null,null,null,null,null,null,null,null,null,null,null,null,null,null,null,"Lid inactief"]
[null,null,"Caramb.",1,{"$f":"D3+1","v":2},3,4,5,6,7,8,9,10,11,12,13,14,15,16,17,18,19,{"$f":"V3+1","v":20}]
[{"$f":"CONCATENATE(VLOOKUP(B4,Werk1!$AA$2:$AB$21,2,FALSE),\" \")","v":{"$error":"#N/A"}},1,{"$f":"IF(A4=\"\",\"--\",IF($AS4=1,\"XX\",VLOOKUP(B4,Leden!$B$3:$C$22,2,FALSE)))","v":{"$error":"#N/A"}},null,{"$f":"IF(E$2=\" \",\"--\",IF($AS4=1,\"XX\",IF(E$25=1,\"XX\",IF(VLOOKUP(CONCATENATE($B4,\"-\",E$3),Werk1!$V$2:$W$191,2,FALSE)=1,VLOOKUP(CONCATENATE($B4,\"-\",E$3),Uitslag,VLOOKUP(CONCATENATE($B4,\"-\",E$3),Werk1!$V$2:$Y$191,4,FALSE),FALSE),\"\"))))","v":{"$error":"#N/A"}},{"$f":"IF(F$2=\" \",\"--\",IF($AS4=1,\"XX\",IF(F$25=1,\"XX\",IF(VLOOKUP(CONCATENATE($B4,\"-\",F$3),Werk1!$V$2:$W$191,2,FALSE)=1,VLOOKUP(CONCATENATE($B4,\"-\",F$3),Uitslag,VLOOKUP(CONCATENATE($B4,\"-\",F$3),Werk1!$V$2:$Y$191,4,FALSE),FALSE),\"\"))))","v":{"$error":"#N/A"}},{"$f":"IF(G$2=\" \",\"--\",IF($AS4=1,\"XX\",IF(G$25=1,\"XX\",IF(VLOOKUP(CONCATENATE($B4,\"-\",G$3),Werk1!$V$2:$W$191,2,FALSE)=1,VLOOKUP(CONCATENATE($B4,\"-\",G$3),Uitslag,VLOOKUP(CONCATENATE($B4,\"-\",G$3),Werk1!$V$2:$Y$191,4,FALSE),FALSE),\"\"))))","v":{"$error":"#N/A"}},{"$f":"IF(H$2=\" \",\"--\",IF($AS4=1,\"XX\",IF(H$25=1,\"XX\",IF(VLOOKUP(CONCATENATE($B4,\"-\",H$3),Werk1!$V$2:$W$191,2,FALSE)=1,VLOOKUP(CONCATENATE($B4,\"-\",H$3),Uitslag,VLOOKUP(CONCATENATE($B4,\"-\",H$3),Werk1!$V$2:$Y$191,4,FALSE),FALSE),\"\"))))","v":{"$error":"#N/A"}},{"$f":"IF(I$2=\" \",\"--\",IF($AS4=1,\"XX\",IF(I$25=1,\"XX\",IF(VLOOKUP(CONCATENATE($B4,\"-\",I$3),Werk1!$V$2:$W$191,2,FALSE)=1,VLOOKUP(CONCATENATE($B4,\"-\",I$3),Uitslag,VLOOKUP(CONCATENATE($B4,\"-\",I$3),Werk1!$V$2:$Y$191,4,FALSE),FALSE),\"\"))))","v":{"$error":"#N/A"}},{"$f":"IF(J$2=\" \",\"--\",IF($AS4=1,\"XX\",IF(J$25=1,\"XX\",IF(VLOOKUP(CONCATENATE($B4,\"-\",J$3),Werk1!$V$2:$W$191,2,FALSE)=1,VLOOKUP(CONCATENATE($B4,\"-\",J$3),Uitslag,VLOOKUP(CONCATENATE($B4,\"-\",J$3),Werk1!$V$2:$Y$191,4,FALSE),FALSE),\"\"))))","v":{"$error":"#N/A"}},{"$f":"IF(K$2=\" \",\"--\",IF($AS4=1,\"XX\",IF(K$25=1,\"XX\",IF(VLOOKUP(CONCATENATE($B4,\"-\",K$3),Werk1!$V$2:$W$191,2,FALSE)=1,VLOOKUP(CONCATENATE($B4,\"-\",K$3),Uitslag,VLOOKUP(CONCATENATE($B4,\"-\",K$3),Werk1!$V$2:$Y$191,4,FALSE),FALSE),\"\"))))","v":{"$error":"#N/A"}},{"$f":"IF(L$2=\" \",\"--\",IF($AS4=1,\"XX\",IF(L$25=1,\"XX\",IF(VLOOKUP(CONCATENATE($B4,\"-\",L$3),Werk1!$V$2:$W$191,2,FALSE)=1,VLOOKUP(CONCATENATE($B4,\"-\",L$3),Uitslag,VLOOKUP(CONCATENATE($B4,\"-\",L$3),Werk1!$V$2:$Y$191,4,FALSE),FALSE),\"\"))))","v":{"$error":"#N/A"}},{"$f":"IF(M$2=\" \",\"--\",IF($AS4=1,\"XX\",IF(M$25=1,\"XX\",IF(VLOOKUP(CONCATENATE($B4,\"-\",M$3),Werk1!$V$2:$W$191,2,FALSE)=1,VLOOKUP(CONCATENATE($B4,\"-\",M$3),Uitslag,VLOOKUP(CONCATENATE($B4,\"-\",M$3),Werk1!$V$2:$Y$191,4,FALSE),FALSE),\"\"))))","v":{"$error":"#N/A"}},{"$f":"IF(N$2=\" \",\"--\",IF($AS4=1,\"XX\",IF(N$25=1,\"XX\",IF(VLOOKUP(CONCATENATE($B4,\"-\",N$3),Werk1!$V$2:$W$191,2,FALSE)=1,VLOOKUP(CONCATENATE($B4,\"-\",N$3),Uitslag,VLOOKUP(CONCATENATE($B4,\"-\",N$3),Werk1!$V$2:$Y$191,4,FALSE),FALSE),\"\"))))","v":{"$error":"#N/A"}},{"$f":"IF(O$2=\" \",\"--\",IF($AS4=1,\"XX\",IF(O$25=1,\"XX\",IF(VLOOKUP(CONCATENATE($B4,\"-\",O$3),Werk1!$V$2:$W$191,2,FALSE)=1,VLOOKUP(CONCATENATE($B4,\"-\",O$3),Uitslag,VLOOKUP(CONCATENATE($B4,\"-\",O$3),Werk1!$V$2:$Y$191,4,FALSE),FALSE),\"\"))))","v":{"$error":"#N/A"}},{"$f":"IF(P$2=\" \",\"--\",IF($AS4=1,\"XX\",IF(P$25=1,\"XX\",IF(VLOOKUP(CONCATENATE($B4,\"-\",P$3),Werk1!$V$2:$W$191,2,FALSE)=1,VLOOKUP(CONCATENATE($B4,\"-\",P$3),Uitslag,VLOOKUP(CONCATENATE($B4,\"-\",P$3),Werk1!$V$2:$Y$191,4,FALSE),FALSE),\"\"))))","v":{"$error":"#N/A"}},{"$f":"IF(Q$2=\" \",\"--\",IF($AS4=1,\"XX\",IF(Q$25=1,\"XX\",IF(VLOOKUP(CONCATENATE($B4,\"-\",Q$3),Werk1!$V$2:$W$191,2,FALSE)=1,VLOOKUP(CONCATENATE($B4,\"-\",Q$3),Uitslag,VLOOKUP(CONCATENATE($B4,\"-\",Q$3),Werk1!$V$2:$Y$191,4,FALSE),FALSE),\"\"))))","v":{"$error":"#N/A"}},{"$f":"IF(R$2=\" \",\"--\",IF($AS4=1,\"XX\",IF(R$25=1,\"XX\",IF(VLOOKUP(CONCATENATE($B4,\"-\",R$3),Werk1!$V$2:$W$191,2,FALSE)=1,VLOOKUP(CONCATENATE($B4,\"-\",R$3),Uitslag,VLOOKUP(CONCATENATE($B4,\"-\",R$3),Werk1!$V$2:$Y$191,4,FALSE),FALSE),\"\"))))","v":{"$error":"#N/A"}},{"$f":"IF(S$2=\" \",\"--\",IF($AS4=1,\"XX\",IF(S$25=1,\"XX\",IF(VLOOKUP(CONCATENATE($B4,\"-\",S$3),Werk1!$V$2:$W$191,2,FALSE)=1,VLOOKUP(CONCATENATE($B4,\"-\",S$3),Uitslag,VLOOKUP(CONCATENATE($B4,\"-\",S$3),Werk1!$V$2:$Y$191,4,FALSE),FALSE),\"\"))))","v":{"$error":"#N/A"}},{"$f":"IF(T$2=\" \",\"--\",IF($AS4=1,\"XX\",IF(T$25=1,\"XX\",IF(VLOOKUP(CONCATENATE($B4,\"-\",T$3),Werk1!$V$2:$W$191,2,FALSE)=1,VLOOKUP(CONCATENATE($B4,\"-\",T$3),Uitslag,VLOOKUP(CONCATENATE($B4,\"-\",T$3),Werk1!$V$2:$Y$191,4,FALSE),FALSE),\"\"))))","v":{"$error":"#N/A"}},{"$f":"IF(U$2=\" \",\"--\",IF($AS4=1,\"XX\",IF(U$25=1,\"XX\",IF(VLOOKUP(CONCATENATE($B4,\"-\",U$3),Werk1!$V$2:$W$191,2,FALSE)=1,VLOOKUP(CONCATENATE($B4,\"-\",U$3),Uitslag,VLOOKUP(CONCATENATE($B4,\"-\",U$3),Werk1!$V$2:$Y$191,4,FALSE),FALSE),\"\"))))","v":{"$error":"#N/A"}},{"$f":"IF(V$2=\" \",\"--\",IF($AS4=1,\"XX\",IF(V$25=1,\"XX\",IF(VLOOKUP(CONCATENATE($B4,\"-\",V$3),Werk1!$V$2:$W$191,2,FALSE)=1,VLOOKUP(CONCATENATE($B4,\"-\",V$3),Uitslag,VLOOKUP(CONCATENATE($B4,\"-\",V$3),Werk1!$V$2:$Y$191,4,FALSE),FALSE),\"\"))))","v":{"$error":"#N/A"}},{"$f":"IF(W$2=\" \",\"--\",IF($AS4=1,\"XX\",IF(W$25=1,\"XX\",IF(VLOOKUP(CONCATENATE($B4,\"-\",W$3),Werk1!$V$2:$W$191,2,FALSE)=1,VLOOKUP(CONCATENATE($B4,\"-\",W$3),Uitslag,VLOOKUP(CONCATENATE($B4,\"-\",W$3),Werk1!$V$2:$Y$191,4,FALSE),FALSE),\"\"))))","v":{"$error":"#N/A"}},null,null,{"$f":"IF(E$2=\"\",\"--\",IF(VLOOKUP(CONCATENATE($B4,\"-\",E$3),Werk1!$V$2:$W$191,2,FALSE)=1,VLOOKUP(CONCATENATE($B4,\"-\",E$3),Uitslag,(VLOOKUP(CONCATENATE($B4,\"-\",E$3),Werk1!$AE$2:$AG$191,2,FALSE)),FALSE),\"\"))","v":{"$error":"#N/A"}},{"$f":"IF(F$2=\"\",\"--\",IF(VLOOKUP(CONCATENATE($B4,\"-\",F$3),Werk1!$V$2:$W$191,2,FALSE)=1,VLOOKUP(CONCATENATE($B4,\"-\",F$3),Uitslag,(VLOOKUP(CONCATENATE($B4,\"-\",F$3),Werk1!$AE$2:$AG$191,2,FALSE)),FALSE),\"\"))","v":{"$error":"#N/A"}},{"$f":"IF(G$2=\"\",\"--\",IF(VLOOKUP(CONCATENATE($B4,\"-\",G$3),Werk1!$V$2:$W$191,2,FALSE)=1,VLOOKUP(CONCATENATE($B4,\"-\",G$3),Uitslag,(VLOOKUP(CONCATENATE($B4,\"-\",G$3),Werk1!$AE$2:$AG$191,2,FALSE)),FALSE),\"\"))","v":{"$error":"#N/A"}},{"$f":"IF(H$2=\"\",\"--\",IF(VLOOKUP(CONCATENATE($B4,\"-\",H$3),Werk1!$V$2:$W$191,2,FALSE)=1,VLOOKUP(CONCATENATE($B4,\"-\",H$3),Uitslag,(VLOOKUP(CONCATENATE($B4,\"-\",H$3),Werk1!$AE$2:$AG$191,2,FALSE)),FALSE),\"\"))","v":{"$error":"#N/A"}},{"$f":"IF(I$2=\"\",\"--\",IF(VLOOKUP(CONCATENATE($B4,\"-\",I$3),Werk1!$V$2:$W$191,2,FALSE)=1,VLOOKUP(CONCATENATE($B4,\"-\",I$3),Uitslag,(VLOOKUP(CONCATENATE($B4,\"-\",I$3),Werk1!$AE$2:$AG$191,2,FALSE)),FALSE),\"\"))","v":{"$error":"#N/A"}},{"$f":"IF(J$2=\"\",\"--\",IF(VLOOKUP(CONCATENATE($B4,\"-\",J$3),Werk1!$V$2:$W$191,2,FALSE)=1,VLOOKUP(CONCATENATE($B4,\"-\",J$3),Uitslag,(VLOOKUP(CONCATENATE($B4,\"-\",J$3),Werk1!$AE$2:$AG$191,2,FALSE)),FALSE),\"\"))","v":{"$error":"#N/A"}},{"$f":"IF(K$2=\"\",\"--\",IF(VLOOKUP(CONCATENATE($B4,\"-\",K$3),Werk1!$V$2:$W$191,2,FALSE)=1,VLOOKUP(CONCATENATE($B4,\"-\",K$3),Uitslag,(VLOOKUP(CONCATENATE($B4,\"-\",K$3),Werk1!$AE$2:$AG$191,2,FALSE)),FALSE),\"\"))","v":{"$error":"#N/A"}},{"$f":"IF(L$2=\"\",\"--\",IF(VLOOKUP(CONCATENATE($B4,\"-\",L$3),Werk1!$V$2:$W$191,2,FALSE)=1,VLOOKUP(CONCATENATE($B4,\"-\",L$3),Uitslag,(VLOOKUP(CONCATENATE($B4,\"-\",L$3),Werk1!$AE$2:$AG$191,2,FALSE)),FALSE),\"\"))","v":{"$error":"#N/A"}},{"$f":"IF(M$2=\"\",\"--\",IF(VLOOKUP(CONCATENATE($B4,\"-\",M$3),Werk1!$V$2:$W$191,2,FALSE)=1,VLOOKUP(CONCATENATE($B4,\"-\",M$3),Uitslag,(VLOOKUP(CONCATENATE($B4,\"-\",M$3),Werk1!$AE$2:$AG$191,2,FALSE)),FALSE),\"\"))","v":{"$error":"#N/A"}},{"$f":"IF(N$2=\"\",\"--\",IF(VLOOKUP(CONCATENATE($B4,\"-\",N$3),Werk1!$V$2:$W$191,2,FALSE)=1,VLOOKUP(CONCATENATE($B4,\"-\",N$3),Uitslag,(VLOOKUP(CONCATENATE($B4,\"-\",N$3),Werk1!$AE$2:$AG$191,2,FALSE)),FALSE),\"\"))","v":{"$error":"#N/A"}},{"$f":"IF(O$2=\"\",\"--\",IF(VLOOKUP(CONCATENATE($B4,\"-\",O$3),Werk1!$V$2:$W$191,2,FALSE)=1,VLOOKUP(CONCATENATE($B4,\"-\",O$3),Uitslag,(VLOOKUP(CONCATENATE($B4,\"-\",O$3),Werk1!$AE$2:$AG$191,2,FALSE)),FALSE),\"\"))","v":{"$error":"#N/A"}},{"$f":"IF(P$2=\"\",\"--\",IF(VLOOKUP(CONCATENATE($B4,\"-\",P$3),Werk1!$V$2:$W$191,2,FALSE)=1,VLOOKUP(CONCATENATE($B4,\"-\",P$3),Uitslag,(VLOOKUP(CONCATENATE($B4,\"-\",P$3),Werk1!$AE$2:$AG$191,2,FALSE)),FALSE),\"\"))","v":{"$error":"#N/A"}},{"$f":"IF(Q$2=\"\",\"--\",IF(VLOOKUP(CONCATENATE($B4,\"-\",Q$3),Werk1!$V$2:$W$191,2,FALSE)=1,VLOOKUP(CONCATENATE($B4,\"-\",Q$3),Uitslag,(VLOOKUP(CONCATENATE($B4,\"-\",Q$3),Werk1!$AE$2:$AG$191,2,FALSE)),FALSE),\"\"))","v":{"$error":"#N/A"}},{"$f":"IF(R$2=\"\",\"--\",IF(VLOOKUP(CONCATENATE($B4,\"-\",R$3),Werk1!$V$2:$W$191,2,FALSE)=1,VLOOKUP(CONCATENATE($B4,\"-\",R$3),Uitslag,(VLOOKUP(CONCATENATE($B4,\"-\",R$3),Werk1!$AE$2:$AG$191,2,FALSE)),FALSE),\"\"))","v":{"$error":"#N/A"}},{"$f":"IF(S$2=\"\",\"--\",IF(VLOOKUP(CONCATENATE($B4,\"-\",S$3),Werk1!$V$2:$W$191,2,FALSE)=1,VLOOKUP(CONCATENATE($B4,\"-\",S$3),Uitslag,(VLOOKUP(CONCATENATE($B4,\"-\",S$3),Werk1!$AE$2:$AG$191,2,FALSE)),FALSE),\"\"))","v":{"$error":"#N/A"}},{"$f":"IF(T$2=\"\",\"--\",IF(VLOOKUP(CONCATENATE($B4,\"-\",T$3),Werk1!$V$2:$W$191,2,FALSE)=1,VLOOKUP(CONCATENATE($B4,\"-\",T$3),Uitslag,(VLOOKUP(CONCATENATE($B4,\"-\",T$3),Werk1!$AE$2:$AG$191,2,FALSE)),FALSE),\"\"))","v":{"$error":"#N/A"}},{"$f":"IF(U$2=\"\",\"--\",IF(VLOOKUP(CONCATENATE($B4,\"-\",U$3),Werk1!$V$2:$W$191,2,FALSE)=1,VLOOKUP(CONCATENATE($B4,\"-\",U$3),Uitslag,(VLOOKUP(CONCATENATE($B4,\"-\",U$3),Werk1!$AE$2:$AG$191,2,FALSE)),FALSE),\"\"))","v":{"$error":"#N/A"}},{"$f":"IF(V$2=\"\",\"--\",IF(VLOOKUP(CONCATENATE($B4,\"-\",V$3),Werk1!$V$2:$W$191,2,FALSE)=1,VLOOKUP(CONCATENATE($B4,\"-\",V$3),Uitslag,(VLOOKUP(CONCATENATE($B4,\"-\",V$3),Werk1!$AE$2:$AG$191,2,FALSE)),FALSE),\"\"))","v":{"$error":"#N/A"}},{"$f":"IF(W$2=\"\",\"--\",IF(VLOOKUP(CONCATENATE($B4,\"-\",W$3),Werk1!$V$2:$W$191,2,FALSE)=1,VLOOKUP(CONCATENATE($B4,\"-\",W$3),Uitslag,(VLOOKUP(CONCATENATE($B4,\"-\",W$3),Werk1!$AE$2:$AG$191,2,FALSE)),FALSE),\"\"))","v":{"$error":"#N/A"}},{"$f":"IF(A4=\"\",0,IF(VLOOKUP(VLOOKUP(B4,Werk1!$AA$2:$AB$21,2,FALSE),Leden,9,FALSE)=-1,1,0))","v":{"$error":"#N/A"}}]
[{"$f":"CONCATENATE(VLOOKUP(B5,Werk1!$AA$2:$AB$21,2,FALSE),\" \")","v":{"$error":"#N/A"}},{"$f":"B4+1","v":2},{"$f":"IF(A5=\"\",\"--\",IF($AS5=1,\"XX\",VLOOKUP(B5,Leden!$B$3:$C$22,2,FALSE)))","v":{"$error":"#N/A"}},{"$f":"IF($A5=\" \",\"--\",IF($AS5=1,\"XX\",IF(D$25=1,\"XX\",IF(VLOOKUP(CONCATENATE(D$3,\"-\",$B5),Werk1!$V$2:$W$191,2,FALSE)=1,VLOOKUP(CONCATENATE(D$3,\"-\",$B5),Uitslag,VLOOKUP(CONCATENATE(D$3,\"-\",$B5),Werk1!$V$2:$Y$191,3,FALSE),FALSE),\"\"))))","v":{"$error":"#N/A"}},null,{"$f":"IF(F$2=\" \",\"--\",IF($AS5=1,\"XX\",IF(F$25=1,\"XX\",IF(VLOOKUP(CONCATENATE($B5,\"-\",F$3),Werk1!$V$2:$W$191,2,FALSE)=1,VLOOKUP(CONCATENATE($B5,\"-\",F$3),Uitslag,VLOOKUP(CONCATENATE($B5,\"-\",F$3),Werk1!$V$2:$Y$191,4,FALSE),FALSE),\"\"))))","v":{"$error":"#N/A"}},{"$f":"IF(G$2=\" \",\"--\",IF($AS5=1,\"XX\",IF(G$25=1,\"XX\",IF(VLOOKUP(CONCATENATE($B5,\"-\",G$3),Werk1!$V$2:$W$191,2,FALSE)=1,VLOOKUP(CONCATENATE($B5,\"-\",G$3),Uitslag,VLOOKUP(CONCATENATE($B5,\"-\",G$3),Werk1!$V$2:$Y$191,4,FALSE),FALSE),\"\"))))","v":{"$error":"#N/A"}},{"$f":"IF(H$2=\" \",\"--\",IF($AS5=1,\"XX\",IF(H$25=1,\"XX\",IF(VLOOKUP(CONCATENATE($B5,\"-\",H$3),Werk1!$V$2:$W$191,2,FALSE)=1,VLOOKUP(CONCATENATE($B5,\"-\",H$3),Uitslag,VLOOKUP(CONCATENATE($B5,\"-\",H$3),Werk1!$V$2:$Y$191,4,FALSE),FALSE),\"\"))))","v":{"$error":"#N/A"}},{"$f":"IF(I$2=\" \",\"--\",IF($AS5=1,\"XX\",IF(I$25=1,\"XX\",IF(VLOOKUP(CONCATENATE($B5,\"-\",I$3),Werk1!$V$2:$W$191,2,FALSE)=1,VLOOKUP(CONCATENATE($B5,\"-\",I$3),Uitslag,VLOOKUP(CONCATENATE($B5,\"-\",I$3),Werk1!$V$2:$Y$191,4,FALSE),FALSE),\"\"))))","v":{"$error":"#N/A"}},{"$f":"IF(J$2=\" \",\"--\",IF($AS5=1,\"XX\",IF(J$25=1,\"XX\",IF(VLOOKUP(CONCATENATE($B5,\"-\",J$3),Werk1!$V$2:$W$191,2,FALSE)=1,VLOOKUP(CONCATENATE($B5,\"-\",J$3),Uitslag,VLOOKUP(CONCATENATE($B5,\"-\",J$3),Werk1!$V$2:$Y$191,4,FALSE),FALSE),\"\"))))","v":{"$error":"#N/A"}},{"$f":"IF(K$2=\" \",\"--\",IF($AS5=1,\"XX\",IF(K$25=1,\"XX\",IF(VLOOKUP(CONCATENATE($B5,\"-\",K$3),Werk1!$V$2:$W$191,2,FALSE)=1,VLOOKUP(CONCATENATE($B5,\"-\",K$3),Uitslag,VLOOKUP(CONCATENATE($B5,\"-\",K$3),Werk1!$V$2:$Y$191,4,FALSE),FALSE),\"\"))))","v":{"$error":"#N/A"}},{"$f":"IF(L$2=\" \",\"--\",IF($AS5=1,\"XX\",IF(L$25=1,\"XX\",IF(VLOOKUP(CONCATENATE($B5,\"-\",L$3),Werk1!$V$2:$W$191,2,FALSE)=1,VLOOKUP(CONCATENATE($B5,\"-\",L$3),Uitslag,VLOOKUP(CONCATENATE($B5,\"-\",L$3),Werk1!$V$2:$Y$191,4,FALSE),FALSE),\"\"))))","v":{"$error":"#N/A"}},{"$f":"IF(M$2=\" \",\"--\",IF($AS5=1,\"XX\",IF(M$25=1,\"XX\",IF(VLOOKUP(CONCATENATE($B5,\"-\",M$3),Werk1!$V$2:$W$191,2,FALSE)=1,VLOOKUP(CONCATENATE($B5,\"-\",M$3),Uitslag,VLOOKUP(CONCATENATE($B5,\"-\",M$3),Werk1!$V$2:$Y$191,4,FALSE),FALSE),\"\"))))","v":{"$error":"#N/A"}},{"$f":"IF(N$2=\" \",\"--\",IF($AS5=1,\"XX\",IF(N$25=1,\"XX\",IF(VLOOKUP(CONCATENATE($B5,\"-\",N$3),Werk1!$V$2:$W$191,2,FALSE)=1,VLOOKUP(CONCATENATE($B5,\"-\",N$3),Uitslag,VLOOKUP(CONCATENATE($B5,\"-\",N$3),Werk1!$V$2:$Y$191,4,FALSE),FALSE),\"\"))))","v":{"$error":"#N/A"}},{"$f":"IF(O$2=\" \",\"--\",IF($AS5=1,\"XX\",IF(O$25=1,\"XX\",IF(VLOOKUP(CONCATENATE($B5,\"-\",O$3),Werk1!$V$2:$W$191,2,FALSE)=1,VLOOKUP(CONCATENATE($B5,\"-\",O$3),Uitslag,VLOOKUP(CONCATENATE($B5,\"-\",O$3),Werk1!$V$2:$Y$191,4,FALSE),FALSE),\"\"))))","v":{"$error":"#N/A"}},{"$f":"IF(P$2=\" \",\"--\",IF($AS5=1,\"XX\",IF(P$25=1,\"XX\",IF(VLOOKUP(CONCATENATE($B5,\"-\",P$3),Werk1!$V$2:$W$191,2,FALSE)=1,VLOOKUP(CONCATENATE($B5,\"-\",P$3),Uitslag,VLOOKUP(CONCATENATE($B5,\"-\",P$3),Werk1!$V$2:$Y$191,4,FALSE),FALSE),\"\"))))","v":{"$error":"#N/A"}},{"$f":"IF(Q$2=\" \",\"--\",IF($AS5=1,\"XX\",IF(Q$25=1,\"XX\",IF(VLOOKUP(CONCATENATE($B5,\"-\",Q$3),Werk1!$V$2:$W$191,2,FALSE)=1,VLOOKUP(CONCATENATE($B5,\"-\",Q$3),Uitslag,VLOOKUP(CONCATENATE($B5,\"-\",Q$3),Werk1!$V$2:$Y$191,4,FALSE),FALSE),\"\"))))","v":{"$error":"#N/A"}},{"$f":"IF(R$2=\" \",\"--\",IF($AS5=1,\"XX\",IF(R$25=1,\"XX\",IF(VLOOKUP(CONCATENATE($B5,\"-\",R$3),Werk1!$V$2:$W$191,2,FALSE)=1,VLOOKUP(CONCATENATE($B5,\"-\",R$3),Uitslag,VLOOKUP(CONCATENATE($B5,\"-\",R$3),Werk1!$V$2:$Y$191,4,FALSE),FALSE),\"\"))))","v":{"$error":"#N/A"}},{"$f":"IF(S$2=\" \",\"--\",IF($AS5=1,\"XX\",IF(S$25=1,\"XX\",IF(VLOOKUP(CONCATENATE($B5,\"-\",S$3),Werk1!$V$2:$W$191,2,FALSE)=1,VLOOKUP(CONCATENATE($B5,\"-\",S$3),Uitslag,VLOOKUP(CONCATENATE($B5,\"-\",S$3),Werk1!$V$2:$Y$191,4,FALSE),FALSE),\"\"))))","v":{"$error":"#N/A"}},{"$f":"IF(T$2=\" \",\"--\",IF($AS5=1,\"XX\",IF(T$25=1,\"XX\",IF(VLOOKUP(CONCATENATE($B5,\"-\",T$3),Werk1!$V$2:$W$191,2,FALSE)=1,VLOOKUP(CONCATENATE($B5,\"-\",T$3),Uitslag,VLOOKUP(CONCATENATE($B5,\"-\",T$3),Werk1!$V$2:$Y$191,4,FALSE),FALSE),\"\"))))","v":{"$error":"#N/A"}},{"$f":"IF(U$2=\" \",\"--\",IF($AS5=1,\"XX\",IF(U$25=1,\"XX\",IF(VLOOKUP(CONCATENATE($B5,\"-\",U$3),Werk1!$V$2:$W$191,2,FALSE)=1,VLOOKUP(CONCATENATE($B5,\"-\",U$3),Uitslag,VLOOKUP(CONCATENATE($B5,\"-\",U$3),Werk1!$V$2:$Y$191,4,FALSE),FALSE),\"\"))))","v":{"$error":"#N/A"}},{"$f":"IF(V$2=\" \",\"--\",IF($AS5=1,\"XX\",IF(V$25=1,\"XX\",IF(VLOOKUP(CONCATENATE($B5,\"-\",V$3),Werk1!$V$2:$W$191,2,FALSE)=1,VLOOKUP(CONCATENATE($B5,\"-\",V$3),Uitslag,VLOOKUP(CONCATENATE($B5,\"-\",V$3),Werk1!$V$2:$Y$191,4,FALSE),FALSE),\"\"))))","v":{"$error":"#N/A"}},{"$f":"IF(W$2=\" \",\"--\",IF($AS5=1,\"XX\",IF(W$25=1,\"XX\",IF(VLOOKUP(CONCATENATE($B5,\"-\",W$3),Werk1!$V$2:$W$191,2,FALSE)=1,VLOOKUP(CONCATENATE($B5,\"-\",W$3),Uitslag,VLOOKUP(CONCATENATE($B5,\"-\",W$3),Werk1!$V$2:$Y$191,4,FALSE),FALSE),\"\"))))","v":{"$error":"#N/A"}},null,{"$f":"IF($A5=\"\",\"--\",IF(VLOOKUP(CONCATENATE(D$3,\"-\",$B5),Werk1!$V$2:$W$191,2,FALSE)=1,VLOOKUP(CONCATENATE(D$3,\"-\",$B5),Uitslag,(VLOOKUP(CONCATENATE(D$3,\"-\",$B5),Werk1!$AE$2:$AG$191,3,FALSE)),FALSE),\"\"))","v":{"$error":"#N/A"}},null,{"$f":"IF(F$2=\"\",\"--\",IF(VLOOKUP(CONCATENATE($B5,\"-\",F$3),Werk1!$V$2:$W$191,2,FALSE)=1,VLOOKUP(CONCATENATE($B5,\"-\",F$3),Uitslag,(VLOOKUP(CONCATENATE($B5,\"-\",F$3),Werk1!$AE$2:$AG$191,2,FALSE)),FALSE),\"\"))","v":{"$error":"#N/A"}},{"$f":"IF(G$2=\"\",\"--\",IF(VLOOKUP(CONCATENATE($B5,\"-\",G$3),Werk1!$V$2:$W$191,2,FALSE)=1,VLOOKUP(CONCATENATE($B5,\"-\",G$3),Uitslag,(VLOOKUP(CONCATENATE($B5,\"-\",G$3),Werk1!$AE$2:$AG$191,2,FALSE)),FALSE),\"\"))","v":{"$error":"#N/A"}},{"$f":"IF(H$2=\"\",\"--\",IF(VLOOKUP(CONCATENATE($B5,\"-\",H$3),Werk1!$V$2:$W$191,2,FALSE)=1,VLOOKUP(CONCATENATE($B5,\"-\",H$3),Uitslag,(VLOOKUP(CONCATENATE($B5,\"-\",H$3),Werk1!$AE$2:$AG$191,2,FALSE)),FALSE),\"\"))","v":{"$error":"#N/A"}},{"$f":"IF(I$2=\"\",\"--\",IF(VLOOKUP(CONCATENATE($B5,\"-\",I$3),Werk1!$V$2:$W$191,2,FALSE)=1,VLOOKUP(CONCATENATE($B5,\"-\",I$3),Uitslag,(VLOOKUP(CONCATENATE($B5,\"-\",I$3),Werk1!$AE$2:$AG$191,2,FALSE)),FALSE),\"\"))","v":{"$error":"#N/A"}},{"$f":"IF(J$2=\"\",\"--\",IF(VLOOKUP(CONCATENATE($B5,\"-\",J$3),Werk1!$V$2:$W$191,2,FALSE)=1,VLOOKUP(CONCATENATE($B5,\"-\",J$3),Uitslag,(VLOOKUP(CONCATENATE($B5,\"-\",J$3),Werk1!$AE$2:$AG$191,2,FALSE)),FALSE),\"\"))","v":{"$error":"#N/A"}},{"$f":"IF(K$2=\"\",\"--\",IF(VLOOKUP(CONCATENATE($B5,\"-\",K$3),Werk1!$V$2:$W$191,2,FALSE)=1,VLOOKUP(CONCATENATE($B5,\"-\",K$3),Uitslag,(VLOOKUP(CONCATENATE($B5,\"-\",K$3),Werk1!$AE$2:$AG$191,2,FALSE)),FALSE),\"\"))","v":{"$error":"#N/A"}},{"$f":"IF(L$2=\"\",\"--\",IF(VLOOKUP(CONCATENATE($B5,\"-\",L$3),Werk1!$V$2:$W$191,2,FALSE)=1,VLOOKUP(CONCATENATE($B5,\"-\",L$3),Uitslag,(VLOOKUP(CONCATENATE($B5,\"-\",L$3),Werk1!$AE$2:$AG$191,2,FALSE)),FALSE),\"\"))","v":{"$error":"#N/A"}},{"$f":"IF(M$2=\"\",\"--\",IF(VLOOKUP(CONCATENATE($B5,\"-\",M$3),Werk1!$V$2:$W$191,2,FALSE)=1,VLOOKUP(CONCATENATE($B5,\"-\",M$3),Uitslag,(VLOOKUP(CONCATENATE($B5,\"-\",M$3),Werk1!$AE$2:$AG$191,2,FALSE)),FALSE),\"\"))","v":{"$error":"#N/A"}},{"$f":"IF(N$2=\"\",\"--\",IF(VLOOKUP(CONCATENATE($B5,\"-\",N$3),Werk1!$V$2:$W$191,2,FALSE)=1,VLOOKUP(CONCATENATE($B5,\"-\",N$3),Uitslag,(VLOOKUP(CONCATENATE($B5,\"-\",N$3),Werk1!$AE$2:$AG$191,2,FALSE)),FALSE),\"\"))","v":{"$error":"#N/A"}},{"$f":"IF(O$2=\"\",\"--\",IF(VLOOKUP(CONCATENATE($B5,\"-\",O$3),Werk1!$V$2:$W$191,2,FALSE)=1,VLOOKUP(CONCATENATE($B5,\"-\",O$3),Uitslag,(VLOOKUP(CONCATENATE($B5,\"-\",O$3),Werk1!$AE$2:$AG$191,2,FALSE)),FALSE),\"\"))","v":{"$error":"#N/A"}},{"$f":"IF(P$2=\"\",\"--\",IF(VLOOKUP(CONCATENATE($B5,\"-\",P$3),Werk1!$V$2:$W$191,2,FALSE)=1,VLOOKUP(CONCATENATE($B5,\"-\",P$3),Uitslag,(VLOOKUP(CONCATENATE($B5,\"-\",P$3),Werk1!$AE$2:$AG$191,2,FALSE)),FALSE),\"\"))","v":{"$error":"#N/A"}},{"$f":"IF(Q$2=\"\",\"--\",IF(VLOOKUP(CONCATENATE($B5,\"-\",Q$3),Werk1!$V$2:$W$191,2,FALSE)=1,VLOOKUP(CONCATENATE($B5,\"-\",Q$3),Uitslag,(VLOOKUP(CONCATENATE($B5,\"-\",Q$3),Werk1!$AE$2:$AG$191,2,FALSE)),FALSE),\"\"))","v":{"$error":"#N/A"}},{"$f":"IF(R$2=\"\",\"--\",IF(VLOOKUP(CONCATENATE($B5,\"-\",R$3),Werk1!$V$2:$W$191,2,FALSE)=1,VLOOKUP(CONCATENATE($B5,\"-\",R$3),Uitslag,(VLOOKUP(CONCATENATE($B5,\"-\",R$3),Werk1!$AE$2:$AG$191,2,FALSE)),FALSE),\"\"))","v":{"$error":"#N/A"}},{"$f":"IF(S$2=\"\",\"--\",IF(VLOOKUP(CONCATENATE($B5,\"-\",S$3),Werk1!$V$2:$W$191,2,FALSE)=1,VLOOKUP(CONCATENATE($B5,\"-\",S$3),Uitslag,(VLOOKUP(CONCATENATE($B5,\"-\",S$3),Werk1!$AE$2:$AG$191,2,FALSE)),FALSE),\"\"))","v":{"$error":"#N/A"}},{"$f":"IF(T$2=\"\",\"--\",IF(VLOOKUP(CONCATENATE($B5,\"-\",T$3),Werk1!$V$2:$W$191,2,FALSE)=1,VLOOKUP(CONCATENATE($B5,\"-\",T$3),Uitslag,(VLOOKUP(CONCATENATE($B5,\"-\",T$3),Werk1!$AE$2:$AG$191,2,FALSE)),FALSE),\"\"))","v":{"$error":"#N/A"}},{"$f":"IF(U$2=\"\",\"--\",IF(VLOOKUP(CONCATENATE($B5,\"-\",U$3),Werk1!$V$2:$W$191,2,FALSE)=1,VLOOKUP(CONCATENATE($B5,\"-\",U$3),Uitslag,(VLOOKUP(CONCATENATE($B5,\"-\",U$3),Werk1!$AE$2:$AG$191,2,FALSE)),FALSE),\"\"))","v":{"$error":"#N/A"}},{"$f":"IF(V$2=\"\",\"--\",IF(VLOOKUP(CONCATENATE($B5,\"-\",V$3),Werk1!$V$2:$W$191,2,FALSE)=1,VLOOKUP(CONCATENATE($B5,\"-\",V$3),Uitslag,(VLOOKUP(CONCATENATE($B5,\"-\",V$3),Werk1!$AE$2:$AG$191,2,FALSE)),FALSE),\"\"))","v":{"$error":"#N/A"}},{"$f":"IF(W$2=\"\",\"--\",IF(VLOOKUP(CONCATENATE($B5,\"-\",W$3),Werk1!$V$2:$W$191,2,FALSE)=1,VLOOKUP(CONCATENATE($B5,\"-\",W$3),Uitslag,(VLOOKUP(CONCATENATE($B5,\"-\",W$3),Werk1!$AE$2:$AG$191,2,FALSE)),FALSE),\"\"))","v":{"$error":"#N/A"}},{"$f":"IF(A5=\"\",0,IF(VLOOKUP(VLOOKUP(B5,Werk1!$AA$2:$AB$21,2,FALSE),Leden,9,FALSE)=-1,1,0))","v":{"$error":"#N/A"}}]
[{"$f":"CONCATENATE(VLOOKUP(B6,Werk1!$AA$2:$AB$21,2,FALSE),\" \")","v":{"$error":"#N/A"}},3,{"$f":"IF(A6=\"\",\"--\",IF($AS6=1,\"XX\",VLOOKUP(B6,Leden!$B$3:$C$22,2,FALSE)))","v":{"$error":"#N/A"}},{"$f":"IF($A6=\" \",\"--\",IF($AS6=1,\"XX\",IF(D$25=1,\"XX\",IF(VLOOKUP(CONCATENATE(D$3,\"-\",$B6),Werk1!$V$2:$W$191,2,FALSE)=1,VLOOKUP(CONCATENATE(D$3,\"-\",$B6),Uitslag,VLOOKUP(CONCATENATE(D$3,\"-\",$B6),Werk1!$V$2:$Y$191,3,FALSE),FALSE),\"\"))))","v":{"$error":"#N/A"}},{"$f":"IF($A6=\" \",\"--\",IF($AS6=1,\"XX\",IF(E$25=1,\"XX\",IF(VLOOKUP(CONCATENATE(E$3,\"-\",$B6),Werk1!$V$2:$W$191,2,FALSE)=1,VLOOKUP(CONCATENATE(E$3,\"-\",$B6),Uitslag,VLOOKUP(CONCATENATE(E$3,\"-\",$B6),Werk1!$V$2:$Y$191,3,FALSE),FALSE),\"\"))))","v":{"$error":"#N/A"}},null,{"$f":"IF(G$2=\" \",\"--\",IF($AS6=1,\"XX\",IF(G$25=1,\"XX\",IF(VLOOKUP(CONCATENATE($B6,\"-\",G$3),Werk1!$V$2:$W$191,2,FALSE)=1,VLOOKUP(CONCATENATE($B6,\"-\",G$3),Uitslag,VLOOKUP(CONCATENATE($B6,\"-\",G$3),Werk1!$V$2:$Y$191,4,FALSE),FALSE),\"\"))))","v":{"$error":"#N/A"}},{"$f":"IF(H$2=\" \",\"--\",IF($AS6=1,\"XX\",IF(H$25=1,\"XX\",IF(VLOOKUP(CONCATENATE($B6,\"-\",H$3),Werk1!$V$2:$W$191,2,FALSE)=1,VLOOKUP(CONCATENATE($B6,\"-\",H$3),Uitslag,VLOOKUP(CONCATENATE($B6,\"-\",H$3),Werk1!$V$2:$Y$191,4,FALSE),FALSE),\"\"))))","v":{"$error":"#N/A"}},{"$f":"IF(I$2=\" \",\"--\",IF($AS6=1,\"XX\",IF(I$25=1,\"XX\",IF(VLOOKUP(CONCATENATE($B6,\"-\",I$3),Werk1!$V$2:$W$191,2,FALSE)=1,VLOOKUP(CONCATENATE($B6,\"-\",I$3),Uitslag,VLOOKUP(CONCATENATE($B6,\"-\",I$3),Werk1!$V$2:$Y$191,4,FALSE),FALSE),\"\"))))","v":{"$error":"#N/A"}},{"$f":"IF(J$2=\" \",\"--\",IF($AS6=1,\"XX\",IF(J$25=1,\"XX\",IF(VLOOKUP(CONCATENATE($B6,\"-\",J$3),Werk1!$V$2:$W$191,2,FALSE)=1,VLOOKUP(CONCATENATE($B6,\"-\",J$3),Uitslag,VLOOKUP(CONCATENATE($B6,\"-\",J$3),Werk1!$V$2:$Y$191,4,FALSE),FALSE),\"\"))))","v":{"$error":"#N/A"}},{"$f":"IF(K$2=\" \",\"--\",IF($AS6=1,\"XX\",IF(K$25=1,\"XX\",IF(VLOOKUP(CONCATENATE($B6,\"-\",K$3),Werk1!$V$2:$W$191,2,FALSE)=1,VLOOKUP(CONCATENATE($B6,\"-\",K$3),Uitslag,VLOOKUP(CONCATENATE($B6,\"-\",K$3),Werk1!$V$2:$Y$191,4,FALSE),FALSE),\"\"))))","v":{"$error":"#N/A"}},{"$f":"IF(L$2=\" \",\"--\",IF($AS6=1,\"XX\",IF(L$25=1,\"XX\",IF(VLOOKUP(CONCATENATE($B6,\"-\",L$3),Werk1!$V$2:$W$191,2,FALSE)=1,VLOOKUP(CONCATENATE($B6,\"-\",L$3),Uitslag,VLOOKUP(CONCATENATE($B6,\"-\",L$3),Werk1!$V$2:$Y$191,4,FALSE),FALSE),\"\"))))","v":{"$error":"#N/A"}},{"$f":"IF(M$2=\" \",\"--\",IF($AS6=1,\"XX\",IF(M$25=1,\"XX\",IF(VLOOKUP(CONCATENATE($B6,\"-\",M$3),Werk1!$V$2:$W$191,2,FALSE)=1,VLOOKUP(CONCATENATE($B6,\"-\",M$3),Uitslag,VLOOKUP(CONCATENATE($B6,\"-\",M$3),Werk1!$V$2:$Y$191,4,FALSE),FALSE),\"\"))))","v":{"$error":"#N/A"}},{"$f":"IF(N$2=\" \",\"--\",IF($AS6=1,\"XX\",IF(N$25=1,\"XX\",IF(VLOOKUP(CONCATENATE($B6,\"-\",N$3),Werk1!$V$2:$W$191,2,FALSE)=1,VLOOKUP(CONCATENATE($B6,\"-\",N$3),Uitslag,VLOOKUP(CONCATENATE($B6,\"-\",N$3),Werk1!$V$2:$Y$191,4,FALSE),FALSE),\"\"))))","v":{"$error":"#N/A"}},{"$f":"IF(O$2=\" \",\"--\",IF($AS6=1,\"XX\",IF(O$25=1,\"XX\",IF(VLOOKUP(CONCATENATE($B6,\"-\",O$3),Werk1!$V$2:$W$191,2,FALSE)=1,VLOOKUP(CONCATENATE($B6,\"-\",O$3),Uitslag,VLOOKUP(CONCATENATE($B6,\"-\",O$3),Werk1!$V$2:$Y$191,4,FALSE),FALSE),\"\"))))","v":{"$error":"#N/A"}},{"$f":"IF(P$2=\" \",\"--\",IF($AS6=1,\"XX\",IF(P$25=1,\"XX\",IF(VLOOKUP(CONCATENATE($B6,\"-\",P$3),Werk1!$V$2:$W$191,2,FALSE)=1,VLOOKUP(CONCATENATE($B6,\"-\",P$3),Uitslag,VLOOKUP(CONCATENATE($B6,\"-\",P$3),Werk1!$V$2:$Y$191,4,FALSE),FALSE),\"\"))))","v":{"$error":"#N/A"}},{"$f":"IF(Q$2=\" \",\"--\",IF($AS6=1,\"XX\",IF(Q$25=1,\"XX\",IF(VLOOKUP(CONCATENATE($B6,\"-\",Q$3),Werk1!$V$2:$W$191,2,FALSE)=1,VLOOKUP(CONCATENATE($B6,\"-\",Q$3),Uitslag,VLOOKUP(CONCATENATE($B6,\"-\",Q$3),Werk1!$V$2:$Y$191,4,FALSE),FALSE),\"\"))))","v":{"$error":"#N/A"}},{"$f":"IF(R$2=\" \",\"--\",IF($AS6=1,\"XX\",IF(R$25=1,\"XX\",IF(VLOOKUP(CONCATENATE($B6,\"-\",R$3),Werk1!$V$2:$W$191,2,FALSE)=1,VLOOKUP(CONCATENATE($B6,\"-\",R$3),Uitslag,VLOOKUP(CONCATENATE($B6,\"-\",R$3),Werk1!$V$2:$Y$191,4,FALSE),FALSE),\"\"))))","v":{"$error":"#N/A"}},{"$f":"IF(S$2=\" \",\"--\",IF($AS6=1,\"XX\",IF(S$25=1,\"XX\",IF(VLOOKUP(CONCATENATE($B6,\"-\",S$3),Werk1!$V$2:$W$191,2,FALSE)=1,VLOOKUP(CONCATENATE($B6,\"-\",S$3),Uitslag,VLOOKUP(CONCATENATE($B6,\"-\",S$3),Werk1!$V$2:$Y$191,4,FALSE),FALSE),\"\"))))","v":{"$error":"#N/A"}},{"$f":"IF(T$2=\" \",\"--\",IF($AS6=1,\"XX\",IF(T$25=1,\"XX\",IF(VLOOKUP(CONCATENATE($B6,\"-\",T$3),Werk1!$V$2:$W$191,2,FALSE)=1,VLOOKUP(CONCATENATE($B6,\"-\",T$3),Uitslag,VLOOKUP(CONCATENATE($B6,\"-\",T$3),Werk1!$V$2:$Y$191,4,FALSE),FALSE),\"\"))))","v":{"$error":"#N/A"}},{"$f":"IF(U$2=\" \",\"--\",IF($AS6=1,\"XX\",IF(U$25=1,\"XX\",IF(VLOOKUP(CONCATENATE($B6,\"-\",U$3),Werk1!$V$2:$W$191,2,FALSE)=1,VLOOKUP(CONCATENATE($B6,\"-\",U$3),Uitslag,VLOOKUP(CONCATENATE($B6,\"-\",U$3),Werk1!$V$2:$Y$191,4,FALSE),FALSE),\"\"))))","v":{"$error":"#N/A"}},{"$f":"IF(V$2=\" \",\"--\",IF($AS6=1,\"XX\",IF(V$25=1,\"XX\",IF(VLOOKUP(CONCATENATE($B6,\"-\",V$3),Werk1!$V$2:$W$191,2,FALSE)=1,VLOOKUP(CONCATENATE($B6,\"-\",V$3),Uitslag,VLOOKUP(CONCATENATE($B6,\"-\",V$3),Werk1!$V$2:$Y$191,4,FALSE),FALSE),\"\"))))","v":{"$error":"#N/A"}},{"$f":"IF(W$2=\" \",\"--\",IF($AS6=1,\"XX\",IF(W$25=1,\"XX\",IF(VLOOKUP(CONCATENATE($B6,\"-\",W$3),Werk1!$V$2:$W$191,2,FALSE)=1,VLOOKUP(CONCATENATE($B6,\"-\",W$3),Uitslag,VLOOKUP(CONCATENATE($B6,\"-\",W$3),Werk1!$V$2:$Y$191,4,FALSE),FALSE),\"\"))))","v":{"$error":"#N/A"}},null,{"$f":"IF($A6=\"\",\"--\",IF(VLOOKUP(CONCATENATE(D$3,\"-\",$B6),Werk1!$V$2:$W$191,2,FALSE)=1,VLOOKUP(CONCATENATE(D$3,\"-\",$B6),Uitslag,(VLOOKUP(CONCATENATE(D$3,\"-\",$B6),Werk1!$AE$2:$AG$191,3,FALSE)),FALSE),\"\"))","v":{"$error":"#N/A"}},{"$f":"IF($A6=\"\",\"--\",IF(VLOOKUP(CONCATENATE(E$3,\"-\",$B6),Werk1!$V$2:$W$191,2,FALSE)=1,VLOOKUP(CONCATENATE(E$3,\"-\",$B6),Uitslag,(VLOOKUP(CONCATENATE(E$3,\"-\",$B6),Werk1!$AE$2:$AG$191,3,FALSE)),FALSE),\"\"))","v":{"$error":"#N/A"}},null,{"$f":"IF(G$2=\"\",\"--\",IF(VLOOKUP(CONCATENATE($B6,\"-\",G$3),Werk1!$V$2:$W$191,2,FALSE)=1,VLOOKUP(CONCATENATE($B6,\"-\",G$3),Uitslag,(VLOOKUP(CONCATENATE($B6,\"-\",G$3),Werk1!$AE$2:$AG$191,2,FALSE)),FALSE),\"\"))","v":{"$error":"#N/A"}},{"$f":"IF(H$2=\"\",\"--\",IF(VLOOKUP(CONCATENATE($B6,\"-\",H$3),Werk1!$V$2:$W$191,2,FALSE)=1,VLOOKUP(CONCATENATE($B6,\"-\",H$3),Uitslag,(VLOOKUP(CONCATENATE($B6,\"-\",H$3),Werk1!$AE$2:$AG$191,2,FALSE)),FALSE),\"\"))","v":{"$error":"#N/A"}},{"$f":"IF(I$2=\"\",\"--\",IF(VLOOKUP(CONCATENATE($B6,\"-\",I$3),Werk1!$V$2:$W$191,2,FALSE)=1,VLOOKUP(CONCATENATE($B6,\"-\",I$3),Uitslag,(VLOOKUP(CONCATENATE($B6,\"-\",I$3),Werk1!$AE$2:$AG$191,2,FALSE)),FALSE),\"\"))","v":{"$error":"#N/A"}},{"$f":"IF(J$2=\"\",\"--\",IF(VLOOKUP(CONCATENATE($B6,\"-\",J$3),Werk1!$V$2:$W$191,2,FALSE)=1,VLOOKUP(CONCATENATE($B6,\"-\",J$3),Uitslag,(VLOOKUP(CONCATENATE($B6,\"-\",J$3),Werk1!$AE$2:$AG$191,2,FALSE)),FALSE),\"\"))","v":{"$error":"#N/A"}},{"$f":"IF(K$2=\"\",\"--\",IF(VLOOKUP(CONCATENATE($B6,\"-\",K$3),Werk1!$V$2:$W$191,2,FALSE)=1,VLOOKUP(CONCATENATE($B6,\"-\",K$3),Uitslag,(VLOOKUP(CONCATENATE($B6,\"-\",K$3),Werk1!$AE$2:$AG$191,2,FALSE)),FALSE),\"\"))","v":{"$error":"#N/A"}},{"$f":"IF(L$2=\"\",\"--\",IF(VLOOKUP(CONCATENATE($B6,\"-\",L$3),Werk1!$V$2:$W$191,2,FALSE)=1,VLOOKUP(CONCATENATE($B6,\"-\",L$3),Uitslag,(VLOOKUP(CONCATENATE($B6,\"-\",L$3),Werk1!$AE$2:$AG$191,2,FALSE)),FALSE),\"\"))","v":{"$error":"#N/A"}},{"$f":"IF(M$2=\"\",\"--\",IF(VLOOKUP(CONCATENATE($B6,\"-\",M$3),Werk1!$V$2:$W$191,2,FALSE)=1,VLOOKUP(CONCATENATE($B6,\"-\",M$3),Uitslag,(VLOOKUP(CONCATENATE($B6,\"-\",M$3),Werk1!$AE$2:$AG$191,2,FALSE)),FALSE),\"\"))","v":{"$error":"#N/A"}},{"$f":"IF(N$2=\"\",\"--\",IF(VLOOKUP(CONCATENATE($B6,\"-\",N$3),Werk1!$V$2:$W$191,2,FALSE)=1,VLOOKUP(CONCATENATE($B6,\"-\",N$3),Uitslag,(VLOOKUP(CONCATENATE($B6,\"-\",N$3),Werk1!$AE$2:$AG$191,2,FALSE)),FALSE),\"\"))","v":{"$error":"#N/A"}},{"$f":"IF(O$2=\"\",\"--\",IF(VLOOKUP(CONCATENATE($B6,\"-\",O$3),Werk1!$V$2:$W$191,2,FALSE)=1,VLOOKUP(CONCATENATE($B6,\"-\",O$3),Uitslag,(VLOOKUP(CONCATENATE($B6,\"-\",O$3),Werk1!$AE$2:$AG$191,2,FALSE)),FALSE),\"\"))","v":{"$error":"#N/A"}},{"$f":"IF(P$2=\"\",\"--\",IF(VLOOKUP(CONCATENATE($B6,\"-\",P$3),Werk1!$V$2:$W$191,2,FALSE)=1,VLOOKUP(CONCATENATE($B6,\"-\",P$3),Uitslag,(VLOOKUP(CONCATENATE($B6,\"-\",P$3),Werk1!$AE$2:$AG$191,2,FALSE)),FALSE),\"\"))","v":{"$error":"#N/A"}},{"$f":"IF(Q$2=\"\",\"--\",IF(VLOOKUP(CONCATENATE($B6,\"-\",Q$3),Werk1!$V$2:$W$191,2,FALSE)=1,VLOOKUP(CONCATENATE($B6,\"-\",Q$3),Uitslag,(VLOOKUP(CONCATENATE($B6,\"-\",Q$3),Werk1!$AE$2:$AG$191,2,FALSE)),FALSE),\"\"))","v":{"$error":"#N/A"}},{"$f":"IF(R$2=\"\",\"--\",IF(VLOOKUP(CONCATENATE($B6,\"-\",R$3),Werk1!$V$2:$W$191,2,FALSE)=1,VLOOKUP(CONCATENATE($B6,\"-\",R$3),Uitslag,(VLOOKUP(CONCATENATE($B6,\"-\",R$3),Werk1!$AE$2:$AG$191,2,FALSE)),FALSE),\"\"))","v":{"$error":"#N/A"}},{"$f":"IF(S$2=\"\",\"--\",IF(VLOOKUP(CONCATENATE($B6,\"-\",S$3),Werk1!$V$2:$W$191,2,FALSE)=1,VLOOKUP(CONCATENATE($B6,\"-\",S$3),Uitslag,(VLOOKUP(CONCATENATE($B6,\"-\",S$3),Werk1!$AE$2:$AG$191,2,FALSE)),FALSE),\"\"))","v":{"$error":"#N/A"}},{"$f":"IF(T$2=\"\",\"--\",IF(VLOOKUP(CONCATENATE($B6,\"-\",T$3),Werk1!$V$2:$W$191,2,FALSE)=1,VLOOKUP(CONCATENATE($B6,\"-\",T$3),Uitslag,(VLOOKUP(CONCATENATE($B6,\"-\",T$3),Werk1!$AE$2:$AG$191,2,FALSE)),FALSE),\"\"))","v":{"$error":"#N/A"}},{"$f":"IF(U$2=\"\",\"--\",IF(VLOOKUP(CONCATENATE($B6,\"-\",U$3),Werk1!$V$2:$W$191,2,FALSE)=1,VLOOKUP(CONCATENATE($B6,\"-\",U$3),Uitslag,(VLOOKUP(CONCATENATE($B6,\"-\",U$3),Werk1!$AE$2:$AG$191,2,FALSE)),FALSE),\"\"))","v":{"$error":"#N/A"}},{"$f":"IF(V$2=\"\",\"--\",IF(VLOOKUP(CONCATENATE($B6,\"-\",V$3),Werk1!$V$2:$W$191,2,FALSE)=1,VLOOKUP(CONCATENATE($B6,\"-\",V$3),Uitslag,(VLOOKUP(CONCATENATE($B6,\"-\",V$3),Werk1!$AE$2:$AG$191,2,FALSE)),FALSE),\"\"))","v":{"$error":"#N/A"}},{"$f":"IF(W$2=\"\",\"--\",IF(VLOOKUP(CONCATENATE($B6,\"-\",W$3),Werk1!$V$2:$W$191,2,FALSE)=1,VLOOKUP(CONCATENATE($B6,\"-\",W$3),Uitslag,(VLOOKUP(CONCATENATE($B6,\"-\",W$3),Werk1!$AE$2:$AG$191,2,FALSE)),FALSE),\"\"))","v":{"$error":"#N/A"}},{"$f":"IF(A6=\"\",0,IF(VLOOKUP(VLOOKUP(B6,Werk1!$AA$2:$AB$21,2,FALSE),Leden,9,FALSE)=-1,1,0))","v":{"$error":"#N/A"}}]
[{"$f":"CONCATENATE(VLOOKUP(B7,Werk1!$AA$2:$AB$21,2,FALSE),\" \")","v":{"$error":"#N/A"}},4,{"$f":"IF(A7=\"\",\"--\",IF($AS7=1,\"XX\",VLOOKUP(B7,Leden!$B$3:$C$22,2,FALSE)))","v":{"$error":"#N/A"}},{"$f":"IF($A7=\" \",\"--\",IF($AS7=1,\"XX\",IF(D$25=1,\"XX\",IF(VLOOKUP(CONCATENATE(D$3,\"-\",$B7),Werk1!$V$2:$W$191,2,FALSE)=1,VLOOKUP(CONCATENATE(D$3,\"-\",$B7),Uitslag,VLOOKUP(CONCATENATE(D$3,\"-\",$B7),Werk1!$V$2:$Y$191,3,FALSE),FALSE),\"\"))))","v":{"$error":"#N/A"}},{"$f":"IF($A7=\" \",\"--\",IF($AS7=1,\"XX\",IF(E$25=1,\"XX\",IF(VLOOKUP(CONCATENATE(E$3,\"-\",$B7),Werk1!$V$2:$W$191,2,FALSE)=1,VLOOKUP(CONCATENATE(E$3,\"-\",$B7),Uitslag,VLOOKUP(CONCATENATE(E$3,\"-\",$B7),Werk1!$V$2:$Y$191,3,FALSE),FALSE),\"\"))))","v":{"$error":"#N/A"}},{"$f":"IF($A7=\" \",\"--\",IF($AS7=1,\"XX\",IF(F$25=1,\"XX\",IF(VLOOKUP(CONCATENATE(F$3,\"-\",$B7),Werk1!$V$2:$W$191,2,FALSE)=1,VLOOKUP(CONCATENATE(F$3,\"-\",$B7),Uitslag,VLOOKUP(CONCATENATE(F$3,\"-\",$B7),Werk1!$V$2:$Y$191,3,FALSE),FALSE),\"\"))))","v":{"$error":"#N/A"}},null,{"$f":"IF(H$2=\" \",\"--\",IF($AS7=1,\"XX\",IF(H$25=1,\"XX\",IF(VLOOKUP(CONCATENATE($B7,\"-\",H$3),Werk1!$V$2:$W$191,2,FALSE)=1,VLOOKUP(CONCATENATE($B7,\"-\",H$3),Uitslag,VLOOKUP(CONCATENATE($B7,\"-\",H$3),Werk1!$V$2:$Y$191,4,FALSE),FALSE),\"\"))))","v":{"$error":"#N/A"}},{"$f":"IF(I$2=\" \",\"--\",IF($AS7=1,\"XX\",IF(I$25=1,\"XX\",IF(VLOOKUP(CONCATENATE($B7,\"-\",I$3),Werk1!$V$2:$W$191,2,FALSE)=1,VLOOKUP(CONCATENATE($B7,\"-\",I$3),Uitslag,VLOOKUP(CONCATENATE($B7,\"-\",I$3),Werk1!$V$2:$Y$191,4,FALSE),FALSE),\"\"))))","v":{"$error":"#N/A"}},{"$f":"IF(J$2=\" \",\"--\",IF($AS7=1,\"XX\",IF(J$25=1,\"XX\",IF(VLOOKUP(CONCATENATE($B7,\"-\",J$3),Werk1!$V$2:$W$191,2,FALSE)=1,VLOOKUP(CONCATENATE($B7,\"-\",J$3),Uitslag,VLOOKUP(CONCATENATE($B7,\"-\",J$3),Werk1!$V$2:$Y$191,4,FALSE),FALSE),\"\"))))","v":{"$error":"#N/A"}},{"$f":"IF(K$2=\" \",\"--\",IF($AS7=1,\"XX\",IF(K$25=1,\"XX\",IF(VLOOKUP(CONCATENATE($B7,\"-\",K$3),Werk1!$V$2:$W$191,2,FALSE)=1,VLOOKUP(CONCATENATE($B7,\"-\",K$3),Uitslag,VLOOKUP(CONCATENATE($B7,\"-\",K$3),Werk1!$V$2:$Y$191,4,FALSE),FALSE),\"\"))))","v":{"$error":"#N/A"}},{"$f":"IF(L$2=\" \",\"--\",IF($AS7=1,\"XX\",IF(L$25=1,\"XX\",IF(VLOOKUP(CONCATENATE($B7,\"-\",L$3),Werk1!$V$2:$W$191,2,FALSE)=1,VLOOKUP(CONCATENATE($B7,\"-\",L$3),Uitslag,VLOOKUP(CONCATENATE($B7,\"-\",L$3),Werk1!$V$2:$Y$191,4,FALSE),FALSE),\"\"))))","v":{"$error":"#N/A"}},{"$f":"IF(M$2=\" \",\"--\",IF($AS7=1,\"XX\",IF(M$25=1,\"XX\",IF(VLOOKUP(CONCATENATE($B7,\"-\",M$3),Werk1!$V$2:$W$191,2,FALSE)=1,VLOOKUP(CONCATENATE($B7,\"-\",M$3),Uitslag,VLOOKUP(CONCATENATE($B7,\"-\",M$3),Werk1!$V$2:$Y$191,4,FALSE),FALSE),\"\"))))","v":{"$error":"#N/A"}},{"$f":"IF(N$2=\" \",\"--\",IF($AS7=1,\"XX\",IF(N$25=1,\"XX\",IF(VLOOKUP(CONCATENATE($B7,\"-\",N$3),Werk1!$V$2:$W$191,2,FALSE)=1,VLOOKUP(CONCATENATE($B7,\"-\",N$3),Uitslag,VLOOKUP(CONCATENATE($B7,\"-\",N$3),Werk1!$V$2:$Y$191,4,FALSE),FALSE),\"\"))))","v":{"$error":"#N/A"}},{"$f":"IF(O$2=\" \",\"--\",IF($AS7=1,\"XX\",IF(O$25=1,\"XX\",IF(VLOOKUP(CONCATENATE($B7,\"-\",O$3),Werk1!$V$2:$W$191,2,FALSE)=1,VLOOKUP(CONCATENATE($B7,\"-\",O$3),Uitslag,VLOOKUP(CONCATENATE($B7,\"-\",O$3),Werk1!$V$2:$Y$191,4,FALSE),FALSE),\"\"))))","v":{"$error":"#N/A"}},{"$f":"IF(P$2=\" \",\"--\",IF($AS7=1,\"XX\",IF(P$25=1,\"XX\",IF(VLOOKUP(CONCATENATE($B7,\"-\",P$3),Werk1!$V$2:$W$191,2,FALSE)=1,VLOOKUP(CONCATENATE($B7,\"-\",P$3),Uitslag,VLOOKUP(CONCATENATE($B7,\"-\",P$3),Werk1!$V$2:$Y$191,4,FALSE),FALSE),\"\"))))","v":{"$error":"#N/A"}},{"$f":"IF(Q$2=\" \",\"--\",IF($AS7=1,\"XX\",IF(Q$25=1,\"XX\",IF(VLOOKUP(CONCATENATE($B7,\"-\",Q$3),Werk1!$V$2:$W$191,2,FALSE)=1,VLOOKUP(CONCATENATE($B7,\"-\",Q$3),Uitslag,VLOOKUP(CONCATENATE($B7,\"-\",Q$3),Werk1!$V$2:$Y$191,4,FALSE),FALSE),\"\"))))","v":{"$error":"#N/A"}},{"$f":"IF(R$2=\" \",\"--\",IF($AS7=1,\"XX\",IF(R$25=1,\"XX\",IF(VLOOKUP(CONCATENATE($B7,\"-\",R$3),Werk1!$V$2:$W$191,2,FALSE)=1,VLOOKUP(CONCATENATE($B7,\"-\",R$3),Uitslag,VLOOKUP(CONCATENATE($B7,\"-\",R$3),Werk1!$V$2:$Y$191,4,FALSE),FALSE),\"\"))))","v":{"$error":"#N/A"}},{"$f":"IF(S$2=\" \",\"--\",IF($AS7=1,\"XX\",IF(S$25=1,\"XX\",IF(VLOOKUP(CONCATENATE($B7,\"-\",S$3),Werk1!$V$2:$W$191,2,FALSE)=1,VLOOKUP(CONCATENATE($B7,\"-\",S$3),Uitslag,VLOOKUP(CONCATENATE($B7,\"-\",S$3),Werk1!$V$2:$Y$191,4,FALSE),FALSE),\"\"))))","v":{"$error":"#N/A"}},{"$f":"IF(T$2=\" \",\"--\",IF($AS7=1,\"XX\",IF(T$25=1,\"XX\",IF(VLOOKUP(CONCATENATE($B7,\"-\",T$3),Werk1!$V$2:$W$191,2,FALSE)=1,VLOOKUP(CONCATENATE($B7,\"-\",T$3),Uitslag,VLOOKUP(CONCATENATE($B7,\"-\",T$3),Werk1!$V$2:$Y$191,4,FALSE),FALSE),\"\"))))","v":{"$error":"#N/A"}},{"$f":"IF(U$2=\" \",\"--\",IF($AS7=1,\"XX\",IF(U$25=1,\"XX\",IF(VLOOKUP(CONCATENATE($B7,\"-\",U$3),Werk1!$V$2:$W$191,2,FALSE)=1,VLOOKUP(CONCATENATE($B7,\"-\",U$3),Uitslag,VLOOKUP(CONCATENATE($B7,\"-\",U$3),Werk1!$V$2:$Y$191,4,FALSE),FALSE),\"\"))))","v":{"$error":"#N/A"}},{"$f":"IF(V$2=\" \",\"--\",IF($AS7=1,\"XX\",IF(V$25=1,\"XX\",IF(VLOOKUP(CONCATENATE($B7,\"-\",V$3),Werk1!$V$2:$W$191,2,FALSE)=1,VLOOKUP(CONCATENATE($B7,\"-\",V$3),Uitslag,VLOOKUP(CONCATENATE($B7,\"-\",V$3),Werk1!$V$2:$Y$191,4,FALSE),FALSE),\"\"))))","v":{"$error":"#N/A"}},{"$f":"IF(W$2=\" \",\"--\",IF($AS7=1,\"XX\",IF(W$25=1,\"XX\",IF(VLOOKUP(CONCATENATE($B7,\"-\",W$3),Werk1!$V$2:$W$191,2,FALSE)=1,VLOOKUP(CONCATENATE($B7,\"-\",W$3),Uitslag,VLOOKUP(CONCATENATE($B7,\"-\",W$3),Werk1!$V$2:$Y$191,4,FALSE),FALSE),\"\"))))","v":{"$error":"#N/A"}},null,{"$f":"IF($A7=\"\",\"--\",IF(VLOOKUP(CONCATENATE(D$3,\"-\",$B7),Werk1!$V$2:$W$191,2,FALSE)=1,VLOOKUP(CONCATENATE(D$3,\"-\",$B7),Uitslag,(VLOOKUP(CONCATENATE(D$3,\"-\",$B7),Werk1!$AE$2:$AG$191,3,FALSE)),FALSE),\"\"))","v":{"$error":"#N/A"}},{"$f":"IF($A7=\"\",\"--\",IF(VLOOKUP(CONCATENATE(E$3,\"-\",$B7),Werk1!$V$2:$W$191,2,FALSE)=1,VLOOKUP(CONCATENATE(E$3,\"-\",$B7),Uitslag,(VLOOKUP(CONCATENATE(E$3,\"-\",$B7),Werk1!$AE$2:$AG$191,3,FALSE)),FALSE),\"\"))","v":{"$error":"#N/A"}},{"$f":"IF($A7=\"\",\"--\",IF(VLOOKUP(CONCATENATE(F$3,\"-\",$B7),Werk1!$V$2:$W$191,2,FALSE)=1,VLOOKUP(CONCATENATE(F$3,\"-\",$B7),Uitslag,(VLOOKUP(CONCATENATE(F$3,\"-\",$B7),Werk1!$AE$2:$AG$191,3,FALSE)),FALSE),\"\"))","v":{"$error":"#N/A"}},null,{"$f":"IF(H$2=\"\",\"--\",IF(VLOOKUP(CONCATENATE($B7,\"-\",H$3),Werk1!$V$2:$W$191,2,FALSE)=1,VLOOKUP(CONCATENATE($B7,\"-\",H$3),Uitslag,(VLOOKUP(CONCATENATE($B7,\"-\",H$3),Werk1!$AE$2:$AG$191,2,FALSE)),FALSE),\"\"))","v":{"$error":"#N/A"}},{"$f":"IF(I$2=\"\",\"--\",IF(VLOOKUP(CONCATENATE($B7,\"-\",I$3),Werk1!$V$2:$W$191,2,FALSE)=1,VLOOKUP(CONCATENATE($B7,\"-\",I$3),Uitslag,(VLOOKUP(CONCATENATE($B7,\"-\",I$3),Werk1!$AE$2:$AG$191,2,FALSE)),FALSE),\"\"))","v":{"$error":"#N/A"}},{"$f":"IF(J$2=\"\",\"--\",IF(VLOOKUP(CONCATENATE($B7,\"-\",J$3),Werk1!$V$2:$W$191,2,FALSE)=1,VLOOKUP(CONCATENATE($B7,\"-\",J$3),Uitslag,(VLOOKUP(CONCATENATE($B7,\"-\",J$3),Werk1!$AE$2:$AG$191,2,FALSE)),FALSE),\"\"))","v":{"$error":"#N/A"}},{"$f":"IF(K$2=\"\",\"--\",IF(VLOOKUP(CONCATENATE($B7,\"-\",K$3),Werk1!$V$2:$W$191,2,FALSE)=1,VLOOKUP(CONCATENATE($B7,\"-\",K$3),Uitslag,(VLOOKUP(CONCATENATE($B7,\"-\",K$3),Werk1!$AE$2:$AG$191,2,FALSE)),FALSE),\"\"))","v":{"$error":"#N/A"}},{"$f":"IF(L$2=\"\",\"--\",IF(VLOOKUP(CONCATENATE($B7,\"-\",L$3),Werk1!$V$2:$W$191,2,FALSE)=1,VLOOKUP(CONCATENATE($B7,\"-\",L$3),Uitslag,(VLOOKUP(CONCATENATE($B7,\"-\",L$3),Werk1!$AE$2:$AG$191,2,FALSE)),FALSE),\"\"))","v":{"$error":"#N/A"}},{"$f":"IF(M$2=\"\",\"--\",IF(VLOOKUP(CONCATENATE($B7,\"-\",M$3),Werk1!$V$2:$W$191,2,FALSE)=1,VLOOKUP(CONCATENATE($B7,\"-\",M$3),Uitslag,(VLOOKUP(CONCATENATE($B7,\"-\",M$3),Werk1!$AE$2:$AG$191,2,FALSE)),FALSE),\"\"))","v":{"$error":"#N/A"}},{"$f":"IF(N$2=\"\",\"--\",IF(VLOOKUP(CONCATENATE($B7,\"-\",N$3),Werk1!$V$2:$W$191,2,FALSE)=1,VLOOKUP(CONCATENATE($B7,\"-\",N$3),Uitslag,(VLOOKUP(CONCATENATE($B7,\"-\",N$3),Werk1!$AE$2:$AG$191,2,FALSE)),FALSE),\"\"))","v":{"$error":"#N/A"}},{"$f":"IF(O$2=\"\",\"--\",IF(VLOOKUP(CONCATENATE($B7,\"-\",O$3),Werk1!$V$2:$W$191,2,FALSE)=1,VLOOKUP(CONCATENATE($B7,\"-\",O$3),Uitslag,(VLOOKUP(CONCATENATE($B7,\"-\",O$3),Werk1!$AE$2:$AG$191,2,FALSE)),FALSE),\"\"))","v":{"$error":"#N/A"}},{"$f":"IF(P$2=\"\",\"--\",IF(VLOOKUP(CONCATENATE($B7,\"-\",P$3),Werk1!$V$2:$W$191,2,FALSE)=1,VLOOKUP(CONCATENATE($B7,\"-\",P$3),Uitslag,(VLOOKUP(CONCATENATE($B7,\"-\",P$3),Werk1!$AE$2:$AG$191,2,FALSE)),FALSE),\"\"))","v":{"$error":"#N/A"}},{"$f":"IF(Q$2=\"\",\"--\",IF(VLOOKUP(CONCATENATE($B7,\"-\",Q$3),Werk1!$V$2:$W$191,2,FALSE)=1,VLOOKUP(CONCATENATE($B7,\"-\",Q$3),Uitslag,(VLOOKUP(CONCATENATE($B7,\"-\",Q$3),Werk1!$AE$2:$AG$191,2,FALSE)),FALSE),\"\"))","v":{"$error":"#N/A"}},{"$f":"IF(R$2=\"\",\"--\",IF(VLOOKUP(CONCATENATE($B7,\"-\",R$3),Werk1!$V$2:$W$191,2,FALSE)=1,VLOOKUP(CONCATENATE($B7,\"-\",R$3),Uitslag,(VLOOKUP(CONCATENATE($B7,\"-\",R$3),Werk1!$AE$2:$AG$191,2,FALSE)),FALSE),\"\"))","v":{"$error":"#N/A"}},{"$f":"IF(S$2=\"\",\"--\",IF(VLOOKUP(CONCATENATE($B7,\"-\",S$3),Werk1!$V$2:$W$191,2,FALSE)=1,VLOOKUP(CONCATENATE($B7,\"-\",S$3),Uitslag,(VLOOKUP(CONCATENATE($B7,\"-\",S$3),Werk1!$AE$2:$AG$191,2,FALSE)),FALSE),\"\"))","v":{"$error":"#N/A"}},{"$f":"IF(T$2=\"\",\"--\",IF(VLOOKUP(CONCATENATE($B7,\"-\",T$3),Werk1!$V$2:$W$191,2,FALSE)=1,VLOOKUP(CONCATENATE($B7,\"-\",T$3),Uitslag,(VLOOKUP(CONCATENATE($B7,\"-\",T$3),Werk1!$AE$2:$AG$191,2,FALSE)),FALSE),\"\"))","v":{"$error":"#N/A"}},{"$f":"IF(U$2=\"\",\"--\",IF(VLOOKUP(CONCATENATE($B7,\"-\",U$3),Werk1!$V$2:$W$191,2,FALSE)=1,VLOOKUP(CONCATENATE($B7,\"-\",U$3),Uitslag,(VLOOKUP(CONCATENATE($B7,\"-\",U$3),Werk1!$AE$2:$AG$191,2,FALSE)),FALSE),\"\"))","v":{"$error":"#N/A"}},{"$f":"IF(V$2=\"\",\"--\",IF(VLOOKUP(CONCATENATE($B7,\"-\",V$3),Werk1!$V$2:$W$191,2,FALSE)=1,VLOOKUP(CONCATENATE($B7,\"-\",V$3),Uitslag,(VLOOKUP(CONCATENATE($B7,\"-\",V$3),Werk1!$AE$2:$AG$191,2,FALSE)),FALSE),\"\"))","v":{"$error":"#N/A"}},{"$f":"IF(W$2=\"\",\"--\",IF(VLOOKUP(CONCATENATE($B7,\"-\",W$3),Werk1!$V$2:$W$191,2,FALSE)=1,VLOOKUP(CONCATENATE($B7,\"-\",W$3),Uitslag,(VLOOKUP(CONCATENATE($B7,\"-\",W$3),Werk1!$AE$2:$AG$191,2,FALSE)),FALSE),\"\"))","v":{"$error":"#N/A"}},{"$f":"IF(A7=\"\",0,IF(VLOOKUP(VLOOKUP(B7,Werk1!$AA$2:$AB$21,2,FALSE),Leden,9,FALSE)=-1,1,0))","v":{"$error":"#N/A"}}]
[{"$f":"CONCATENATE(VLOOKUP(B8,Werk1!$AA$2:$AB$21,2,FALSE),\" \")","v":{"$error":"#N/A"}},5,{"$f":"IF(A8=\"\",\"--\",IF($AS8=1,\"XX\",VLOOKUP(B8,Leden!$B$3:$C$22,2,FALSE)))","v":{"$error":"#N/A"}},{"$f":"IF($A8=\" \",\"--\",IF($AS8=1,\"XX\",IF(D$25=1,\"XX\",IF(VLOOKUP(CONCATENATE(D$3,\"-\",$B8),Werk1!$V$2:$W$191,2,FALSE)=1,VLOOKUP(CONCATENATE(D$3,\"-\",$B8),Uitslag,VLOOKUP(CONCATENATE(D$3,\"-\",$B8),Werk1!$V$2:$Y$191,3,FALSE),FALSE),\"\"))))","v":{"$error":"#N/A"}},{"$f":"IF($A8=\" \",\"--\",IF($AS8=1,\"XX\",IF(E$25=1,\"XX\",IF(VLOOKUP(CONCATENATE(E$3,\"-\",$B8),Werk1!$V$2:$W$191,2,FALSE)=1,VLOOKUP(CONCATENATE(E$3,\"-\",$B8),Uitslag,VLOOKUP(CONCATENATE(E$3,\"-\",$B8),Werk1!$V$2:$Y$191,3,FALSE),FALSE),\"\"))))","v":{"$error":"#N/A"}},{"$f":"IF($A8=\" \",\"--\",IF($AS8=1,\"XX\",IF(F$25=1,\"XX\",IF(VLOOKUP(CONCATENATE(F$3,\"-\",$B8),Werk1!$V$2:$W$191,2,FALSE)=1,VLOOKUP(CONCATENATE(F$3,\"-\",$B8),Uitslag,VLOOKUP(CONCATENATE(F$3,\"-\",$B8),Werk1!$V$2:$Y$191,3,FALSE),FALSE),\"\"))))","v":{"$error":"#N/A"}},{"$f":"IF($A8=\" \",\"--\",IF($AS8=1,\"XX\",IF(G$25=1,\"XX\",IF(VLOOKUP(CONCATENATE(G$3,\"-\",$B8),Werk1!$V$2:$W$191,2,FALSE)=1,VLOOKUP(CONCATENATE(G$3,\"-\",$B8),Uitslag,VLOOKUP(CONCATENATE(G$3,\"-\",$B8),Werk1!$V$2:$Y$191,3,FALSE),FALSE),\"\"))))","v":{"$error":"#N/A"}},null,{"$f":"IF(I$2=\" \",\"--\",IF($AS8=1,\"XX\",IF(I$25=1,\"XX\",IF(VLOOKUP(CONCATENATE($B8,\"-\",I$3),Werk1!$V$2:$W$191,2,FALSE)=1,VLOOKUP(CONCATENATE($B8,\"-\",I$3),Uitslag,VLOOKUP(CONCATENATE($B8,\"-\",I$3),Werk1!$V$2:$Y$191,4,FALSE),FALSE),\"\"))))","v":{"$error":"#N/A"}},{"$f":"IF(J$2=\" \",\"--\",IF($AS8=1,\"XX\",IF(J$25=1,\"XX\",IF(VLOOKUP(CONCATENATE($B8,\"-\",J$3),Werk1!$V$2:$W$191,2,FALSE)=1,VLOOKUP(CONCATENATE($B8,\"-\",J$3),Uitslag,VLOOKUP(CONCATENATE($B8,\"-\",J$3),Werk1!$V$2:$Y$191,4,FALSE),FALSE),\"\"))))","v":{"$error":"#N/A"}},{"$f":"IF(K$2=\" \",\"--\",IF($AS8=1,\"XX\",IF(K$25=1,\"XX\",IF(VLOOKUP(CONCATENATE($B8,\"-\",K$3),Werk1!$V$2:$W$191,2,FALSE)=1,VLOOKUP(CONCATENATE($B8,\"-\",K$3),Uitslag,VLOOKUP(CONCATENATE($B8,\"-\",K$3),Werk1!$V$2:$Y$191,4,FALSE),FALSE),\"\"))))","v":{"$error":"#N/A"}},{"$f":"IF(L$2=\" \",\"--\",IF($AS8=1,\"XX\",IF(L$25=1,\"XX\",IF(VLOOKUP(CONCATENATE($B8,\"-\",L$3),Werk1!$V$2:$W$191,2,FALSE)=1,VLOOKUP(CONCATENATE($B8,\"-\",L$3),Uitslag,VLOOKUP(CONCATENATE($B8,\"-\",L$3),Werk1!$V$2:$Y$191,4,FALSE),FALSE),\"\"))))","v":{"$error":"#N/A"}},{"$f":"IF(M$2=\" \",\"--\",IF($AS8=1,\"XX\",IF(M$25=1,\"XX\",IF(VLOOKUP(CONCATENATE($B8,\"-\",M$3),Werk1!$V$2:$W$191,2,FALSE)=1,VLOOKUP(CONCATENATE($B8,\"-\",M$3),Uitslag,VLOOKUP(CONCATENATE($B8,\"-\",M$3),Werk1!$V$2:$Y$191,4,FALSE),FALSE),\"\"))))","v":{"$error":"#N/A"}},{"$f":"IF(N$2=\" \",\"--\",IF($AS8=1,\"XX\",IF(N$25=1,\"XX\",IF(VLOOKUP(CONCATENATE($B8,\"-\",N$3),Werk1!$V$2:$W$191,2,FALSE)=1,VLOOKUP(CONCATENATE($B8,\"-\",N$3),Uitslag,VLOOKUP(CONCATENATE($B8,\"-\",N$3),Werk1!$V$2:$Y$191,4,FALSE),FALSE),\"\"))))","v":{"$error":"#N/A"}},{"$f":"IF(O$2=\" \",\"--\",IF($AS8=1,\"XX\",IF(O$25=1,\"XX\",IF(VLOOKUP(CONCATENATE($B8,\"-\",O$3),Werk1!$V$2:$W$191,2,FALSE)=1,VLOOKUP(CONCATENATE($B8,\"-\",O$3),Uitslag,VLOOKUP(CONCATENATE($B8,\"-\",O$3),Werk1!$V$2:$Y$191,4,FALSE),FALSE),\"\"))))","v":{"$error":"#N/A"}},{"$f":"IF(P$2=\" \",\"--\",IF($AS8=1,\"XX\",IF(P$25=1,\"XX\",IF(VLOOKUP(CONCATENATE($B8,\"-\",P$3),Werk1!$V$2:$W$191,2,FALSE)=1,VLOOKUP(CONCATENATE($B8,\"-\",P$3),Uitslag,VLOOKUP(CONCATENATE($B8,\"-\",P$3),Werk1!$V$2:$Y$191,4,FALSE),FALSE),\"\"))))","v":{"$error":"#N/A"}},{"$f":"IF(Q$2=\" \",\"--\",IF($AS8=1,\"XX\",IF(Q$25=1,\"XX\",IF(VLOOKUP(CONCATENATE($B8,\"-\",Q$3),Werk1!$V$2:$W$191,2,FALSE)=1,VLOOKUP(CONCATENATE($B8,\"-\",Q$3),Uitslag,VLOOKUP(CONCATENATE($B8,\"-\",Q$3),Werk1!$V$2:$Y$191,4,FALSE),FALSE),\"\"))))","v":{"$error":"#N/A"}},{"$f":"IF(R$2=\" \",\"--\",IF($AS8=1,\"XX\",IF(R$25=1,\"XX\",IF(VLOOKUP(CONCATENATE($B8,\"-\",R$3),Werk1!$V$2:$W$191,2,FALSE)=1,VLOOKUP(CONCATENATE($B8,\"-\",R$3),Uitslag,VLOOKUP(CONCATENATE($B8,\"-\",R$3),Werk1!$V$2:$Y$191,4,FALSE),FALSE),\"\"))))","v":{"$error":"#N/A"}},{"$f":"IF(S$2=\" \",\"--\",IF($AS8=1,\"XX\",IF(S$25=1,\"XX\",IF(VLOOKUP(CONCATENATE($B8,\"-\",S$3),Werk1!$V$2:$W$191,2,FALSE)=1,VLOOKUP(CONCATENATE($B8,\"-\",S$3),Uitslag,VLOOKUP(CONCATENATE($B8,\"-\",S$3),Werk1!$V$2:$Y$191,4,FALSE),FALSE),\"\"))))","v":{"$error":"#N/A"}},{"$f":"IF(T$2=\" \",\"--\",IF($AS8=1,\"XX\",IF(T$25=1,\"XX\",IF(VLOOKUP(CONCATENATE($B8,\"-\",T$3),Werk1!$V$2:$W$191,2,FALSE)=1,VLOOKUP(CONCATENATE($B8,\"-\",T$3),Uitslag,VLOOKUP(CONCATENATE($B8,\"-\",T$3),Werk1!$V$2:$Y$191,4,FALSE),FALSE),\"\"))))","v":{"$error":"#N/A"}},{"$f":"IF(U$2=\" \",\"--\",IF($AS8=1,\"XX\",IF(U$25=1,\"XX\",IF(VLOOKUP(CONCATENATE($B8,\"-\",U$3),Werk1!$V$2:$W$191,2,FALSE)=1,VLOOKUP(CONCATENATE($B8,\"-\",U$3),Uitslag,VLOOKUP(CONCATENATE($B8,\"-\",U$3),Werk1!$V$2:$Y$191,4,FALSE),FALSE),\"\"))))","v":{"$error":"#N/A"}},{"$f":"IF(V$2=\" \",\"--\",IF($AS8=1,\"XX\",IF(V$25=1,\"XX\",IF(VLOOKUP(CONCATENATE($B8,\"-\",V$3),Werk1!$V$2:$W$191,2,FALSE)=1,VLOOKUP(CONCATENATE($B8,\"-\",V$3),Uitslag,VLOOKUP(CONCATENATE($B8,\"-\",V$3),Werk1!$V$2:$Y$191,4,FALSE),FALSE),\"\"))))","v":{"$error":"#N/A"}},{"$f":"IF(W$2=\" \",\"--\",IF($AS8=1,\"XX\",IF(W$25=1,\"XX\",IF(VLOOKUP(CONCATENATE($B8,\"-\",W$3),Werk1!$V$2:$W$191,2,FALSE)=1,VLOOKUP(CONCATENATE($B8,\"-\",W$3),Uitslag,VLOOKUP(CONCATENATE($B8,\"-\",W$3),Werk1!$V$2:$Y$191,4,FALSE),FALSE),\"\"))))","v":{"$error":"#N/A"}},null,{"$f":"IF($A8=\"\",\"--\",IF(VLOOKUP(CONCATENATE(D$3,\"-\",$B8),Werk1!$V$2:$W$191,2,FALSE)=1,VLOOKUP(CONCATENATE(D$3,\"-\",$B8),Uitslag,(VLOOKUP(CONCATENATE(D$3,\"-\",$B8),Werk1!$AE$2:$AG$191,3,FALSE)),FALSE),\"\"))","v":{"$error":"#N/A"}},{"$f":"IF($A8=\"\",\"--\",IF(VLOOKUP(CONCATENATE(E$3,\"-\",$B8),Werk1!$V$2:$W$191,2,FALSE)=1,VLOOKUP(CONCATENATE(E$3,\"-\",$B8),Uitslag,(VLOOKUP(CONCATENATE(E$3,\"-\",$B8),Werk1!$AE$2:$AG$191,3,FALSE)),FALSE),\"\"))","v":{"$error":"#N/A"}},{"$f":"IF($A8=\"\",\"--\",IF(VLOOKUP(CONCATENATE(F$3,\"-\",$B8),Werk1!$V$2:$W$191,2,FALSE)=1,VLOOKUP(CONCATENATE(F$3,\"-\",$B8),Uitslag,(VLOOKUP(CONCATENATE(F$3,\"-\",$B8),Werk1!$AE$2:$AG$191,3,FALSE)),FALSE),\"\"))","v":{"$error":"#N/A"}},{"$f":"IF($A8=\"\",\"--\",IF(VLOOKUP(CONCATENATE(G$3,\"-\",$B8),Werk1!$V$2:$W$191,2,FALSE)=1,VLOOKUP(CONCATENATE(G$3,\"-\",$B8),Uitslag,(VLOOKUP(CONCATENATE(G$3,\"-\",$B8),Werk1!$AE$2:$AG$191,3,FALSE)),FALSE),\"\"))","v":{"$error":"#N/A"}},null,{"$f":"IF(I$2=\"\",\"--\",IF(VLOOKUP(CONCATENATE($B8,\"-\",I$3),Werk1!$V$2:$W$191,2,FALSE)=1,VLOOKUP(CONCATENATE($B8,\"-\",I$3),Uitslag,(VLOOKUP(CONCATENATE($B8,\"-\",I$3),Werk1!$AE$2:$AG$191,2,FALSE)),FALSE),\"\"))","v":{"$error":"#N/A"}},{"$f":"IF(J$2=\"\",\"--\",IF(VLOOKUP(CONCATENATE($B8,\"-\",J$3),Werk1!$V$2:$W$191,2,FALSE)=1,VLOOKUP(CONCATENATE($B8,\"-\",J$3),Uitslag,(VLOOKUP(CONCATENATE($B8,\"-\",J$3),Werk1!$AE$2:$AG$191,2,FALSE)),FALSE),\"\"))","v":{"$error":"#N/A"}},{"$f":"IF(K$2=\"\",\"--\",IF(VLOOKUP(CONCATENATE($B8,\"-\",K$3),Werk1!$V$2:$W$191,2,FALSE)=1,VLOOKUP(CONCATENATE($B8,\"-\",K$3),Uitslag,(VLOOKUP(CONCATENATE($B8,\"-\",K$3),Werk1!$AE$2:$AG$191,2,FALSE)),FALSE),\"\"))","v":{"$error":"#N/A"}},{"$f":"IF(L$2=\"\",\"--\",IF(VLOOKUP(CONCATENATE($B8,\"-\",L$3),Werk1!$V$2:$W$191,2,FALSE)=1,VLOOKUP(CONCATENATE($B8,\"-\",L$3),Uitslag,(VLOOKUP(CONCATENATE($B8,\"-\",L$3),Werk1!$AE$2:$AG$191,2,FALSE)),FALSE),\"\"))","v":{"$error":"#N/A"}},{"$f":"IF(M$2=\"\",\"--\",IF(VLOOKUP(CONCATENATE($B8,\"-\",M$3),Werk1!$V$2:$W$191,2,FALSE)=1,VLOOKUP(CONCATENATE($B8,\"-\",M$3),Uitslag,(VLOOKUP(CONCATENATE($B8,\"-\",M$3),Werk1!$AE$2:$AG$191,2,FALSE)),FALSE),\"\"))","v":{"$error":"#N/A"}},{"$f":"IF(N$2=\"\",\"--\",IF(VLOOKUP(CONCATENATE($B8,\"-\",N$3),Werk1!$V$2:$W$191,2,FALSE)=1,VLOOKUP(CONCATENATE($B8,\"-\",N$3),Uitslag,(VLOOKUP(CONCATENATE($B8,\"-\",N$3),Werk1!$AE$2:$AG$191,2,FALSE)),FALSE),\"\"))","v":{"$error":"#N/A"}},{"$f":"IF(O$2=\"\",\"--\",IF(VLOOKUP(CONCATENATE($B8,\"-\",O$3),Werk1!$V$2:$W$191,2,FALSE)=1,VLOOKUP(CONCATENATE($B8,\"-\",O$3),Uitslag,(VLOOKUP(CONCATENATE($B8,\"-\",O$3),Werk1!$AE$2:$AG$191,2,FALSE)),FALSE),\"\"))","v":{"$error":"#N/A"}},{"$f":"IF(P$2=\"\",\"--\",IF(VLOOKUP(CONCATENATE($B8,\"-\",P$3),Werk1!$V$2:$W$191,2,FALSE)=1,VLOOKUP(CONCATENATE($B8,\"-\",P$3),Uitslag,(VLOOKUP(CONCATENATE($B8,\"-\",P$3),Werk1!$AE$2:$AG$191,2,FALSE)),FALSE),\"\"))","v":{"$error":"#N/A"}},{"$f":"IF(Q$2=\"\",\"--\",IF(VLOOKUP(CONCATENATE($B8,\"-\",Q$3),Werk1!$V$2:$W$191,2,FALSE)=1,VLOOKUP(CONCATENATE($B8,\"-\",Q$3),Uitslag,(VLOOKUP(CONCATENATE($B8,\"-\",Q$3),Werk1!$AE$2:$AG$191,2,FALSE)),FALSE),\"\"))","v":{"$error":"#N/A"}},{"$f":"IF(R$2=\"\",\"--\",IF(VLOOKUP(CONCATENATE($B8,\"-\",R$3),Werk1!$V$2:$W$191,2,FALSE)=1,VLOOKUP(CONCATENATE($B8,\"-\",R$3),Uitslag,(VLOOKUP(CONCATENATE($B8,\"-\",R$3),Werk1!$AE$2:$AG$191,2,FALSE)),FALSE),\"\"))","v":{"$error":"#N/A"}},{"$f":"IF(S$2=\"\",\"--\",IF(VLOOKUP(CONCATENATE($B8,\"-\",S$3),Werk1!$V$2:$W$191,2,FALSE)=1,VLOOKUP(CONCATENATE($B8,\"-\",S$3),Uitslag,(VLOOKUP(CONCATENATE($B8,\"-\",S$3),Werk1!$AE$2:$AG$191,2,FALSE)),FALSE),\"\"))","v":{"$error":"#N/A"}},{"$f":"IF(T$2=\"\",\"--\",IF(VLOOKUP(CONCATENATE($B8,\"-\",T$3),Werk1!$V$2:$W$191,2,FALSE)=1,VLOOKUP(CONCATENATE($B8,\"-\",T$3),Uitslag,(VLOOKUP(CONCATENATE($B8,\"-\",T$3),Werk1!$AE$2:$AG$191,2,FALSE)),FALSE),\"\"))","v":{"$error":"#N/A"}},{"$f":"IF(U$2=\"\",\"--\",IF(VLOOKUP(CONCATENATE($B8,\"-\",U$3),Werk1!$V$2:$W$191,2,FALSE)=1,VLOOKUP(CONCATENATE($B8,\"-\",U$3),Uitslag,(VLOOKUP(CONCATENATE($B8,\"-\",U$3),Werk1!$AE$2:$AG$191,2,FALSE)),FALSE),\"\"))","v":{"$error":"#N/A"}},{"$f":"IF(V$2=\"\",\"--\",IF(VLOOKUP(CONCATENATE($B8,\"-\",V$3),Werk1!$V$2:$W$191,2,FALSE)=1,VLOOKUP(CONCATENATE($B8,\"-\",V$3),Uitslag,(VLOOKUP(CONCATENATE($B8,\"-\",V$3),Werk1!$AE$2:$AG$191,2,FALSE)),FALSE),\"\"))","v":{"$error":"#N/A"}},{"$f":"IF(W$2=\"\",\"--\",IF(VLOOKUP(CONCATENATE($B8,\"-\",W$3),Werk1!$V$2:$W$191,2,FALSE)=1,VLOOKUP(CONCATENATE($B8,\"-\",W$3),Uitslag,(VLOOKUP(CONCATENATE($B8,\"-\",W$3),Werk1!$AE$2:$AG$191,2,FALSE)),FALSE),\"\"))","v":{"$error":"#N/A"}},{"$f":"IF(A8=\"\",0,IF(VLOOKUP(VLOOKUP(B8,Werk1!$AA$2:$AB$21,2,FALSE),Leden,9,FALSE)=-1,1,0))","v":{"$error":"#N/A"}}]
[{"$f":"CONCATENATE(VLOOKUP(B9,Werk1!$AA$2:$AB$21,2,FALSE),\" \")","v":{"$error":"#N/A"}},6,{"$f":"IF(A9=\"\",\"--\",IF($AS9=1,\"XX\",VLOOKUP(B9,Leden!$B$3:$C$22,2,FALSE)))","v":{"$error":"#N/A"}},{"$f":"IF($A9=\" \",\"--\",IF($AS9=1,\"XX\",IF(D$25=1,\"XX\",IF(VLOOKUP(CONCATENATE(D$3,\"-\",$B9),Werk1!$V$2:$W$191,2,FALSE)=1,VLOOKUP(CONCATENATE(D$3,\"-\",$B9),Uitslag,VLOOKUP(CONCATENATE(D$3,\"-\",$B9),Werk1!$V$2:$Y$191,3,FALSE),FALSE),\"\"))))","v":{"$error":"#N/A"}},{"$f":"IF($A9=\" \",\"--\",IF($AS9=1,\"XX\",IF(E$25=1,\"XX\",IF(VLOOKUP(CONCATENATE(E$3,\"-\",$B9),Werk1!$V$2:$W$191,2,FALSE)=1,VLOOKUP(CONCATENATE(E$3,\"-\",$B9),Uitslag,VLOOKUP(CONCATENATE(E$3,\"-\",$B9),Werk1!$V$2:$Y$191,3,FALSE),FALSE),\"\"))))","v":{"$error":"#N/A"}},{"$f":"IF($A9=\" \",\"--\",IF($AS9=1,\"XX\",IF(F$25=1,\"XX\",IF(VLOOKUP(CONCATENATE(F$3,\"-\",$B9),Werk1!$V$2:$W$191,2,FALSE)=1,VLOOKUP(CONCATENATE(F$3,\"-\",$B9),Uitslag,VLOOKUP(CONCATENATE(F$3,\"-\",$B9),Werk1!$V$2:$Y$191,3,FALSE),FALSE),\"\"))))","v":{"$error":"#N/A"}},{"$f":"IF($A9=\" \",\"--\",IF($AS9=1,\"XX\",IF(G$25=1,\"XX\",IF(VLOOKUP(CONCATENATE(G$3,\"-\",$B9),Werk1!$V$2:$W$191,2,FALSE)=1,VLOOKUP(CONCATENATE(G$3,\"-\",$B9),Uitslag,VLOOKUP(CONCATENATE(G$3,\"-\",$B9),Werk1!$V$2:$Y$191,3,FALSE),FALSE),\"\"))))","v":{"$error":"#N/A"}},{"$f":"IF($A9=\" \",\"--\",IF($AS9=1,\"XX\",IF(H$25=1,\"XX\",IF(VLOOKUP(CONCATENATE(H$3,\"-\",$B9),Werk1!$V$2:$W$191,2,FALSE)=1,VLOOKUP(CONCATENATE(H$3,\"-\",$B9),Uitslag,VLOOKUP(CONCATENATE(H$3,\"-\",$B9),Werk1!$V$2:$Y$191,3,FALSE),FALSE),\"\"))))","v":{"$error":"#N/A"}},null,{"$f":"IF(J$2=\" \",\"--\",IF($AS9=1,\"XX\",IF(J$25=1,\"XX\",IF(VLOOKUP(CONCATENATE($B9,\"-\",J$3),Werk1!$V$2:$W$191,2,FALSE)=1,VLOOKUP(CONCATENATE($B9,\"-\",J$3),Uitslag,VLOOKUP(CONCATENATE($B9,\"-\",J$3),Werk1!$V$2:$Y$191,4,FALSE),FALSE),\"\"))))","v":{"$error":"#N/A"}},{"$f":"IF(K$2=\" \",\"--\",IF($AS9=1,\"XX\",IF(K$25=1,\"XX\",IF(VLOOKUP(CONCATENATE($B9,\"-\",K$3),Werk1!$V$2:$W$191,2,FALSE)=1,VLOOKUP(CONCATENATE($B9,\"-\",K$3),Uitslag,VLOOKUP(CONCATENATE($B9,\"-\",K$3),Werk1!$V$2:$Y$191,4,FALSE),FALSE),\"\"))))","v":{"$error":"#N/A"}},{"$f":"IF(L$2=\" \",\"--\",IF($AS9=1,\"XX\",IF(L$25=1,\"XX\",IF(VLOOKUP(CONCATENATE($B9,\"-\",L$3),Werk1!$V$2:$W$191,2,FALSE)=1,VLOOKUP(CONCATENATE($B9,\"-\",L$3),Uitslag,VLOOKUP(CONCATENATE($B9,\"-\",L$3),Werk1!$V$2:$Y$191,4,FALSE),FALSE),\"\"))))","v":{"$error":"#N/A"}},{"$f":"IF(M$2=\" \",\"--\",IF($AS9=1,\"XX\",IF(M$25=1,\"XX\",IF(VLOOKUP(CONCATENATE($B9,\"-\",M$3),Werk1!$V$2:$W$191,2,FALSE)=1,VLOOKUP(CONCATENATE($B9,\"-\",M$3),Uitslag,VLOOKUP(CONCATENATE($B9,\"-\",M$3),Werk1!$V$2:$Y$191,4,FALSE),FALSE),\"\"))))","v":{"$error":"#N/A"}},{"$f":"IF(N$2=\" \",\"--\",IF($AS9=1,\"XX\",IF(N$25=1,\"XX\",IF(VLOOKUP(CONCATENATE($B9,\"-\",N$3),Werk1!$V$2:$W$191,2,FALSE)=1,VLOOKUP(CONCATENATE($B9,\"-\",N$3),Uitslag,VLOOKUP(CONCATENATE($B9,\"-\",N$3),Werk1!$V$2:$Y$191,4,FALSE),FALSE),\"\"))))","v":{"$error":"#N/A"}},{"$f":"IF(O$2=\" \",\"--\",IF($AS9=1,\"XX\",IF(O$25=1,\"XX\",IF(VLOOKUP(CONCATENATE($B9,\"-\",O$3),Werk1!$V$2:$W$191,2,FALSE)=1,VLOOKUP(CONCATENATE($B9,\"-\",O$3),Uitslag,VLOOKUP(CONCATENATE($B9,\"-\",O$3),Werk1!$V$2:$Y$191,4,FALSE),FALSE),\"\"))))","v":{"$error":"#N/A"}},{"$f":"IF(P$2=\" \",\"--\",IF($AS9=1,\"XX\",IF(P$25=1,\"XX\",IF(VLOOKUP(CONCATENATE($B9,\"-\",P$3),Werk1!$V$2:$W$191,2,FALSE)=1,VLOOKUP(CONCATENATE($B9,\"-\",P$3),Uitslag,VLOOKUP(CONCATENATE($B9,\"-\",P$3),Werk1!$V$2:$Y$191,4,FALSE),FALSE),\"\"))))","v":{"$error":"#N/A"}},{"$f":"IF(Q$2=\" \",\"--\",IF($AS9=1,\"XX\",IF(Q$25=1,\"XX\",IF(VLOOKUP(CONCATENATE($B9,\"-\",Q$3),Werk1!$V$2:$W$191,2,FALSE)=1,VLOOKUP(CONCATENATE($B9,\"-\",Q$3),Uitslag,VLOOKUP(CONCATENATE($B9,\"-\",Q$3),Werk1!$V$2:$Y$191,4,FALSE),FALSE),\"\"))))","v":{"$error":"#N/A"}},{"$f":"IF(R$2=\" \",\"--\",IF($AS9=1,\"XX\",IF(R$25=1,\"XX\",IF(VLOOKUP(CONCATENATE($B9,\"-\",R$3),Werk1!$V$2:$W$191,2,FALSE)=1,VLOOKUP(CONCATENATE($B9,\"-\",R$3),Uitslag,VLOOKUP(CONCATENATE($B9,\"-\",R$3),Werk1!$V$2:$Y$191,4,FALSE),FALSE),\"\"))))","v":{"$error":"#N/A"}},{"$f":"IF(S$2=\" \",\"--\",IF($AS9=1,\"XX\",IF(S$25=1,\"XX\",IF(VLOOKUP(CONCATENATE($B9,\"-\",S$3),Werk1!$V$2:$W$191,2,FALSE)=1,VLOOKUP(CONCATENATE($B9,\"-\",S$3),Uitslag,VLOOKUP(CONCATENATE($B9,\"-\",S$3),Werk1!$V$2:$Y$191,4,FALSE),FALSE),\"\"))))","v":{"$error":"#N/A"}},{"$f":"IF(T$2=\" \",\"--\",IF($AS9=1,\"XX\",IF(T$25=1,\"XX\",IF(VLOOKUP(CONCATENATE($B9,\"-\",T$3),Werk1!$V$2:$W$191,2,FALSE)=1,VLOOKUP(CONCATENATE($B9,\"-\",T$3),Uitslag,VLOOKUP(CONCATENATE($B9,\"-\",T$3),Werk1!$V$2:$Y$191,4,FALSE),FALSE),\"\"))))","v":{"$error":"#N/A"}},{"$f":"IF(U$2=\" \",\"--\",IF($AS9=1,\"XX\",IF(U$25=1,\"XX\",IF(VLOOKUP(CONCATENATE($B9,\"-\",U$3),Werk1!$V$2:$W$191,2,FALSE)=1,VLOOKUP(CONCATENATE($B9,\"-\",U$3),Uitslag,VLOOKUP(CONCATENATE($B9,\"-\",U$3),Werk1!$V$2:$Y$191,4,FALSE),FALSE),\"\"))))","v":{"$error":"#N/A"}},{"$f":"IF(V$2=\" \",\"--\",IF($AS9=1,\"XX\",IF(V$25=1,\"XX\",IF(VLOOKUP(CONCATENATE($B9,\"-\",V$3),Werk1!$V$2:$W$191,2,FALSE)=1,VLOOKUP(CONCATENATE($B9,\"-\",V$3),Uitslag,VLOOKUP(CONCATENATE($B9,\"-\",V$3),Werk1!$V$2:$Y$191,4,FALSE),FALSE),\"\"))))","v":{"$error":"#N/A"}},{"$f":"IF(W$2=\" \",\"--\",IF($AS9=1,\"XX\",IF(W$25=1,\"XX\",IF(VLOOKUP(CONCATENATE($B9,\"-\",W$3),Werk1!$V$2:$W$191,2,FALSE)=1,VLOOKUP(CONCATENATE($B9,\"-\",W$3),Uitslag,VLOOKUP(CONCATENATE($B9,\"-\",W$3),Werk1!$V$2:$Y$191,4,FALSE),FALSE),\"\"))))","v":{"$error":"#N/A"}},null,{"$f":"IF($A9=\"\",\"--\",IF(VLOOKUP(CONCATENATE(D$3,\"-\",$B9),Werk1!$V$2:$W$191,2,FALSE)=1,VLOOKUP(CONCATENATE(D$3,\"-\",$B9),Uitslag,(VLOOKUP(CONCATENATE(D$3,\"-\",$B9),Werk1!$AE$2:$AG$191,3,FALSE)),FALSE),\"\"))","v":{"$error":"#N/A"}},{"$f":"IF($A9=\"\",\"--\",IF(VLOOKUP(CONCATENATE(E$3,\"-\",$B9),Werk1!$V$2:$W$191,2,FALSE)=1,VLOOKUP(CONCATENATE(E$3,\"-\",$B9),Uitslag,(VLOOKUP(CONCATENATE(E$3,\"-\",$B9),Werk1!$AE$2:$AG$191,3,FALSE)),FALSE),\"\"))","v":{"$error":"#N/A"}},{"$f":"IF($A9=\"\",\"--\",IF(VLOOKUP(CONCATENATE(F$3,\"-\",$B9),Werk1!$V$2:$W$191,2,FALSE)=1,VLOOKUP(CONCATENATE(F$3,\"-\",$B9),Uitslag,(VLOOKUP(CONCATENATE(F$3,\"-\",$B9),Werk1!$AE$2:$AG$191,3,FALSE)),FALSE),\"\"))","v":{"$error":"#N/A"}},{"$f":"IF($A9=\"\",\"--\",IF(VLOOKUP(CONCATENATE(G$3,\"-\",$B9),Werk1!$V$2:$W$191,2,FALSE)=1,VLOOKUP(CONCATENATE(G$3,\"-\",$B9),Uitslag,(VLOOKUP(CONCATENATE(G$3,\"-\",$B9),Werk1!$AE$2:$AG$191,3,FALSE)),FALSE),\"\"))","v":{"$error":"#N/A"}},{"$f":"IF($A9=\"\",\"--\",IF(VLOOKUP(CONCATENATE(H$3,\"-\",$B9),Werk1!$V$2:$W$191,2,FALSE)=1,VLOOKUP(CONCATENATE(H$3,\"-\",$B9),Uitslag,(VLOOKUP(CONCATENATE(H$3,\"-\",$B9),Werk1!$AE$2:$AG$191,3,FALSE)),FALSE),\"\"))","v":{"$error":"#N/A"}},null,{"$f":"IF(J$2=\"\",\"--\",IF(VLOOKUP(CONCATENATE($B9,\"-\",J$3),Werk1!$V$2:$W$191,2,FALSE)=1,VLOOKUP(CONCATENATE($B9,\"-\",J$3),Uitslag,(VLOOKUP(CONCATENATE($B9,\"-\",J$3),Werk1!$AE$2:$AG$191,2,FALSE)),FALSE),\"\"))","v":{"$error":"#N/A"}},{"$f":"IF(K$2=\"\",\"--\",IF(VLOOKUP(CONCATENATE($B9,\"-\",K$3),Werk1!$V$2:$W$191,2,FALSE)=1,VLOOKUP(CONCATENATE($B9,\"-\",K$3),Uitslag,(VLOOKUP(CONCATENATE($B9,\"-\",K$3),Werk1!$AE$2:$AG$191,2,FALSE)),FALSE),\"\"))","v":{"$error":"#N/A"}},{"$f":"IF(L$2=\"\",\"--\",IF(VLOOKUP(CONCATENATE($B9,\"-\",L$3),Werk1!$V$2:$W$191,2,FALSE)=1,VLOOKUP(CONCATENATE($B9,\"-\",L$3),Uitslag,(VLOOKUP(CONCATENATE($B9,\"-\",L$3),Werk1!$AE$2:$AG$191,2,FALSE)),FALSE),\"\"))","v":{"$error":"#N/A"}},{"$f":"IF(M$2=\"\",\"--\",IF(VLOOKUP(CONCATENATE($B9,\"-\",M$3),Werk1!$V$2:$W$191,2,FALSE)=1,VLOOKUP(CONCATENATE($B9,\"-\",M$3),Uitslag,(VLOOKUP(CONCATENATE($B9,\"-\",M$3),Werk1!$AE$2:$AG$191,2,FALSE)),FALSE),\"\"))","v":{"$error":"#N/A"}},{"$f":"IF(N$2=\"\",\"--\",IF(VLOOKUP(CONCATENATE($B9,\"-\",N$3),Werk1!$V$2:$W$191,2,FALSE)=1,VLOOKUP(CONCATENATE($B9,\"-\",N$3),Uitslag,(VLOOKUP(CONCATENATE($B9,\"-\",N$3),Werk1!$AE$2:$AG$191,2,FALSE)),FALSE),\"\"))","v":{"$error":"#N/A"}},{"$f":"IF(O$2=\"\",\"--\",IF(VLOOKUP(CONCATENATE($B9,\"-\",O$3),Werk1!$V$2:$W$191,2,FALSE)=1,VLOOKUP(CONCATENATE($B9,\"-\",O$3),Uitslag,(VLOOKUP(CONCATENATE($B9,\"-\",O$3),Werk1!$AE$2:$AG$191,2,FALSE)),FALSE),\"\"))","v":{"$error":"#N/A"}},{"$f":"IF(P$2=\"\",\"--\",IF(VLOOKUP(CONCATENATE($B9,\"-\",P$3),Werk1!$V$2:$W$191,2,FALSE)=1,VLOOKUP(CONCATENATE($B9,\"-\",P$3),Uitslag,(VLOOKUP(CONCATENATE($B9,\"-\",P$3),Werk1!$AE$2:$AG$191,2,FALSE)),FALSE),\"\"))","v":{"$error":"#N/A"}},{"$f":"IF(Q$2=\"\",\"--\",IF(VLOOKUP(CONCATENATE($B9,\"-\",Q$3),Werk1!$V$2:$W$191,2,FALSE)=1,VLOOKUP(CONCATENATE($B9,\"-\",Q$3),Uitslag,(VLOOKUP(CONCATENATE($B9,\"-\",Q$3),Werk1!$AE$2:$AG$191,2,FALSE)),FALSE),\"\"))","v":{"$error":"#N/A"}},{"$f":"IF(R$2=\"\",\"--\",IF(VLOOKUP(CONCATENATE($B9,\"-\",R$3),Werk1!$V$2:$W$191,2,FALSE)=1,VLOOKUP(CONCATENATE($B9,\"-\",R$3),Uitslag,(VLOOKUP(CONCATENATE($B9,\"-\",R$3),Werk1!$AE$2:$AG$191,2,FALSE)),FALSE),\"\"))","v":{"$error":"#N/A"}},{"$f":"IF(S$2=\"\",\"--\",IF(VLOOKUP(CONCATENATE($B9,\"-\",S$3),Werk1!$V$2:$W$191,2,FALSE)=1,VLOOKUP(CONCATENATE($B9,\"-\",S$3),Uitslag,(VLOOKUP(CONCATENATE($B9,\"-\",S$3),Werk1!$AE$2:$AG$191,2,FALSE)),FALSE),\"\"))","v":{"$error":"#N/A"}},{"$f":"IF(T$2=\"\",\"--\",IF(VLOOKUP(CONCATENATE($B9,\"-\",T$3),Werk1!$V$2:$W$191,2,FALSE)=1,VLOOKUP(CONCATENATE($B9,\"-\",T$3),Uitslag,(VLOOKUP(CONCATENATE($B9,\"-\",T$3),Werk1!$AE$2:$AG$191,2,FALSE)),FALSE),\"\"))","v":{"$error":"#N/A"}},{"$f":"IF(U$2=\"\",\"--\",IF(VLOOKUP(CONCATENATE($B9,\"-\",U$3),Werk1!$V$2:$W$191,2,FALSE)=1,VLOOKUP(CONCATENATE($B9,\"-\",U$3),Uitslag,(VLOOKUP(CONCATENATE($B9,\"-\",U$3),Werk1!$AE$2:$AG$191,2,FALSE)),FALSE),\"\"))","v":{"$error":"#N/A"}},{"$f":"IF(V$2=\"\",\"--\",IF(VLOOKUP(CONCATENATE($B9,\"-\",V$3),Werk1!$V$2:$W$191,2,FALSE)=1,VLOOKUP(CONCATENATE($B9,\"-\",V$3),Uitslag,(VLOOKUP(CONCATENATE($B9,\"-\",V$3),Werk1!$AE$2:$AG$191,2,FALSE)),FALSE),\"\"))","v":{"$error":"#N/A"}},{"$f":"IF(W$2=\"\",\"--\",IF(VLOOKUP(CONCATENATE($B9,\"-\",W$3),Werk1!$V$2:$W$191,2,FALSE)=1,VLOOKUP(CONCATENATE($B9,\"-\",W$3),Uitslag,(VLOOKUP(CONCATENATE($B9,\"-\",W$3),Werk1!$AE$2:$AG$191,2,FALSE)),FALSE),\"\"))","v":{"$error":"#N/A"}},{"$f":"IF(A9=\"\",0,IF(VLOOKUP(VLOOKUP(B9,Werk1!$AA$2:$AB$21,2,FALSE),Leden,9,FALSE)=-1,1,0))","v":{"$error":"#N/A"}}]
[{"$f":"CONCATENATE(VLOOKUP(B10,Werk1!$AA$2:$AB$21,2,FALSE),\" \")","v":{"$error":"#N/A"}},7,{"$f":"IF(A10=\"\",\"--\",IF($AS10=1,\"XX\",VLOOKUP(B10,Leden!$B$3:$C$22,2,FALSE)))","v":{"$error":"#N/A"}},{"$f":"IF($A10=\" \",\"--\",IF($AS10=1,\"XX\",IF(D$25=1,\"XX\",IF(VLOOKUP(CONCATENATE(D$3,\"-\",$B10),Werk1!$V$2:$W$191,2,FALSE)=1,VLOOKUP(CONCATENATE(D$3,\"-\",$B10),Uitslag,VLOOKUP(CONCATENATE(D$3,\"-\",$B10),Werk1!$V$2:$Y$191,3,FALSE),FALSE),\"\"))))","v":{"$error":"#N/A"}},{"$f":"IF($A10=\" \",\"--\",IF($AS10=1,\"XX\",IF(E$25=1,\"XX\",IF(VLOOKUP(CONCATENATE(E$3,\"-\",$B10),Werk1!$V$2:$W$191,2,FALSE)=1,VLOOKUP(CONCATENATE(E$3,\"-\",$B10),Uitslag,VLOOKUP(CONCATENATE(E$3,\"-\",$B10),Werk1!$V$2:$Y$191,3,FALSE),FALSE),\"\"))))","v":{"$error":"#N/A"}},{"$f":"IF($A10=\" \",\"--\",IF($AS10=1,\"XX\",IF(F$25=1,\"XX\",IF(VLOOKUP(CONCATENATE(F$3,\"-\",$B10),Werk1!$V$2:$W$191,2,FALSE)=1,VLOOKUP(CONCATENATE(F$3,\"-\",$B10),Uitslag,VLOOKUP(CONCATENATE(F$3,\"-\",$B10),Werk1!$V$2:$Y$191,3,FALSE),FALSE),\"\"))))","v":{"$error":"#N/A"}},{"$f":"IF($A10=\" \",\"--\",IF($AS10=1,\"XX\",IF(G$25=1,\"XX\",IF(VLOOKUP(CONCATENATE(G$3,\"-\",$B10),Werk1!$V$2:$W$191,2,FALSE)=1,VLOOKUP(CONCATENATE(G$3,\"-\",$B10),Uitslag,VLOOKUP(CONCATENATE(G$3,\"-\",$B10),Werk1!$V$2:$Y$191,3,FALSE),FALSE),\"\"))))","v":{"$error":"#N/A"}},{"$f":"IF($A10=\" \",\"--\",IF($AS10=1,\"XX\",IF(H$25=1,\"XX\",IF(VLOOKUP(CONCATENATE(H$3,\"-\",$B10),Werk1!$V$2:$W$191,2,FALSE)=1,VLOOKUP(CONCATENATE(H$3,\"-\",$B10),Uitslag,VLOOKUP(CONCATENATE(H$3,\"-\",$B10),Werk1!$V$2:$Y$191,3,FALSE),FALSE),\"\"))))","v":{"$error":"#N/A"}},{"$f":"IF($A10=\" \",\"--\",IF($AS10=1,\"XX\",IF(I$25=1,\"XX\",IF(VLOOKUP(CONCATENATE(I$3,\"-\",$B10),Werk1!$V$2:$W$191,2,FALSE)=1,VLOOKUP(CONCATENATE(I$3,\"-\",$B10),Uitslag,VLOOKUP(CONCATENATE(I$3,\"-\",$B10),Werk1!$V$2:$Y$191,3,FALSE),FALSE),\"\"))))","v":{"$error":"#N/A"}},null,{"$f":"IF(K$2=\" \",\"--\",IF($AS10=1,\"XX\",IF(K$25=1,\"XX\",IF(VLOOKUP(CONCATENATE($B10,\"-\",K$3),Werk1!$V$2:$W$191,2,FALSE)=1,VLOOKUP(CONCATENATE($B10,\"-\",K$3),Uitslag,VLOOKUP(CONCATENATE($B10,\"-\",K$3),Werk1!$V$2:$Y$191,4,FALSE),FALSE),\"\"))))","v":{"$error":"#N/A"}},{"$f":"IF(L$2=\" \",\"--\",IF($AS10=1,\"XX\",IF(L$25=1,\"XX\",IF(VLOOKUP(CONCATENATE($B10,\"-\",L$3),Werk1!$V$2:$W$191,2,FALSE)=1,VLOOKUP(CONCATENATE($B10,\"-\",L$3),Uitslag,VLOOKUP(CONCATENATE($B10,\"-\",L$3),Werk1!$V$2:$Y$191,4,FALSE),FALSE),\"\"))))","v":{"$error":"#N/A"}},{"$f":"IF(M$2=\" \",\"--\",IF($AS10=1,\"XX\",IF(M$25=1,\"XX\",IF(VLOOKUP(CONCATENATE($B10,\"-\",M$3),Werk1!$V$2:$W$191,2,FALSE)=1,VLOOKUP(CONCATENATE($B10,\"-\",M$3),Uitslag,VLOOKUP(CONCATENATE($B10,\"-\",M$3),Werk1!$V$2:$Y$191,4,FALSE),FALSE),\"\"))))","v":{"$error":"#N/A"}},{"$f":"IF(N$2=\" \",\"--\",IF($AS10=1,\"XX\",IF(N$25=1,\"XX\",IF(VLOOKUP(CONCATENATE($B10,\"-\",N$3),Werk1!$V$2:$W$191,2,FALSE)=1,VLOOKUP(CONCATENATE($B10,\"-\",N$3),Uitslag,VLOOKUP(CONCATENATE($B10,\"-\",N$3),Werk1!$V$2:$Y$191,4,FALSE),FALSE),\"\"))))","v":{"$error":"#N/A"}},{"$f":"IF(O$2=\" \",\"--\",IF($AS10=1,\"XX\",IF(O$25=1,\"XX\",IF(VLOOKUP(CONCATENATE($B10,\"-\",O$3),Werk1!$V$2:$W$191,2,FALSE)=1,VLOOKUP(CONCATENATE($B10,\"-\",O$3),Uitslag,VLOOKUP(CONCATENATE($B10,\"-\",O$3),Werk1!$V$2:$Y$191,4,FALSE),FALSE),\"\"))))","v":{"$error":"#N/A"}},{"$f":"IF(P$2=\" \",\"--\",IF($AS10=1,\"XX\",IF(P$25=1,\"XX\",IF(VLOOKUP(CONCATENATE($B10,\"-\",P$3),Werk1!$V$2:$W$191,2,FALSE)=1,VLOOKUP(CONCATENATE($B10,\"-\",P$3),Uitslag,VLOOKUP(CONCATENATE($B10,\"-\",P$3),Werk1!$V$2:$Y$191,4,FALSE),FALSE),\"\"))))","v":{"$error":"#N/A"}},{"$f":"IF(Q$2=\" \",\"--\",IF($AS10=1,\"XX\",IF(Q$25=1,\"XX\",IF(VLOOKUP(CONCATENATE($B10,\"-\",Q$3),Werk1!$V$2:$W$191,2,FALSE)=1,VLOOKUP(CONCATENATE($B10,\"-\",Q$3),Uitslag,VLOOKUP(CONCATENATE($B10,\"-\",Q$3),Werk1!$V$2:$Y$191,4,FALSE),FALSE),\"\"))))","v":{"$error":"#N/A"}},{"$f":"IF(R$2=\" \",\"--\",IF($AS10=1,\"XX\",IF(R$25=1,\"XX\",IF(VLOOKUP(CONCATENATE($B10,\"-\",R$3),Werk1!$V$2:$W$191,2,FALSE)=1,VLOOKUP(CONCATENATE($B10,\"-\",R$3),Uitslag,VLOOKUP(CONCATENATE($B10,\"-\",R$3),Werk1!$V$2:$Y$191,4,FALSE),FALSE),\"\"))))","v":{"$error":"#N/A"}},{"$f":"IF(S$2=\" \",\"--\",IF($AS10=1,\"XX\",IF(S$25=1,\"XX\",IF(VLOOKUP(CONCATENATE($B10,\"-\",S$3),Werk1!$V$2:$W$191,2,FALSE)=1,VLOOKUP(CONCATENATE($B10,\"-\",S$3),Uitslag,VLOOKUP(CONCATENATE($B10,\"-\",S$3),Werk1!$V$2:$Y$191,4,FALSE),FALSE),\"\"))))","v":{"$error":"#N/A"}},{"$f":"IF(T$2=\" \",\"--\",IF($AS10=1,\"XX\",IF(T$25=1,\"XX\",IF(VLOOKUP(CONCATENATE($B10,\"-\",T$3),Werk1!$V$2:$W$191,2,FALSE)=1,VLOOKUP(CONCATENATE($B10,\"-\",T$3),Uitslag,VLOOKUP(CONCATENATE($B10,\"-\",T$3),Werk1!$V$2:$Y$191,4,FALSE),FALSE),\"\"))))","v":{"$error":"#N/A"}},{"$f":"IF(U$2=\" \",\"--\",IF($AS10=1,\"XX\",IF(U$25=1,\"XX\",IF(VLOOKUP(CONCATENATE($B10,\"-\",U$3),Werk1!$V$2:$W$191,2,FALSE)=1,VLOOKUP(CONCATENATE($B10,\"-\",U$3),Uitslag,VLOOKUP(CONCATENATE($B10,\"-\",U$3),Werk1!$V$2:$Y$191,4,FALSE),FALSE),\"\"))))","v":{"$error":"#N/A"}},{"$f":"IF(V$2=\" \",\"--\",IF($AS10=1,\"XX\",IF(V$25=1,\"XX\",IF(VLOOKUP(CONCATENATE($B10,\"-\",V$3),Werk1!$V$2:$W$191,2,FALSE)=1,VLOOKUP(CONCATENATE($B10,\"-\",V$3),Uitslag,VLOOKUP(CONCATENATE($B10,\"-\",V$3),Werk1!$V$2:$Y$191,4,FALSE),FALSE),\"\"))))","v":{"$error":"#N/A"}},{"$f":"IF(W$2=\" \",\"--\",IF($AS10=1,\"XX\",IF(W$25=1,\"XX\",IF(VLOOKUP(CONCATENATE($B10,\"-\",W$3),Werk1!$V$2:$W$191,2,FALSE)=1,VLOOKUP(CONCATENATE($B10,\"-\",W$3),Uitslag,VLOOKUP(CONCATENATE($B10,\"-\",W$3),Werk1!$V$2:$Y$191,4,FALSE),FALSE),\"\"))))","v":{"$error":"#N/A"}},null,{"$f":"IF($A10=\"\",\"--\",IF(VLOOKUP(CONCATENATE(D$3,\"-\",$B10),Werk1!$V$2:$W$191,2,FALSE)=1,VLOOKUP(CONCATENATE(D$3,\"-\",$B10),Uitslag,(VLOOKUP(CONCATENATE(D$3,\"-\",$B10),Werk1!$AE$2:$AG$191,3,FALSE)),FALSE),\"\"))","v":{"$error":"#N/A"}},{"$f":"IF($A10=\"\",\"--\",IF(VLOOKUP(CONCATENATE(E$3,\"-\",$B10),Werk1!$V$2:$W$191,2,FALSE)=1,VLOOKUP(CONCATENATE(E$3,\"-\",$B10),Uitslag,(VLOOKUP(CONCATENATE(E$3,\"-\",$B10),Werk1!$AE$2:$AG$191,3,FALSE)),FALSE),\"\"))","v":{"$error":"#N/A"}},{"$f":"IF($A10=\"\",\"--\",IF(VLOOKUP(CONCATENATE(F$3,\"-\",$B10),Werk1!$V$2:$W$191,2,FALSE)=1,VLOOKUP(CONCATENATE(F$3,\"-\",$B10),Uitslag,(VLOOKUP(CONCATENATE(F$3,\"-\",$B10),Werk1!$AE$2:$AG$191,3,FALSE)),FALSE),\"\"))","v":{"$error":"#N/A"}},{"$f":"IF($A10=\"\",\"--\",IF(VLOOKUP(CONCATENATE(G$3,\"-\",$B10),Werk1!$V$2:$W$191,2,FALSE)=1,VLOOKUP(CONCATENATE(G$3,\"-\",$B10),Uitslag,(VLOOKUP(CONCATENATE(G$3,\"-\",$B10),Werk1!$AE$2:$AG$191,3,FALSE)),FALSE),\"\"))","v":{"$error":"#N/A"}},{"$f":"IF($A10=\"\",\"--\",IF(VLOOKUP(CONCATENATE(H$3,\"-\",$B10),Werk1!$V$2:$W$191,2,FALSE)=1,VLOOKUP(CONCATENATE(H$3,\"-\",$B10),Uitslag,(VLOOKUP(CONCATENATE(H$3,\"-\",$B10),Werk1!$AE$2:$AG$191,3,FALSE)),FALSE),\"\"))","v":{"$error":"#N/A"}},{"$f":"IF($A10=\"\",\"--\",IF(VLOOKUP(CONCATENATE(I$3,\"-\",$B10),Werk1!$V$2:$W$191,2,FALSE)=1,VLOOKUP(CONCATENATE(I$3,\"-\",$B10),Uitslag,(VLOOKUP(CONCATENATE(I$3,\"-\",$B10),Werk1!$AE$2:$AG$191,3,FALSE)),FALSE),\"\"))","v":{"$error":"#N/A"}},null,{"$f":"IF(K$2=\"\",\"--\",IF(VLOOKUP(CONCATENATE($B10,\"-\",K$3),Werk1!$V$2:$W$191,2,FALSE)=1,VLOOKUP(CONCATENATE($B10,\"-\",K$3),Uitslag,(VLOOKUP(CONCATENATE($B10,\"-\",K$3),Werk1!$AE$2:$AG$191,2,FALSE)),FALSE),\"\"))","v":{"$error":"#N/A"}},{"$f":"IF(L$2=\"\",\"--\",IF(VLOOKUP(CONCATENATE($B10,\"-\",L$3),Werk1!$V$2:$W$191,2,FALSE)=1,VLOOKUP(CONCATENATE($B10,\"-\",L$3),Uitslag,(VLOOKUP(CONCATENATE($B10,\"-\",L$3),Werk1!$AE$2:$AG$191,2,FALSE)),FALSE),\"\"))","v":{"$error":"#N/A"}},{"$f":"IF(M$2=\"\",\"--\",IF(VLOOKUP(CONCATENATE($B10,\"-\",M$3),Werk1!$V$2:$W$191,2,FALSE)=1,VLOOKUP(CONCATENATE($B10,\"-\",M$3),Uitslag,(VLOOKUP(CONCATENATE($B10,\"-\",M$3),Werk1!$AE$2:$AG$191,2,FALSE)),FALSE),\"\"))","v":{"$error":"#N/A"}},{"$f":"IF(N$2=\"\",\"--\",IF(VLOOKUP(CONCATENATE($B10,\"-\",N$3),Werk1!$V$2:$W$191,2,FALSE)=1,VLOOKUP(CONCATENATE($B10,\"-\",N$3),Uitslag,(VLOOKUP(CONCATENATE($B10,\"-\",N$3),Werk1!$AE$2:$AG$191,2,FALSE)),FALSE),\"\"))","v":{"$error":"#N/A"}},{"$f":"IF(O$2=\"\",\"--\",IF(VLOOKUP(CONCATENATE($B10,\"-\",O$3),Werk1!$V$2:$W$191,2,FALSE)=1,VLOOKUP(CONCATENATE($B10,\"-\",O$3),Uitslag,(VLOOKUP(CONCATENATE($B10,\"-\",O$3),Werk1!$AE$2:$AG$191,2,FALSE)),FALSE),\"\"))","v":{"$error":"#N/A"}},{"$f":"IF(P$2=\"\",\"--\",IF(VLOOKUP(CONCATENATE($B10,\"-\",P$3),Werk1!$V$2:$W$191,2,FALSE)=1,VLOOKUP(CONCATENATE($B10,\"-\",P$3),Uitslag,(VLOOKUP(CONCATENATE($B10,\"-\",P$3),Werk1!$AE$2:$AG$191,2,FALSE)),FALSE),\"\"))","v":{"$error":"#N/A"}},{"$f":"IF(Q$2=\"\",\"--\",IF(VLOOKUP(CONCATENATE($B10,\"-\",Q$3),Werk1!$V$2:$W$191,2,FALSE)=1,VLOOKUP(CONCATENATE($B10,\"-\",Q$3),Uitslag,(VLOOKUP(CONCATENATE($B10,\"-\",Q$3),Werk1!$AE$2:$AG$191,2,FALSE)),FALSE),\"\"))","v":{"$error":"#N/A"}},{"$f":"IF(R$2=\"\",\"--\",IF(VLOOKUP(CONCATENATE($B10,\"-\",R$3),Werk1!$V$2:$W$191,2,FALSE)=1,VLOOKUP(CONCATENATE($B10,\"-\",R$3),Uitslag,(VLOOKUP(CONCATENATE($B10,\"-\",R$3),Werk1!$AE$2:$AG$191,2,FALSE)),FALSE),\"\"))","v":{"$error":"#N/A"}},{"$f":"IF(S$2=\"\",\"--\",IF(VLOOKUP(CONCATENATE($B10,\"-\",S$3),Werk1!$V$2:$W$191,2,FALSE)=1,VLOOKUP(CONCATENATE($B10,\"-\",S$3),Uitslag,(VLOOKUP(CONCATENATE($B10,\"-\",S$3),Werk1!$AE$2:$AG$191,2,FALSE)),FALSE),\"\"))","v":{"$error":"#N/A"}},{"$f":"IF(T$2=\"\",\"--\",IF(VLOOKUP(CONCATENATE($B10,\"-\",T$3),Werk1!$V$2:$W$191,2,FALSE)=1,VLOOKUP(CONCATENATE($B10,\"-\",T$3),Uitslag,(VLOOKUP(CONCATENATE($B10,\"-\",T$3),Werk1!$AE$2:$AG$191,2,FALSE)),FALSE),\"\"))","v":{"$error":"#N/A"}},{"$f":"IF(U$2=\"\",\"--\",IF(VLOOKUP(CONCATENATE($B10,\"-\",U$3),Werk1!$V$2:$W$191,2,FALSE)=1,VLOOKUP(CONCATENATE($B10,\"-\",U$3),Uitslag,(VLOOKUP(CONCATENATE($B10,\"-\",U$3),Werk1!$AE$2:$AG$191,2,FALSE)),FALSE),\"\"))","v":{"$error":"#N/A"}},{"$f":"IF(V$2=\"\",\"--\",IF(VLOOKUP(CONCATENATE($B10,\"-\",V$3),Werk1!$V$2:$W$191,2,FALSE)=1,VLOOKUP(CONCATENATE($B10,\"-\",V$3),Uitslag,(VLOOKUP(CONCATENATE($B10,\"-\",V$3),Werk1!$AE$2:$AG$191,2,FALSE)),FALSE),\"\"))","v":{"$error":"#N/A"}},{"$f":"IF(W$2=\"\",\"--\",IF(VLOOKUP(CONCATENATE($B10,\"-\",W$3),Werk1!$V$2:$W$191,2,FALSE)=1,VLOOKUP(CONCATENATE($B10,\"-\",W$3),Uitslag,(VLOOKUP(CONCATENATE($B10,\"-\",W$3),Werk1!$AE$2:$AG$191,2,FALSE)),FALSE),\"\"))","v":{"$error":"#N/A"}},{"$f":"IF(A10=\"\",0,IF(VLOOKUP(VLOOKUP(B10,Werk1!$AA$2:$AB$21,2,FALSE),Leden,9,FALSE)=-1,1,0))","v":{"$error":"#N/A"}}]
[{"$f":"CONCATENATE(VLOOKUP(B11,Werk1!$AA$2:$AB$21,2,FALSE),\" \")","v":{"$error":"#N/A"}},8,{"$f":"IF(A11=\"\",\"--\",IF($AS11=1,\"XX\",VLOOKUP(B11,Leden!$B$3:$C$22,2,FALSE)))","v":{"$error":"#N/A"}},{"$f":"IF($A11=\" \",\"--\",IF($AS11=1,\"XX\",IF(D$25=1,\"XX\",IF(VLOOKUP(CONCATENATE(D$3,\"-\",$B11),Werk1!$V$2:$W$191,2,FALSE)=1,VLOOKUP(CONCATENATE(D$3,\"-\",$B11),Uitslag,VLOOKUP(CONCATENATE(D$3,\"-\",$B11),Werk1!$V$2:$Y$191,3,FALSE),FALSE),\"\"))))","v":{"$error":"#N/A"}},{"$f":"IF($A11=\" \",\"--\",IF($AS11=1,\"XX\",IF(E$25=1,\"XX\",IF(VLOOKUP(CONCATENATE(E$3,\"-\",$B11),Werk1!$V$2:$W$191,2,FALSE)=1,VLOOKUP(CONCATENATE(E$3,\"-\",$B11),Uitslag,VLOOKUP(CONCATENATE(E$3,\"-\",$B11),Werk1!$V$2:$Y$191,3,FALSE),FALSE),\"\"))))","v":{"$error":"#N/A"}},{"$f":"IF($A11=\" \",\"--\",IF($AS11=1,\"XX\",IF(F$25=1,\"XX\",IF(VLOOKUP(CONCATENATE(F$3,\"-\",$B11),Werk1!$V$2:$W$191,2,FALSE)=1,VLOOKUP(CONCATENATE(F$3,\"-\",$B11),Uitslag,VLOOKUP(CONCATENATE(F$3,\"-\",$B11),Werk1!$V$2:$Y$191,3,FALSE),FALSE),\"\"))))","v":{"$error":"#N/A"}},{"$f":"IF($A11=\" \",\"--\",IF($AS11=1,\"XX\",IF(G$25=1,\"XX\",IF(VLOOKUP(CONCATENATE(G$3,\"-\",$B11),Werk1!$V$2:$W$191,2,FALSE)=1,VLOOKUP(CONCATENATE(G$3,\"-\",$B11),Uitslag,VLOOKUP(CONCATENATE(G$3,\"-\",$B11),Werk1!$V$2:$Y$191,3,FALSE),FALSE),\"\"))))","v":{"$error":"#N/A"}},{"$f":"IF($A11=\" \",\"--\",IF($AS11=1,\"XX\",IF(H$25=1,\"XX\",IF(VLOOKUP(CONCATENATE(H$3,\"-\",$B11),Werk1!$V$2:$W$191,2,FALSE)=1,VLOOKUP(CONCATENATE(H$3,\"-\",$B11),Uitslag,VLOOKUP(CONCATENATE(H$3,\"-\",$B11),Werk1!$V$2:$Y$191,3,FALSE),FALSE),\"\"))))","v":{"$error":"#N/A"}},{"$f":"IF($A11=\" \",\"--\",IF($AS11=1,\"XX\",IF(I$25=1,\"XX\",IF(VLOOKUP(CONCATENATE(I$3,\"-\",$B11),Werk1!$V$2:$W$191,2,FALSE)=1,VLOOKUP(CONCATENATE(I$3,\"-\",$B11),Uitslag,VLOOKUP(CONCATENATE(I$3,\"-\",$B11),Werk1!$V$2:$Y$191,3,FALSE),FALSE),\"\"))))","v":{"$error":"#N/A"}},{"$f":"IF($A11=\" \",\"--\",IF($AS11=1,\"XX\",IF(J$25=1,\"XX\",IF(VLOOKUP(CONCATENATE(J$3,\"-\",$B11),Werk1!$V$2:$W$191,2,FALSE)=1,VLOOKUP(CONCATENATE(J$3,\"-\",$B11),Uitslag,VLOOKUP(CONCATENATE(J$3,\"-\",$B11),Werk1!$V$2:$Y$191,3,FALSE),FALSE),\"\"))))","v":{"$error":"#N/A"}},null,{"$f":"IF(L$2=\" \",\"--\",IF($AS11=1,\"XX\",IF(L$25=1,\"XX\",IF(VLOOKUP(CONCATENATE($B11,\"-\",L$3),Werk1!$V$2:$W$191,2,FALSE)=1,VLOOKUP(CONCATENATE($B11,\"-\",L$3),Uitslag,VLOOKUP(CONCATENATE($B11,\"-\",L$3),Werk1!$V$2:$Y$191,4,FALSE),FALSE),\"\"))))","v":{"$error":"#N/A"}},{"$f":"IF(M$2=\" \",\"--\",IF($AS11=1,\"XX\",IF(M$25=1,\"XX\",IF(VLOOKUP(CONCATENATE($B11,\"-\",M$3),Werk1!$V$2:$W$191,2,FALSE)=1,VLOOKUP(CONCATENATE($B11,\"-\",M$3),Uitslag,VLOOKUP(CONCATENATE($B11,\"-\",M$3),Werk1!$V$2:$Y$191,4,FALSE),FALSE),\"\"))))","v":{"$error":"#N/A"}},{"$f":"IF(N$2=\" \",\"--\",IF($AS11=1,\"XX\",IF(N$25=1,\"XX\",IF(VLOOKUP(CONCATENATE($B11,\"-\",N$3),Werk1!$V$2:$W$191,2,FALSE)=1,VLOOKUP(CONCATENATE($B11,\"-\",N$3),Uitslag,VLOOKUP(CONCATENATE($B11,\"-\",N$3),Werk1!$V$2:$Y$191,4,FALSE),FALSE),\"\"))))","v":{"$error":"#N/A"}},{"$f":"IF(O$2=\" \",\"--\",IF($AS11=1,\"XX\",IF(O$25=1,\"XX\",IF(VLOOKUP(CONCATENATE($B11,\"-\",O$3),Werk1!$V$2:$W$191,2,FALSE)=1,VLOOKUP(CONCATENATE($B11,\"-\",O$3),Uitslag,VLOOKUP(CONCATENATE($B11,\"-\",O$3),Werk1!$V$2:$Y$191,4,FALSE),FALSE),\"\"))))","v":{"$error":"#N/A"}},{"$f":"IF(P$2=\" \",\"--\",IF($AS11=1,\"XX\",IF(P$25=1,\"XX\",IF(VLOOKUP(CONCATENATE($B11,\"-\",P$3),Werk1!$V$2:$W$191,2,FALSE)=1,VLOOKUP(CONCATENATE($B11,\"-\",P$3),Uitslag,VLOOKUP(CONCATENATE($B11,\"-\",P$3),Werk1!$V$2:$Y$191,4,FALSE),FALSE),\"\"))))","v":{"$error":"#N/A"}},{"$f":"IF(Q$2=\" \",\"--\",IF($AS11=1,\"XX\",IF(Q$25=1,\"XX\",IF(VLOOKUP(CONCATENATE($B11,\"-\",Q$3),Werk1!$V$2:$W$191,2,FALSE)=1,VLOOKUP(CONCATENATE($B11,\"-\",Q$3),Uitslag,VLOOKUP(CONCATENATE($B11,\"-\",Q$3),Werk1!$V$2:$Y$191,4,FALSE),FALSE),\"\"))))","v":{"$error":"#N/A"}},{"$f":"IF(R$2=\" \",\"--\",IF($AS11=1,\"XX\",IF(R$25=1,\"XX\",IF(VLOOKUP(CONCATENATE($B11,\"-\",R$3),Werk1!$V$2:$W$191,2,FALSE)=1,VLOOKUP(CONCATENATE($B11,\"-\",R$3),Uitslag,VLOOKUP(CONCATENATE($B11,\"-\",R$3),Werk1!$V$2:$Y$191,4,FALSE),FALSE),\"\"))))","v":{"$error":"#N/A"}},{"$f":"IF(S$2=\" \",\"--\",IF($AS11=1,\"XX\",IF(S$25=1,\"XX\",IF(VLOOKUP(CONCATENATE($B11,\"-\",S$3),Werk1!$V$2:$W$191,2,FALSE)=1,VLOOKUP(CONCATENATE($B11,\"-\",S$3),Uitslag,VLOOKUP(CONCATENATE($B11,\"-\",S$3),Werk1!$V$2:$Y$191,4,FALSE),FALSE),\"\"))))","v":{"$error":"#N/A"}},{"$f":"IF(T$2=\" \",\"--\",IF($AS11=1,\"XX\",IF(T$25=1,\"XX\",IF(VLOOKUP(CONCATENATE($B11,\"-\",T$3),Werk1!$V$2:$W$191,2,FALSE)=1,VLOOKUP(CONCATENATE($B11,\"-\",T$3),Uitslag,VLOOKUP(CONCATENATE($B11,\"-\",T$3),Werk1!$V$2:$Y$191,4,FALSE),FALSE),\"\"))))","v":{"$error":"#N/A"}},{"$f":"IF(U$2=\" \",\"--\",IF($AS11=1,\"XX\",IF(U$25=1,\"XX\",IF(VLOOKUP(CONCATENATE($B11,\"-\",U$3),Werk1!$V$2:$W$191,2,FALSE)=1,VLOOKUP(CONCATENATE($B11,\"-\",U$3),Uitslag,VLOOKUP(CONCATENATE($B11,\"-\",U$3),Werk1!$V$2:$Y$191,4,FALSE),FALSE),\"\"))))","v":{"$error":"#N/A"}},{"$f":"IF(V$2=\" \",\"--\",IF($AS11=1,\"XX\",IF(V$25=1,\"XX\",IF(VLOOKUP(CONCATENATE($B11,\"-\",V$3),Werk1!$V$2:$W$191,2,FALSE)=1,VLOOKUP(CONCATENATE($B11,\"-\",V$3),Uitslag,VLOOKUP(CONCATENATE($B11,\"-\",V$3),Werk1!$V$2:$Y$191,4,FALSE),FALSE),\"\"))))","v":{"$error":"#N/A"}},{"$f":"IF(W$2=\" \",\"--\",IF($AS11=1,\"XX\",IF(W$25=1,\"XX\",IF(VLOOKUP(CONCATENATE($B11,\"-\",W$3),Werk1!$V$2:$W$191,2,FALSE)=1,VLOOKUP(CONCATENATE($B11,\"-\",W$3),Uitslag,VLOOKUP(CONCATENATE($B11,\"-\",W$3),Werk1!$V$2:$Y$191,4,FALSE),FALSE),\"\"))))","v":{"$error":"#N/A"}},null,{"$f":"IF($A11=\"\",\"--\",IF(VLOOKUP(CONCATENATE(D$3,\"-\",$B11),Werk1!$V$2:$W$191,2,FALSE)=1,VLOOKUP(CONCATENATE(D$3,\"-\",$B11),Uitslag,(VLOOKUP(CONCATENATE(D$3,\"-\",$B11),Werk1!$AE$2:$AG$191,3,FALSE)),FALSE),\"\"))","v":{"$error":"#N/A"}},{"$f":"IF($A11=\"\",\"--\",IF(VLOOKUP(CONCATENATE(E$3,\"-\",$B11),Werk1!$V$2:$W$191,2,FALSE)=1,VLOOKUP(CONCATENATE(E$3,\"-\",$B11),Uitslag,(VLOOKUP(CONCATENATE(E$3,\"-\",$B11),Werk1!$AE$2:$AG$191,3,FALSE)),FALSE),\"\"))","v":{"$error":"#N/A"}},{"$f":"IF($A11=\"\",\"--\",IF(VLOOKUP(CONCATENATE(F$3,\"-\",$B11),Werk1!$V$2:$W$191,2,FALSE)=1,VLOOKUP(CONCATENATE(F$3,\"-\",$B11),Uitslag,(VLOOKUP(CONCATENATE(F$3,\"-\",$B11),Werk1!$AE$2:$AG$191,3,FALSE)),FALSE),\"\"))","v":{"$error":"#N/A"}},{"$f":"IF($A11=\"\",\"--\",IF(VLOOKUP(CONCATENATE(G$3,\"-\",$B11),Werk1!$V$2:$W$191,2,FALSE)=1,VLOOKUP(CONCATENATE(G$3,\"-\",$B11),Uitslag,(VLOOKUP(CONCATENATE(G$3,\"-\",$B11),Werk1!$AE$2:$AG$191,3,FALSE)),FALSE),\"\"))","v":{"$error":"#N/A"}},{"$f":"IF($A11=\"\",\"--\",IF(VLOOKUP(CONCATENATE(H$3,\"-\",$B11),Werk1!$V$2:$W$191,2,FALSE)=1,VLOOKUP(CONCATENATE(H$3,\"-\",$B11),Uitslag,(VLOOKUP(CONCATENATE(H$3,\"-\",$B11),Werk1!$AE$2:$AG$191,3,FALSE)),FALSE),\"\"))","v":{"$error":"#N/A"}},{"$f":"IF($A11=\"\",\"--\",IF(VLOOKUP(CONCATENATE(I$3,\"-\",$B11),Werk1!$V$2:$W$191,2,FALSE)=1,VLOOKUP(CONCATENATE(I$3,\"-\",$B11),Uitslag,(VLOOKUP(CONCATENATE(I$3,\"-\",$B11),Werk1!$AE$2:$AG$191,3,FALSE)),FALSE),\"\"))","v":{"$error":"#N/A"}},{"$f":"IF($A11=\"\",\"--\",IF(VLOOKUP(CONCATENATE(J$3,\"-\",$B11),Werk1!$V$2:$W$191,2,FALSE)=1,VLOOKUP(CONCATENATE(J$3,\"-\",$B11),Uitslag,(VLOOKUP(CONCATENATE(J$3,\"-\",$B11),Werk1!$AE$2:$AG$191,3,FALSE)),FALSE),\"\"))","v":{"$error":"#N/A"}},null,{"$f":"IF(L$2=\"\",\"--\",IF(VLOOKUP(CONCATENATE($B11,\"-\",L$3),Werk1!$V$2:$W$191,2,FALSE)=1,VLOOKUP(CONCATENATE($B11,\"-\",L$3),Uitslag,(VLOOKUP(CONCATENATE($B11,\"-\",L$3),Werk1!$AE$2:$AG$191,2,FALSE)),FALSE),\"\"))","v":{"$error":"#N/A"}},{"$f":"IF(M$2=\"\",\"--\",IF(VLOOKUP(CONCATENATE($B11,\"-\",M$3),Werk1!$V$2:$W$191,2,FALSE)=1,VLOOKUP(CONCATENATE($B11,\"-\",M$3),Uitslag,(VLOOKUP(CONCATENATE($B11,\"-\",M$3),Werk1!$AE$2:$AG$191,2,FALSE)),FALSE),\"\"))","v":{"$error":"#N/A"}},{"$f":"IF(N$2=\"\",\"--\",IF(VLOOKUP(CONCATENATE($B11,\"-\",N$3),Werk1!$V$2:$W$191,2,FALSE)=1,VLOOKUP(CONCATENATE($B11,\"-\",N$3),Uitslag,(VLOOKUP(CONCATENATE($B11,\"-\",N$3),Werk1!$AE$2:$AG$191,2,FALSE)),FALSE),\"\"))","v":{"$error":"#N/A"}},{"$f":"IF(O$2=\"\",\"--\",IF(VLOOKUP(CONCATENATE($B11,\"-\",O$3),Werk1!$V$2:$W$191,2,FALSE)=1,VLOOKUP(CONCATENATE($B11,\"-\",O$3),Uitslag,(VLOOKUP(CONCATENATE($B11,\"-\",O$3),Werk1!$AE$2:$AG$191,2,FALSE)),FALSE),\"\"))","v":{"$error":"#N/A"}},{"$f":"IF(P$2=\"\",\"--\",IF(VLOOKUP(CONCATENATE($B11,\"-\",P$3),Werk1!$V$2:$W$191,2,FALSE)=1,VLOOKUP(CONCATENATE($B11,\"-\",P$3),Uitslag,(VLOOKUP(CONCATENATE($B11,\"-\",P$3),Werk1!$AE$2:$AG$191,2,FALSE)),FALSE),\"\"))","v":{"$error":"#N/A"}},{"$f":"IF(Q$2=\"\",\"--\",IF(VLOOKUP(CONCATENATE($B11,\"-\",Q$3),Werk1!$V$2:$W$191,2,FALSE)=1,VLOOKUP(CONCATENATE($B11,\"-\",Q$3),Uitslag,(VLOOKUP(CONCATENATE($B11,\"-\",Q$3),Werk1!$AE$2:$AG$191,2,FALSE)),FALSE),\"\"))","v":{"$error":"#N/A"}},{"$f":"IF(R$2=\"\",\"--\",IF(VLOOKUP(CONCATENATE($B11,\"-\",R$3),Werk1!$V$2:$W$191,2,FALSE)=1,VLOOKUP(CONCATENATE($B11,\"-\",R$3),Uitslag,(VLOOKUP(CONCATENATE($B11,\"-\",R$3),Werk1!$AE$2:$AG$191,2,FALSE)),FALSE),\"\"))","v":{"$error":"#N/A"}},{"$f":"IF(S$2=\"\",\"--\",IF(VLOOKUP(CONCATENATE($B11,\"-\",S$3),Werk1!$V$2:$W$191,2,FALSE)=1,VLOOKUP(CONCATENATE($B11,\"-\",S$3),Uitslag,(VLOOKUP(CONCATENATE($B11,\"-\",S$3),Werk1!$AE$2:$AG$191,2,FALSE)),FALSE),\"\"))","v":{"$error":"#N/A"}},{"$f":"IF(T$2=\"\",\"--\",IF(VLOOKUP(CONCATENATE($B11,\"-\",T$3),Werk1!$V$2:$W$191,2,FALSE)=1,VLOOKUP(CONCATENATE($B11,\"-\",T$3),Uitslag,(VLOOKUP(CONCATENATE($B11,\"-\",T$3),Werk1!$AE$2:$AG$191,2,FALSE)),FALSE),\"\"))","v":{"$error":"#N/A"}},{"$f":"IF(U$2=\"\",\"--\",IF(VLOOKUP(CONCATENATE($B11,\"-\",U$3),Werk1!$V$2:$W$191,2,FALSE)=1,VLOOKUP(CONCATENATE($B11,\"-\",U$3),Uitslag,(VLOOKUP(CONCATENATE($B11,\"-\",U$3),Werk1!$AE$2:$AG$191,2,FALSE)),FALSE),\"\"))","v":{"$error":"#N/A"}},{"$f":"IF(V$2=\"\",\"--\",IF(VLOOKUP(CONCATENATE($B11,\"-\",V$3),Werk1!$V$2:$W$191,2,FALSE)=1,VLOOKUP(CONCATENATE($B11,\"-\",V$3),Uitslag,(VLOOKUP(CONCATENATE($B11,\"-\",V$3),Werk1!$AE$2:$AG$191,2,FALSE)),FALSE),\"\"))","v":{"$error":"#N/A"}},{"$f":"IF(W$2=\"\",\"--\",IF(VLOOKUP(CONCATENATE($B11,\"-\",W$3),Werk1!$V$2:$W$191,2,FALSE)=1,VLOOKUP(CONCATENATE($B11,\"-\",W$3),Uitslag,(VLOOKUP(CONCATENATE($B11,\"-\",W$3),Werk1!$AE$2:$AG$191,2,FALSE)),FALSE),\"\"))","v":{"$error":"#N/A"}},{"$f":"IF(A11=\"\",0,IF(VLOOKUP(VLOOKUP(B11,Werk1!$AA$2:$AB$21,2,FALSE),Leden,9,FALSE)=-1,1,0))","v":{"$error":"#N/A"}}]
[{"$f":"CONCATENATE(VLOOKUP(B12,Werk1!$AA$2:$AB$21,2,FALSE),\" \")","v":{"$error":"#N/A"}},9,{"$f":"IF(A12=\"\",\"--\",IF($AS12=1,\"XX\",VLOOKUP(B12,Leden!$B$3:$C$22,2,FALSE)))","v":{"$error":"#N/A"}},{"$f":"IF($A12=\" \",\"--\",IF($AS12=1,\"XX\",IF(D$25=1,\"XX\",IF(VLOOKUP(CONCATENATE(D$3,\"-\",$B12),Werk1!$V$2:$W$191,2,FALSE)=1,VLOOKUP(CONCATENATE(D$3,\"-\",$B12),Uitslag,VLOOKUP(CONCATENATE(D$3,\"-\",$B12),Werk1!$V$2:$Y$191,3,FALSE),FALSE),\"\"))))","v":{"$error":"#N/A"}},{"$f":"IF($A12=\" \",\"--\",IF($AS12=1,\"XX\",IF(E$25=1,\"XX\",IF(VLOOKUP(CONCATENATE(E$3,\"-\",$B12),Werk1!$V$2:$W$191,2,FALSE)=1,VLOOKUP(CONCATENATE(E$3,\"-\",$B12),Uitslag,VLOOKUP(CONCATENATE(E$3,\"-\",$B12),Werk1!$V$2:$Y$191,3,FALSE),FALSE),\"\"))))","v":{"$error":"#N/A"}},{"$f":"IF($A12=\" \",\"--\",IF($AS12=1,\"XX\",IF(F$25=1,\"XX\",IF(VLOOKUP(CONCATENATE(F$3,\"-\",$B12),Werk1!$V$2:$W$191,2,FALSE)=1,VLOOKUP(CONCATENATE(F$3,\"-\",$B12),Uitslag,VLOOKUP(CONCATENATE(F$3,\"-\",$B12),Werk1!$V$2:$Y$191,3,FALSE),FALSE),\"\"))))","v":{"$error":"#N/A"}},{"$f":"IF($A12=\" \",\"--\",IF($AS12=1,\"XX\",IF(G$25=1,\"XX\",IF(VLOOKUP(CONCATENATE(G$3,\"-\",$B12),Werk1!$V$2:$W$191,2,FALSE)=1,VLOOKUP(CONCATENATE(G$3,\"-\",$B12),Uitslag,VLOOKUP(CONCATENATE(G$3,\"-\",$B12),Werk1!$V$2:$Y$191,3,FALSE),FALSE),\"\"))))","v":{"$error":"#N/A"}},{"$f":"IF($A12=\" \",\"--\",IF($AS12=1,\"XX\",IF(H$25=1,\"XX\",IF(VLOOKUP(CONCATENATE(H$3,\"-\",$B12),Werk1!$V$2:$W$191,2,FALSE)=1,VLOOKUP(CONCATENATE(H$3,\"-\",$B12),Uitslag,VLOOKUP(CONCATENATE(H$3,\"-\",$B12),Werk1!$V$2:$Y$191,3,FALSE),FALSE),\"\"))))","v":{"$error":"#N/A"}},{"$f":"IF($A12=\" \",\"--\",IF($AS12=1,\"XX\",IF(I$25=1,\"XX\",IF(VLOOKUP(CONCATENATE(I$3,\"-\",$B12),Werk1!$V$2:$W$191,2,FALSE)=1,VLOOKUP(CONCATENATE(I$3,\"-\",$B12),Uitslag,VLOOKUP(CONCATENATE(I$3,\"-\",$B12),Werk1!$V$2:$Y$191,3,FALSE),FALSE),\"\"))))","v":{"$error":"#N/A"}},{"$f":"IF($A12=\" \",\"--\",IF($AS12=1,\"XX\",IF(J$25=1,\"XX\",IF(VLOOKUP(CONCATENATE(J$3,\"-\",$B12),Werk1!$V$2:$W$191,2,FALSE)=1,VLOOKUP(CONCATENATE(J$3,\"-\",$B12),Uitslag,VLOOKUP(CONCATENATE(J$3,\"-\",$B12),Werk1!$V$2:$Y$191,3,FALSE),FALSE),\"\"))))","v":{"$error":"#N/A"}},{"$f":"IF($A12=\" \",\"--\",IF($AS12=1,\"XX\",IF(K$25=1,\"XX\",IF(VLOOKUP(CONCATENATE(K$3,\"-\",$B12),Werk1!$V$2:$W$191,2,FALSE)=1,VLOOKUP(CONCATENATE(K$3,\"-\",$B12),Uitslag,VLOOKUP(CONCATENATE(K$3,\"-\",$B12),Werk1!$V$2:$Y$191,3,FALSE),FALSE),\"\"))))","v":{"$error":"#N/A"}},null,{"$f":"IF(M$2=\" \",\"--\",IF($AS12=1,\"XX\",IF(M$25=1,\"XX\",IF(VLOOKUP(CONCATENATE($B12,\"-\",M$3),Werk1!$V$2:$W$191,2,FALSE)=1,VLOOKUP(CONCATENATE($B12,\"-\",M$3),Uitslag,VLOOKUP(CONCATENATE($B12,\"-\",M$3),Werk1!$V$2:$Y$191,4,FALSE),FALSE),\"\"))))","v":{"$error":"#N/A"}},{"$f":"IF(N$2=\" \",\"--\",IF($AS12=1,\"XX\",IF(N$25=1,\"XX\",IF(VLOOKUP(CONCATENATE($B12,\"-\",N$3),Werk1!$V$2:$W$191,2,FALSE)=1,VLOOKUP(CONCATENATE($B12,\"-\",N$3),Uitslag,VLOOKUP(CONCATENATE($B12,\"-\",N$3),Werk1!$V$2:$Y$191,4,FALSE),FALSE),\"\"))))","v":{"$error":"#N/A"}},{"$f":"IF(O$2=\" \",\"--\",IF($AS12=1,\"XX\",IF(O$25=1,\"XX\",IF(VLOOKUP(CONCATENATE($B12,\"-\",O$3),Werk1!$V$2:$W$191,2,FALSE)=1,VLOOKUP(CONCATENATE($B12,\"-\",O$3),Uitslag,VLOOKUP(CONCATENATE($B12,\"-\",O$3),Werk1!$V$2:$Y$191,4,FALSE),FALSE),\"\"))))","v":{"$error":"#N/A"}},{"$f":"IF(P$2=\" \",\"--\",IF($AS12=1,\"XX\",IF(P$25=1,\"XX\",IF(VLOOKUP(CONCATENATE($B12,\"-\",P$3),Werk1!$V$2:$W$191,2,FALSE)=1,VLOOKUP(CONCATENATE($B12,\"-\",P$3),Uitslag,VLOOKUP(CONCATENATE($B12,\"-\",P$3),Werk1!$V$2:$Y$191,4,FALSE),FALSE),\"\"))))","v":{"$error":"#N/A"}},{"$f":"IF(Q$2=\" \",\"--\",IF($AS12=1,\"XX\",IF(Q$25=1,\"XX\",IF(VLOOKUP(CONCATENATE($B12,\"-\",Q$3),Werk1!$V$2:$W$191,2,FALSE)=1,VLOOKUP(CONCATENATE($B12,\"-\",Q$3),Uitslag,VLOOKUP(CONCATENATE($B12,\"-\",Q$3),Werk1!$V$2:$Y$191,4,FALSE),FALSE),\"\"))))","v":{"$error":"#N/A"}},{"$f":"IF(R$2=\" \",\"--\",IF($AS12=1,\"XX\",IF(R$25=1,\"XX\",IF(VLOOKUP(CONCATENATE($B12,\"-\",R$3),Werk1!$V$2:$W$191,2,FALSE)=1,VLOOKUP(CONCATENATE($B12,\"-\",R$3),Uitslag,VLOOKUP(CONCATENATE($B12,\"-\",R$3),Werk1!$V$2:$Y$191,4,FALSE),FALSE),\"\"))))","v":{"$error":"#N/A"}},{"$f":"IF(S$2=\" \",\"--\",IF($AS12=1,\"XX\",IF(S$25=1,\"XX\",IF(VLOOKUP(CONCATENATE($B12,\"-\",S$3),Werk1!$V$2:$W$191,2,FALSE)=1,VLOOKUP(CONCATENATE($B12,\"-\",S$3),Uitslag,VLOOKUP(CONCATENATE($B12,\"-\",S$3),Werk1!$V$2:$Y$191,4,FALSE),FALSE),\"\"))))","v":{"$error":"#N/A"}},{"$f":"IF(T$2=\" \",\"--\",IF($AS12=1,\"XX\",IF(T$25=1,\"XX\",IF(VLOOKUP(CONCATENATE($B12,\"-\",T$3),Werk1!$V$2:$W$191,2,FALSE)=1,VLOOKUP(CONCATENATE($B12,\"-\",T$3),Uitslag,VLOOKUP(CONCATENATE($B12,\"-\",T$3),Werk1!$V$2:$Y$191,4,FALSE),FALSE),\"\"))))","v":{"$error":"#N/A"}},{"$f":"IF(U$2=\" \",\"--\",IF($AS12=1,\"XX\",IF(U$25=1,\"XX\",IF(VLOOKUP(CONCATENATE($B12,\"-\",U$3),Werk1!$V$2:$W$191,2,FALSE)=1,VLOOKUP(CONCATENATE($B12,\"-\",U$3),Uitslag,VLOOKUP(CONCATENATE($B12,\"-\",U$3),Werk1!$V$2:$Y$191,4,FALSE),FALSE),\"\"))))","v":{"$error":"#N/A"}},{"$f":"IF(V$2=\" \",\"--\",IF($AS12=1,\"XX\",IF(V$25=1,\"XX\",IF(VLOOKUP(CONCATENATE($B12,\"-\",V$3),Werk1!$V$2:$W$191,2,FALSE)=1,VLOOKUP(CONCATENATE($B12,\"-\",V$3),Uitslag,VLOOKUP(CONCATENATE($B12,\"-\",V$3),Werk1!$V$2:$Y$191,4,FALSE),FALSE),\"\"))))","v":{"$error":"#N/A"}},{"$f":"IF(W$2=\" \",\"--\",IF($AS12=1,\"XX\",IF(W$25=1,\"XX\",IF(VLOOKUP(CONCATENATE($B12,\"-\",W$3),Werk1!$V$2:$W$191,2,FALSE)=1,VLOOKUP(CONCATENATE($B12,\"-\",W$3),Uitslag,VLOOKUP(CONCATENATE($B12,\"-\",W$3),Werk1!$V$2:$Y$191,4,FALSE),FALSE),\"\"))))","v":{"$error":"#N/A"}},null,{"$f":"IF($A12=\"\",\"--\",IF(VLOOKUP(CONCATENATE(D$3,\"-\",$B12),Werk1!$V$2:$W$191,2,FALSE)=1,VLOOKUP(CONCATENATE(D$3,\"-\",$B12),Uitslag,(VLOOKUP(CONCATENATE(D$3,\"-\",$B12),Werk1!$AE$2:$AG$191,3,FALSE)),FALSE),\"\"))","v":{"$error":"#N/A"}},{"$f":"IF($A12=\"\",\"--\",IF(VLOOKUP(CONCATENATE(E$3,\"-\",$B12),Werk1!$V$2:$W$191,2,FALSE)=1,VLOOKUP(CONCATENATE(E$3,\"-\",$B12),Uitslag,(VLOOKUP(CONCATENATE(E$3,\"-\",$B12),Werk1!$AE$2:$AG$191,3,FALSE)),FALSE),\"\"))","v":{"$error":"#N/A"}},{"$f":"IF($A12=\"\",\"--\",IF(VLOOKUP(CONCATENATE(F$3,\"-\",$B12),Werk1!$V$2:$W$191,2,FALSE)=1,VLOOKUP(CONCATENATE(F$3,\"-\",$B12),Uitslag,(VLOOKUP(CONCATENATE(F$3,\"-\",$B12),Werk1!$AE$2:$AG$191,3,FALSE)),FALSE),\"\"))","v":{"$error":"#N/A"}},{"$f":"IF($A12=\"\",\"--\",IF(VLOOKUP(CONCATENATE(G$3,\"-\",$B12),Werk1!$V$2:$W$191,2,FALSE)=1,VLOOKUP(CONCATENATE(G$3,\"-\",$B12),Uitslag,(VLOOKUP(CONCATENATE(G$3,\"-\",$B12),Werk1!$AE$2:$AG$191,3,FALSE)),FALSE),\"\"))","v":{"$error":"#N/A"}},{"$f":"IF($A12=\"\",\"--\",IF(VLOOKUP(CONCATENATE(H$3,\"-\",$B12),Werk1!$V$2:$W$191,2,FALSE)=1,VLOOKUP(CONCATENATE(H$3,\"-\",$B12),Uitslag,(VLOOKUP(CONCATENATE(H$3,\"-\",$B12),Werk1!$AE$2:$AG$191,3,FALSE)),FALSE),\"\"))","v":{"$error":"#N/A"}},{"$f":"IF($A12=\"\",\"--\",IF(VLOOKUP(CONCATENATE(I$3,\"-\",$B12),Werk1!$V$2:$W$191,2,FALSE)=1,VLOOKUP(CONCATENATE(I$3,\"-\",$B12),Uitslag,(VLOOKUP(CONCATENATE(I$3,\"-\",$B12),Werk1!$AE$2:$AG$191,3,FALSE)),FALSE),\"\"))","v":{"$error":"#N/A"}},{"$f":"IF($A12=\"\",\"--\",IF(VLOOKUP(CONCATENATE(J$3,\"-\",$B12),Werk1!$V$2:$W$191,2,FALSE)=1,VLOOKUP(CONCATENATE(J$3,\"-\",$B12),Uitslag,(VLOOKUP(CONCATENATE(J$3,\"-\",$B12),Werk1!$AE$2:$AG$191,3,FALSE)),FALSE),\"\"))","v":{"$error":"#N/A"}},{"$f":"IF($A12=\"\",\"--\",IF(VLOOKUP(CONCATENATE(K$3,\"-\",$B12),Werk1!$V$2:$W$191,2,FALSE)=1,VLOOKUP(CONCATENATE(K$3,\"-\",$B12),Uitslag,(VLOOKUP(CONCATENATE(K$3,\"-\",$B12),Werk1!$AE$2:$AG$191,3,FALSE)),FALSE),\"\"))","v":{"$error":"#N/A"}},null,{"$f":"IF(M$2=\"\",\"--\",IF(VLOOKUP(CONCATENATE($B12,\"-\",M$3),Werk1!$V$2:$W$191,2,FALSE)=1,VLOOKUP(CONCATENATE($B12,\"-\",M$3),Uitslag,(VLOOKUP(CONCATENATE($B12,\"-\",M$3),Werk1!$AE$2:$AG$191,2,FALSE)),FALSE),\"\"))","v":{"$error":"#N/A"}},{"$f":"IF(N$2=\"\",\"--\",IF(VLOOKUP(CONCATENATE($B12,\"-\",N$3),Werk1!$V$2:$W$191,2,FALSE)=1,VLOOKUP(CONCATENATE($B12,\"-\",N$3),Uitslag,(VLOOKUP(CONCATENATE($B12,\"-\",N$3),Werk1!$AE$2:$AG$191,2,FALSE)),FALSE),\"\"))","v":{"$error":"#N/A"}},{"$f":"IF(O$2=\"\",\"--\",IF(VLOOKUP(CONCATENATE($B12,\"-\",O$3),Werk1!$V$2:$W$191,2,FALSE)=1,VLOOKUP(CONCATENATE($B12,\"-\",O$3),Uitslag,(VLOOKUP(CONCATENATE($B12,\"-\",O$3),Werk1!$AE$2:$AG$191,2,FALSE)),FALSE),\"\"))","v":{"$error":"#N/A"}},{"$f":"IF(P$2=\"\",\"--\",IF(VLOOKUP(CONCATENATE($B12,\"-\",P$3),Werk1!$V$2:$W$191,2,FALSE)=1,VLOOKUP(CONCATENATE($B12,\"-\",P$3),Uitslag,(VLOOKUP(CONCATENATE($B12,\"-\",P$3),Werk1!$AE$2:$AG$191,2,FALSE)),FALSE),\"\"))","v":{"$error":"#N/A"}},{"$f":"IF(Q$2=\"\",\"--\",IF(VLOOKUP(CONCATENATE($B12,\"-\",Q$3),Werk1!$V$2:$W$191,2,FALSE)=1,VLOOKUP(CONCATENATE($B12,\"-\",Q$3),Uitslag,(VLOOKUP(CONCATENATE($B12,\"-\",Q$3),Werk1!$AE$2:$AG$191,2,FALSE)),FALSE),\"\"))","v":{"$error":"#N/A"}},{"$f":"IF(R$2=\"\",\"--\",IF(VLOOKUP(CONCATENATE($B12,\"-\",R$3),Werk1!$V$2:$W$191,2,FALSE)=1,VLOOKUP(CONCATENATE($B12,\"-\",R$3),Uitslag,(VLOOKUP(CONCATENATE($B12,\"-\",R$3),Werk1!$AE$2:$AG$191,2,FALSE)),FALSE),\"\"))","v":{"$error":"#N/A"}},{"$f":"IF(S$2=\"\",\"--\",IF(VLOOKUP(CONCATENATE($B12,\"-\",S$3),Werk1!$V$2:$W$191,2,FALSE)=1,VLOOKUP(CONCATENATE($B12,\"-\",S$3),Uitslag,(VLOOKUP(CONCATENATE($B12,\"-\",S$3),Werk1!$AE$2:$AG$191,2,FALSE)),FALSE),\"\"))","v":{"$error":"#N/A"}},{"$f":"IF(T$2=\"\",\"--\",IF(VLOOKUP(CONCATENATE($B12,\"-\",T$3),Werk1!$V$2:$W$191,2,FALSE)=1,VLOOKUP(CONCATENATE($B12,\"-\",T$3),Uitslag,(VLOOKUP(CONCATENATE($B12,\"-\",T$3),Werk1!$AE$2:$AG$191,2,FALSE)),FALSE),\"\"))","v":{"$error":"#N/A"}},{"$f":"IF(U$2=\"\",\"--\",IF(VLOOKUP(CONCATENATE($B12,\"-\",U$3),Werk1!$V$2:$W$191,2,FALSE)=1,VLOOKUP(CONCATENATE($B12,\"-\",U$3),Uitslag,(VLOOKUP(CONCATENATE($B12,\"-\",U$3),Werk1!$AE$2:$AG$191,2,FALSE)),FALSE),\"\"))","v":{"$error":"#N/A"}},{"$f":"IF(V$2=\"\",\"--\",IF(VLOOKUP(CONCATENATE($B12,\"-\",V$3),Werk1!$V$2:$W$191,2,FALSE)=1,VLOOKUP(CONCATENATE($B12,\"-\",V$3),Uitslag,(VLOOKUP(CONCATENATE($B12,\"-\",V$3),Werk1!$AE$2:$AG$191,2,FALSE)),FALSE),\"\"))","v":{"$error":"#N/A"}},{"$f":"IF(W$2=\"\",\"--\",IF(VLOOKUP(CONCATENATE($B12,\"-\",W$3),Werk1!$V$2:$W$191,2,FALSE)=1,VLOOKUP(CONCATENATE($B12,\"-\",W$3),Uitslag,(VLOOKUP(CONCATENATE($B12,\"-\",W$3),Werk1!$AE$2:$AG$191,2,FALSE)),FALSE),\"\"))","v":{"$error":"#N/A"}},{"$f":"IF(A12=\"\",0,IF(VLOOKUP(VLOOKUP(B12,Werk1!$AA$2:$AB$21,2,FALSE),Leden,9,FALSE)=-1,1,0))","v":{"$error":"#N/A"}}]
[{"$f":"CONCATENATE(VLOOKUP(B13,Werk1!$AA$2:$AB$21,2,FALSE),\" \")","v":{"$error":"#N/A"}},10,{"$f":"IF(A13=\"\",\"--\",IF($AS13=1,\"XX\",VLOOKUP(B13,Leden!$B$3:$C$22,2,FALSE)))","v":{"$error":"#N/A"}},{"$f":"IF($A13=\" \",\"--\",IF($AS13=1,\"XX\",IF(D$25=1,\"XX\",IF(VLOOKUP(CONCATENATE(D$3,\"-\",$B13),Werk1!$V$2:$W$191,2,FALSE)=1,VLOOKUP(CONCATENATE(D$3,\"-\",$B13),Uitslag,VLOOKUP(CONCATENATE(D$3,\"-\",$B13),Werk1!$V$2:$Y$191,3,FALSE),FALSE),\"\"))))","v":{"$error":"#N/A"}},{"$f":"IF($A13=\" \",\"--\",IF($AS13=1,\"XX\",IF(E$25=1,\"XX\",IF(VLOOKUP(CONCATENATE(E$3,\"-\",$B13),Werk1!$V$2:$W$191,2,FALSE)=1,VLOOKUP(CONCATENATE(E$3,\"-\",$B13),Uitslag,VLOOKUP(CONCATENATE(E$3,\"-\",$B13),Werk1!$V$2:$Y$191,3,FALSE),FALSE),\"\"))))","v":{"$error":"#N/A"}},{"$f":"IF($A13=\" \",\"--\",IF($AS13=1,\"XX\",IF(F$25=1,\"XX\",IF(VLOOKUP(CONCATENATE(F$3,\"-\",$B13),Werk1!$V$2:$W$191,2,FALSE)=1,VLOOKUP(CONCATENATE(F$3,\"-\",$B13),Uitslag,VLOOKUP(CONCATENATE(F$3,\"-\",$B13),Werk1!$V$2:$Y$191,3,FALSE),FALSE),\"\"))))","v":{"$error":"#N/A"}},{"$f":"IF($A13=\" \",\"--\",IF($AS13=1,\"XX\",IF(G$25=1,\"XX\",IF(VLOOKUP(CONCATENATE(G$3,\"-\",$B13),Werk1!$V$2:$W$191,2,FALSE)=1,VLOOKUP(CONCATENATE(G$3,\"-\",$B13),Uitslag,VLOOKUP(CONCATENATE(G$3,\"-\",$B13),Werk1!$V$2:$Y$191,3,FALSE),FALSE),\"\"))))","v":{"$error":"#N/A"}},{"$f":"IF($A13=\" \",\"--\",IF($AS13=1,\"XX\",IF(H$25=1,\"XX\",IF(VLOOKUP(CONCATENATE(H$3,\"-\",$B13),Werk1!$V$2:$W$191,2,FALSE)=1,VLOOKUP(CONCATENATE(H$3,\"-\",$B13),Uitslag,VLOOKUP(CONCATENATE(H$3,\"-\",$B13),Werk1!$V$2:$Y$191,3,FALSE),FALSE),\"\"))))","v":{"$error":"#N/A"}},{"$f":"IF($A13=\" \",\"--\",IF($AS13=1,\"XX\",IF(I$25=1,\"XX\",IF(VLOOKUP(CONCATENATE(I$3,\"-\",$B13),Werk1!$V$2:$W$191,2,FALSE)=1,VLOOKUP(CONCATENATE(I$3,\"-\",$B13),Uitslag,VLOOKUP(CONCATENATE(I$3,\"-\",$B13),Werk1!$V$2:$Y$191,3,FALSE),FALSE),\"\"))))","v":{"$error":"#N/A"}},{"$f":"IF($A13=\" \",\"--\",IF($AS13=1,\"XX\",IF(J$25=1,\"XX\",IF(VLOOKUP(CONCATENATE(J$3,\"-\",$B13),Werk1!$V$2:$W$191,2,FALSE)=1,VLOOKUP(CONCATENATE(J$3,\"-\",$B13),Uitslag,VLOOKUP(CONCATENATE(J$3,\"-\",$B13),Werk1!$V$2:$Y$191,3,FALSE),FALSE),\"\"))))","v":{"$error":"#N/A"}},{"$f":"IF($A13=\" \",\"--\",IF($AS13=1,\"XX\",IF(K$25=1,\"XX\",IF(VLOOKUP(CONCATENATE(K$3,\"-\",$B13),Werk1!$V$2:$W$191,2,FALSE)=1,VLOOKUP(CONCATENATE(K$3,\"-\",$B13),Uitslag,VLOOKUP(CONCATENATE(K$3,\"-\",$B13),Werk1!$V$2:$Y$191,3,FALSE),FALSE),\"\"))))","v":{"$error":"#N/A"}},{"$f":"IF($A13=\" \",\"--\",IF($AS13=1,\"XX\",IF(L$25=1,\"XX\",IF(VLOOKUP(CONCATENATE(L$3,\"-\",$B13),Werk1!$V$2:$W$191,2,FALSE)=1,VLOOKUP(CONCATENATE(L$3,\"-\",$B13),Uitslag,VLOOKUP(CONCATENATE(L$3,\"-\",$B13),Werk1!$V$2:$Y$191,3,FALSE),FALSE),\"\"))))","v":{"$error":"#N/A"}},null,{"$f":"IF(N$2=\" \",\"--\",IF($AS13=1,\"XX\",IF(N$25=1,\"XX\",IF(VLOOKUP(CONCATENATE($B13,\"-\",N$3),Werk1!$V$2:$W$191,2,FALSE)=1,VLOOKUP(CONCATENATE($B13,\"-\",N$3),Uitslag,VLOOKUP(CONCATENATE($B13,\"-\",N$3),Werk1!$V$2:$Y$191,4,FALSE),FALSE),\"\"))))","v":{"$error":"#N/A"}},{"$f":"IF(O$2=\" \",\"--\",IF($AS13=1,\"XX\",IF(O$25=1,\"XX\",IF(VLOOKUP(CONCATENATE($B13,\"-\",O$3),Werk1!$V$2:$W$191,2,FALSE)=1,VLOOKUP(CONCATENATE($B13,\"-\",O$3),Uitslag,VLOOKUP(CONCATENATE($B13,\"-\",O$3),Werk1!$V$2:$Y$191,4,FALSE),FALSE),\"\"))))","v":{"$error":"#N/A"}},{"$f":"IF(P$2=\" \",\"--\",IF($AS13=1,\"XX\",IF(P$25=1,\"XX\",IF(VLOOKUP(CONCATENATE($B13,\"-\",P$3),Werk1!$V$2:$W$191,2,FALSE)=1,VLOOKUP(CONCATENATE($B13,\"-\",P$3),Uitslag,VLOOKUP(CONCATENATE($B13,\"-\",P$3),Werk1!$V$2:$Y$191,4,FALSE),FALSE),\"\"))))","v":{"$error":"#N/A"}},{"$f":"IF(Q$2=\" \",\"--\",IF($AS13=1,\"XX\",IF(Q$25=1,\"XX\",IF(VLOOKUP(CONCATENATE($B13,\"-\",Q$3),Werk1!$V$2:$W$191,2,FALSE)=1,VLOOKUP(CONCATENATE($B13,\"-\",Q$3),Uitslag,VLOOKUP(CONCATENATE($B13,\"-\",Q$3),Werk1!$V$2:$Y$191,4,FALSE),FALSE),\"\"))))","v":{"$error":"#N/A"}},{"$f":"IF(R$2=\" \",\"--\",IF($AS13=1,\"XX\",IF(R$25=1,\"XX\",IF(VLOOKUP(CONCATENATE($B13,\"-\",R$3),Werk1!$V$2:$W$191,2,FALSE)=1,VLOOKUP(CONCATENATE($B13,\"-\",R$3),Uitslag,VLOOKUP(CONCATENATE($B13,\"-\",R$3),Werk1!$V$2:$Y$191,4,FALSE),FALSE),\"\"))))","v":{"$error":"#N/A"}},{"$f":"IF(S$2=\" \",\"--\",IF($AS13=1,\"XX\",IF(S$25=1,\"XX\",IF(VLOOKUP(CONCATENATE($B13,\"-\",S$3),Werk1!$V$2:$W$191,2,FALSE)=1,VLOOKUP(CONCATENATE($B13,\"-\",S$3),Uitslag,VLOOKUP(CONCATENATE($B13,\"-\",S$3),Werk1!$V$2:$Y$191,4,FALSE),FALSE),\"\"))))","v":{"$error":"#N/A"}},{"$f":"IF(T$2=\" \",\"--\",IF($AS13=1,\"XX\",IF(T$25=1,\"XX\",IF(VLOOKUP(CONCATENATE($B13,\"-\",T$3),Werk1!$V$2:$W$191,2,FALSE)=1,VLOOKUP(CONCATENATE($B13,\"-\",T$3),Uitslag,VLOOKUP(CONCATENATE($B13,\"-\",T$3),Werk1!$V$2:$Y$191,4,FALSE),FALSE),\"\"))))","v":{"$error":"#N/A"}},{"$f":"IF(U$2=\" \",\"--\",IF($AS13=1,\"XX\",IF(U$25=1,\"XX\",IF(VLOOKUP(CONCATENATE($B13,\"-\",U$3),Werk1!$V$2:$W$191,2,FALSE)=1,VLOOKUP(CONCATENATE($B13,\"-\",U$3),Uitslag,VLOOKUP(CONCATENATE($B13,\"-\",U$3),Werk1!$V$2:$Y$191,4,FALSE),FALSE),\"\"))))","v":{"$error":"#N/A"}},{"$f":"IF(V$2=\" \",\"--\",IF($AS13=1,\"XX\",IF(V$25=1,\"XX\",IF(VLOOKUP(CONCATENATE($B13,\"-\",V$3),Werk1!$V$2:$W$191,2,FALSE)=1,VLOOKUP(CONCATENATE($B13,\"-\",V$3),Uitslag,VLOOKUP(CONCATENATE($B13,\"-\",V$3),Werk1!$V$2:$Y$191,4,FALSE),FALSE),\"\"))))","v":{"$error":"#N/A"}},{"$f":"IF(W$2=\" \",\"--\",IF($AS13=1,\"XX\",IF(W$25=1,\"XX\",IF(VLOOKUP(CONCATENATE($B13,\"-\",W$3),Werk1!$V$2:$W$191,2,FALSE)=1,VLOOKUP(CONCATENATE($B13,\"-\",W$3),Uitslag,VLOOKUP(CONCATENATE($B13,\"-\",W$3),Werk1!$V$2:$Y$191,4,FALSE),FALSE),\"\"))))","v":{"$error":"#N/A"}},null,{"$f":"IF($A13=\"\",\"--\",IF(VLOOKUP(CONCATENATE(D$3,\"-\",$B13),Werk1!$V$2:$W$191,2,FALSE)=1,VLOOKUP(CONCATENATE(D$3,\"-\",$B13),Uitslag,(VLOOKUP(CONCATENATE(D$3,\"-\",$B13),Werk1!$AE$2:$AG$191,3,FALSE)),FALSE),\"\"))","v":{"$error":"#N/A"}},{"$f":"IF($A13=\"\",\"--\",IF(VLOOKUP(CONCATENATE(E$3,\"-\",$B13),Werk1!$V$2:$W$191,2,FALSE)=1,VLOOKUP(CONCATENATE(E$3,\"-\",$B13),Uitslag,(VLOOKUP(CONCATENATE(E$3,\"-\",$B13),Werk1!$AE$2:$AG$191,3,FALSE)),FALSE),\"\"))","v":{"$error":"#N/A"}},{"$f":"IF($A13=\"\",\"--\",IF(VLOOKUP(CONCATENATE(F$3,\"-\",$B13),Werk1!$V$2:$W$191,2,FALSE)=1,VLOOKUP(CONCATENATE(F$3,\"-\",$B13),Uitslag,(VLOOKUP(CONCATENATE(F$3,\"-\",$B13),Werk1!$AE$2:$AG$191,3,FALSE)),FALSE),\"\"))","v":{"$error":"#N/A"}},{"$f":"IF($A13=\"\",\"--\",IF(VLOOKUP(CONCATENATE(G$3,\"-\",$B13),Werk1!$V$2:$W$191,2,FALSE)=1,VLOOKUP(CONCATENATE(G$3,\"-\",$B13),Uitslag,(VLOOKUP(CONCATENATE(G$3,\"-\",$B13),Werk1!$AE$2:$AG$191,3,FALSE)),FALSE),\"\"))","v":{"$error":"#N/A"}},{"$f":"IF($A13=\"\",\"--\",IF(VLOOKUP(CONCATENATE(H$3,\"-\",$B13),Werk1!$V$2:$W$191,2,FALSE)=1,VLOOKUP(CONCATENATE(H$3,\"-\",$B13),Uitslag,(VLOOKUP(CONCATENATE(H$3,\"-\",$B13),Werk1!$AE$2:$AG$191,3,FALSE)),FALSE),\"\"))","v":{"$error":"#N/A"}},{"$f":"IF($A13=\"\",\"--\",IF(VLOOKUP(CONCATENATE(I$3,\"-\",$B13),Werk1!$V$2:$W$191,2,FALSE)=1,VLOOKUP(CONCATENATE(I$3,\"-\",$B13),Uitslag,(VLOOKUP(CONCATENATE(I$3,\"-\",$B13),Werk1!$AE$2:$AG$191,3,FALSE)),FALSE),\"\"))","v":{"$error":"#N/A"}},{"$f":"IF($A13=\"\",\"--\",IF(VLOOKUP(CONCATENATE(J$3,\"-\",$B13),Werk1!$V$2:$W$191,2,FALSE)=1,VLOOKUP(CONCATENATE(J$3,\"-\",$B13),Uitslag,(VLOOKUP(CONCATENATE(J$3,\"-\",$B13),Werk1!$AE$2:$AG$191,3,FALSE)),FALSE),\"\"))","v":{"$error":"#N/A"}},{"$f":"IF($A13=\"\",\"--\",IF(VLOOKUP(CONCATENATE(K$3,\"-\",$B13),Werk1!$V$2:$W$191,2,FALSE)=1,VLOOKUP(CONCATENATE(K$3,\"-\",$B13),Uitslag,(VLOOKUP(CONCATENATE(K$3,\"-\",$B13),Werk1!$AE$2:$AG$191,3,FALSE)),FALSE),\"\"))","v":{"$error":"#N/A"}},{"$f":"IF($A13=\"\",\"--\",IF(VLOOKUP(CONCATENATE(L$3,\"-\",$B13),Werk1!$V$2:$W$191,2,FALSE)=1,VLOOKUP(CONCATENATE(L$3,\"-\",$B13),Uitslag,(VLOOKUP(CONCATENATE(L$3,\"-\",$B13),Werk1!$AE$2:$AG$191,3,FALSE)),FALSE),\"\"))","v":{"$error":"#N/A"}},null,{"$f":"IF(N$2=\"\",\"--\",IF(VLOOKUP(CONCATENATE($B13,\"-\",N$3),Werk1!$V$2:$W$191,2,FALSE)=1,VLOOKUP(CONCATENATE($B13,\"-\",N$3),Uitslag,(VLOOKUP(CONCATENATE($B13,\"-\",N$3),Werk1!$AE$2:$AG$191,2,FALSE)),FALSE),\"\"))","v":{"$error":"#N/A"}},{"$f":"IF(O$2=\"\",\"--\",IF(VLOOKUP(CONCATENATE($B13,\"-\",O$3),Werk1!$V$2:$W$191,2,FALSE)=1,VLOOKUP(CONCATENATE($B13,\"-\",O$3),Uitslag,(VLOOKUP(CONCATENATE($B13,\"-\",O$3),Werk1!$AE$2:$AG$191,2,FALSE)),FALSE),\"\"))","v":{"$error":"#N/A"}},{"$f":"IF(P$2=\"\",\"--\",IF(VLOOKUP(CONCATENATE($B13,\"-\",P$3),Werk1!$V$2:$W$191,2,FALSE)=1,VLOOKUP(CONCATENATE($B13,\"-\",P$3),Uitslag,(VLOOKUP(CONCATENATE($B13,\"-\",P$3),Werk1!$AE$2:$AG$191,2,FALSE)),FALSE),\"\"))","v":{"$error":"#N/A"}},{"$f":"IF(Q$2=\"\",\"--\",IF(VLOOKUP(CONCATENATE($B13,\"-\",Q$3),Werk1!$V$2:$W$191,2,FALSE)=1,VLOOKUP(CONCATENATE($B13,\"-\",Q$3),Uitslag,(VLOOKUP(CONCATENATE($B13,\"-\",Q$3),Werk1!$AE$2:$AG$191,2,FALSE)),FALSE),\"\"))","v":{"$error":"#N/A"}},{"$f":"IF(R$2=\"\",\"--\",IF(VLOOKUP(CONCATENATE($B13,\"-\",R$3),Werk1!$V$2:$W$191,2,FALSE)=1,VLOOKUP(CONCATENATE($B13,\"-\",R$3),Uitslag,(VLOOKUP(CONCATENATE($B13,\"-\",R$3),Werk1!$AE$2:$AG$191,2,FALSE)),FALSE),\"\"))","v":{"$error":"#N/A"}},{"$f":"IF(S$2=\"\",\"--\",IF(VLOOKUP(CONCATENATE($B13,\"-\",S$3),Werk1!$V$2:$W$191,2,FALSE)=1,VLOOKUP(CONCATENATE($B13,\"-\",S$3),Uitslag,(VLOOKUP(CONCATENATE($B13,\"-\",S$3),Werk1!$AE$2:$AG$191,2,FALSE)),FALSE),\"\"))","v":{"$error":"#N/A"}},{"$f":"IF(T$2=\"\",\"--\",IF(VLOOKUP(CONCATENATE($B13,\"-\",T$3),Werk1!$V$2:$W$191,2,FALSE)=1,VLOOKUP(CONCATENATE($B13,\"-\",T$3),Uitslag,(VLOOKUP(CONCATENATE($B13,\"-\",T$3),Werk1!$AE$2:$AG$191,2,FALSE)),FALSE),\"\"))","v":{"$error":"#N/A"}},{"$f":"IF(U$2=\"\",\"--\",IF(VLOOKUP(CONCATENATE($B13,\"-\",U$3),Werk1!$V$2:$W$191,2,FALSE)=1,VLOOKUP(CONCATENATE($B13,\"-\",U$3),Uitslag,(VLOOKUP(CONCATENATE($B13,\"-\",U$3),Werk1!$AE$2:$AG$191,2,FALSE)),FALSE),\"\"))","v":{"$error":"#N/A"}},{"$f":"IF(V$2=\"\",\"--\",IF(VLOOKUP(CONCATENATE($B13,\"-\",V$3),Werk1!$V$2:$W$191,2,FALSE)=1,VLOOKUP(CONCATENATE($B13,\"-\",V$3),Uitslag,(VLOOKUP(CONCATENATE($B13,\"-\",V$3),Werk1!$AE$2:$AG$191,2,FALSE)),FALSE),\"\"))","v":{"$error":"#N/A"}},{"$f":"IF(W$2=\"\",\"--\",IF(VLOOKUP(CONCATENATE($B13,\"-\",W$3),Werk1!$V$2:$W$191,2,FALSE)=1,VLOOKUP(CONCATENATE($B13,\"-\",W$3),Uitslag,(VLOOKUP(CONCATENATE($B13,\"-\",W$3),Werk1!$AE$2:$AG$191,2,FALSE)),FALSE),\"\"))","v":{"$error":"#N/A"}},{"$f":"IF(A13=\"\",0,IF(VLOOKUP(VLOOKUP(B13,Werk1!$AA$2:$AB$21,2,FALSE),Leden,9,FALSE)=-1,1,0))","v":{"$error":"#N/A"}}]
[{"$f":"CONCATENATE(VLOOKUP(B14,Werk1!$AA$2:$AB$21,2,FALSE),\" \")","v":{"$error":"#N/A"}},11,{"$f":"IF(A14=\"\",\"--\",IF($AS14=1,\"XX\",VLOOKUP(B14,Leden!$B$3:$C$22,2,FALSE)))","v":{"$error":"#N/A"}},{"$f":"IF($A14=\" \",\"--\",IF($AS14=1,\"XX\",IF(D$25=1,\"XX\",IF(VLOOKUP(CONCATENATE(D$3,\"-\",$B14),Werk1!$V$2:$W$191,2,FALSE)=1,VLOOKUP(CONCATENATE(D$3,\"-\",$B14),Uitslag,VLOOKUP(CONCATENATE(D$3,\"-\",$B14),Werk1!$V$2:$Y$191,3,FALSE),FALSE),\"\"))))","v":{"$error":"#N/A"}},{"$f":"IF($A14=\" \",\"--\",IF($AS14=1,\"XX\",IF(E$25=1,\"XX\",IF(VLOOKUP(CONCATENATE(E$3,\"-\",$B14),Werk1!$V$2:$W$191,2,FALSE)=1,VLOOKUP(CONCATENATE(E$3,\"-\",$B14),Uitslag,VLOOKUP(CONCATENATE(E$3,\"-\",$B14),Werk1!$V$2:$Y$191,3,FALSE),FALSE),\"\"))))","v":{"$error":"#N/A"}},{"$f":"IF($A14=\" \",\"--\",IF($AS14=1,\"XX\",IF(F$25=1,\"XX\",IF(VLOOKUP(CONCATENATE(F$3,\"-\",$B14),Werk1!$V$2:$W$191,2,FALSE)=1,VLOOKUP(CONCATENATE(F$3,\"-\",$B14),Uitslag,VLOOKUP(CONCATENATE(F$3,\"-\",$B14),Werk1!$V$2:$Y$191,3,FALSE),FALSE),\"\"))))","v":{"$error":"#N/A"}},{"$f":"IF($A14=\" \",\"--\",IF($AS14=1,\"XX\",IF(G$25=1,\"XX\",IF(VLOOKUP(CONCATENATE(G$3,\"-\",$B14),Werk1!$V$2:$W$191,2,FALSE)=1,VLOOKUP(CONCATENATE(G$3,\"-\",$B14),Uitslag,VLOOKUP(CONCATENATE(G$3,\"-\",$B14),Werk1!$V$2:$Y$191,3,FALSE),FALSE),\"\"))))","v":{"$error":"#N/A"}},{"$f":"IF($A14=\" \",\"--\",IF($AS14=1,\"XX\",IF(H$25=1,\"XX\",IF(VLOOKUP(CONCATENATE(H$3,\"-\",$B14),Werk1!$V$2:$W$191,2,FALSE)=1,VLOOKUP(CONCATENATE(H$3,\"-\",$B14),Uitslag,VLOOKUP(CONCATENATE(H$3,\"-\",$B14),Werk1!$V$2:$Y$191,3,FALSE),FALSE),\"\"))))","v":{"$error":"#N/A"}},{"$f":"IF($A14=\" \",\"--\",IF($AS14=1,\"XX\",IF(I$25=1,\"XX\",IF(VLOOKUP(CONCATENATE(I$3,\"-\",$B14),Werk1!$V$2:$W$191,2,FALSE)=1,VLOOKUP(CONCATENATE(I$3,\"-\",$B14),Uitslag,VLOOKUP(CONCATENATE(I$3,\"-\",$B14),Werk1!$V$2:$Y$191,3,FALSE),FALSE),\"\"))))","v":{"$error":"#N/A"}},{"$f":"IF($A14=\" \",\"--\",IF($AS14=1,\"XX\",IF(J$25=1,\"XX\",IF(VLOOKUP(CONCATENATE(J$3,\"-\",$B14),Werk1!$V$2:$W$191,2,FALSE)=1,VLOOKUP(CONCATENATE(J$3,\"-\",$B14),Uitslag,VLOOKUP(CONCATENATE(J$3,\"-\",$B14),Werk1!$V$2:$Y$191,3,FALSE),FALSE),\"\"))))","v":{"$error":"#N/A"}},{"$f":"IF($A14=\" \",\"--\",IF($AS14=1,\"XX\",IF(K$25=1,\"XX\",IF(VLOOKUP(CONCATENATE(K$3,\"-\",$B14),Werk1!$V$2:$W$191,2,FALSE)=1,VLOOKUP(CONCATENATE(K$3,\"-\",$B14),Uitslag,VLOOKUP(CONCATENATE(K$3,\"-\",$B14),Werk1!$V$2:$Y$191,3,FALSE),FALSE),\"\"))))","v":{"$error":"#N/A"}},{"$f":"IF($A14=\" \",\"--\",IF($AS14=1,\"XX\",IF(L$25=1,\"XX\",IF(VLOOKUP(CONCATENATE(L$3,\"-\",$B14),Werk1!$V$2:$W$191,2,FALSE)=1,VLOOKUP(CONCATENATE(L$3,\"-\",$B14),Uitslag,VLOOKUP(CONCATENATE(L$3,\"-\",$B14),Werk1!$V$2:$Y$191,3,FALSE),FALSE),\"\"))))","v":{"$error":"#N/A"}},{"$f":"IF($A14=\" \",\"--\",IF($AS14=1,\"XX\",IF(M$25=1,\"XX\",IF(VLOOKUP(CONCATENATE(M$3,\"-\",$B14),Werk1!$V$2:$W$191,2,FALSE)=1,VLOOKUP(CONCATENATE(M$3,\"-\",$B14),Uitslag,VLOOKUP(CONCATENATE(M$3,\"-\",$B14),Werk1!$V$2:$Y$191,3,FALSE),FALSE),\"\"))))","v":{"$error":"#N/A"}},null,{"$f":"IF(O$2=\" \",\"--\",IF($AS14=1,\"XX\",IF(O$25=1,\"XX\",IF(VLOOKUP(CONCATENATE($B14,\"-\",O$3),Werk1!$V$2:$W$191,2,FALSE)=1,VLOOKUP(CONCATENATE($B14,\"-\",O$3),Uitslag,VLOOKUP(CONCATENATE($B14,\"-\",O$3),Werk1!$V$2:$Y$191,4,FALSE),FALSE),\"\"))))","v":{"$error":"#N/A"}},{"$f":"IF(P$2=\" \",\"--\",IF($AS14=1,\"XX\",IF(P$25=1,\"XX\",IF(VLOOKUP(CONCATENATE($B14,\"-\",P$3),Werk1!$V$2:$W$191,2,FALSE)=1,VLOOKUP(CONCATENATE($B14,\"-\",P$3),Uitslag,VLOOKUP(CONCATENATE($B14,\"-\",P$3),Werk1!$V$2:$Y$191,4,FALSE),FALSE),\"\"))))","v":{"$error":"#N/A"}},{"$f":"IF(Q$2=\" \",\"--\",IF($AS14=1,\"XX\",IF(Q$25=1,\"XX\",IF(VLOOKUP(CONCATENATE($B14,\"-\",Q$3),Werk1!$V$2:$W$191,2,FALSE)=1,VLOOKUP(CONCATENATE($B14,\"-\",Q$3),Uitslag,VLOOKUP(CONCATENATE($B14,\"-\",Q$3),Werk1!$V$2:$Y$191,4,FALSE),FALSE),\"\"))))","v":{"$error":"#N/A"}},{"$f":"IF(R$2=\" \",\"--\",IF($AS14=1,\"XX\",IF(R$25=1,\"XX\",IF(VLOOKUP(CONCATENATE($B14,\"-\",R$3),Werk1!$V$2:$W$191,2,FALSE)=1,VLOOKUP(CONCATENATE($B14,\"-\",R$3),Uitslag,VLOOKUP(CONCATENATE($B14,\"-\",R$3),Werk1!$V$2:$Y$191,4,FALSE),FALSE),\"\"))))","v":{"$error":"#N/A"}},{"$f":"IF(S$2=\" \",\"--\",IF($AS14=1,\"XX\",IF(S$25=1,\"XX\",IF(VLOOKUP(CONCATENATE($B14,\"-\",S$3),Werk1!$V$2:$W$191,2,FALSE)=1,VLOOKUP(CONCATENATE($B14,\"-\",S$3),Uitslag,VLOOKUP(CONCATENATE($B14,\"-\",S$3),Werk1!$V$2:$Y$191,4,FALSE),FALSE),\"\"))))","v":{"$error":"#N/A"}},{"$f":"IF(T$2=\" \",\"--\",IF($AS14=1,\"XX\",IF(T$25=1,\"XX\",IF(VLOOKUP(CONCATENATE($B14,\"-\",T$3),Werk1!$V$2:$W$191,2,FALSE)=1,VLOOKUP(CONCATENATE($B14,\"-\",T$3),Uitslag,VLOOKUP(CONCATENATE($B14,\"-\",T$3),Werk1!$V$2:$Y$191,4,FALSE),FALSE),\"\"))))","v":{"$error":"#N/A"}},{"$f":"IF(U$2=\" \",\"--\",IF($AS14=1,\"XX\",IF(U$25=1,\"XX\",IF(VLOOKUP(CONCATENATE($B14,\"-\",U$3),Werk1!$V$2:$W$191,2,FALSE)=1,VLOOKUP(CONCATENATE($B14,\"-\",U$3),Uitslag,VLOOKUP(CONCATENATE($B14,\"-\",U$3),Werk1!$V$2:$Y$191,4,FALSE),FALSE),\"\"))))","v":{"$error":"#N/A"}},{"$f":"IF(V$2=\" \",\"--\",IF($AS14=1,\"XX\",IF(V$25=1,\"XX\",IF(VLOOKUP(CONCATENATE($B14,\"-\",V$3),Werk1!$V$2:$W$191,2,FALSE)=1,VLOOKUP(CONCATENATE($B14,\"-\",V$3),Uitslag,VLOOKUP(CONCATENATE($B14,\"-\",V$3),Werk1!$V$2:$Y$191,4,FALSE),FALSE),\"\"))))","v":{"$error":"#N/A"}},{"$f":"IF(W$2=\" \",\"--\",IF($AS14=1,\"XX\",IF(W$25=1,\"XX\",IF(VLOOKUP(CONCATENATE($B14,\"-\",W$3),Werk1!$V$2:$W$191,2,FALSE)=1,VLOOKUP(CONCATENATE($B14,\"-\",W$3),Uitslag,VLOOKUP(CONCATENATE($B14,\"-\",W$3),Werk1!$V$2:$Y$191,4,FALSE),FALSE),\"\"))))","v":{"$error":"#N/A"}},null,{"$f":"IF($A14=\"\",\"--\",IF(VLOOKUP(CONCATENATE(D$3,\"-\",$B14),Werk1!$V$2:$W$191,2,FALSE)=1,VLOOKUP(CONCATENATE(D$3,\"-\",$B14),Uitslag,(VLOOKUP(CONCATENATE(D$3,\"-\",$B14),Werk1!$AE$2:$AG$191,3,FALSE)),FALSE),\"\"))","v":{"$error":"#N/A"}},{"$f":"IF($A14=\"\",\"--\",IF(VLOOKUP(CONCATENATE(E$3,\"-\",$B14),Werk1!$V$2:$W$191,2,FALSE)=1,VLOOKUP(CONCATENATE(E$3,\"-\",$B14),Uitslag,(VLOOKUP(CONCATENATE(E$3,\"-\",$B14),Werk1!$AE$2:$AG$191,3,FALSE)),FALSE),\"\"))","v":{"$error":"#N/A"}},{"$f":"IF($A14=\"\",\"--\",IF(VLOOKUP(CONCATENATE(F$3,\"-\",$B14),Werk1!$V$2:$W$191,2,FALSE)=1,VLOOKUP(CONCATENATE(F$3,\"-\",$B14),Uitslag,(VLOOKUP(CONCATENATE(F$3,\"-\",$B14),Werk1!$AE$2:$AG$191,3,FALSE)),FALSE),\"\"))","v":{"$error":"#N/A"}},{"$f":"IF($A14=\"\",\"--\",IF(VLOOKUP(CONCATENATE(G$3,\"-\",$B14),Werk1!$V$2:$W$191,2,FALSE)=1,VLOOKUP(CONCATENATE(G$3,\"-\",$B14),Uitslag,(VLOOKUP(CONCATENATE(G$3,\"-\",$B14),Werk1!$AE$2:$AG$191,3,FALSE)),FALSE),\"\"))","v":{"$error":"#N/A"}},{"$f":"IF($A14=\"\",\"--\",IF(VLOOKUP(CONCATENATE(H$3,\"-\",$B14),Werk1!$V$2:$W$191,2,FALSE)=1,VLOOKUP(CONCATENATE(H$3,\"-\",$B14),Uitslag,(VLOOKUP(CONCATENATE(H$3,\"-\",$B14),Werk1!$AE$2:$AG$191,3,FALSE)),FALSE),\"\"))","v":{"$error":"#N/A"}},{"$f":"IF($A14=\"\",\"--\",IF(VLOOKUP(CONCATENATE(I$3,\"-\",$B14),Werk1!$V$2:$W$191,2,FALSE)=1,VLOOKUP(CONCATENATE(I$3,\"-\",$B14),Uitslag,(VLOOKUP(CONCATENATE(I$3,\"-\",$B14),Werk1!$AE$2:$AG$191,3,FALSE)),FALSE),\"\"))","v":{"$error":"#N/A"}},{"$f":"IF($A14=\"\",\"--\",IF(VLOOKUP(CONCATENATE(J$3,\"-\",$B14),Werk1!$V$2:$W$191,2,FALSE)=1,VLOOKUP(CONCATENATE(J$3,\"-\",$B14),Uitslag,(VLOOKUP(CONCATENATE(J$3,\"-\",$B14),Werk1!$AE$2:$AG$191,3,FALSE)),FALSE),\"\"))","v":{"$error":"#N/A"}},{"$f":"IF($A14=\"\",\"--\",IF(VLOOKUP(CONCATENATE(K$3,\"-\",$B14),Werk1!$V$2:$W$191,2,FALSE)=1,VLOOKUP(CONCATENATE(K$3,\"-\",$B14),Uitslag,(VLOOKUP(CONCATENATE(K$3,\"-\",$B14),Werk1!$AE$2:$AG$191,3,FALSE)),FALSE),\"\"))","v":{"$error":"#N/A"}},{"$f":"IF($A14=\"\",\"--\",IF(VLOOKUP(CONCATENATE(L$3,\"-\",$B14),Werk1!$V$2:$W$191,2,FALSE)=1,VLOOKUP(CONCATENATE(L$3,\"-\",$B14),Uitslag,(VLOOKUP(CONCATENATE(L$3,\"-\",$B14),Werk1!$AE$2:$AG$191,3,FALSE)),FALSE),\"\"))","v":{"$error":"#N/A"}},{"$f":"IF($A14=\"\",\"--\",IF(VLOOKUP(CONCATENATE(M$3,\"-\",$B14),Werk1!$V$2:$W$191,2,FALSE)=1,VLOOKUP(CONCATENATE(M$3,\"-\",$B14),Uitslag,(VLOOKUP(CONCATENATE(M$3,\"-\",$B14),Werk1!$AE$2:$AG$191,3,FALSE)),FALSE),\"\"))","v":{"$error":"#N/A"}},null,{"$f":"IF(O$2=\"\",\"--\",IF(VLOOKUP(CONCATENATE($B14,\"-\",O$3),Werk1!$V$2:$W$191,2,FALSE)=1,VLOOKUP(CONCATENATE($B14,\"-\",O$3),Uitslag,(VLOOKUP(CONCATENATE($B14,\"-\",O$3),Werk1!$AE$2:$AG$191,2,FALSE)),FALSE),\"\"))","v":{"$error":"#N/A"}},{"$f":"IF(P$2=\"\",\"--\",IF(VLOOKUP(CONCATENATE($B14,\"-\",P$3),Werk1!$V$2:$W$191,2,FALSE)=1,VLOOKUP(CONCATENATE($B14,\"-\",P$3),Uitslag,(VLOOKUP(CONCATENATE($B14,\"-\",P$3),Werk1!$AE$2:$AG$191,2,FALSE)),FALSE),\"\"))","v":{"$error":"#N/A"}},{"$f":"IF(Q$2=\"\",\"--\",IF(VLOOKUP(CONCATENATE($B14,\"-\",Q$3),Werk1!$V$2:$W$191,2,FALSE)=1,VLOOKUP(CONCATENATE($B14,\"-\",Q$3),Uitslag,(VLOOKUP(CONCATENATE($B14,\"-\",Q$3),Werk1!$AE$2:$AG$191,2,FALSE)),FALSE),\"\"))","v":{"$error":"#N/A"}},{"$f":"IF(R$2=\"\",\"--\",IF(VLOOKUP(CONCATENATE($B14,\"-\",R$3),Werk1!$V$2:$W$191,2,FALSE)=1,VLOOKUP(CONCATENATE($B14,\"-\",R$3),Uitslag,(VLOOKUP(CONCATENATE($B14,\"-\",R$3),Werk1!$AE$2:$AG$191,2,FALSE)),FALSE),\"\"))","v":{"$error":"#N/A"}},{"$f":"IF(S$2=\"\",\"--\",IF(VLOOKUP(CONCATENATE($B14,\"-\",S$3),Werk1!$V$2:$W$191,2,FALSE)=1,VLOOKUP(CONCATENATE($B14,\"-\",S$3),Uitslag,(VLOOKUP(CONCATENATE($B14,\"-\",S$3),Werk1!$AE$2:$AG$191,2,FALSE)),FALSE),\"\"))","v":{"$error":"#N/A"}},{"$f":"IF(T$2=\"\",\"--\",IF(VLOOKUP(CONCATENATE($B14,\"-\",T$3),Werk1!$V$2:$W$191,2,FALSE)=1,VLOOKUP(CONCATENATE($B14,\"-\",T$3),Uitslag,(VLOOKUP(CONCATENATE($B14,\"-\",T$3),Werk1!$AE$2:$AG$191,2,FALSE)),FALSE),\"\"))","v":{"$error":"#N/A"}},{"$f":"IF(U$2=\"\",\"--\",IF(VLOOKUP(CONCATENATE($B14,\"-\",U$3),Werk1!$V$2:$W$191,2,FALSE)=1,VLOOKUP(CONCATENATE($B14,\"-\",U$3),Uitslag,(VLOOKUP(CONCATENATE($B14,\"-\",U$3),Werk1!$AE$2:$AG$191,2,FALSE)),FALSE),\"\"))","v":{"$error":"#N/A"}},{"$f":"IF(V$2=\"\",\"--\",IF(VLOOKUP(CONCATENATE($B14,\"-\",V$3),Werk1!$V$2:$W$191,2,FALSE)=1,VLOOKUP(CONCATENATE($B14,\"-\",V$3),Uitslag,(VLOOKUP(CONCATENATE($B14,\"-\",V$3),Werk1!$AE$2:$AG$191,2,FALSE)),FALSE),\"\"))","v":{"$error":"#N/A"}},{"$f":"IF(W$2=\"\",\"--\",IF(VLOOKUP(CONCATENATE($B14,\"-\",W$3),Werk1!$V$2:$W$191,2,FALSE)=1,VLOOKUP(CONCATENATE($B14,\"-\",W$3),Uitslag,(VLOOKUP(CONCATENATE($B14,\"-\",W$3),Werk1!$AE$2:$AG$191,2,FALSE)),FALSE),\"\"))","v":{"$error":"#N/A"}},{"$f":"IF(A14=\"\",0,IF(VLOOKUP(VLOOKUP(B14,Werk1!$AA$2:$AB$21,2,FALSE),Leden,9,FALSE)=-1,1,0))","v":{"$error":"#N/A"}}]
[{"$f":"CONCATENATE(VLOOKUP(B15,Werk1!$AA$2:$AB$21,2,FALSE),\" \")","v":{"$error":"#N/A"}},12,{"$f":"IF(A15=\"\",\"--\",IF($AS15=1,\"XX\",VLOOKUP(B15,Leden!$B$3:$C$22,2,FALSE)))","v":{"$error":"#N/A"}},{"$f":"IF($A15=\" \",\"--\",IF($AS15=1,\"XX\",IF(D$25=1,\"XX\",IF(VLOOKUP(CONCATENATE(D$3,\"-\",$B15),Werk1!$V$2:$W$191,2,FALSE)=1,VLOOKUP(CONCATENATE(D$3,\"-\",$B15),Uitslag,VLOOKUP(CONCATENATE(D$3,\"-\",$B15),Werk1!$V$2:$Y$191,3,FALSE),FALSE),\"\"))))","v":{"$error":"#N/A"}},{"$f":"IF($A15=\" \",\"--\",IF($AS15=1,\"XX\",IF(E$25=1,\"XX\",IF(VLOOKUP(CONCATENATE(E$3,\"-\",$B15),Werk1!$V$2:$W$191,2,FALSE)=1,VLOOKUP(CONCATENATE(E$3,\"-\",$B15),Uitslag,VLOOKUP(CONCATENATE(E$3,\"-\",$B15),Werk1!$V$2:$Y$191,3,FALSE),FALSE),\"\"))))","v":{"$error":"#N/A"}},{"$f":"IF($A15=\" \",\"--\",IF($AS15=1,\"XX\",IF(F$25=1,\"XX\",IF(VLOOKUP(CONCATENATE(F$3,\"-\",$B15),Werk1!$V$2:$W$191,2,FALSE)=1,VLOOKUP(CONCATENATE(F$3,\"-\",$B15),Uitslag,VLOOKUP(CONCATENATE(F$3,\"-\",$B15),Werk1!$V$2:$Y$191,3,FALSE),FALSE),\"\"))))","v":{"$error":"#N/A"}},{"$f":"IF($A15=\" \",\"--\",IF($AS15=1,\"XX\",IF(G$25=1,\"XX\",IF(VLOOKUP(CONCATENATE(G$3,\"-\",$B15),Werk1!$V$2:$W$191,2,FALSE)=1,VLOOKUP(CONCATENATE(G$3,\"-\",$B15),Uitslag,VLOOKUP(CONCATENATE(G$3,\"-\",$B15),Werk1!$V$2:$Y$191,3,FALSE),FALSE),\"\"))))","v":{"$error":"#N/A"}},{"$f":"IF($A15=\" \",\"--\",IF($AS15=1,\"XX\",IF(H$25=1,\"XX\",IF(VLOOKUP(CONCATENATE(H$3,\"-\",$B15),Werk1!$V$2:$W$191,2,FALSE)=1,VLOOKUP(CONCATENATE(H$3,\"-\",$B15),Uitslag,VLOOKUP(CONCATENATE(H$3,\"-\",$B15),Werk1!$V$2:$Y$191,3,FALSE),FALSE),\"\"))))","v":{"$error":"#N/A"}},{"$f":"IF($A15=\" \",\"--\",IF($AS15=1,\"XX\",IF(I$25=1,\"XX\",IF(VLOOKUP(CONCATENATE(I$3,\"-\",$B15),Werk1!$V$2:$W$191,2,FALSE)=1,VLOOKUP(CONCATENATE(I$3,\"-\",$B15),Uitslag,VLOOKUP(CONCATENATE(I$3,\"-\",$B15),Werk1!$V$2:$Y$191,3,FALSE),FALSE),\"\"))))","v":{"$error":"#N/A"}},{"$f":"IF($A15=\" \",\"--\",IF($AS15=1,\"XX\",IF(J$25=1,\"XX\",IF(VLOOKUP(CONCATENATE(J$3,\"-\",$B15),Werk1!$V$2:$W$191,2,FALSE)=1,VLOOKUP(CONCATENATE(J$3,\"-\",$B15),Uitslag,VLOOKUP(CONCATENATE(J$3,\"-\",$B15),Werk1!$V$2:$Y$191,3,FALSE),FALSE),\"\"))))","v":{"$error":"#N/A"}},{"$f":"IF($A15=\" \",\"--\",IF($AS15=1,\"XX\",IF(K$25=1,\"XX\",IF(VLOOKUP(CONCATENATE(K$3,\"-\",$B15),Werk1!$V$2:$W$191,2,FALSE)=1,VLOOKUP(CONCATENATE(K$3,\"-\",$B15),Uitslag,VLOOKUP(CONCATENATE(K$3,\"-\",$B15),Werk1!$V$2:$Y$191,3,FALSE),FALSE),\"\"))))","v":{"$error":"#N/A"}},{"$f":"IF($A15=\" \",\"--\",IF($AS15=1,\"XX\",IF(L$25=1,\"XX\",IF(VLOOKUP(CONCATENATE(L$3,\"-\",$B15),Werk1!$V$2:$W$191,2,FALSE)=1,VLOOKUP(CONCATENATE(L$3,\"-\",$B15),Uitslag,VLOOKUP(CONCATENATE(L$3,\"-\",$B15),Werk1!$V$2:$Y$191,3,FALSE),FALSE),\"\"))))","v":{"$error":"#N/A"}},{"$f":"IF($A15=\" \",\"--\",IF($AS15=1,\"XX\",IF(M$25=1,\"XX\",IF(VLOOKUP(CONCATENATE(M$3,\"-\",$B15),Werk1!$V$2:$W$191,2,FALSE)=1,VLOOKUP(CONCATENATE(M$3,\"-\",$B15),Uitslag,VLOOKUP(CONCATENATE(M$3,\"-\",$B15),Werk1!$V$2:$Y$191,3,FALSE),FALSE),\"\"))))","v":{"$error":"#N/A"}},{"$f":"IF($A15=\" \",\"--\",IF($AS15=1,\"XX\",IF(N$25=1,\"XX\",IF(VLOOKUP(CONCATENATE(N$3,\"-\",$B15),Werk1!$V$2:$W$191,2,FALSE)=1,VLOOKUP(CONCATENATE(N$3,\"-\",$B15),Uitslag,VLOOKUP(CONCATENATE(N$3,\"-\",$B15),Werk1!$V$2:$Y$191,3,FALSE),FALSE),\"\"))))","v":{"$error":"#N/A"}},null,{"$f":"IF(P$2=\" \",\"--\",IF($AS15=1,\"XX\",IF(P$25=1,\"XX\",IF(VLOOKUP(CONCATENATE($B15,\"-\",P$3),Werk1!$V$2:$W$191,2,FALSE)=1,VLOOKUP(CONCATENATE($B15,\"-\",P$3),Uitslag,VLOOKUP(CONCATENATE($B15,\"-\",P$3),Werk1!$V$2:$Y$191,4,FALSE),FALSE),\"\"))))","v":{"$error":"#N/A"}},{"$f":"IF(Q$2=\" \",\"--\",IF($AS15=1,\"XX\",IF(Q$25=1,\"XX\",IF(VLOOKUP(CONCATENATE($B15,\"-\",Q$3),Werk1!$V$2:$W$191,2,FALSE)=1,VLOOKUP(CONCATENATE($B15,\"-\",Q$3),Uitslag,VLOOKUP(CONCATENATE($B15,\"-\",Q$3),Werk1!$V$2:$Y$191,4,FALSE),FALSE),\"\"))))","v":{"$error":"#N/A"}},{"$f":"IF(R$2=\" \",\"--\",IF($AS15=1,\"XX\",IF(R$25=1,\"XX\",IF(VLOOKUP(CONCATENATE($B15,\"-\",R$3),Werk1!$V$2:$W$191,2,FALSE)=1,VLOOKUP(CONCATENATE($B15,\"-\",R$3),Uitslag,VLOOKUP(CONCATENATE($B15,\"-\",R$3),Werk1!$V$2:$Y$191,4,FALSE),FALSE),\"\"))))","v":{"$error":"#N/A"}},{"$f":"IF(S$2=\" \",\"--\",IF($AS15=1,\"XX\",IF(S$25=1,\"XX\",IF(VLOOKUP(CONCATENATE($B15,\"-\",S$3),Werk1!$V$2:$W$191,2,FALSE)=1,VLOOKUP(CONCATENATE($B15,\"-\",S$3),Uitslag,VLOOKUP(CONCATENATE($B15,\"-\",S$3),Werk1!$V$2:$Y$191,4,FALSE),FALSE),\"\"))))","v":{"$error":"#N/A"}},{"$f":"IF(T$2=\" \",\"--\",IF($AS15=1,\"XX\",IF(T$25=1,\"XX\",IF(VLOOKUP(CONCATENATE($B15,\"-\",T$3),Werk1!$V$2:$W$191,2,FALSE)=1,VLOOKUP(CONCATENATE($B15,\"-\",T$3),Uitslag,VLOOKUP(CONCATENATE($B15,\"-\",T$3),Werk1!$V$2:$Y$191,4,FALSE),FALSE),\"\"))))","v":{"$error":"#N/A"}},{"$f":"IF(U$2=\" \",\"--\",IF($AS15=1,\"XX\",IF(U$25=1,\"XX\",IF(VLOOKUP(CONCATENATE($B15,\"-\",U$3),Werk1!$V$2:$W$191,2,FALSE)=1,VLOOKUP(CONCATENATE($B15,\"-\",U$3),Uitslag,VLOOKUP(CONCATENATE($B15,\"-\",U$3),Werk1!$V$2:$Y$191,4,FALSE),FALSE),\"\"))))","v":{"$error":"#N/A"}},{"$f":"IF(V$2=\" \",\"--\",IF($AS15=1,\"XX\",IF(V$25=1,\"XX\",IF(VLOOKUP(CONCATENATE($B15,\"-\",V$3),Werk1!$V$2:$W$191,2,FALSE)=1,VLOOKUP(CONCATENATE($B15,\"-\",V$3),Uitslag,VLOOKUP(CONCATENATE($B15,\"-\",V$3),Werk1!$V$2:$Y$191,4,FALSE),FALSE),\"\"))))","v":{"$error":"#N/A"}},{"$f":"IF(W$2=\" \",\"--\",IF($AS15=1,\"XX\",IF(W$25=1,\"XX\",IF(VLOOKUP(CONCATENATE($B15,\"-\",W$3),Werk1!$V$2:$W$191,2,FALSE)=1,VLOOKUP(CONCATENATE($B15,\"-\",W$3),Uitslag,VLOOKUP(CONCATENATE($B15,\"-\",W$3),Werk1!$V$2:$Y$191,4,FALSE),FALSE),\"\"))))","v":{"$error":"#N/A"}},null,{"$f":"IF($A15=\"\",\"--\",IF(VLOOKUP(CONCATENATE(D$3,\"-\",$B15),Werk1!$V$2:$W$191,2,FALSE)=1,VLOOKUP(CONCATENATE(D$3,\"-\",$B15),Uitslag,(VLOOKUP(CONCATENATE(D$3,\"-\",$B15),Werk1!$AE$2:$AG$191,3,FALSE)),FALSE),\"\"))","v":{"$error":"#N/A"}},{"$f":"IF($A15=\"\",\"--\",IF(VLOOKUP(CONCATENATE(E$3,\"-\",$B15),Werk1!$V$2:$W$191,2,FALSE)=1,VLOOKUP(CONCATENATE(E$3,\"-\",$B15),Uitslag,(VLOOKUP(CONCATENATE(E$3,\"-\",$B15),Werk1!$AE$2:$AG$191,3,FALSE)),FALSE),\"\"))","v":{"$error":"#N/A"}},{"$f":"IF($A15=\"\",\"--\",IF(VLOOKUP(CONCATENATE(F$3,\"-\",$B15),Werk1!$V$2:$W$191,2,FALSE)=1,VLOOKUP(CONCATENATE(F$3,\"-\",$B15),Uitslag,(VLOOKUP(CONCATENATE(F$3,\"-\",$B15),Werk1!$AE$2:$AG$191,3,FALSE)),FALSE),\"\"))","v":{"$error":"#N/A"}},{"$f":"IF($A15=\"\",\"--\",IF(VLOOKUP(CONCATENATE(G$3,\"-\",$B15),Werk1!$V$2:$W$191,2,FALSE)=1,VLOOKUP(CONCATENATE(G$3,\"-\",$B15),Uitslag,(VLOOKUP(CONCATENATE(G$3,\"-\",$B15),Werk1!$AE$2:$AG$191,3,FALSE)),FALSE),\"\"))","v":{"$error":"#N/A"}},{"$f":"IF($A15=\"\",\"--\",IF(VLOOKUP(CONCATENATE(H$3,\"-\",$B15),Werk1!$V$2:$W$191,2,FALSE)=1,VLOOKUP(CONCATENATE(H$3,\"-\",$B15),Uitslag,(VLOOKUP(CONCATENATE(H$3,\"-\",$B15),Werk1!$AE$2:$AG$191,3,FALSE)),FALSE),\"\"))","v":{"$error":"#N/A"}},{"$f":"IF($A15=\"\",\"--\",IF(VLOOKUP(CONCATENATE(I$3,\"-\",$B15),Werk1!$V$2:$W$191,2,FALSE)=1,VLOOKUP(CONCATENATE(I$3,\"-\",$B15),Uitslag,(VLOOKUP(CONCATENATE(I$3,\"-\",$B15),Werk1!$AE$2:$AG$191,3,FALSE)),FALSE),\"\"))","v":{"$error":"#N/A"}},{"$f":"IF($A15=\"\",\"--\",IF(VLOOKUP(CONCATENATE(J$3,\"-\",$B15),Werk1!$V$2:$W$191,2,FALSE)=1,VLOOKUP(CONCATENATE(J$3,\"-\",$B15),Uitslag,(VLOOKUP(CONCATENATE(J$3,\"-\",$B15),Werk1!$AE$2:$AG$191,3,FALSE)),FALSE),\"\"))","v":{"$error":"#N/A"}},{"$f":"IF($A15=\"\",\"--\",IF(VLOOKUP(CONCATENATE(K$3,\"-\",$B15),Werk1!$V$2:$W$191,2,FALSE)=1,VLOOKUP(CONCATENATE(K$3,\"-\",$B15),Uitslag,(VLOOKUP(CONCATENATE(K$3,\"-\",$B15),Werk1!$AE$2:$AG$191,3,FALSE)),FALSE),\"\"))","v":{"$error":"#N/A"}},{"$f":"IF($A15=\"\",\"--\",IF(VLOOKUP(CONCATENATE(L$3,\"-\",$B15),Werk1!$V$2:$W$191,2,FALSE)=1,VLOOKUP(CONCATENATE(L$3,\"-\",$B15),Uitslag,(VLOOKUP(CONCATENATE(L$3,\"-\",$B15),Werk1!$AE$2:$AG$191,3,FALSE)),FALSE),\"\"))","v":{"$error":"#N/A"}},{"$f":"IF($A15=\"\",\"--\",IF(VLOOKUP(CONCATENATE(M$3,\"-\",$B15),Werk1!$V$2:$W$191,2,FALSE)=1,VLOOKUP(CONCATENATE(M$3,\"-\",$B15),Uitslag,(VLOOKUP(CONCATENATE(M$3,\"-\",$B15),Werk1!$AE$2:$AG$191,3,FALSE)),FALSE),\"\"))","v":{"$error":"#N/A"}},{"$f":"IF($A15=\"\",\"--\",IF(VLOOKUP(CONCATENATE(N$3,\"-\",$B15),Werk1!$V$2:$W$191,2,FALSE)=1,VLOOKUP(CONCATENATE(N$3,\"-\",$B15),Uitslag,(VLOOKUP(CONCATENATE(N$3,\"-\",$B15),Werk1!$AE$2:$AG$191,3,FALSE)),FALSE),\"\"))","v":{"$error":"#N/A"}},null,{"$f":"IF(P$2=\"\",\"--\",IF(VLOOKUP(CONCATENATE($B15,\"-\",P$3),Werk1!$V$2:$W$191,2,FALSE)=1,VLOOKUP(CONCATENATE($B15,\"-\",P$3),Uitslag,(VLOOKUP(CONCATENATE($B15,\"-\",P$3),Werk1!$AE$2:$AG$191,2,FALSE)),FALSE),\"\"))","v":{"$error":"#N/A"}},{"$f":"IF(Q$2=\"\",\"--\",IF(VLOOKUP(CONCATENATE($B15,\"-\",Q$3),Werk1!$V$2:$W$191,2,FALSE)=1,VLOOKUP(CONCATENATE($B15,\"-\",Q$3),Uitslag,(VLOOKUP(CONCATENATE($B15,\"-\",Q$3),Werk1!$AE$2:$AG$191,2,FALSE)),FALSE),\"\"))","v":{"$error":"#N/A"}},{"$f":"IF(R$2=\"\",\"--\",IF(VLOOKUP(CONCATENATE($B15,\"-\",R$3),Werk1!$V$2:$W$191,2,FALSE)=1,VLOOKUP(CONCATENATE($B15,\"-\",R$3),Uitslag,(VLOOKUP(CONCATENATE($B15,\"-\",R$3),Werk1!$AE$2:$AG$191,2,FALSE)),FALSE),\"\"))","v":{"$error":"#N/A"}},{"$f":"IF(S$2=\"\",\"--\",IF(VLOOKUP(CONCATENATE($B15,\"-\",S$3),Werk1!$V$2:$W$191,2,FALSE)=1,VLOOKUP(CONCATENATE($B15,\"-\",S$3),Uitslag,(VLOOKUP(CONCATENATE($B15,\"-\",S$3),Werk1!$AE$2:$AG$191,2,FALSE)),FALSE),\"\"))","v":{"$error":"#N/A"}},{"$f":"IF(T$2=\"\",\"--\",IF(VLOOKUP(CONCATENATE($B15,\"-\",T$3),Werk1!$V$2:$W$191,2,FALSE)=1,VLOOKUP(CONCATENATE($B15,\"-\",T$3),Uitslag,(VLOOKUP(CONCATENATE($B15,\"-\",T$3),Werk1!$AE$2:$AG$191,2,FALSE)),FALSE),\"\"))","v":{"$error":"#N/A"}},{"$f":"IF(U$2=\"\",\"--\",IF(VLOOKUP(CONCATENATE($B15,\"-\",U$3),Werk1!$V$2:$W$191,2,FALSE)=1,VLOOKUP(CONCATENATE($B15,\"-\",U$3),Uitslag,(VLOOKUP(CONCATENATE($B15,\"-\",U$3),Werk1!$AE$2:$AG$191,2,FALSE)),FALSE),\"\"))","v":{"$error":"#N/A"}},{"$f":"IF(V$2=\"\",\"--\",IF(VLOOKUP(CONCATENATE($B15,\"-\",V$3),Werk1!$V$2:$W$191,2,FALSE)=1,VLOOKUP(CONCATENATE($B15,\"-\",V$3),Uitslag,(VLOOKUP(CONCATENATE($B15,\"-\",V$3),Werk1!$AE$2:$AG$191,2,FALSE)),FALSE),\"\"))","v":{"$error":"#N/A"}},{"$f":"IF(W$2=\"\",\"--\",IF(VLOOKUP(CONCATENATE($B15,\"-\",W$3),Werk1!$V$2:$W$191,2,FALSE)=1,VLOOKUP(CONCATENATE($B15,\"-\",W$3),Uitslag,(VLOOKUP(CONCATENATE($B15,\"-\",W$3),Werk1!$AE$2:$AG$191,2,FALSE)),FALSE),\"\"))","v":{"$error":"#N/A"}},{"$f":"IF(A15=\"\",0,IF(VLOOKUP(VLOOKUP(B15,Werk1!$AA$2:$AB$21,2,FALSE),Leden,9,FALSE)=-1,1,0))","v":{"$error":"#N/A"}}]
[{"$f":"CONCATENATE(VLOOKUP(B16,Werk1!$AA$2:$AB$21,2,FALSE),\" \")","v":{"$error":"#N/A"}},13,{"$f":"IF(A16=\"\",\"--\",IF($AS16=1,\"XX\",VLOOKUP(B16,Leden!$B$3:$C$22,2,FALSE)))","v":{"$error":"#N/A"}},{"$f":"IF($A16=\" \",\"--\",IF($AS16=1,\"XX\",IF(D$25=1,\"XX\",IF(VLOOKUP(CONCATENATE(D$3,\"-\",$B16),Werk1!$V$2:$W$191,2,FALSE)=1,VLOOKUP(CONCATENATE(D$3,\"-\",$B16),Uitslag,VLOOKUP(CONCATENATE(D$3,\"-\",$B16),Werk1!$V$2:$Y$191,3,FALSE),FALSE),\"\"))))","v":{"$error":"#N/A"}},{"$f":"IF($A16=\" \",\"--\",IF($AS16=1,\"XX\",IF(E$25=1,\"XX\",IF(VLOOKUP(CONCATENATE(E$3,\"-\",$B16),Werk1!$V$2:$W$191,2,FALSE)=1,VLOOKUP(CONCATENATE(E$3,\"-\",$B16),Uitslag,VLOOKUP(CONCATENATE(E$3,\"-\",$B16),Werk1!$V$2:$Y$191,3,FALSE),FALSE),\"\"))))","v":{"$error":"#N/A"}},{"$f":"IF($A16=\" \",\"--\",IF($AS16=1,\"XX\",IF(F$25=1,\"XX\",IF(VLOOKUP(CONCATENATE(F$3,\"-\",$B16),Werk1!$V$2:$W$191,2,FALSE)=1,VLOOKUP(CONCATENATE(F$3,\"-\",$B16),Uitslag,VLOOKUP(CONCATENATE(F$3,\"-\",$B16),Werk1!$V$2:$Y$191,3,FALSE),FALSE),\"\"))))","v":{"$error":"#N/A"}},{"$f":"IF($A16=\" \",\"--\",IF($AS16=1,\"XX\",IF(G$25=1,\"XX\",IF(VLOOKUP(CONCATENATE(G$3,\"-\",$B16),Werk1!$V$2:$W$191,2,FALSE)=1,VLOOKUP(CONCATENATE(G$3,\"-\",$B16),Uitslag,VLOOKUP(CONCATENATE(G$3,\"-\",$B16),Werk1!$V$2:$Y$191,3,FALSE),FALSE),\"\"))))","v":{"$error":"#N/A"}},{"$f":"IF($A16=\" \",\"--\",IF($AS16=1,\"XX\",IF(H$25=1,\"XX\",IF(VLOOKUP(CONCATENATE(H$3,\"-\",$B16),Werk1!$V$2:$W$191,2,FALSE)=1,VLOOKUP(CONCATENATE(H$3,\"-\",$B16),Uitslag,VLOOKUP(CONCATENATE(H$3,\"-\",$B16),Werk1!$V$2:$Y$191,3,FALSE),FALSE),\"\"))))","v":{"$error":"#N/A"}},{"$f":"IF($A16=\" \",\"--\",IF($AS16=1,\"XX\",IF(I$25=1,\"XX\",IF(VLOOKUP(CONCATENATE(I$3,\"-\",$B16),Werk1!$V$2:$W$191,2,FALSE)=1,VLOOKUP(CONCATENATE(I$3,\"-\",$B16),Uitslag,VLOOKUP(CONCATENATE(I$3,\"-\",$B16),Werk1!$V$2:$Y$191,3,FALSE),FALSE),\"\"))))","v":{"$error":"#N/A"}},{"$f":"IF($A16=\" \",\"--\",IF($AS16=1,\"XX\",IF(J$25=1,\"XX\",IF(VLOOKUP(CONCATENATE(J$3,\"-\",$B16),Werk1!$V$2:$W$191,2,FALSE)=1,VLOOKUP(CONCATENATE(J$3,\"-\",$B16),Uitslag,VLOOKUP(CONCATENATE(J$3,\"-\",$B16),Werk1!$V$2:$Y$191,3,FALSE),FALSE),\"\"))))","v":{"$error":"#N/A"}},{"$f":"IF($A16=\" \",\"--\",IF($AS16=1,\"XX\",IF(K$25=1,\"XX\",IF(VLOOKUP(CONCATENATE(K$3,\"-\",$B16),Werk1!$V$2:$W$191,2,FALSE)=1,VLOOKUP(CONCATENATE(K$3,\"-\",$B16),Uitslag,VLOOKUP(CONCATENATE(K$3,\"-\",$B16),Werk1!$V$2:$Y$191,3,FALSE),FALSE),\"\"))))","v":{"$error":"#N/A"}},{"$f":"IF($A16=\" \",\"--\",IF($AS16=1,\"XX\",IF(L$25=1,\"XX\",IF(VLOOKUP(CONCATENATE(L$3,\"-\",$B16),Werk1!$V$2:$W$191,2,FALSE)=1,VLOOKUP(CONCATENATE(L$3,\"-\",$B16),Uitslag,VLOOKUP(CONCATENATE(L$3,\"-\",$B16),Werk1!$V$2:$Y$191,3,FALSE),FALSE),\"\"))))","v":{"$error":"#N/A"}},{"$f":"IF($A16=\" \",\"--\",IF($AS16=1,\"XX\",IF(M$25=1,\"XX\",IF(VLOOKUP(CONCATENATE(M$3,\"-\",$B16),Werk1!$V$2:$W$191,2,FALSE)=1,VLOOKUP(CONCATENATE(M$3,\"-\",$B16),Uitslag,VLOOKUP(CONCATENATE(M$3,\"-\",$B16),Werk1!$V$2:$Y$191,3,FALSE),FALSE),\"\"))))","v":{"$error":"#N/A"}},{"$f":"IF($A16=\" \",\"--\",IF($AS16=1,\"XX\",IF(N$25=1,\"XX\",IF(VLOOKUP(CONCATENATE(N$3,\"-\",$B16),Werk1!$V$2:$W$191,2,FALSE)=1,VLOOKUP(CONCATENATE(N$3,\"-\",$B16),Uitslag,VLOOKUP(CONCATENATE(N$3,\"-\",$B16),Werk1!$V$2:$Y$191,3,FALSE),FALSE),\"\"))))","v":{"$error":"#N/A"}},{"$f":"IF($A16=\" \",\"--\",IF($AS16=1,\"XX\",IF(O$25=1,\"XX\",IF(VLOOKUP(CONCATENATE(O$3,\"-\",$B16),Werk1!$V$2:$W$191,2,FALSE)=1,VLOOKUP(CONCATENATE(O$3,\"-\",$B16),Uitslag,VLOOKUP(CONCATENATE(O$3,\"-\",$B16),Werk1!$V$2:$Y$191,3,FALSE),FALSE),\"\"))))","v":{"$error":"#N/A"}},null,{"$f":"IF(Q$2=\" \",\"--\",IF($AS16=1,\"XX\",IF(Q$25=1,\"XX\",IF(VLOOKUP(CONCATENATE($B16,\"-\",Q$3),Werk1!$V$2:$W$191,2,FALSE)=1,VLOOKUP(CONCATENATE($B16,\"-\",Q$3),Uitslag,VLOOKUP(CONCATENATE($B16,\"-\",Q$3),Werk1!$V$2:$Y$191,4,FALSE),FALSE),\"\"))))","v":{"$error":"#N/A"}},{"$f":"IF(R$2=\" \",\"--\",IF($AS16=1,\"XX\",IF(R$25=1,\"XX\",IF(VLOOKUP(CONCATENATE($B16,\"-\",R$3),Werk1!$V$2:$W$191,2,FALSE)=1,VLOOKUP(CONCATENATE($B16,\"-\",R$3),Uitslag,VLOOKUP(CONCATENATE($B16,\"-\",R$3),Werk1!$V$2:$Y$191,4,FALSE),FALSE),\"\"))))","v":{"$error":"#N/A"}},{"$f":"IF(S$2=\" \",\"--\",IF($AS16=1,\"XX\",IF(S$25=1,\"XX\",IF(VLOOKUP(CONCATENATE($B16,\"-\",S$3),Werk1!$V$2:$W$191,2,FALSE)=1,VLOOKUP(CONCATENATE($B16,\"-\",S$3),Uitslag,VLOOKUP(CONCATENATE($B16,\"-\",S$3),Werk1!$V$2:$Y$191,4,FALSE),FALSE),\"\"))))","v":{"$error":"#N/A"}},{"$f":"IF(T$2=\" \",\"--\",IF($AS16=1,\"XX\",IF(T$25=1,\"XX\",IF(VLOOKUP(CONCATENATE($B16,\"-\",T$3),Werk1!$V$2:$W$191,2,FALSE)=1,VLOOKUP(CONCATENATE($B16,\"-\",T$3),Uitslag,VLOOKUP(CONCATENATE($B16,\"-\",T$3),Werk1!$V$2:$Y$191,4,FALSE),FALSE),\"\"))))","v":{"$error":"#N/A"}},{"$f":"IF(U$2=\" \",\"--\",IF($AS16=1,\"XX\",IF(U$25=1,\"XX\",IF(VLOOKUP(CONCATENATE($B16,\"-\",U$3),Werk1!$V$2:$W$191,2,FALSE)=1,VLOOKUP(CONCATENATE($B16,\"-\",U$3),Uitslag,VLOOKUP(CONCATENATE($B16,\"-\",U$3),Werk1!$V$2:$Y$191,4,FALSE),FALSE),\"\"))))","v":{"$error":"#N/A"}},{"$f":"IF(V$2=\" \",\"--\",IF($AS16=1,\"XX\",IF(V$25=1,\"XX\",IF(VLOOKUP(CONCATENATE($B16,\"-\",V$3),Werk1!$V$2:$W$191,2,FALSE)=1,VLOOKUP(CONCATENATE($B16,\"-\",V$3),Uitslag,VLOOKUP(CONCATENATE($B16,\"-\",V$3),Werk1!$V$2:$Y$191,4,FALSE),FALSE),\"\"))))","v":{"$error":"#N/A"}},{"$f":"IF(W$2=\" \",\"--\",IF($AS16=1,\"XX\",IF(W$25=1,\"XX\",IF(VLOOKUP(CONCATENATE($B16,\"-\",W$3),Werk1!$V$2:$W$191,2,FALSE)=1,VLOOKUP(CONCATENATE($B16,\"-\",W$3),Uitslag,VLOOKUP(CONCATENATE($B16,\"-\",W$3),Werk1!$V$2:$Y$191,4,FALSE),FALSE),\"\"))))","v":{"$error":"#N/A"}},null,{"$f":"IF($A16=\"\",\"--\",IF(VLOOKUP(CONCATENATE(D$3,\"-\",$B16),Werk1!$V$2:$W$191,2,FALSE)=1,VLOOKUP(CONCATENATE(D$3,\"-\",$B16),Uitslag,(VLOOKUP(CONCATENATE(D$3,\"-\",$B16),Werk1!$AE$2:$AG$191,3,FALSE)),FALSE),\"\"))","v":{"$error":"#N/A"}},{"$f":"IF($A16=\"\",\"--\",IF(VLOOKUP(CONCATENATE(E$3,\"-\",$B16),Werk1!$V$2:$W$191,2,FALSE)=1,VLOOKUP(CONCATENATE(E$3,\"-\",$B16),Uitslag,(VLOOKUP(CONCATENATE(E$3,\"-\",$B16),Werk1!$AE$2:$AG$191,3,FALSE)),FALSE),\"\"))","v":{"$error":"#N/A"}},{"$f":"IF($A16=\"\",\"--\",IF(VLOOKUP(CONCATENATE(F$3,\"-\",$B16),Werk1!$V$2:$W$191,2,FALSE)=1,VLOOKUP(CONCATENATE(F$3,\"-\",$B16),Uitslag,(VLOOKUP(CONCATENATE(F$3,\"-\",$B16),Werk1!$AE$2:$AG$191,3,FALSE)),FALSE),\"\"))","v":{"$error":"#N/A"}},{"$f":"IF($A16=\"\",\"--\",IF(VLOOKUP(CONCATENATE(G$3,\"-\",$B16),Werk1!$V$2:$W$191,2,FALSE)=1,VLOOKUP(CONCATENATE(G$3,\"-\",$B16),Uitslag,(VLOOKUP(CONCATENATE(G$3,\"-\",$B16),Werk1!$AE$2:$AG$191,3,FALSE)),FALSE),\"\"))","v":{"$error":"#N/A"}},{"$f":"IF($A16=\"\",\"--\",IF(VLOOKUP(CONCATENATE(H$3,\"-\",$B16),Werk1!$V$2:$W$191,2,FALSE)=1,VLOOKUP(CONCATENATE(H$3,\"-\",$B16),Uitslag,(VLOOKUP(CONCATENATE(H$3,\"-\",$B16),Werk1!$AE$2:$AG$191,3,FALSE)),FALSE),\"\"))","v":{"$error":"#N/A"}},{"$f":"IF($A16=\"\",\"--\",IF(VLOOKUP(CONCATENATE(I$3,\"-\",$B16),Werk1!$V$2:$W$191,2,FALSE)=1,VLOOKUP(CONCATENATE(I$3,\"-\",$B16),Uitslag,(VLOOKUP(CONCATENATE(I$3,\"-\",$B16),Werk1!$AE$2:$AG$191,3,FALSE)),FALSE),\"\"))","v":{"$error":"#N/A"}},{"$f":"IF($A16=\"\",\"--\",IF(VLOOKUP(CONCATENATE(J$3,\"-\",$B16),Werk1!$V$2:$W$191,2,FALSE)=1,VLOOKUP(CONCATENATE(J$3,\"-\",$B16),Uitslag,(VLOOKUP(CONCATENATE(J$3,\"-\",$B16),Werk1!$AE$2:$AG$191,3,FALSE)),FALSE),\"\"))","v":{"$error":"#N/A"}},{"$f":"IF($A16=\"\",\"--\",IF(VLOOKUP(CONCATENATE(K$3,\"-\",$B16),Werk1!$V$2:$W$191,2,FALSE)=1,VLOOKUP(CONCATENATE(K$3,\"-\",$B16),Uitslag,(VLOOKUP(CONCATENATE(K$3,\"-\",$B16),Werk1!$AE$2:$AG$191,3,FALSE)),FALSE),\"\"))","v":{"$error":"#N/A"}},{"$f":"IF($A16=\"\",\"--\",IF(VLOOKUP(CONCATENATE(L$3,\"-\",$B16),Werk1!$V$2:$W$191,2,FALSE)=1,VLOOKUP(CONCATENATE(L$3,\"-\",$B16),Uitslag,(VLOOKUP(CONCATENATE(L$3,\"-\",$B16),Werk1!$AE$2:$AG$191,3,FALSE)),FALSE),\"\"))","v":{"$error":"#N/A"}},{"$f":"IF($A16=\"\",\"--\",IF(VLOOKUP(CONCATENATE(M$3,\"-\",$B16),Werk1!$V$2:$W$191,2,FALSE)=1,VLOOKUP(CONCATENATE(M$3,\"-\",$B16),Uitslag,(VLOOKUP(CONCATENATE(M$3,\"-\",$B16),Werk1!$AE$2:$AG$191,3,FALSE)),FALSE),\"\"))","v":{"$error":"#N/A"}},{"$f":"IF($A16=\"\",\"--\",IF(VLOOKUP(CONCATENATE(N$3,\"-\",$B16),Werk1!$V$2:$W$191,2,FALSE)=1,VLOOKUP(CONCATENATE(N$3,\"-\",$B16),Uitslag,(VLOOKUP(CONCATENATE(N$3,\"-\",$B16),Werk1!$AE$2:$AG$191,3,FALSE)),FALSE),\"\"))","v":{"$error":"#N/A"}},{"$f":"IF($A16=\"\",\"--\",IF(VLOOKUP(CONCATENATE(O$3,\"-\",$B16),Werk1!$V$2:$W$191,2,FALSE)=1,VLOOKUP(CONCATENATE(O$3,\"-\",$B16),Uitslag,(VLOOKUP(CONCATENATE(O$3,\"-\",$B16),Werk1!$AE$2:$AG$191,3,FALSE)),FALSE),\"\"))","v":{"$error":"#N/A"}},null,{"$f":"IF(Q$2=\"\",\"--\",IF(VLOOKUP(CONCATENATE($B16,\"-\",Q$3),Werk1!$V$2:$W$191,2,FALSE)=1,VLOOKUP(CONCATENATE($B16,\"-\",Q$3),Uitslag,(VLOOKUP(CONCATENATE($B16,\"-\",Q$3),Werk1!$AE$2:$AG$191,2,FALSE)),FALSE),\"\"))","v":{"$error":"#N/A"}},{"$f":"IF(R$2=\"\",\"--\",IF(VLOOKUP(CONCATENATE($B16,\"-\",R$3),Werk1!$V$2:$W$191,2,FALSE)=1,VLOOKUP(CONCATENATE($B16,\"-\",R$3),Uitslag,(VLOOKUP(CONCATENATE($B16,\"-\",R$3),Werk1!$AE$2:$AG$191,2,FALSE)),FALSE),\"\"))","v":{"$error":"#N/A"}},{"$f":"IF(S$2=\"\",\"--\",IF(VLOOKUP(CONCATENATE($B16,\"-\",S$3),Werk1!$V$2:$W$191,2,FALSE)=1,VLOOKUP(CONCATENATE($B16,\"-\",S$3),Uitslag,(VLOOKUP(CONCATENATE($B16,\"-\",S$3),Werk1!$AE$2:$AG$191,2,FALSE)),FALSE),\"\"))","v":{"$error":"#N/A"}},{"$f":"IF(T$2=\"\",\"--\",IF(VLOOKUP(CONCATENATE($B16,\"-\",T$3),Werk1!$V$2:$W$191,2,FALSE)=1,VLOOKUP(CONCATENATE($B16,\"-\",T$3),Uitslag,(VLOOKUP(CONCATENATE($B16,\"-\",T$3),Werk1!$AE$2:$AG$191,2,FALSE)),FALSE),\"\"))","v":{"$error":"#N/A"}},{"$f":"IF(U$2=\"\",\"--\",IF(VLOOKUP(CONCATENATE($B16,\"-\",U$3),Werk1!$V$2:$W$191,2,FALSE)=1,VLOOKUP(CONCATENATE($B16,\"-\",U$3),Uitslag,(VLOOKUP(CONCATENATE($B16,\"-\",U$3),Werk1!$AE$2:$AG$191,2,FALSE)),FALSE),\"\"))","v":{"$error":"#N/A"}},{"$f":"IF(V$2=\"\",\"--\",IF(VLOOKUP(CONCATENATE($B16,\"-\",V$3),Werk1!$V$2:$W$191,2,FALSE)=1,VLOOKUP(CONCATENATE($B16,\"-\",V$3),Uitslag,(VLOOKUP(CONCATENATE($B16,\"-\",V$3),Werk1!$AE$2:$AG$191,2,FALSE)),FALSE),\"\"))","v":{"$error":"#N/A"}},{"$f":"IF(W$2=\"\",\"--\",IF(VLOOKUP(CONCATENATE($B16,\"-\",W$3),Werk1!$V$2:$W$191,2,FALSE)=1,VLOOKUP(CONCATENATE($B16,\"-\",W$3),Uitslag,(VLOOKUP(CONCATENATE($B16,\"-\",W$3),Werk1!$AE$2:$AG$191,2,FALSE)),FALSE),\"\"))","v":{"$error":"#N/A"}},{"$f":"IF(A16=\"\",0,IF(VLOOKUP(VLOOKUP(B16,Werk1!$AA$2:$AB$21,2,FALSE),Leden,9,FALSE)=-1,1,0))","v":{"$error":"#N/A"}}]
[{"$f":"CONCATENATE(VLOOKUP(B17,Werk1!$AA$2:$AB$21,2,FALSE),\" \")","v":{"$error":"#N/A"}},14,{"$f":"IF(A17=\"\",\"--\",IF($AS17=1,\"XX\",VLOOKUP(B17,Leden!$B$3:$C$22,2,FALSE)))","v":{"$error":"#N/A"}},{"$f":"IF($A17=\" \",\"--\",IF($AS17=1,\"XX\",IF(D$25=1,\"XX\",IF(VLOOKUP(CONCATENATE(D$3,\"-\",$B17),Werk1!$V$2:$W$191,2,FALSE)=1,VLOOKUP(CONCATENATE(D$3,\"-\",$B17),Uitslag,VLOOKUP(CONCATENATE(D$3,\"-\",$B17),Werk1!$V$2:$Y$191,3,FALSE),FALSE),\"\"))))","v":{"$error":"#N/A"}},{"$f":"IF($A17=\" \",\"--\",IF($AS17=1,\"XX\",IF(E$25=1,\"XX\",IF(VLOOKUP(CONCATENATE(E$3,\"-\",$B17),Werk1!$V$2:$W$191,2,FALSE)=1,VLOOKUP(CONCATENATE(E$3,\"-\",$B17),Uitslag,VLOOKUP(CONCATENATE(E$3,\"-\",$B17),Werk1!$V$2:$Y$191,3,FALSE),FALSE),\"\"))))","v":{"$error":"#N/A"}},{"$f":"IF($A17=\" \",\"--\",IF($AS17=1,\"XX\",IF(F$25=1,\"XX\",IF(VLOOKUP(CONCATENATE(F$3,\"-\",$B17),Werk1!$V$2:$W$191,2,FALSE)=1,VLOOKUP(CONCATENATE(F$3,\"-\",$B17),Uitslag,VLOOKUP(CONCATENATE(F$3,\"-\",$B17),Werk1!$V$2:$Y$191,3,FALSE),FALSE),\"\"))))","v":{"$error":"#N/A"}},{"$f":"IF($A17=\" \",\"--\",IF($AS17=1,\"XX\",IF(G$25=1,\"XX\",IF(VLOOKUP(CONCATENATE(G$3,\"-\",$B17),Werk1!$V$2:$W$191,2,FALSE)=1,VLOOKUP(CONCATENATE(G$3,\"-\",$B17),Uitslag,VLOOKUP(CONCATENATE(G$3,\"-\",$B17),Werk1!$V$2:$Y$191,3,FALSE),FALSE),\"\"))))","v":{"$error":"#N/A"}},{"$f":"IF($A17=\" \",\"--\",IF($AS17=1,\"XX\",IF(H$25=1,\"XX\",IF(VLOOKUP(CONCATENATE(H$3,\"-\",$B17),Werk1!$V$2:$W$191,2,FALSE)=1,VLOOKUP(CONCATENATE(H$3,\"-\",$B17),Uitslag,VLOOKUP(CONCATENATE(H$3,\"-\",$B17),Werk1!$V$2:$Y$191,3,FALSE),FALSE),\"\"))))","v":{"$error":"#N/A"}},{"$f":"IF($A17=\" \",\"--\",IF($AS17=1,\"XX\",IF(I$25=1,\"XX\",IF(VLOOKUP(CONCATENATE(I$3,\"-\",$B17),Werk1!$V$2:$W$191,2,FALSE)=1,VLOOKUP(CONCATENATE(I$3,\"-\",$B17),Uitslag,VLOOKUP(CONCATENATE(I$3,\"-\",$B17),Werk1!$V$2:$Y$191,3,FALSE),FALSE),\"\"))))","v":{"$error":"#N/A"}},{"$f":"IF($A17=\" \",\"--\",IF($AS17=1,\"XX\",IF(J$25=1,\"XX\",IF(VLOOKUP(CONCATENATE(J$3,\"-\",$B17),Werk1!$V$2:$W$191,2,FALSE)=1,VLOOKUP(CONCATENATE(J$3,\"-\",$B17),Uitslag,VLOOKUP(CONCATENATE(J$3,\"-\",$B17),Werk1!$V$2:$Y$191,3,FALSE),FALSE),\"\"))))","v":{"$error":"#N/A"}},{"$f":"IF($A17=\" \",\"--\",IF($AS17=1,\"XX\",IF(K$25=1,\"XX\",IF(VLOOKUP(CONCATENATE(K$3,\"-\",$B17),Werk1!$V$2:$W$191,2,FALSE)=1,VLOOKUP(CONCATENATE(K$3,\"-\",$B17),Uitslag,VLOOKUP(CONCATENATE(K$3,\"-\",$B17),Werk1!$V$2:$Y$191,3,FALSE),FALSE),\"\"))))","v":{"$error":"#N/A"}},{"$f":"IF($A17=\" \",\"--\",IF($AS17=1,\"XX\",IF(L$25=1,\"XX\",IF(VLOOKUP(CONCATENATE(L$3,\"-\",$B17),Werk1!$V$2:$W$191,2,FALSE)=1,VLOOKUP(CONCATENATE(L$3,\"-\",$B17),Uitslag,VLOOKUP(CONCATENATE(L$3,\"-\",$B17),Werk1!$V$2:$Y$191,3,FALSE),FALSE),\"\"))))","v":{"$error":"#N/A"}},{"$f":"IF($A17=\" \",\"--\",IF($AS17=1,\"XX\",IF(M$25=1,\"XX\",IF(VLOOKUP(CONCATENATE(M$3,\"-\",$B17),Werk1!$V$2:$W$191,2,FALSE)=1,VLOOKUP(CONCATENATE(M$3,\"-\",$B17),Uitslag,VLOOKUP(CONCATENATE(M$3,\"-\",$B17),Werk1!$V$2:$Y$191,3,FALSE),FALSE),\"\"))))","v":{"$error":"#N/A"}},{"$f":"IF($A17=\" \",\"--\",IF($AS17=1,\"XX\",IF(N$25=1,\"XX\",IF(VLOOKUP(CONCATENATE(N$3,\"-\",$B17),Werk1!$V$2:$W$191,2,FALSE)=1,VLOOKUP(CONCATENATE(N$3,\"-\",$B17),Uitslag,VLOOKUP(CONCATENATE(N$3,\"-\",$B17),Werk1!$V$2:$Y$191,3,FALSE),FALSE),\"\"))))","v":{"$error":"#N/A"}},{"$f":"IF($A17=\" \",\"--\",IF($AS17=1,\"XX\",IF(O$25=1,\"XX\",IF(VLOOKUP(CONCATENATE(O$3,\"-\",$B17),Werk1!$V$2:$W$191,2,FALSE)=1,VLOOKUP(CONCATENATE(O$3,\"-\",$B17),Uitslag,VLOOKUP(CONCATENATE(O$3,\"-\",$B17),Werk1!$V$2:$Y$191,3,FALSE),FALSE),\"\"))))","v":{"$error":"#N/A"}},{"$f":"IF($A17=\" \",\"--\",IF($AS17=1,\"XX\",IF(P$25=1,\"XX\",IF(VLOOKUP(CONCATENATE(P$3,\"-\",$B17),Werk1!$V$2:$W$191,2,FALSE)=1,VLOOKUP(CONCATENATE(P$3,\"-\",$B17),Uitslag,VLOOKUP(CONCATENATE(P$3,\"-\",$B17),Werk1!$V$2:$Y$191,3,FALSE),FALSE),\"\"))))","v":{"$error":"#N/A"}},null,{"$f":"IF(R$2=\" \",\"--\",IF($AS17=1,\"XX\",IF(R$25=1,\"XX\",IF(VLOOKUP(CONCATENATE($B17,\"-\",R$3),Werk1!$V$2:$W$191,2,FALSE)=1,VLOOKUP(CONCATENATE($B17,\"-\",R$3),Uitslag,VLOOKUP(CONCATENATE($B17,\"-\",R$3),Werk1!$V$2:$Y$191,4,FALSE),FALSE),\"\"))))","v":{"$error":"#N/A"}},{"$f":"IF(S$2=\" \",\"--\",IF($AS17=1,\"XX\",IF(S$25=1,\"XX\",IF(VLOOKUP(CONCATENATE($B17,\"-\",S$3),Werk1!$V$2:$W$191,2,FALSE)=1,VLOOKUP(CONCATENATE($B17,\"-\",S$3),Uitslag,VLOOKUP(CONCATENATE($B17,\"-\",S$3),Werk1!$V$2:$Y$191,4,FALSE),FALSE),\"\"))))","v":{"$error":"#N/A"}},{"$f":"IF(T$2=\" \",\"--\",IF($AS17=1,\"XX\",IF(T$25=1,\"XX\",IF(VLOOKUP(CONCATENATE($B17,\"-\",T$3),Werk1!$V$2:$W$191,2,FALSE)=1,VLOOKUP(CONCATENATE($B17,\"-\",T$3),Uitslag,VLOOKUP(CONCATENATE($B17,\"-\",T$3),Werk1!$V$2:$Y$191,4,FALSE),FALSE),\"\"))))","v":{"$error":"#N/A"}},{"$f":"IF(U$2=\" \",\"--\",IF($AS17=1,\"XX\",IF(U$25=1,\"XX\",IF(VLOOKUP(CONCATENATE($B17,\"-\",U$3),Werk1!$V$2:$W$191,2,FALSE)=1,VLOOKUP(CONCATENATE($B17,\"-\",U$3),Uitslag,VLOOKUP(CONCATENATE($B17,\"-\",U$3),Werk1!$V$2:$Y$191,4,FALSE),FALSE),\"\"))))","v":{"$error":"#N/A"}},{"$f":"IF(V$2=\" \",\"--\",IF($AS17=1,\"XX\",IF(V$25=1,\"XX\",IF(VLOOKUP(CONCATENATE($B17,\"-\",V$3),Werk1!$V$2:$W$191,2,FALSE)=1,VLOOKUP(CONCATENATE($B17,\"-\",V$3),Uitslag,VLOOKUP(CONCATENATE($B17,\"-\",V$3),Werk1!$V$2:$Y$191,4,FALSE),FALSE),\"\"))))","v":{"$error":"#N/A"}},{"$f":"IF(W$2=\" \",\"--\",IF($AS17=1,\"XX\",IF(W$25=1,\"XX\",IF(VLOOKUP(CONCATENATE($B17,\"-\",W$3),Werk1!$V$2:$W$191,2,FALSE)=1,VLOOKUP(CONCATENATE($B17,\"-\",W$3),Uitslag,VLOOKUP(CONCATENATE($B17,\"-\",W$3),Werk1!$V$2:$Y$191,4,FALSE),FALSE),\"\"))))","v":{"$error":"#N/A"}},null,{"$f":"IF($A17=\"\",\"--\",IF(VLOOKUP(CONCATENATE(D$3,\"-\",$B17),Werk1!$V$2:$W$191,2,FALSE)=1,VLOOKUP(CONCATENATE(D$3,\"-\",$B17),Uitslag,(VLOOKUP(CONCATENATE(D$3,\"-\",$B17),Werk1!$AE$2:$AG$191,3,FALSE)),FALSE),\"\"))","v":{"$error":"#N/A"}},{"$f":"IF($A17=\"\",\"--\",IF(VLOOKUP(CONCATENATE(E$3,\"-\",$B17),Werk1!$V$2:$W$191,2,FALSE)=1,VLOOKUP(CONCATENATE(E$3,\"-\",$B17),Uitslag,(VLOOKUP(CONCATENATE(E$3,\"-\",$B17),Werk1!$AE$2:$AG$191,3,FALSE)),FALSE),\"\"))","v":{"$error":"#N/A"}},{"$f":"IF($A17=\"\",\"--\",IF(VLOOKUP(CONCATENATE(F$3,\"-\",$B17),Werk1!$V$2:$W$191,2,FALSE)=1,VLOOKUP(CONCATENATE(F$3,\"-\",$B17),Uitslag,(VLOOKUP(CONCATENATE(F$3,\"-\",$B17),Werk1!$AE$2:$AG$191,3,FALSE)),FALSE),\"\"))","v":{"$error":"#N/A"}},{"$f":"IF($A17=\"\",\"--\",IF(VLOOKUP(CONCATENATE(G$3,\"-\",$B17),Werk1!$V$2:$W$191,2,FALSE)=1,VLOOKUP(CONCATENATE(G$3,\"-\",$B17),Uitslag,(VLOOKUP(CONCATENATE(G$3,\"-\",$B17),Werk1!$AE$2:$AG$191,3,FALSE)),FALSE),\"\"))","v":{"$error":"#N/A"}},{"$f":"IF($A17=\"\",\"--\",IF(VLOOKUP(CONCATENATE(H$3,\"-\",$B17),Werk1!$V$2:$W$191,2,FALSE)=1,VLOOKUP(CONCATENATE(H$3,\"-\",$B17),Uitslag,(VLOOKUP(CONCATENATE(H$3,\"-\",$B17),Werk1!$AE$2:$AG$191,3,FALSE)),FALSE),\"\"))","v":{"$error":"#N/A"}},{"$f":"IF($A17=\"\",\"--\",IF(VLOOKUP(CONCATENATE(I$3,\"-\",$B17),Werk1!$V$2:$W$191,2,FALSE)=1,VLOOKUP(CONCATENATE(I$3,\"-\",$B17),Uitslag,(VLOOKUP(CONCATENATE(I$3,\"-\",$B17),Werk1!$AE$2:$AG$191,3,FALSE)),FALSE),\"\"))","v":{"$error":"#N/A"}},{"$f":"IF($A17=\"\",\"--\",IF(VLOOKUP(CONCATENATE(J$3,\"-\",$B17),Werk1!$V$2:$W$191,2,FALSE)=1,VLOOKUP(CONCATENATE(J$3,\"-\",$B17),Uitslag,(VLOOKUP(CONCATENATE(J$3,\"-\",$B17),Werk1!$AE$2:$AG$191,3,FALSE)),FALSE),\"\"))","v":{"$error":"#N/A"}},{"$f":"IF($A17=\"\",\"--\",IF(VLOOKUP(CONCATENATE(K$3,\"-\",$B17),Werk1!$V$2:$W$191,2,FALSE)=1,VLOOKUP(CONCATENATE(K$3,\"-\",$B17),Uitslag,(VLOOKUP(CONCATENATE(K$3,\"-\",$B17),Werk1!$AE$2:$AG$191,3,FALSE)),FALSE),\"\"))","v":{"$error":"#N/A"}},{"$f":"IF($A17=\"\",\"--\",IF(VLOOKUP(CONCATENATE(L$3,\"-\",$B17),Werk1!$V$2:$W$191,2,FALSE)=1,VLOOKUP(CONCATENATE(L$3,\"-\",$B17),Uitslag,(VLOOKUP(CONCATENATE(L$3,\"-\",$B17),Werk1!$AE$2:$AG$191,3,FALSE)),FALSE),\"\"))","v":{"$error":"#N/A"}},{"$f":"IF($A17=\"\",\"--\",IF(VLOOKUP(CONCATENATE(M$3,\"-\",$B17),Werk1!$V$2:$W$191,2,FALSE)=1,VLOOKUP(CONCATENATE(M$3,\"-\",$B17),Uitslag,(VLOOKUP(CONCATENATE(M$3,\"-\",$B17),Werk1!$AE$2:$AG$191,3,FALSE)),FALSE),\"\"))","v":{"$error":"#N/A"}},{"$f":"IF($A17=\"\",\"--\",IF(VLOOKUP(CONCATENATE(N$3,\"-\",$B17),Werk1!$V$2:$W$191,2,FALSE)=1,VLOOKUP(CONCATENATE(N$3,\"-\",$B17),Uitslag,(VLOOKUP(CONCATENATE(N$3,\"-\",$B17),Werk1!$AE$2:$AG$191,3,FALSE)),FALSE),\"\"))","v":{"$error":"#N/A"}},{"$f":"IF($A17=\"\",\"--\",IF(VLOOKUP(CONCATENATE(O$3,\"-\",$B17),Werk1!$V$2:$W$191,2,FALSE)=1,VLOOKUP(CONCATENATE(O$3,\"-\",$B17),Uitslag,(VLOOKUP(CONCATENATE(O$3,\"-\",$B17),Werk1!$AE$2:$AG$191,3,FALSE)),FALSE),\"\"))","v":{"$error":"#N/A"}},{"$f":"IF($A17=\"\",\"--\",IF(VLOOKUP(CONCATENATE(P$3,\"-\",$B17),Werk1!$V$2:$W$191,2,FALSE)=1,VLOOKUP(CONCATENATE(P$3,\"-\",$B17),Uitslag,(VLOOKUP(CONCATENATE(P$3,\"-\",$B17),Werk1!$AE$2:$AG$191,3,FALSE)),FALSE),\"\"))","v":{"$error":"#N/A"}},null,{"$f":"IF(R$2=\"\",\"--\",IF(VLOOKUP(CONCATENATE($B17,\"-\",R$3),Werk1!$V$2:$W$191,2,FALSE)=1,VLOOKUP(CONCATENATE($B17,\"-\",R$3),Uitslag,(VLOOKUP(CONCATENATE($B17,\"-\",R$3),Werk1!$AE$2:$AG$191,2,FALSE)),FALSE),\"\"))","v":{"$error":"#N/A"}},{"$f":"IF(S$2=\"\",\"--\",IF(VLOOKUP(CONCATENATE($B17,\"-\",S$3),Werk1!$V$2:$W$191,2,FALSE)=1,VLOOKUP(CONCATENATE($B17,\"-\",S$3),Uitslag,(VLOOKUP(CONCATENATE($B17,\"-\",S$3),Werk1!$AE$2:$AG$191,2,FALSE)),FALSE),\"\"))","v":{"$error":"#N/A"}},{"$f":"IF(T$2=\"\",\"--\",IF(VLOOKUP(CONCATENATE($B17,\"-\",T$3),Werk1!$V$2:$W$191,2,FALSE)=1,VLOOKUP(CONCATENATE($B17,\"-\",T$3),Uitslag,(VLOOKUP(CONCATENATE($B17,\"-\",T$3),Werk1!$AE$2:$AG$191,2,FALSE)),FALSE),\"\"))","v":{"$error":"#N/A"}},{"$f":"IF(U$2=\"\",\"--\",IF(VLOOKUP(CONCATENATE($B17,\"-\",U$3),Werk1!$V$2:$W$191,2,FALSE)=1,VLOOKUP(CONCATENATE($B17,\"-\",U$3),Uitslag,(VLOOKUP(CONCATENATE($B17,\"-\",U$3),Werk1!$AE$2:$AG$191,2,FALSE)),FALSE),\"\"))","v":{"$error":"#N/A"}},{"$f":"IF(V$2=\"\",\"--\",IF(VLOOKUP(CONCATENATE($B17,\"-\",V$3),Werk1!$V$2:$W$191,2,FALSE)=1,VLOOKUP(CONCATENATE($B17,\"-\",V$3),Uitslag,(VLOOKUP(CONCATENATE($B17,\"-\",V$3),Werk1!$AE$2:$AG$191,2,FALSE)),FALSE),\"\"))","v":{"$error":"#N/A"}},{"$f":"IF(W$2=\"\",\"--\",IF(VLOOKUP(CONCATENATE($B17,\"-\",W$3),Werk1!$V$2:$W$191,2,FALSE)=1,VLOOKUP(CONCATENATE($B17,\"-\",W$3),Uitslag,(VLOOKUP(CONCATENATE($B17,\"-\",W$3),Werk1!$AE$2:$AG$191,2,FALSE)),FALSE),\"\"))","v":{"$error":"#N/A"}},{"$f":"IF(A17=\"\",0,IF(VLOOKUP(VLOOKUP(B17,Werk1!$AA$2:$AB$21,2,FALSE),Leden,9,FALSE)=-1,1,0))","v":{"$error":"#N/A"}}]
[{"$f":"CONCATENATE(VLOOKUP(B18,Werk1!$AA$2:$AB$21,2,FALSE),\" \")","v":{"$error":"#N/A"}},15,{"$f":"IF(A18=\"\",\"--\",IF($AS18=1,\"XX\",VLOOKUP(B18,Leden!$B$3:$C$22,2,FALSE)))","v":{"$error":"#N/A"}},{"$f":"IF($A18=\" \",\"--\",IF($AS18=1,\"XX\",IF(D$25=1,\"XX\",IF(VLOOKUP(CONCATENATE(D$3,\"-\",$B18),Werk1!$V$2:$W$191,2,FALSE)=1,VLOOKUP(CONCATENATE(D$3,\"-\",$B18),Uitslag,VLOOKUP(CONCATENATE(D$3,\"-\",$B18),Werk1!$V$2:$Y$191,3,FALSE),FALSE),\"\"))))","v":{"$error":"#N/A"}},{"$f":"IF($A18=\" \",\"--\",IF($AS18=1,\"XX\",IF(E$25=1,\"XX\",IF(VLOOKUP(CONCATENATE(E$3,\"-\",$B18),Werk1!$V$2:$W$191,2,FALSE)=1,VLOOKUP(CONCATENATE(E$3,\"-\",$B18),Uitslag,VLOOKUP(CONCATENATE(E$3,\"-\",$B18),Werk1!$V$2:$Y$191,3,FALSE),FALSE),\"\"))))","v":{"$error":"#N/A"}},{"$f":"IF($A18=\" \",\"--\",IF($AS18=1,\"XX\",IF(F$25=1,\"XX\",IF(VLOOKUP(CONCATENATE(F$3,\"-\",$B18),Werk1!$V$2:$W$191,2,FALSE)=1,VLOOKUP(CONCATENATE(F$3,\"-\",$B18),Uitslag,VLOOKUP(CONCATENATE(F$3,\"-\",$B18),Werk1!$V$2:$Y$191,3,FALSE),FALSE),\"\"))))","v":{"$error":"#N/A"}},{"$f":"IF($A18=\" \",\"--\",IF($AS18=1,\"XX\",IF(G$25=1,\"XX\",IF(VLOOKUP(CONCATENATE(G$3,\"-\",$B18),Werk1!$V$2:$W$191,2,FALSE)=1,VLOOKUP(CONCATENATE(G$3,\"-\",$B18),Uitslag,VLOOKUP(CONCATENATE(G$3,\"-\",$B18),Werk1!$V$2:$Y$191,3,FALSE),FALSE),\"\"))))","v":{"$error":"#N/A"}},{"$f":"IF($A18=\" \",\"--\",IF($AS18=1,\"XX\",IF(H$25=1,\"XX\",IF(VLOOKUP(CONCATENATE(H$3,\"-\",$B18),Werk1!$V$2:$W$191,2,FALSE)=1,VLOOKUP(CONCATENATE(H$3,\"-\",$B18),Uitslag,VLOOKUP(CONCATENATE(H$3,\"-\",$B18),Werk1!$V$2:$Y$191,3,FALSE),FALSE),\"\"))))","v":{"$error":"#N/A"}},{"$f":"IF($A18=\" \",\"--\",IF($AS18=1,\"XX\",IF(I$25=1,\"XX\",IF(VLOOKUP(CONCATENATE(I$3,\"-\",$B18),Werk1!$V$2:$W$191,2,FALSE)=1,VLOOKUP(CONCATENATE(I$3,\"-\",$B18),Uitslag,VLOOKUP(CONCATENATE(I$3,\"-\",$B18),Werk1!$V$2:$Y$191,3,FALSE),FALSE),\"\"))))","v":{"$error":"#N/A"}},{"$f":"IF($A18=\" \",\"--\",IF($AS18=1,\"XX\",IF(J$25=1,\"XX\",IF(VLOOKUP(CONCATENATE(J$3,\"-\",$B18),Werk1!$V$2:$W$191,2,FALSE)=1,VLOOKUP(CONCATENATE(J$3,\"-\",$B18),Uitslag,VLOOKUP(CONCATENATE(J$3,\"-\",$B18),Werk1!$V$2:$Y$191,3,FALSE),FALSE),\"\"))))","v":{"$error":"#N/A"}},{"$f":"IF($A18=\" \",\"--\",IF($AS18=1,\"XX\",IF(K$25=1,\"XX\",IF(VLOOKUP(CONCATENATE(K$3,\"-\",$B18),Werk1!$V$2:$W$191,2,FALSE)=1,VLOOKUP(CONCATENATE(K$3,\"-\",$B18),Uitslag,VLOOKUP(CONCATENATE(K$3,\"-\",$B18),Werk1!$V$2:$Y$191,3,FALSE),FALSE),\"\"))))","v":{"$error":"#N/A"}},{"$f":"IF($A18=\" \",\"--\",IF($AS18=1,\"XX\",IF(L$25=1,\"XX\",IF(VLOOKUP(CONCATENATE(L$3,\"-\",$B18),Werk1!$V$2:$W$191,2,FALSE)=1,VLOOKUP(CONCATENATE(L$3,\"-\",$B18),Uitslag,VLOOKUP(CONCATENATE(L$3,\"-\",$B18),Werk1!$V$2:$Y$191,3,FALSE),FALSE),\"\"))))","v":{"$error":"#N/A"}},{"$f":"IF($A18=\" \",\"--\",IF($AS18=1,\"XX\",IF(M$25=1,\"XX\",IF(VLOOKUP(CONCATENATE(M$3,\"-\",$B18),Werk1!$V$2:$W$191,2,FALSE)=1,VLOOKUP(CONCATENATE(M$3,\"-\",$B18),Uitslag,VLOOKUP(CONCATENATE(M$3,\"-\",$B18),Werk1!$V$2:$Y$191,3,FALSE),FALSE),\"\"))))","v":{"$error":"#N/A"}},{"$f":"IF($A18=\" \",\"--\",IF($AS18=1,\"XX\",IF(N$25=1,\"XX\",IF(VLOOKUP(CONCATENATE(N$3,\"-\",$B18),Werk1!$V$2:$W$191,2,FALSE)=1,VLOOKUP(CONCATENATE(N$3,\"-\",$B18),Uitslag,VLOOKUP(CONCATENATE(N$3,\"-\",$B18),Werk1!$V$2:$Y$191,3,FALSE),FALSE),\"\"))))","v":{"$error":"#N/A"}},{"$f":"IF($A18=\" \",\"--\",IF($AS18=1,\"XX\",IF(O$25=1,\"XX\",IF(VLOOKUP(CONCATENATE(O$3,\"-\",$B18),Werk1!$V$2:$W$191,2,FALSE)=1,VLOOKUP(CONCATENATE(O$3,\"-\",$B18),Uitslag,VLOOKUP(CONCATENATE(O$3,\"-\",$B18),Werk1!$V$2:$Y$191,3,FALSE),FALSE),\"\"))))","v":{"$error":"#N/A"}},{"$f":"IF($A18=\" \",\"--\",IF($AS18=1,\"XX\",IF(P$25=1,\"XX\",IF(VLOOKUP(CONCATENATE(P$3,\"-\",$B18),Werk1!$V$2:$W$191,2,FALSE)=1,VLOOKUP(CONCATENATE(P$3,\"-\",$B18),Uitslag,VLOOKUP(CONCATENATE(P$3,\"-\",$B18),Werk1!$V$2:$Y$191,3,FALSE),FALSE),\"\"))))","v":{"$error":"#N/A"}},{"$f":"IF($A18=\" \",\"--\",IF($AS18=1,\"XX\",IF(Q$25=1,\"XX\",IF(VLOOKUP(CONCATENATE(Q$3,\"-\",$B18),Werk1!$V$2:$W$191,2,FALSE)=1,VLOOKUP(CONCATENATE(Q$3,\"-\",$B18),Uitslag,VLOOKUP(CONCATENATE(Q$3,\"-\",$B18),Werk1!$V$2:$Y$191,3,FALSE),FALSE),\"\"))))","v":{"$error":"#N/A"}},null,{"$f":"IF(S$2=\" \",\"--\",IF($AS18=1,\"XX\",IF(S$25=1,\"XX\",IF(VLOOKUP(CONCATENATE($B18,\"-\",S$3),Werk1!$V$2:$W$191,2,FALSE)=1,VLOOKUP(CONCATENATE($B18,\"-\",S$3),Uitslag,VLOOKUP(CONCATENATE($B18,\"-\",S$3),Werk1!$V$2:$Y$191,4,FALSE),FALSE),\"\"))))","v":{"$error":"#N/A"}},{"$f":"IF(T$2=\" \",\"--\",IF($AS18=1,\"XX\",IF(T$25=1,\"XX\",IF(VLOOKUP(CONCATENATE($B18,\"-\",T$3),Werk1!$V$2:$W$191,2,FALSE)=1,VLOOKUP(CONCATENATE($B18,\"-\",T$3),Uitslag,VLOOKUP(CONCATENATE($B18,\"-\",T$3),Werk1!$V$2:$Y$191,4,FALSE),FALSE),\"\"))))","v":{"$error":"#N/A"}},{"$f":"IF(U$2=\" \",\"--\",IF($AS18=1,\"XX\",IF(U$25=1,\"XX\",IF(VLOOKUP(CONCATENATE($B18,\"-\",U$3),Werk1!$V$2:$W$191,2,FALSE)=1,VLOOKUP(CONCATENATE($B18,\"-\",U$3),Uitslag,VLOOKUP(CONCATENATE($B18,\"-\",U$3),Werk1!$V$2:$Y$191,4,FALSE),FALSE),\"\"))))","v":{"$error":"#N/A"}},{"$f":"IF(V$2=\" \",\"--\",IF($AS18=1,\"XX\",IF(V$25=1,\"XX\",IF(VLOOKUP(CONCATENATE($B18,\"-\",V$3),Werk1!$V$2:$W$191,2,FALSE)=1,VLOOKUP(CONCATENATE($B18,\"-\",V$3),Uitslag,VLOOKUP(CONCATENATE($B18,\"-\",V$3),Werk1!$V$2:$Y$191,4,FALSE),FALSE),\"\"))))","v":{"$error":"#N/A"}},{"$f":"IF(W$2=\" \",\"--\",IF($AS18=1,\"XX\",IF(W$25=1,\"XX\",IF(VLOOKUP(CONCATENATE($B18,\"-\",W$3),Werk1!$V$2:$W$191,2,FALSE)=1,VLOOKUP(CONCATENATE($B18,\"-\",W$3),Uitslag,VLOOKUP(CONCATENATE($B18,\"-\",W$3),Werk1!$V$2:$Y$191,4,FALSE),FALSE),\"\"))))","v":{"$error":"#N/A"}},null,{"$f":"IF($A18=\"\",\"--\",IF(VLOOKUP(CONCATENATE(D$3,\"-\",$B18),Werk1!$V$2:$W$191,2,FALSE)=1,VLOOKUP(CONCATENATE(D$3,\"-\",$B18),Uitslag,(VLOOKUP(CONCATENATE(D$3,\"-\",$B18),Werk1!$AE$2:$AG$191,3,FALSE)),FALSE),\"\"))","v":{"$error":"#N/A"}},{"$f":"IF($A18=\"\",\"--\",IF(VLOOKUP(CONCATENATE(E$3,\"-\",$B18),Werk1!$V$2:$W$191,2,FALSE)=1,VLOOKUP(CONCATENATE(E$3,\"-\",$B18),Uitslag,(VLOOKUP(CONCATENATE(E$3,\"-\",$B18),Werk1!$AE$2:$AG$191,3,FALSE)),FALSE),\"\"))","v":{"$error":"#N/A"}},{"$f":"IF($A18=\"\",\"--\",IF(VLOOKUP(CONCATENATE(F$3,\"-\",$B18),Werk1!$V$2:$W$191,2,FALSE)=1,VLOOKUP(CONCATENATE(F$3,\"-\",$B18),Uitslag,(VLOOKUP(CONCATENATE(F$3,\"-\",$B18),Werk1!$AE$2:$AG$191,3,FALSE)),FALSE),\"\"))","v":{"$error":"#N/A"}},{"$f":"IF($A18=\"\",\"--\",IF(VLOOKUP(CONCATENATE(G$3,\"-\",$B18),Werk1!$V$2:$W$191,2,FALSE)=1,VLOOKUP(CONCATENATE(G$3,\"-\",$B18),Uitslag,(VLOOKUP(CONCATENATE(G$3,\"-\",$B18),Werk1!$AE$2:$AG$191,3,FALSE)),FALSE),\"\"))","v":{"$error":"#N/A"}},{"$f":"IF($A18=\"\",\"--\",IF(VLOOKUP(CONCATENATE(H$3,\"-\",$B18),Werk1!$V$2:$W$191,2,FALSE)=1,VLOOKUP(CONCATENATE(H$3,\"-\",$B18),Uitslag,(VLOOKUP(CONCATENATE(H$3,\"-\",$B18),Werk1!$AE$2:$AG$191,3,FALSE)),FALSE),\"\"))","v":{"$error":"#N/A"}},{"$f":"IF($A18=\"\",\"--\",IF(VLOOKUP(CONCATENATE(I$3,\"-\",$B18),Werk1!$V$2:$W$191,2,FALSE)=1,VLOOKUP(CONCATENATE(I$3,\"-\",$B18),Uitslag,(VLOOKUP(CONCATENATE(I$3,\"-\",$B18),Werk1!$AE$2:$AG$191,3,FALSE)),FALSE),\"\"))","v":{"$error":"#N/A"}},{"$f":"IF($A18=\"\",\"--\",IF(VLOOKUP(CONCATENATE(J$3,\"-\",$B18),Werk1!$V$2:$W$191,2,FALSE)=1,VLOOKUP(CONCATENATE(J$3,\"-\",$B18),Uitslag,(VLOOKUP(CONCATENATE(J$3,\"-\",$B18),Werk1!$AE$2:$AG$191,3,FALSE)),FALSE),\"\"))","v":{"$error":"#N/A"}},{"$f":"IF($A18=\"\",\"--\",IF(VLOOKUP(CONCATENATE(K$3,\"-\",$B18),Werk1!$V$2:$W$191,2,FALSE)=1,VLOOKUP(CONCATENATE(K$3,\"-\",$B18),Uitslag,(VLOOKUP(CONCATENATE(K$3,\"-\",$B18),Werk1!$AE$2:$AG$191,3,FALSE)),FALSE),\"\"))","v":{"$error":"#N/A"}},{"$f":"IF($A18=\"\",\"--\",IF(VLOOKUP(CONCATENATE(L$3,\"-\",$B18),Werk1!$V$2:$W$191,2,FALSE)=1,VLOOKUP(CONCATENATE(L$3,\"-\",$B18),Uitslag,(VLOOKUP(CONCATENATE(L$3,\"-\",$B18),Werk1!$AE$2:$AG$191,3,FALSE)),FALSE),\"\"))","v":{"$error":"#N/A"}},{"$f":"IF($A18=\"\",\"--\",IF(VLOOKUP(CONCATENATE(M$3,\"-\",$B18),Werk1!$V$2:$W$191,2,FALSE)=1,VLOOKUP(CONCATENATE(M$3,\"-\",$B18),Uitslag,(VLOOKUP(CONCATENATE(M$3,\"-\",$B18),Werk1!$AE$2:$AG$191,3,FALSE)),FALSE),\"\"))","v":{"$error":"#N/A"}},{"$f":"IF($A18=\"\",\"--\",IF(VLOOKUP(CONCATENATE(N$3,\"-\",$B18),Werk1!$V$2:$W$191,2,FALSE)=1,VLOOKUP(CONCATENATE(N$3,\"-\",$B18),Uitslag,(VLOOKUP(CONCATENATE(N$3,\"-\",$B18),Werk1!$AE$2:$AG$191,3,FALSE)),FALSE),\"\"))","v":{"$error":"#N/A"}},{"$f":"IF($A18=\"\",\"--\",IF(VLOOKUP(CONCATENATE(O$3,\"-\",$B18),Werk1!$V$2:$W$191,2,FALSE)=1,VLOOKUP(CONCATENATE(O$3,\"-\",$B18),Uitslag,(VLOOKUP(CONCATENATE(O$3,\"-\",$B18),Werk1!$AE$2:$AG$191,3,FALSE)),FALSE),\"\"))","v":{"$error":"#N/A"}},{"$f":"IF($A18=\"\",\"--\",IF(VLOOKUP(CONCATENATE(P$3,\"-\",$B18),Werk1!$V$2:$W$191,2,FALSE)=1,VLOOKUP(CONCATENATE(P$3,\"-\",$B18),Uitslag,(VLOOKUP(CONCATENATE(P$3,\"-\",$B18),Werk1!$AE$2:$AG$191,3,FALSE)),FALSE),\"\"))","v":{"$error":"#N/A"}},{"$f":"IF($A18=\"\",\"--\",IF(VLOOKUP(CONCATENATE(Q$3,\"-\",$B18),Werk1!$V$2:$W$191,2,FALSE)=1,VLOOKUP(CONCATENATE(Q$3,\"-\",$B18),Uitslag,(VLOOKUP(CONCATENATE(Q$3,\"-\",$B18),Werk1!$AE$2:$AG$191,3,FALSE)),FALSE),\"\"))","v":{"$error":"#N/A"}},null,{"$f":"IF(S$2=\"\",\"--\",IF(VLOOKUP(CONCATENATE($B18,\"-\",S$3),Werk1!$V$2:$W$191,2,FALSE)=1,VLOOKUP(CONCATENATE($B18,\"-\",S$3),Uitslag,(VLOOKUP(CONCATENATE($B18,\"-\",S$3),Werk1!$AE$2:$AG$191,2,FALSE)),FALSE),\"\"))","v":{"$error":"#N/A"}},{"$f":"IF(T$2=\"\",\"--\",IF(VLOOKUP(CONCATENATE($B18,\"-\",T$3),Werk1!$V$2:$W$191,2,FALSE)=1,VLOOKUP(CONCATENATE($B18,\"-\",T$3),Uitslag,(VLOOKUP(CONCATENATE($B18,\"-\",T$3),Werk1!$AE$2:$AG$191,2,FALSE)),FALSE),\"\"))","v":{"$error":"#N/A"}},{"$f":"IF(U$2=\"\",\"--\",IF(VLOOKUP(CONCATENATE($B18,\"-\",U$3),Werk1!$V$2:$W$191,2,FALSE)=1,VLOOKUP(CONCATENATE($B18,\"-\",U$3),Uitslag,(VLOOKUP(CONCATENATE($B18,\"-\",U$3),Werk1!$AE$2:$AG$191,2,FALSE)),FALSE),\"\"))","v":{"$error":"#N/A"}},{"$f":"IF(V$2=\"\",\"--\",IF(VLOOKUP(CONCATENATE($B18,\"-\",V$3),Werk1!$V$2:$W$191,2,FALSE)=1,VLOOKUP(CONCATENATE($B18,\"-\",V$3),Uitslag,(VLOOKUP(CONCATENATE($B18,\"-\",V$3),Werk1!$AE$2:$AG$191,2,FALSE)),FALSE),\"\"))","v":{"$error":"#N/A"}},{"$f":"IF(W$2=\"\",\"--\",IF(VLOOKUP(CONCATENATE($B18,\"-\",W$3),Werk1!$V$2:$W$191,2,FALSE)=1,VLOOKUP(CONCATENATE($B18,\"-\",W$3),Uitslag,(VLOOKUP(CONCATENATE($B18,\"-\",W$3),Werk1!$AE$2:$AG$191,2,FALSE)),FALSE),\"\"))","v":{"$error":"#N/A"}},{"$f":"IF(A18=\"\",0,IF(VLOOKUP(VLOOKUP(B18,Werk1!$AA$2:$AB$21,2,FALSE),Leden,9,FALSE)=-1,1,0))","v":{"$error":"#N/A"}}]
[{"$f":"CONCATENATE(VLOOKUP(B19,Werk1!$AA$2:$AB$21,2,FALSE),\" \")","v":{"$error":"#N/A"}},16,{"$f":"IF(A19=\"\",\"--\",IF($AS19=1,\"XX\",VLOOKUP(B19,Leden!$B$3:$C$22,2,FALSE)))","v":{"$error":"#N/A"}},{"$f":"IF($A19=\" \",\"--\",IF($AS19=1,\"XX\",IF(D$25=1,\"XX\",IF(VLOOKUP(CONCATENATE(D$3,\"-\",$B19),Werk1!$V$2:$W$191,2,FALSE)=1,VLOOKUP(CONCATENATE(D$3,\"-\",$B19),Uitslag,VLOOKUP(CONCATENATE(D$3,\"-\",$B19),Werk1!$V$2:$Y$191,3,FALSE),FALSE),\"\"))))","v":{"$error":"#N/A"}},{"$f":"IF($A19=\" \",\"--\",IF($AS19=1,\"XX\",IF(E$25=1,\"XX\",IF(VLOOKUP(CONCATENATE(E$3,\"-\",$B19),Werk1!$V$2:$W$191,2,FALSE)=1,VLOOKUP(CONCATENATE(E$3,\"-\",$B19),Uitslag,VLOOKUP(CONCATENATE(E$3,\"-\",$B19),Werk1!$V$2:$Y$191,3,FALSE),FALSE),\"\"))))","v":{"$error":"#N/A"}},{"$f":"IF($A19=\" \",\"--\",IF($AS19=1,\"XX\",IF(F$25=1,\"XX\",IF(VLOOKUP(CONCATENATE(F$3,\"-\",$B19),Werk1!$V$2:$W$191,2,FALSE)=1,VLOOKUP(CONCATENATE(F$3,\"-\",$B19),Uitslag,VLOOKUP(CONCATENATE(F$3,\"-\",$B19),Werk1!$V$2:$Y$191,3,FALSE),FALSE),\"\"))))","v":{"$error":"#N/A"}},{"$f":"IF($A19=\" \",\"--\",IF($AS19=1,\"XX\",IF(G$25=1,\"XX\",IF(VLOOKUP(CONCATENATE(G$3,\"-\",$B19),Werk1!$V$2:$W$191,2,FALSE)=1,VLOOKUP(CONCATENATE(G$3,\"-\",$B19),Uitslag,VLOOKUP(CONCATENATE(G$3,\"-\",$B19),Werk1!$V$2:$Y$191,3,FALSE),FALSE),\"\"))))","v":{"$error":"#N/A"}},{"$f":"IF($A19=\" \",\"--\",IF($AS19=1,\"XX\",IF(H$25=1,\"XX\",IF(VLOOKUP(CONCATENATE(H$3,\"-\",$B19),Werk1!$V$2:$W$191,2,FALSE)=1,VLOOKUP(CONCATENATE(H$3,\"-\",$B19),Uitslag,VLOOKUP(CONCATENATE(H$3,\"-\",$B19),Werk1!$V$2:$Y$191,3,FALSE),FALSE),\"\"))))","v":{"$error":"#N/A"}},{"$f":"IF($A19=\" \",\"--\",IF($AS19=1,\"XX\",IF(I$25=1,\"XX\",IF(VLOOKUP(CONCATENATE(I$3,\"-\",$B19),Werk1!$V$2:$W$191,2,FALSE)=1,VLOOKUP(CONCATENATE(I$3,\"-\",$B19),Uitslag,VLOOKUP(CONCATENATE(I$3,\"-\",$B19),Werk1!$V$2:$Y$191,3,FALSE),FALSE),\"\"))))","v":{"$error":"#N/A"}},{"$f":"IF($A19=\" \",\"--\",IF($AS19=1,\"XX\",IF(J$25=1,\"XX\",IF(VLOOKUP(CONCATENATE(J$3,\"-\",$B19),Werk1!$V$2:$W$191,2,FALSE)=1,VLOOKUP(CONCATENATE(J$3,\"-\",$B19),Uitslag,VLOOKUP(CONCATENATE(J$3,\"-\",$B19),Werk1!$V$2:$Y$191,3,FALSE),FALSE),\"\"))))","v":{"$error":"#N/A"}},{"$f":"IF($A19=\" \",\"--\",IF($AS19=1,\"XX\",IF(K$25=1,\"XX\",IF(VLOOKUP(CONCATENATE(K$3,\"-\",$B19),Werk1!$V$2:$W$191,2,FALSE)=1,VLOOKUP(CONCATENATE(K$3,\"-\",$B19),Uitslag,VLOOKUP(CONCATENATE(K$3,\"-\",$B19),Werk1!$V$2:$Y$191,3,FALSE),FALSE),\"\"))))","v":{"$error":"#N/A"}},{"$f":"IF($A19=\" \",\"--\",IF($AS19=1,\"XX\",IF(L$25=1,\"XX\",IF(VLOOKUP(CONCATENATE(L$3,\"-\",$B19),Werk1!$V$2:$W$191,2,FALSE)=1,VLOOKUP(CONCATENATE(L$3,\"-\",$B19),Uitslag,VLOOKUP(CONCATENATE(L$3,\"-\",$B19),Werk1!$V$2:$Y$191,3,FALSE),FALSE),\"\"))))","v":{"$error":"#N/A"}},{"$f":"IF($A19=\" \",\"--\",IF($AS19=1,\"XX\",IF(M$25=1,\"XX\",IF(VLOOKUP(CONCATENATE(M$3,\"-\",$B19),Werk1!$V$2:$W$191,2,FALSE)=1,VLOOKUP(CONCATENATE(M$3,\"-\",$B19),Uitslag,VLOOKUP(CONCATENATE(M$3,\"-\",$B19),Werk1!$V$2:$Y$191,3,FALSE),FALSE),\"\"))))","v":{"$error":"#N/A"}},{"$f":"IF($A19=\" \",\"--\",IF($AS19=1,\"XX\",IF(N$25=1,\"XX\",IF(VLOOKUP(CONCATENATE(N$3,\"-\",$B19),Werk1!$V$2:$W$191,2,FALSE)=1,VLOOKUP(CONCATENATE(N$3,\"-\",$B19),Uitslag,VLOOKUP(CONCATENATE(N$3,\"-\",$B19),Werk1!$V$2:$Y$191,3,FALSE),FALSE),\"\"))))","v":{"$error":"#N/A"}},{"$f":"IF($A19=\" \",\"--\",IF($AS19=1,\"XX\",IF(O$25=1,\"XX\",IF(VLOOKUP(CONCATENATE(O$3,\"-\",$B19),Werk1!$V$2:$W$191,2,FALSE)=1,VLOOKUP(CONCATENATE(O$3,\"-\",$B19),Uitslag,VLOOKUP(CONCATENATE(O$3,\"-\",$B19),Werk1!$V$2:$Y$191,3,FALSE),FALSE),\"\"))))","v":{"$error":"#N/A"}},{"$f":"IF($A19=\" \",\"--\",IF($AS19=1,\"XX\",IF(P$25=1,\"XX\",IF(VLOOKUP(CONCATENATE(P$3,\"-\",$B19),Werk1!$V$2:$W$191,2,FALSE)=1,VLOOKUP(CONCATENATE(P$3,\"-\",$B19),Uitslag,VLOOKUP(CONCATENATE(P$3,\"-\",$B19),Werk1!$V$2:$Y$191,3,FALSE),FALSE),\"\"))))","v":{"$error":"#N/A"}},{"$f":"IF($A19=\" \",\"--\",IF($AS19=1,\"XX\",IF(Q$25=1,\"XX\",IF(VLOOKUP(CONCATENATE(Q$3,\"-\",$B19),Werk1!$V$2:$W$191,2,FALSE)=1,VLOOKUP(CONCATENATE(Q$3,\"-\",$B19),Uitslag,VLOOKUP(CONCATENATE(Q$3,\"-\",$B19),Werk1!$V$2:$Y$191,3,FALSE),FALSE),\"\"))))","v":{"$error":"#N/A"}},{"$f":"IF($A19=\" \",\"--\",IF($AS19=1,\"XX\",IF(R$25=1,\"XX\",IF(VLOOKUP(CONCATENATE(R$3,\"-\",$B19),Werk1!$V$2:$W$191,2,FALSE)=1,VLOOKUP(CONCATENATE(R$3,\"-\",$B19),Uitslag,VLOOKUP(CONCATENATE(R$3,\"-\",$B19),Werk1!$V$2:$Y$191,3,FALSE),FALSE),\"\"))))","v":{"$error":"#N/A"}},null,{"$f":"IF(T$2=\" \",\"--\",IF($AS19=1,\"XX\",IF(T$25=1,\"XX\",IF(VLOOKUP(CONCATENATE($B19,\"-\",T$3),Werk1!$V$2:$W$191,2,FALSE)=1,VLOOKUP(CONCATENATE($B19,\"-\",T$3),Uitslag,VLOOKUP(CONCATENATE($B19,\"-\",T$3),Werk1!$V$2:$Y$191,4,FALSE),FALSE),\"\"))))","v":{"$error":"#N/A"}},{"$f":"IF(U$2=\" \",\"--\",IF($AS19=1,\"XX\",IF(U$25=1,\"XX\",IF(VLOOKUP(CONCATENATE($B19,\"-\",U$3),Werk1!$V$2:$W$191,2,FALSE)=1,VLOOKUP(CONCATENATE($B19,\"-\",U$3),Uitslag,VLOOKUP(CONCATENATE($B19,\"-\",U$3),Werk1!$V$2:$Y$191,4,FALSE),FALSE),\"\"))))","v":{"$error":"#N/A"}},{"$f":"IF(V$2=\" \",\"--\",IF($AS19=1,\"XX\",IF(V$25=1,\"XX\",IF(VLOOKUP(CONCATENATE($B19,\"-\",V$3),Werk1!$V$2:$W$191,2,FALSE)=1,VLOOKUP(CONCATENATE($B19,\"-\",V$3),Uitslag,VLOOKUP(CONCATENATE($B19,\"-\",V$3),Werk1!$V$2:$Y$191,4,FALSE),FALSE),\"\"))))","v":{"$error":"#N/A"}},{"$f":"IF(W$2=\" \",\"--\",IF($AS19=1,\"XX\",IF(W$25=1,\"XX\",IF(VLOOKUP(CONCATENATE($B19,\"-\",W$3),Werk1!$V$2:$W$191,2,FALSE)=1,VLOOKUP(CONCATENATE($B19,\"-\",W$3),Uitslag,VLOOKUP(CONCATENATE($B19,\"-\",W$3),Werk1!$V$2:$Y$191,4,FALSE),FALSE),\"\"))))","v":{"$error":"#N/A"}},null,{"$f":"IF($A19=\"\",\"--\",IF(VLOOKUP(CONCATENATE(D$3,\"-\",$B19),Werk1!$V$2:$W$191,2,FALSE)=1,VLOOKUP(CONCATENATE(D$3,\"-\",$B19),Uitslag,(VLOOKUP(CONCATENATE(D$3,\"-\",$B19),Werk1!$AE$2:$AG$191,3,FALSE)),FALSE),\"\"))","v":{"$error":"#N/A"}},{"$f":"IF($A19=\"\",\"--\",IF(VLOOKUP(CONCATENATE(E$3,\"-\",$B19),Werk1!$V$2:$W$191,2,FALSE)=1,VLOOKUP(CONCATENATE(E$3,\"-\",$B19),Uitslag,(VLOOKUP(CONCATENATE(E$3,\"-\",$B19),Werk1!$AE$2:$AG$191,3,FALSE)),FALSE),\"\"))","v":{"$error":"#N/A"}},{"$f":"IF($A19=\"\",\"--\",IF(VLOOKUP(CONCATENATE(F$3,\"-\",$B19),Werk1!$V$2:$W$191,2,FALSE)=1,VLOOKUP(CONCATENATE(F$3,\"-\",$B19),Uitslag,(VLOOKUP(CONCATENATE(F$3,\"-\",$B19),Werk1!$AE$2:$AG$191,3,FALSE)),FALSE),\"\"))","v":{"$error":"#N/A"}},{"$f":"IF($A19=\"\",\"--\",IF(VLOOKUP(CONCATENATE(G$3,\"-\",$B19),Werk1!$V$2:$W$191,2,FALSE)=1,VLOOKUP(CONCATENATE(G$3,\"-\",$B19),Uitslag,(VLOOKUP(CONCATENATE(G$3,\"-\",$B19),Werk1!$AE$2:$AG$191,3,FALSE)),FALSE),\"\"))","v":{"$error":"#N/A"}},{"$f":"IF($A19=\"\",\"--\",IF(VLOOKUP(CONCATENATE(H$3,\"-\",$B19),Werk1!$V$2:$W$191,2,FALSE)=1,VLOOKUP(CONCATENATE(H$3,\"-\",$B19),Uitslag,(VLOOKUP(CONCATENATE(H$3,\"-\",$B19),Werk1!$AE$2:$AG$191,3,FALSE)),FALSE),\"\"))","v":{"$error":"#N/A"}},{"$f":"IF($A19=\"\",\"--\",IF(VLOOKUP(CONCATENATE(I$3,\"-\",$B19),Werk1!$V$2:$W$191,2,FALSE)=1,VLOOKUP(CONCATENATE(I$3,\"-\",$B19),Uitslag,(VLOOKUP(CONCATENATE(I$3,\"-\",$B19),Werk1!$AE$2:$AG$191,3,FALSE)),FALSE),\"\"))","v":{"$error":"#N/A"}},{"$f":"IF($A19=\"\",\"--\",IF(VLOOKUP(CONCATENATE(J$3,\"-\",$B19),Werk1!$V$2:$W$191,2,FALSE)=1,VLOOKUP(CONCATENATE(J$3,\"-\",$B19),Uitslag,(VLOOKUP(CONCATENATE(J$3,\"-\",$B19),Werk1!$AE$2:$AG$191,3,FALSE)),FALSE),\"\"))","v":{"$error":"#N/A"}},{"$f":"IF($A19=\"\",\"--\",IF(VLOOKUP(CONCATENATE(K$3,\"-\",$B19),Werk1!$V$2:$W$191,2,FALSE)=1,VLOOKUP(CONCATENATE(K$3,\"-\",$B19),Uitslag,(VLOOKUP(CONCATENATE(K$3,\"-\",$B19),Werk1!$AE$2:$AG$191,3,FALSE)),FALSE),\"\"))","v":{"$error":"#N/A"}},{"$f":"IF($A19=\"\",\"--\",IF(VLOOKUP(CONCATENATE(L$3,\"-\",$B19),Werk1!$V$2:$W$191,2,FALSE)=1,VLOOKUP(CONCATENATE(L$3,\"-\",$B19),Uitslag,(VLOOKUP(CONCATENATE(L$3,\"-\",$B19),Werk1!$AE$2:$AG$191,3,FALSE)),FALSE),\"\"))","v":{"$error":"#N/A"}},{"$f":"IF($A19=\"\",\"--\",IF(VLOOKUP(CONCATENATE(M$3,\"-\",$B19),Werk1!$V$2:$W$191,2,FALSE)=1,VLOOKUP(CONCATENATE(M$3,\"-\",$B19),Uitslag,(VLOOKUP(CONCATENATE(M$3,\"-\",$B19),Werk1!$AE$2:$AG$191,3,FALSE)),FALSE),\"\"))","v":{"$error":"#N/A"}},{"$f":"IF($A19=\"\",\"--\",IF(VLOOKUP(CONCATENATE(N$3,\"-\",$B19),Werk1!$V$2:$W$191,2,FALSE)=1,VLOOKUP(CONCATENATE(N$3,\"-\",$B19),Uitslag,(VLOOKUP(CONCATENATE(N$3,\"-\",$B19),Werk1!$AE$2:$AG$191,3,FALSE)),FALSE),\"\"))","v":{"$error":"#N/A"}},{"$f":"IF($A19=\"\",\"--\",IF(VLOOKUP(CONCATENATE(O$3,\"-\",$B19),Werk1!$V$2:$W$191,2,FALSE)=1,VLOOKUP(CONCATENATE(O$3,\"-\",$B19),Uitslag,(VLOOKUP(CONCATENATE(O$3,\"-\",$B19),Werk1!$AE$2:$AG$191,3,FALSE)),FALSE),\"\"))","v":{"$error":"#N/A"}},{"$f":"IF($A19=\"\",\"--\",IF(VLOOKUP(CONCATENATE(P$3,\"-\",$B19),Werk1!$V$2:$W$191,2,FALSE)=1,VLOOKUP(CONCATENATE(P$3,\"-\",$B19),Uitslag,(VLOOKUP(CONCATENATE(P$3,\"-\",$B19),Werk1!$AE$2:$AG$191,3,FALSE)),FALSE),\"\"))","v":{"$error":"#N/A"}},{"$f":"IF($A19=\"\",\"--\",IF(VLOOKUP(CONCATENATE(Q$3,\"-\",$B19),Werk1!$V$2:$W$191,2,FALSE)=1,VLOOKUP(CONCATENATE(Q$3,\"-\",$B19),Uitslag,(VLOOKUP(CONCATENATE(Q$3,\"-\",$B19),Werk1!$AE$2:$AG$191,3,FALSE)),FALSE),\"\"))","v":{"$error":"#N/A"}},{"$f":"IF($A19=\"\",\"--\",IF(VLOOKUP(CONCATENATE(R$3,\"-\",$B19),Werk1!$V$2:$W$191,2,FALSE)=1,VLOOKUP(CONCATENATE(R$3,\"-\",$B19),Uitslag,(VLOOKUP(CONCATENATE(R$3,\"-\",$B19),Werk1!$AE$2:$AG$191,3,FALSE)),FALSE),\"\"))","v":{"$error":"#N/A"}},null,{"$f":"IF(T$2=\"\",\"--\",IF(VLOOKUP(CONCATENATE($B19,\"-\",T$3),Werk1!$V$2:$W$191,2,FALSE)=1,VLOOKUP(CONCATENATE($B19,\"-\",T$3),Uitslag,(VLOOKUP(CONCATENATE($B19,\"-\",T$3),Werk1!$AE$2:$AG$191,2,FALSE)),FALSE),\"\"))","v":{"$error":"#N/A"}},{"$f":"IF(U$2=\"\",\"--\",IF(VLOOKUP(CONCATENATE($B19,\"-\",U$3),Werk1!$V$2:$W$191,2,FALSE)=1,VLOOKUP(CONCATENATE($B19,\"-\",U$3),Uitslag,(VLOOKUP(CONCATENATE($B19,\"-\",U$3),Werk1!$AE$2:$AG$191,2,FALSE)),FALSE),\"\"))","v":{"$error":"#N/A"}},{"$f":"IF(V$2=\"\",\"--\",IF(VLOOKUP(CONCATENATE($B19,\"-\",V$3),Werk1!$V$2:$W$191,2,FALSE)=1,VLOOKUP(CONCATENATE($B19,\"-\",V$3),Uitslag,(VLOOKUP(CONCATENATE($B19,\"-\",V$3),Werk1!$AE$2:$AG$191,2,FALSE)),FALSE),\"\"))","v":{"$error":"#N/A"}},{"$f":"IF(W$2=\"\",\"--\",IF(VLOOKUP(CONCATENATE($B19,\"-\",W$3),Werk1!$V$2:$W$191,2,FALSE)=1,VLOOKUP(CONCATENATE($B19,\"-\",W$3),Uitslag,(VLOOKUP(CONCATENATE($B19,\"-\",W$3),Werk1!$AE$2:$AG$191,2,FALSE)),FALSE),\"\"))","v":{"$error":"#N/A"}},{"$f":"IF(A19=\"\",0,IF(VLOOKUP(VLOOKUP(B19,Werk1!$AA$2:$AB$21,2,FALSE),Leden,9,FALSE)=-1,1,0))","v":{"$error":"#N/A"}}]
[{"$f":"CONCATENATE(VLOOKUP(B20,Werk1!$AA$2:$AB$21,2,FALSE),\" \")","v":{"$error":"#N/A"}},17,{"$f":"IF(A20=\"\",\"--\",IF($AS20=1,\"XX\",VLOOKUP(B20,Leden!$B$3:$C$22,2,FALSE)))","v":{"$error":"#N/A"}},{"$f":"IF($A20=\" \",\"--\",IF($AS20=1,\"XX\",IF(D$25=1,\"XX\",IF(VLOOKUP(CONCATENATE(D$3,\"-\",$B20),Werk1!$V$2:$W$191,2,FALSE)=1,VLOOKUP(CONCATENATE(D$3,\"-\",$B20),Uitslag,VLOOKUP(CONCATENATE(D$3,\"-\",$B20),Werk1!$V$2:$Y$191,3,FALSE),FALSE),\"\"))))","v":{"$error":"#N/A"}},{"$f":"IF($A20=\" \",\"--\",IF($AS20=1,\"XX\",IF(E$25=1,\"XX\",IF(VLOOKUP(CONCATENATE(E$3,\"-\",$B20),Werk1!$V$2:$W$191,2,FALSE)=1,VLOOKUP(CONCATENATE(E$3,\"-\",$B20),Uitslag,VLOOKUP(CONCATENATE(E$3,\"-\",$B20),Werk1!$V$2:$Y$191,3,FALSE),FALSE),\"\"))))","v":{"$error":"#N/A"}},{"$f":"IF($A20=\" \",\"--\",IF($AS20=1,\"XX\",IF(F$25=1,\"XX\",IF(VLOOKUP(CONCATENATE(F$3,\"-\",$B20),Werk1!$V$2:$W$191,2,FALSE)=1,VLOOKUP(CONCATENATE(F$3,\"-\",$B20),Uitslag,VLOOKUP(CONCATENATE(F$3,\"-\",$B20),Werk1!$V$2:$Y$191,3,FALSE),FALSE),\"\"))))","v":{"$error":"#N/A"}},{"$f":"IF($A20=\" \",\"--\",IF($AS20=1,\"XX\",IF(G$25=1,\"XX\",IF(VLOOKUP(CONCATENATE(G$3,\"-\",$B20),Werk1!$V$2:$W$191,2,FALSE)=1,VLOOKUP(CONCATENATE(G$3,\"-\",$B20),Uitslag,VLOOKUP(CONCATENATE(G$3,\"-\",$B20),Werk1!$V$2:$Y$191,3,FALSE),FALSE),\"\"))))","v":{"$error":"#N/A"}},{"$f":"IF($A20=\" \",\"--\",IF($AS20=1,\"XX\",IF(H$25=1,\"XX\",IF(VLOOKUP(CONCATENATE(H$3,\"-\",$B20),Werk1!$V$2:$W$191,2,FALSE)=1,VLOOKUP(CONCATENATE(H$3,\"-\",$B20),Uitslag,VLOOKUP(CONCATENATE(H$3,\"-\",$B20),Werk1!$V$2:$Y$191,3,FALSE),FALSE),\"\"))))","v":{"$error":"#N/A"}},{"$f":"IF($A20=\" \",\"--\",IF($AS20=1,\"XX\",IF(I$25=1,\"XX\",IF(VLOOKUP(CONCATENATE(I$3,\"-\",$B20),Werk1!$V$2:$W$191,2,FALSE)=1,VLOOKUP(CONCATENATE(I$3,\"-\",$B20),Uitslag,VLOOKUP(CONCATENATE(I$3,\"-\",$B20),Werk1!$V$2:$Y$191,3,FALSE),FALSE),\"\"))))","v":{"$error":"#N/A"}},{"$f":"IF($A20=\" \",\"--\",IF($AS20=1,\"XX\",IF(J$25=1,\"XX\",IF(VLOOKUP(CONCATENATE(J$3,\"-\",$B20),Werk1!$V$2:$W$191,2,FALSE)=1,VLOOKUP(CONCATENATE(J$3,\"-\",$B20),Uitslag,VLOOKUP(CONCATENATE(J$3,\"-\",$B20),Werk1!$V$2:$Y$191,3,FALSE),FALSE),\"\"))))","v":{"$error":"#N/A"}},{"$f":"IF($A20=\" \",\"--\",IF($AS20=1,\"XX\",IF(K$25=1,\"XX\",IF(VLOOKUP(CONCATENATE(K$3,\"-\",$B20),Werk1!$V$2:$W$191,2,FALSE)=1,VLOOKUP(CONCATENATE(K$3,\"-\",$B20),Uitslag,VLOOKUP(CONCATENATE(K$3,\"-\",$B20),Werk1!$V$2:$Y$191,3,FALSE),FALSE),\"\"))))","v":{"$error":"#N/A"}},{"$f":"IF($A20=\" \",\"--\",IF($AS20=1,\"XX\",IF(L$25=1,\"XX\",IF(VLOOKUP(CONCATENATE(L$3,\"-\",$B20),Werk1!$V$2:$W$191,2,FALSE)=1,VLOOKUP(CONCATENATE(L$3,\"-\",$B20),Uitslag,VLOOKUP(CONCATENATE(L$3,\"-\",$B20),Werk1!$V$2:$Y$191,3,FALSE),FALSE),\"\"))))","v":{"$error":"#N/A"}},{"$f":"IF($A20=\" \",\"--\",IF($AS20=1,\"XX\",IF(M$25=1,\"XX\",IF(VLOOKUP(CONCATENATE(M$3,\"-\",$B20),Werk1!$V$2:$W$191,2,FALSE)=1,VLOOKUP(CONCATENATE(M$3,\"-\",$B20),Uitslag,VLOOKUP(CONCATENATE(M$3,\"-\",$B20),Werk1!$V$2:$Y$191,3,FALSE),FALSE),\"\"))))","v":{"$error":"#N/A"}},{"$f":"IF($A20=\" \",\"--\",IF($AS20=1,\"XX\",IF(N$25=1,\"XX\",IF(VLOOKUP(CONCATENATE(N$3,\"-\",$B20),Werk1!$V$2:$W$191,2,FALSE)=1,VLOOKUP(CONCATENATE(N$3,\"-\",$B20),Uitslag,VLOOKUP(CONCATENATE(N$3,\"-\",$B20),Werk1!$V$2:$Y$191,3,FALSE),FALSE),\"\"))))","v":{"$error":"#N/A"}},{"$f":"IF($A20=\" \",\"--\",IF($AS20=1,\"XX\",IF(O$25=1,\"XX\",IF(VLOOKUP(CONCATENATE(O$3,\"-\",$B20),Werk1!$V$2:$W$191,2,FALSE)=1,VLOOKUP(CONCATENATE(O$3,\"-\",$B20),Uitslag,VLOOKUP(CONCATENATE(O$3,\"-\",$B20),Werk1!$V$2:$Y$191,3,FALSE),FALSE),\"\"))))","v":{"$error":"#N/A"}},{"$f":"IF($A20=\" \",\"--\",IF($AS20=1,\"XX\",IF(P$25=1,\"XX\",IF(VLOOKUP(CONCATENATE(P$3,\"-\",$B20),Werk1!$V$2:$W$191,2,FALSE)=1,VLOOKUP(CONCATENATE(P$3,\"-\",$B20),Uitslag,VLOOKUP(CONCATENATE(P$3,\"-\",$B20),Werk1!$V$2:$Y$191,3,FALSE),FALSE),\"\"))))","v":{"$error":"#N/A"}},{"$f":"IF($A20=\" \",\"--\",IF($AS20=1,\"XX\",IF(Q$25=1,\"XX\",IF(VLOOKUP(CONCATENATE(Q$3,\"-\",$B20),Werk1!$V$2:$W$191,2,FALSE)=1,VLOOKUP(CONCATENATE(Q$3,\"-\",$B20),Uitslag,VLOOKUP(CONCATENATE(Q$3,\"-\",$B20),Werk1!$V$2:$Y$191,3,FALSE),FALSE),\"\"))))","v":{"$error":"#N/A"}},{"$f":"IF($A20=\" \",\"--\",IF($AS20=1,\"XX\",IF(R$25=1,\"XX\",IF(VLOOKUP(CONCATENATE(R$3,\"-\",$B20),Werk1!$V$2:$W$191,2,FALSE)=1,VLOOKUP(CONCATENATE(R$3,\"-\",$B20),Uitslag,VLOOKUP(CONCATENATE(R$3,\"-\",$B20),Werk1!$V$2:$Y$191,3,FALSE),FALSE),\"\"))))","v":{"$error":"#N/A"}},{"$f":"IF($A20=\" \",\"--\",IF($AS20=1,\"XX\",IF(S$25=1,\"XX\",IF(VLOOKUP(CONCATENATE(S$3,\"-\",$B20),Werk1!$V$2:$W$191,2,FALSE)=1,VLOOKUP(CONCATENATE(S$3,\"-\",$B20),Uitslag,VLOOKUP(CONCATENATE(S$3,\"-\",$B20),Werk1!$V$2:$Y$191,3,FALSE),FALSE),\"\"))))","v":{"$error":"#N/A"}},null,{"$f":"IF(U$2=\" \",\"--\",IF($AS20=1,\"XX\",IF(U$25=1,\"XX\",IF(VLOOKUP(CONCATENATE($B20,\"-\",U$3),Werk1!$V$2:$W$191,2,FALSE)=1,VLOOKUP(CONCATENATE($B20,\"-\",U$3),Uitslag,VLOOKUP(CONCATENATE($B20,\"-\",U$3),Werk1!$V$2:$Y$191,4,FALSE),FALSE),\"\"))))","v":{"$error":"#N/A"}},{"$f":"IF(V$2=\" \",\"--\",IF($AS20=1,\"XX\",IF(V$25=1,\"XX\",IF(VLOOKUP(CONCATENATE($B20,\"-\",V$3),Werk1!$V$2:$W$191,2,FALSE)=1,VLOOKUP(CONCATENATE($B20,\"-\",V$3),Uitslag,VLOOKUP(CONCATENATE($B20,\"-\",V$3),Werk1!$V$2:$Y$191,4,FALSE),FALSE),\"\"))))","v":{"$error":"#N/A"}},{"$f":"IF(W$2=\" \",\"--\",IF($AS20=1,\"XX\",IF(W$25=1,\"XX\",IF(VLOOKUP(CONCATENATE($B20,\"-\",W$3),Werk1!$V$2:$W$191,2,FALSE)=1,VLOOKUP(CONCATENATE($B20,\"-\",W$3),Uitslag,VLOOKUP(CONCATENATE($B20,\"-\",W$3),Werk1!$V$2:$Y$191,4,FALSE),FALSE),\"\"))))","v":{"$error":"#N/A"}},null,{"$f":"IF($A20=\"\",\"--\",IF(VLOOKUP(CONCATENATE(D$3,\"-\",$B20),Werk1!$V$2:$W$191,2,FALSE)=1,VLOOKUP(CONCATENATE(D$3,\"-\",$B20),Uitslag,(VLOOKUP(CONCATENATE(D$3,\"-\",$B20),Werk1!$AE$2:$AG$191,3,FALSE)),FALSE),\"\"))","v":{"$error":"#N/A"}},{"$f":"IF($A20=\"\",\"--\",IF(VLOOKUP(CONCATENATE(E$3,\"-\",$B20),Werk1!$V$2:$W$191,2,FALSE)=1,VLOOKUP(CONCATENATE(E$3,\"-\",$B20),Uitslag,(VLOOKUP(CONCATENATE(E$3,\"-\",$B20),Werk1!$AE$2:$AG$191,3,FALSE)),FALSE),\"\"))","v":{"$error":"#N/A"}},{"$f":"IF($A20=\"\",\"--\",IF(VLOOKUP(CONCATENATE(F$3,\"-\",$B20),Werk1!$V$2:$W$191,2,FALSE)=1,VLOOKUP(CONCATENATE(F$3,\"-\",$B20),Uitslag,(VLOOKUP(CONCATENATE(F$3,\"-\",$B20),Werk1!$AE$2:$AG$191,3,FALSE)),FALSE),\"\"))","v":{"$error":"#N/A"}},{"$f":"IF($A20=\"\",\"--\",IF(VLOOKUP(CONCATENATE(G$3,\"-\",$B20),Werk1!$V$2:$W$191,2,FALSE)=1,VLOOKUP(CONCATENATE(G$3,\"-\",$B20),Uitslag,(VLOOKUP(CONCATENATE(G$3,\"-\",$B20),Werk1!$AE$2:$AG$191,3,FALSE)),FALSE),\"\"))","v":{"$error":"#N/A"}},{"$f":"IF($A20=\"\",\"--\",IF(VLOOKUP(CONCATENATE(H$3,\"-\",$B20),Werk1!$V$2:$W$191,2,FALSE)=1,VLOOKUP(CONCATENATE(H$3,\"-\",$B20),Uitslag,(VLOOKUP(CONCATENATE(H$3,\"-\",$B20),Werk1!$AE$2:$AG$191,3,FALSE)),FALSE),\"\"))","v":{"$error":"#N/A"}},{"$f":"IF($A20=\"\",\"--\",IF(VLOOKUP(CONCATENATE(I$3,\"-\",$B20),Werk1!$V$2:$W$191,2,FALSE)=1,VLOOKUP(CONCATENATE(I$3,\"-\",$B20),Uitslag,(VLOOKUP(CONCATENATE(I$3,\"-\",$B20),Werk1!$AE$2:$AG$191,3,FALSE)),FALSE),\"\"))","v":{"$error":"#N/A"}},{"$f":"IF($A20=\"\",\"--\",IF(VLOOKUP(CONCATENATE(J$3,\"-\",$B20),Werk1!$V$2:$W$191,2,FALSE)=1,VLOOKUP(CONCATENATE(J$3,\"-\",$B20),Uitslag,(VLOOKUP(CONCATENATE(J$3,\"-\",$B20),Werk1!$AE$2:$AG$191,3,FALSE)),FALSE),\"\"))","v":{"$error":"#N/A"}},{"$f":"IF($A20=\"\",\"--\",IF(VLOOKUP(CONCATENATE(K$3,\"-\",$B20),Werk1!$V$2:$W$191,2,FALSE)=1,VLOOKUP(CONCATENATE(K$3,\"-\",$B20),Uitslag,(VLOOKUP(CONCATENATE(K$3,\"-\",$B20),Werk1!$AE$2:$AG$191,3,FALSE)),FALSE),\"\"))","v":{"$error":"#N/A"}},{"$f":"IF($A20=\"\",\"--\",IF(VLOOKUP(CONCATENATE(L$3,\"-\",$B20),Werk1!$V$2:$W$191,2,FALSE)=1,VLOOKUP(CONCATENATE(L$3,\"-\",$B20),Uitslag,(VLOOKUP(CONCATENATE(L$3,\"-\",$B20),Werk1!$AE$2:$AG$191,3,FALSE)),FALSE),\"\"))","v":{"$error":"#N/A"}},{"$f":"IF($A20=\"\",\"--\",IF(VLOOKUP(CONCATENATE(M$3,\"-\",$B20),Werk1!$V$2:$W$191,2,FALSE)=1,VLOOKUP(CONCATENATE(M$3,\"-\",$B20),Uitslag,(VLOOKUP(CONCATENATE(M$3,\"-\",$B20),Werk1!$AE$2:$AG$191,3,FALSE)),FALSE),\"\"))","v":{"$error":"#N/A"}},{"$f":"IF($A20=\"\",\"--\",IF(VLOOKUP(CONCATENATE(N$3,\"-\",$B20),Werk1!$V$2:$W$191,2,FALSE)=1,VLOOKUP(CONCATENATE(N$3,\"-\",$B20),Uitslag,(VLOOKUP(CONCATENATE(N$3,\"-\",$B20),Werk1!$AE$2:$AG$191,3,FALSE)),FALSE),\"\"))","v":{"$error":"#N/A"}},{"$f":"IF($A20=\"\",\"--\",IF(VLOOKUP(CONCATENATE(O$3,\"-\",$B20),Werk1!$V$2:$W$191,2,FALSE)=1,VLOOKUP(CONCATENATE(O$3,\"-\",$B20),Uitslag,(VLOOKUP(CONCATENATE(O$3,\"-\",$B20),Werk1!$AE$2:$AG$191,3,FALSE)),FALSE),\"\"))","v":{"$error":"#N/A"}},{"$f":"IF($A20=\"\",\"--\",IF(VLOOKUP(CONCATENATE(P$3,\"-\",$B20),Werk1!$V$2:$W$191,2,FALSE)=1,VLOOKUP(CONCATENATE(P$3,\"-\",$B20),Uitslag,(VLOOKUP(CONCATENATE(P$3,\"-\",$B20),Werk1!$AE$2:$AG$191,3,FALSE)),FALSE),\"\"))","v":{"$error":"#N/A"}},{"$f":"IF($A20=\"\",\"--\",IF(VLOOKUP(CONCATENATE(Q$3,\"-\",$B20),Werk1!$V$2:$W$191,2,FALSE)=1,VLOOKUP(CONCATENATE(Q$3,\"-\",$B20),Uitslag,(VLOOKUP(CONCATENATE(Q$3,\"-\",$B20),Werk1!$AE$2:$AG$191,3,FALSE)),FALSE),\"\"))","v":{"$error":"#N/A"}},{"$f":"IF($A20=\"\",\"--\",IF(VLOOKUP(CONCATENATE(R$3,\"-\",$B20),Werk1!$V$2:$W$191,2,FALSE)=1,VLOOKUP(CONCATENATE(R$3,\"-\",$B20),Uitslag,(VLOOKUP(CONCATENATE(R$3,\"-\",$B20),Werk1!$AE$2:$AG$191,3,FALSE)),FALSE),\"\"))","v":{"$error":"#N/A"}},{"$f":"IF($A20=\"\",\"--\",IF(VLOOKUP(CONCATENATE(S$3,\"-\",$B20),Werk1!$V$2:$W$191,2,FALSE)=1,VLOOKUP(CONCATENATE(S$3,\"-\",$B20),Uitslag,(VLOOKUP(CONCATENATE(S$3,\"-\",$B20),Werk1!$AE$2:$AG$191,3,FALSE)),FALSE),\"\"))","v":{"$error":"#N/A"}},null,{"$f":"IF(U$2=\"\",\"--\",IF(VLOOKUP(CONCATENATE($B20,\"-\",U$3),Werk1!$V$2:$W$191,2,FALSE)=1,VLOOKUP(CONCATENATE($B20,\"-\",U$3),Uitslag,(VLOOKUP(CONCATENATE($B20,\"-\",U$3),Werk1!$AE$2:$AG$191,2,FALSE)),FALSE),\"\"))","v":{"$error":"#N/A"}},{"$f":"IF(V$2=\"\",\"--\",IF(VLOOKUP(CONCATENATE($B20,\"-\",V$3),Werk1!$V$2:$W$191,2,FALSE)=1,VLOOKUP(CONCATENATE($B20,\"-\",V$3),Uitslag,(VLOOKUP(CONCATENATE($B20,\"-\",V$3),Werk1!$AE$2:$AG$191,2,FALSE)),FALSE),\"\"))","v":{"$error":"#N/A"}},{"$f":"IF(W$2=\"\",\"--\",IF(VLOOKUP(CONCATENATE($B20,\"-\",W$3),Werk1!$V$2:$W$191,2,FALSE)=1,VLOOKUP(CONCATENATE($B20,\"-\",W$3),Uitslag,(VLOOKUP(CONCATENATE($B20,\"-\",W$3),Werk1!$AE$2:$AG$191,2,FALSE)),FALSE),\"\"))","v":{"$error":"#N/A"}},{"$f":"IF(A20=\"\",0,IF(VLOOKUP(VLOOKUP(B20,Werk1!$AA$2:$AB$21,2,FALSE),Leden,9,FALSE)=-1,1,0))","v":{"$error":"#N/A"}}]
[{"$f":"CONCATENATE(VLOOKUP(B21,Werk1!$AA$2:$AB$21,2,FALSE),\" \")","v":{"$error":"#N/A"}},18,{"$f":"IF(A21=\"\",\"--\",IF($AS21=1,\"XX\",VLOOKUP(B21,Leden!$B$3:$C$22,2,FALSE)))","v":{"$error":"#N/A"}},{"$f":"IF($A21=\" \",\"--\",IF($AS21=1,\"XX\",IF(D$25=1,\"XX\",IF(VLOOKUP(CONCATENATE(D$3,\"-\",$B21),Werk1!$V$2:$W$191,2,FALSE)=1,VLOOKUP(CONCATENATE(D$3,\"-\",$B21),Uitslag,VLOOKUP(CONCATENATE(D$3,\"-\",$B21),Werk1!$V$2:$Y$191,3,FALSE),FALSE),\"\"))))","v":{"$error":"#N/A"}},{"$f":"IF($A21=\" \",\"--\",IF($AS21=1,\"XX\",IF(E$25=1,\"XX\",IF(VLOOKUP(CONCATENATE(E$3,\"-\",$B21),Werk1!$V$2:$W$191,2,FALSE)=1,VLOOKUP(CONCATENATE(E$3,\"-\",$B21),Uitslag,VLOOKUP(CONCATENATE(E$3,\"-\",$B21),Werk1!$V$2:$Y$191,3,FALSE),FALSE),\"\"))))","v":{"$error":"#N/A"}},{"$f":"IF($A21=\" \",\"--\",IF($AS21=1,\"XX\",IF(F$25=1,\"XX\",IF(VLOOKUP(CONCATENATE(F$3,\"-\",$B21),Werk1!$V$2:$W$191,2,FALSE)=1,VLOOKUP(CONCATENATE(F$3,\"-\",$B21),Uitslag,VLOOKUP(CONCATENATE(F$3,\"-\",$B21),Werk1!$V$2:$Y$191,3,FALSE),FALSE),\"\"))))","v":{"$error":"#N/A"}},{"$f":"IF($A21=\" \",\"--\",IF($AS21=1,\"XX\",IF(G$25=1,\"XX\",IF(VLOOKUP(CONCATENATE(G$3,\"-\",$B21),Werk1!$V$2:$W$191,2,FALSE)=1,VLOOKUP(CONCATENATE(G$3,\"-\",$B21),Uitslag,VLOOKUP(CONCATENATE(G$3,\"-\",$B21),Werk1!$V$2:$Y$191,3,FALSE),FALSE),\"\"))))","v":{"$error":"#N/A"}},{"$f":"IF($A21=\" \",\"--\",IF($AS21=1,\"XX\",IF(H$25=1,\"XX\",IF(VLOOKUP(CONCATENATE(H$3,\"-\",$B21),Werk1!$V$2:$W$191,2,FALSE)=1,VLOOKUP(CONCATENATE(H$3,\"-\",$B21),Uitslag,VLOOKUP(CONCATENATE(H$3,\"-\",$B21),Werk1!$V$2:$Y$191,3,FALSE),FALSE),\"\"))))","v":{"$error":"#N/A"}},{"$f":"IF($A21=\" \",\"--\",IF($AS21=1,\"XX\",IF(I$25=1,\"XX\",IF(VLOOKUP(CONCATENATE(I$3,\"-\",$B21),Werk1!$V$2:$W$191,2,FALSE)=1,VLOOKUP(CONCATENATE(I$3,\"-\",$B21),Uitslag,VLOOKUP(CONCATENATE(I$3,\"-\",$B21),Werk1!$V$2:$Y$191,3,FALSE),FALSE),\"\"))))","v":{"$error":"#N/A"}},{"$f":"IF($A21=\" \",\"--\",IF($AS21=1,\"XX\",IF(J$25=1,\"XX\",IF(VLOOKUP(CONCATENATE(J$3,\"-\",$B21),Werk1!$V$2:$W$191,2,FALSE)=1,VLOOKUP(CONCATENATE(J$3,\"-\",$B21),Uitslag,VLOOKUP(CONCATENATE(J$3,\"-\",$B21),Werk1!$V$2:$Y$191,3,FALSE),FALSE),\"\"))))","v":{"$error":"#N/A"}},{"$f":"IF($A21=\" \",\"--\",IF($AS21=1,\"XX\",IF(K$25=1,\"XX\",IF(VLOOKUP(CONCATENATE(K$3,\"-\",$B21),Werk1!$V$2:$W$191,2,FALSE)=1,VLOOKUP(CONCATENATE(K$3,\"-\",$B21),Uitslag,VLOOKUP(CONCATENATE(K$3,\"-\",$B21),Werk1!$V$2:$Y$191,3,FALSE),FALSE),\"\"))))","v":{"$error":"#N/A"}},{"$f":"IF($A21=\" \",\"--\",IF($AS21=1,\"XX\",IF(L$25=1,\"XX\",IF(VLOOKUP(CONCATENATE(L$3,\"-\",$B21),Werk1!$V$2:$W$191,2,FALSE)=1,VLOOKUP(CONCATENATE(L$3,\"-\",$B21),Uitslag,VLOOKUP(CONCATENATE(L$3,\"-\",$B21),Werk1!$V$2:$Y$191,3,FALSE),FALSE),\"\"))))","v":{"$error":"#N/A"}},{"$f":"IF($A21=\" \",\"--\",IF($AS21=1,\"XX\",IF(M$25=1,\"XX\",IF(VLOOKUP(CONCATENATE(M$3,\"-\",$B21),Werk1!$V$2:$W$191,2,FALSE)=1,VLOOKUP(CONCATENATE(M$3,\"-\",$B21),Uitslag,VLOOKUP(CONCATENATE(M$3,\"-\",$B21),Werk1!$V$2:$Y$191,3,FALSE),FALSE),\"\"))))","v":{"$error":"#N/A"}},{"$f":"IF($A21=\" \",\"--\",IF($AS21=1,\"XX\",IF(N$25=1,\"XX\",IF(VLOOKUP(CONCATENATE(N$3,\"-\",$B21),Werk1!$V$2:$W$191,2,FALSE)=1,VLOOKUP(CONCATENATE(N$3,\"-\",$B21),Uitslag,VLOOKUP(CONCATENATE(N$3,\"-\",$B21),Werk1!$V$2:$Y$191,3,FALSE),FALSE),\"\"))))","v":{"$error":"#N/A"}},{"$f":"IF($A21=\" \",\"--\",IF($AS21=1,\"XX\",IF(O$25=1,\"XX\",IF(VLOOKUP(CONCATENATE(O$3,\"-\",$B21),Werk1!$V$2:$W$191,2,FALSE)=1,VLOOKUP(CONCATENATE(O$3,\"-\",$B21),Uitslag,VLOOKUP(CONCATENATE(O$3,\"-\",$B21),Werk1!$V$2:$Y$191,3,FALSE),FALSE),\"\"))))","v":{"$error":"#N/A"}},{"$f":"IF($A21=\" \",\"--\",IF($AS21=1,\"XX\",IF(P$25=1,\"XX\",IF(VLOOKUP(CONCATENATE(P$3,\"-\",$B21),Werk1!$V$2:$W$191,2,FALSE)=1,VLOOKUP(CONCATENATE(P$3,\"-\",$B21),Uitslag,VLOOKUP(CONCATENATE(P$3,\"-\",$B21),Werk1!$V$2:$Y$191,3,FALSE),FALSE),\"\"))))","v":{"$error":"#N/A"}},{"$f":"IF($A21=\" \",\"--\",IF($AS21=1,\"XX\",IF(Q$25=1,\"XX\",IF(VLOOKUP(CONCATENATE(Q$3,\"-\",$B21),Werk1!$V$2:$W$191,2,FALSE)=1,VLOOKUP(CONCATENATE(Q$3,\"-\",$B21),Uitslag,VLOOKUP(CONCATENATE(Q$3,\"-\",$B21),Werk1!$V$2:$Y$191,3,FALSE),FALSE),\"\"))))","v":{"$error":"#N/A"}},{"$f":"IF($A21=\" \",\"--\",IF($AS21=1,\"XX\",IF(R$25=1,\"XX\",IF(VLOOKUP(CONCATENATE(R$3,\"-\",$B21),Werk1!$V$2:$W$191,2,FALSE)=1,VLOOKUP(CONCATENATE(R$3,\"-\",$B21),Uitslag,VLOOKUP(CONCATENATE(R$3,\"-\",$B21),Werk1!$V$2:$Y$191,3,FALSE),FALSE),\"\"))))","v":{"$error":"#N/A"}},{"$f":"IF($A21=\" \",\"--\",IF($AS21=1,\"XX\",IF(S$25=1,\"XX\",IF(VLOOKUP(CONCATENATE(S$3,\"-\",$B21),Werk1!$V$2:$W$191,2,FALSE)=1,VLOOKUP(CONCATENATE(S$3,\"-\",$B21),Uitslag,VLOOKUP(CONCATENATE(S$3,\"-\",$B21),Werk1!$V$2:$Y$191,3,FALSE),FALSE),\"\"))))","v":{"$error":"#N/A"}},{"$f":"IF($A21=\" \",\"--\",IF($AS21=1,\"XX\",IF(T$25=1,\"XX\",IF(VLOOKUP(CONCATENATE(T$3,\"-\",$B21),Werk1!$V$2:$W$191,2,FALSE)=1,VLOOKUP(CONCATENATE(T$3,\"-\",$B21),Uitslag,VLOOKUP(CONCATENATE(T$3,\"-\",$B21),Werk1!$V$2:$Y$191,3,FALSE),FALSE),\"\"))))","v":{"$error":"#N/A"}},null,{"$f":"IF(V$2=\" \",\"--\",IF($AS21=1,\"XX\",IF(V$25=1,\"XX\",IF(VLOOKUP(CONCATENATE($B21,\"-\",V$3),Werk1!$V$2:$W$191,2,FALSE)=1,VLOOKUP(CONCATENATE($B21,\"-\",V$3),Uitslag,VLOOKUP(CONCATENATE($B21,\"-\",V$3),Werk1!$V$2:$Y$191,4,FALSE),FALSE),\"\"))))","v":{"$error":"#N/A"}},{"$f":"IF(W$2=\" \",\"--\",IF($AS21=1,\"XX\",IF(W$25=1,\"XX\",IF(VLOOKUP(CONCATENATE($B21,\"-\",W$3),Werk1!$V$2:$W$191,2,FALSE)=1,VLOOKUP(CONCATENATE($B21,\"-\",W$3),Uitslag,VLOOKUP(CONCATENATE($B21,\"-\",W$3),Werk1!$V$2:$Y$191,4,FALSE),FALSE),\"\"))))","v":{"$error":"#N/A"}},null,{"$f":"IF($A21=\"\",\"--\",IF(VLOOKUP(CONCATENATE(D$3,\"-\",$B21),Werk1!$V$2:$W$191,2,FALSE)=1,VLOOKUP(CONCATENATE(D$3,\"-\",$B21),Uitslag,(VLOOKUP(CONCATENATE(D$3,\"-\",$B21),Werk1!$AE$2:$AG$191,3,FALSE)),FALSE),\"\"))","v":{"$error":"#N/A"}},{"$f":"IF($A21=\"\",\"--\",IF(VLOOKUP(CONCATENATE(E$3,\"-\",$B21),Werk1!$V$2:$W$191,2,FALSE)=1,VLOOKUP(CONCATENATE(E$3,\"-\",$B21),Uitslag,(VLOOKUP(CONCATENATE(E$3,\"-\",$B21),Werk1!$AE$2:$AG$191,3,FALSE)),FALSE),\"\"))","v":{"$error":"#N/A"}},{"$f":"IF($A21=\"\",\"--\",IF(VLOOKUP(CONCATENATE(F$3,\"-\",$B21),Werk1!$V$2:$W$191,2,FALSE)=1,VLOOKUP(CONCATENATE(F$3,\"-\",$B21),Uitslag,(VLOOKUP(CONCATENATE(F$3,\"-\",$B21),Werk1!$AE$2:$AG$191,3,FALSE)),FALSE),\"\"))","v":{"$error":"#N/A"}},{"$f":"IF($A21=\"\",\"--\",IF(VLOOKUP(CONCATENATE(G$3,\"-\",$B21),Werk1!$V$2:$W$191,2,FALSE)=1,VLOOKUP(CONCATENATE(G$3,\"-\",$B21),Uitslag,(VLOOKUP(CONCATENATE(G$3,\"-\",$B21),Werk1!$AE$2:$AG$191,3,FALSE)),FALSE),\"\"))","v":{"$error":"#N/A"}},{"$f":"IF($A21=\"\",\"--\",IF(VLOOKUP(CONCATENATE(H$3,\"-\",$B21),Werk1!$V$2:$W$191,2,FALSE)=1,VLOOKUP(CONCATENATE(H$3,\"-\",$B21),Uitslag,(VLOOKUP(CONCATENATE(H$3,\"-\",$B21),Werk1!$AE$2:$AG$191,3,FALSE)),FALSE),\"\"))","v":{"$error":"#N/A"}},{"$f":"IF($A21=\"\",\"--\",IF(VLOOKUP(CONCATENATE(I$3,\"-\",$B21),Werk1!$V$2:$W$191,2,FALSE)=1,VLOOKUP(CONCATENATE(I$3,\"-\",$B21),Uitslag,(VLOOKUP(CONCATENATE(I$3,\"-\",$B21),Werk1!$AE$2:$AG$191,3,FALSE)),FALSE),\"\"))","v":{"$error":"#N/A"}},{"$f":"IF($A21=\"\",\"--\",IF(VLOOKUP(CONCATENATE(J$3,\"-\",$B21),Werk1!$V$2:$W$191,2,FALSE)=1,VLOOKUP(CONCATENATE(J$3,\"-\",$B21),Uitslag,(VLOOKUP(CONCATENATE(J$3,\"-\",$B21),Werk1!$AE$2:$AG$191,3,FALSE)),FALSE),\"\"))","v":{"$error":"#N/A"}},{"$f":"IF($A21=\"\",\"--\",IF(VLOOKUP(CONCATENATE(K$3,\"-\",$B21),Werk1!$V$2:$W$191,2,FALSE)=1,VLOOKUP(CONCATENATE(K$3,\"-\",$B21),Uitslag,(VLOOKUP(CONCATENATE(K$3,\"-\",$B21),Werk1!$AE$2:$AG$191,3,FALSE)),FALSE),\"\"))","v":{"$error":"#N/A"}},{"$f":"IF($A21=\"\",\"--\",IF(VLOOKUP(CONCATENATE(L$3,\"-\",$B21),Werk1!$V$2:$W$191,2,FALSE)=1,VLOOKUP(CONCATENATE(L$3,\"-\",$B21),Uitslag,(VLOOKUP(CONCATENATE(L$3,\"-\",$B21),Werk1!$AE$2:$AG$191,3,FALSE)),FALSE),\"\"))","v":{"$error":"#N/A"}},{"$f":"IF($A21=\"\",\"--\",IF(VLOOKUP(CONCATENATE(M$3,\"-\",$B21),Werk1!$V$2:$W$191,2,FALSE)=1,VLOOKUP(CONCATENATE(M$3,\"-\",$B21),Uitslag,(VLOOKUP(CONCATENATE(M$3,\"-\",$B21),Werk1!$AE$2:$AG$191,3,FALSE)),FALSE),\"\"))","v":{"$error":"#N/A"}},{"$f":"IF($A21=\"\",\"--\",IF(VLOOKUP(CONCATENATE(N$3,\"-\",$B21),Werk1!$V$2:$W$191,2,FALSE)=1,VLOOKUP(CONCATENATE(N$3,\"-\",$B21),Uitslag,(VLOOKUP(CONCATENATE(N$3,\"-\",$B21),Werk1!$AE$2:$AG$191,3,FALSE)),FALSE),\"\"))","v":{"$error":"#N/A"}},{"$f":"IF($A21=\"\",\"--\",IF(VLOOKUP(CONCATENATE(O$3,\"-\",$B21),Werk1!$V$2:$W$191,2,FALSE)=1,VLOOKUP(CONCATENATE(O$3,\"-\",$B21),Uitslag,(VLOOKUP(CONCATENATE(O$3,\"-\",$B21),Werk1!$AE$2:$AG$191,3,FALSE)),FALSE),\"\"))","v":{"$error":"#N/A"}},{"$f":"IF($A21=\"\",\"--\",IF(VLOOKUP(CONCATENATE(P$3,\"-\",$B21),Werk1!$V$2:$W$191,2,FALSE)=1,VLOOKUP(CONCATENATE(P$3,\"-\",$B21),Uitslag,(VLOOKUP(CONCATENATE(P$3,\"-\",$B21),Werk1!$AE$2:$AG$191,3,FALSE)),FALSE),\"\"))","v":{"$error":"#N/A"}},{"$f":"IF($A21=\"\",\"--\",IF(VLOOKUP(CONCATENATE(Q$3,\"-\",$B21),Werk1!$V$2:$W$191,2,FALSE)=1,VLOOKUP(CONCATENATE(Q$3,\"-\",$B21),Uitslag,(VLOOKUP(CONCATENATE(Q$3,\"-\",$B21),Werk1!$AE$2:$AG$191,3,FALSE)),FALSE),\"\"))","v":{"$error":"#N/A"}},{"$f":"IF($A21=\"\",\"--\",IF(VLOOKUP(CONCATENATE(R$3,\"-\",$B21),Werk1!$V$2:$W$191,2,FALSE)=1,VLOOKUP(CONCATENATE(R$3,\"-\",$B21),Uitslag,(VLOOKUP(CONCATENATE(R$3,\"-\",$B21),Werk1!$AE$2:$AG$191,3,FALSE)),FALSE),\"\"))","v":{"$error":"#N/A"}},{"$f":"IF($A21=\"\",\"--\",IF(VLOOKUP(CONCATENATE(S$3,\"-\",$B21),Werk1!$V$2:$W$191,2,FALSE)=1,VLOOKUP(CONCATENATE(S$3,\"-\",$B21),Uitslag,(VLOOKUP(CONCATENATE(S$3,\"-\",$B21),Werk1!$AE$2:$AG$191,3,FALSE)),FALSE),\"\"))","v":{"$error":"#N/A"}},{"$f":"IF($A21=\"\",\"--\",IF(VLOOKUP(CONCATENATE(T$3,\"-\",$B21),Werk1!$V$2:$W$191,2,FALSE)=1,VLOOKUP(CONCATENATE(T$3,\"-\",$B21),Uitslag,(VLOOKUP(CONCATENATE(T$3,\"-\",$B21),Werk1!$AE$2:$AG$191,3,FALSE)),FALSE),\"\"))","v":{"$error":"#N/A"}},null,{"$f":"IF(V$2=\"\",\"--\",IF(VLOOKUP(CONCATENATE($B21,\"-\",V$3),Werk1!$V$2:$W$191,2,FALSE)=1,VLOOKUP(CONCATENATE($B21,\"-\",V$3),Uitslag,(VLOOKUP(CONCATENATE($B21,\"-\",V$3),Werk1!$AE$2:$AG$191,2,FALSE)),FALSE),\"\"))","v":{"$error":"#N/A"}},{"$f":"IF(W$2=\"\",\"--\",IF(VLOOKUP(CONCATENATE($B21,\"-\",W$3),Werk1!$V$2:$W$191,2,FALSE)=1,VLOOKUP(CONCATENATE($B21,\"-\",W$3),Uitslag,(VLOOKUP(CONCATENATE($B21,\"-\",W$3),Werk1!$AE$2:$AG$191,2,FALSE)),FALSE),\"\"))","v":{"$error":"#N/A"}},{"$f":"IF(A21=\"\",0,IF(VLOOKUP(VLOOKUP(B21,Werk1!$AA$2:$AB$21,2,FALSE),Leden,9,FALSE)=-1,1,0))","v":{"$error":"#N/A"}}]
[{"$f":"CONCATENATE(VLOOKUP(B22,Werk1!$AA$2:$AB$21,2,FALSE),\" \")","v":{"$error":"#N/A"}},19,{"$f":"IF(A22=\"\",\"--\",IF($AS22=1,\"XX\",VLOOKUP(B22,Leden!$B$3:$C$22,2,FALSE)))","v":{"$error":"#N/A"}},{"$f":"IF($A22=\" \",\"--\",IF($AS22=1,\"XX\",IF(D$25=1,\"XX\",IF(VLOOKUP(CONCATENATE(D$3,\"-\",$B22),Werk1!$V$2:$W$191,2,FALSE)=1,VLOOKUP(CONCATENATE(D$3,\"-\",$B22),Uitslag,VLOOKUP(CONCATENATE(D$3,\"-\",$B22),Werk1!$V$2:$Y$191,3,FALSE),FALSE),\"\"))))","v":{"$error":"#N/A"}},{"$f":"IF($A22=\" \",\"--\",IF($AS22=1,\"XX\",IF(E$25=1,\"XX\",IF(VLOOKUP(CONCATENATE(E$3,\"-\",$B22),Werk1!$V$2:$W$191,2,FALSE)=1,VLOOKUP(CONCATENATE(E$3,\"-\",$B22),Uitslag,VLOOKUP(CONCATENATE(E$3,\"-\",$B22),Werk1!$V$2:$Y$191,3,FALSE),FALSE),\"\"))))","v":{"$error":"#N/A"}},{"$f":"IF($A22=\" \",\"--\",IF($AS22=1,\"XX\",IF(F$25=1,\"XX\",IF(VLOOKUP(CONCATENATE(F$3,\"-\",$B22),Werk1!$V$2:$W$191,2,FALSE)=1,VLOOKUP(CONCATENATE(F$3,\"-\",$B22),Uitslag,VLOOKUP(CONCATENATE(F$3,\"-\",$B22),Werk1!$V$2:$Y$191,3,FALSE),FALSE),\"\"))))","v":{"$error":"#N/A"}},{"$f":"IF($A22=\" \",\"--\",IF($AS22=1,\"XX\",IF(G$25=1,\"XX\",IF(VLOOKUP(CONCATENATE(G$3,\"-\",$B22),Werk1!$V$2:$W$191,2,FALSE)=1,VLOOKUP(CONCATENATE(G$3,\"-\",$B22),Uitslag,VLOOKUP(CONCATENATE(G$3,\"-\",$B22),Werk1!$V$2:$Y$191,3,FALSE),FALSE),\"\"))))","v":{"$error":"#N/A"}},{"$f":"IF($A22=\" \",\"--\",IF($AS22=1,\"XX\",IF(H$25=1,\"XX\",IF(VLOOKUP(CONCATENATE(H$3,\"-\",$B22),Werk1!$V$2:$W$191,2,FALSE)=1,VLOOKUP(CONCATENATE(H$3,\"-\",$B22),Uitslag,VLOOKUP(CONCATENATE(H$3,\"-\",$B22),Werk1!$V$2:$Y$191,3,FALSE),FALSE),\"\"))))","v":{"$error":"#N/A"}},{"$f":"IF($A22=\" \",\"--\",IF($AS22=1,\"XX\",IF(I$25=1,\"XX\",IF(VLOOKUP(CONCATENATE(I$3,\"-\",$B22),Werk1!$V$2:$W$191,2,FALSE)=1,VLOOKUP(CONCATENATE(I$3,\"-\",$B22),Uitslag,VLOOKUP(CONCATENATE(I$3,\"-\",$B22),Werk1!$V$2:$Y$191,3,FALSE),FALSE),\"\"))))","v":{"$error":"#N/A"}},{"$f":"IF($A22=\" \",\"--\",IF($AS22=1,\"XX\",IF(J$25=1,\"XX\",IF(VLOOKUP(CONCATENATE(J$3,\"-\",$B22),Werk1!$V$2:$W$191,2,FALSE)=1,VLOOKUP(CONCATENATE(J$3,\"-\",$B22),Uitslag,VLOOKUP(CONCATENATE(J$3,\"-\",$B22),Werk1!$V$2:$Y$191,3,FALSE),FALSE),\"\"))))","v":{"$error":"#N/A"}},{"$f":"IF($A22=\" \",\"--\",IF($AS22=1,\"XX\",IF(K$25=1,\"XX\",IF(VLOOKUP(CONCATENATE(K$3,\"-\",$B22),Werk1!$V$2:$W$191,2,FALSE)=1,VLOOKUP(CONCATENATE(K$3,\"-\",$B22),Uitslag,VLOOKUP(CONCATENATE(K$3,\"-\",$B22),Werk1!$V$2:$Y$191,3,FALSE),FALSE),\"\"))))","v":{"$error":"#N/A"}},{"$f":"IF($A22=\" \",\"--\",IF($AS22=1,\"XX\",IF(L$25=1,\"XX\",IF(VLOOKUP(CONCATENATE(L$3,\"-\",$B22),Werk1!$V$2:$W$191,2,FALSE)=1,VLOOKUP(CONCATENATE(L$3,\"-\",$B22),Uitslag,VLOOKUP(CONCATENATE(L$3,\"-\",$B22),Werk1!$V$2:$Y$191,3,FALSE),FALSE),\"\"))))","v":{"$error":"#N/A"}},{"$f":"IF($A22=\" \",\"--\",IF($AS22=1,\"XX\",IF(M$25=1,\"XX\",IF(VLOOKUP(CONCATENATE(M$3,\"-\",$B22),Werk1!$V$2:$W$191,2,FALSE)=1,VLOOKUP(CONCATENATE(M$3,\"-\",$B22),Uitslag,VLOOKUP(CONCATENATE(M$3,\"-\",$B22),Werk1!$V$2:$Y$191,3,FALSE),FALSE),\"\"))))","v":{"$error":"#N/A"}},{"$f":"IF($A22=\" \",\"--\",IF($AS22=1,\"XX\",IF(N$25=1,\"XX\",IF(VLOOKUP(CONCATENATE(N$3,\"-\",$B22),Werk1!$V$2:$W$191,2,FALSE)=1,VLOOKUP(CONCATENATE(N$3,\"-\",$B22),Uitslag,VLOOKUP(CONCATENATE(N$3,\"-\",$B22),Werk1!$V$2:$Y$191,3,FALSE),FALSE),\"\"))))","v":{"$error":"#N/A"}},{"$f":"IF($A22=\" \",\"--\",IF($AS22=1,\"XX\",IF(O$25=1,\"XX\",IF(VLOOKUP(CONCATENATE(O$3,\"-\",$B22),Werk1!$V$2:$W$191,2,FALSE)=1,VLOOKUP(CONCATENATE(O$3,\"-\",$B22),Uitslag,VLOOKUP(CONCATENATE(O$3,\"-\",$B22),Werk1!$V$2:$Y$191,3,FALSE),FALSE),\"\"))))","v":{"$error":"#N/A"}},{"$f":"IF($A22=\" \",\"--\",IF($AS22=1,\"XX\",IF(P$25=1,\"XX\",IF(VLOOKUP(CONCATENATE(P$3,\"-\",$B22),Werk1!$V$2:$W$191,2,FALSE)=1,VLOOKUP(CONCATENATE(P$3,\"-\",$B22),Uitslag,VLOOKUP(CONCATENATE(P$3,\"-\",$B22),Werk1!$V$2:$Y$191,3,FALSE),FALSE),\"\"))))","v":{"$error":"#N/A"}},{"$f":"IF($A22=\" \",\"--\",IF($AS22=1,\"XX\",IF(Q$25=1,\"XX\",IF(VLOOKUP(CONCATENATE(Q$3,\"-\",$B22),Werk1!$V$2:$W$191,2,FALSE)=1,VLOOKUP(CONCATENATE(Q$3,\"-\",$B22),Uitslag,VLOOKUP(CONCATENATE(Q$3,\"-\",$B22),Werk1!$V$2:$Y$191,3,FALSE),FALSE),\"\"))))","v":{"$error":"#N/A"}},{"$f":"IF($A22=\" \",\"--\",IF($AS22=1,\"XX\",IF(R$25=1,\"XX\",IF(VLOOKUP(CONCATENATE(R$3,\"-\",$B22),Werk1!$V$2:$W$191,2,FALSE)=1,VLOOKUP(CONCATENATE(R$3,\"-\",$B22),Uitslag,VLOOKUP(CONCATENATE(R$3,\"-\",$B22),Werk1!$V$2:$Y$191,3,FALSE),FALSE),\"\"))))","v":{"$error":"#N/A"}},{"$f":"IF($A22=\" \",\"--\",IF($AS22=1,\"XX\",IF(S$25=1,\"XX\",IF(VLOOKUP(CONCATENATE(S$3,\"-\",$B22),Werk1!$V$2:$W$191,2,FALSE)=1,VLOOKUP(CONCATENATE(S$3,\"-\",$B22),Uitslag,VLOOKUP(CONCATENATE(S$3,\"-\",$B22),Werk1!$V$2:$Y$191,3,FALSE),FALSE),\"\"))))","v":{"$error":"#N/A"}},{"$f":"IF($A22=\" \",\"--\",IF($AS22=1,\"XX\",IF(T$25=1,\"XX\",IF(VLOOKUP(CONCATENATE(T$3,\"-\",$B22),Werk1!$V$2:$W$191,2,FALSE)=1,VLOOKUP(CONCATENATE(T$3,\"-\",$B22),Uitslag,VLOOKUP(CONCATENATE(T$3,\"-\",$B22),Werk1!$V$2:$Y$191,3,FALSE),FALSE),\"\"))))","v":{"$error":"#N/A"}},{"$f":"IF($A22=\" \",\"--\",IF($AS22=1,\"XX\",IF(U$25=1,\"XX\",IF(VLOOKUP(CONCATENATE(U$3,\"-\",$B22),Werk1!$V$2:$W$191,2,FALSE)=1,VLOOKUP(CONCATENATE(U$3,\"-\",$B22),Uitslag,VLOOKUP(CONCATENATE(U$3,\"-\",$B22),Werk1!$V$2:$Y$191,3,FALSE),FALSE),\"\"))))","v":{"$error":"#N/A"}},null,{"$f":"IF(W$2=\" \",\"--\",IF($AS22=1,\"XX\",IF(W$25=1,\"XX\",IF(VLOOKUP(CONCATENATE($B22,\"-\",W$3),Werk1!$V$2:$W$191,2,FALSE)=1,VLOOKUP(CONCATENATE($B22,\"-\",W$3),Uitslag,VLOOKUP(CONCATENATE($B22,\"-\",W$3),Werk1!$V$2:$Y$191,4,FALSE),FALSE),\"\"))))","v":{"$error":"#N/A"}},null,{"$f":"IF($A22=\"\",\"--\",IF(VLOOKUP(CONCATENATE(D$3,\"-\",$B22),Werk1!$V$2:$W$191,2,FALSE)=1,VLOOKUP(CONCATENATE(D$3,\"-\",$B22),Uitslag,(VLOOKUP(CONCATENATE(D$3,\"-\",$B22),Werk1!$AE$2:$AG$191,3,FALSE)),FALSE),\"\"))","v":{"$error":"#N/A"}},{"$f":"IF($A22=\"\",\"--\",IF(VLOOKUP(CONCATENATE(E$3,\"-\",$B22),Werk1!$V$2:$W$191,2,FALSE)=1,VLOOKUP(CONCATENATE(E$3,\"-\",$B22),Uitslag,(VLOOKUP(CONCATENATE(E$3,\"-\",$B22),Werk1!$AE$2:$AG$191,3,FALSE)),FALSE),\"\"))","v":{"$error":"#N/A"}},{"$f":"IF($A22=\"\",\"--\",IF(VLOOKUP(CONCATENATE(F$3,\"-\",$B22),Werk1!$V$2:$W$191,2,FALSE)=1,VLOOKUP(CONCATENATE(F$3,\"-\",$B22),Uitslag,(VLOOKUP(CONCATENATE(F$3,\"-\",$B22),Werk1!$AE$2:$AG$191,3,FALSE)),FALSE),\"\"))","v":{"$error":"#N/A"}},{"$f":"IF($A22=\"\",\"--\",IF(VLOOKUP(CONCATENATE(G$3,\"-\",$B22),Werk1!$V$2:$W$191,2,FALSE)=1,VLOOKUP(CONCATENATE(G$3,\"-\",$B22),Uitslag,(VLOOKUP(CONCATENATE(G$3,\"-\",$B22),Werk1!$AE$2:$AG$191,3,FALSE)),FALSE),\"\"))","v":{"$error":"#N/A"}},{"$f":"IF($A22=\"\",\"--\",IF(VLOOKUP(CONCATENATE(H$3,\"-\",$B22),Werk1!$V$2:$W$191,2,FALSE)=1,VLOOKUP(CONCATENATE(H$3,\"-\",$B22),Uitslag,(VLOOKUP(CONCATENATE(H$3,\"-\",$B22),Werk1!$AE$2:$AG$191,3,FALSE)),FALSE),\"\"))","v":{"$error":"#N/A"}},{"$f":"IF($A22=\"\",\"--\",IF(VLOOKUP(CONCATENATE(I$3,\"-\",$B22),Werk1!$V$2:$W$191,2,FALSE)=1,VLOOKUP(CONCATENATE(I$3,\"-\",$B22),Uitslag,(VLOOKUP(CONCATENATE(I$3,\"-\",$B22),Werk1!$AE$2:$AG$191,3,FALSE)),FALSE),\"\"))","v":{"$error":"#N/A"}},{"$f":"IF($A22=\"\",\"--\",IF(VLOOKUP(CONCATENATE(J$3,\"-\",$B22),Werk1!$V$2:$W$191,2,FALSE)=1,VLOOKUP(CONCATENATE(J$3,\"-\",$B22),Uitslag,(VLOOKUP(CONCATENATE(J$3,\"-\",$B22),Werk1!$AE$2:$AG$191,3,FALSE)),FALSE),\"\"))","v":{"$error":"#N/A"}},{"$f":"IF($A22=\"\",\"--\",IF(VLOOKUP(CONCATENATE(K$3,\"-\",$B22),Werk1!$V$2:$W$191,2,FALSE)=1,VLOOKUP(CONCATENATE(K$3,\"-\",$B22),Uitslag,(VLOOKUP(CONCATENATE(K$3,\"-\",$B22),Werk1!$AE$2:$AG$191,3,FALSE)),FALSE),\"\"))","v":{"$error":"#N/A"}},{"$f":"IF($A22=\"\",\"--\",IF(VLOOKUP(CONCATENATE(L$3,\"-\",$B22),Werk1!$V$2:$W$191,2,FALSE)=1,VLOOKUP(CONCATENATE(L$3,\"-\",$B22),Uitslag,(VLOOKUP(CONCATENATE(L$3,\"-\",$B22),Werk1!$AE$2:$AG$191,3,FALSE)),FALSE),\"\"))","v":{"$error":"#N/A"}},{"$f":"IF($A22=\"\",\"--\",IF(VLOOKUP(CONCATENATE(M$3,\"-\",$B22),Werk1!$V$2:$W$191,2,FALSE)=1,VLOOKUP(CONCATENATE(M$3,\"-\",$B22),Uitslag,(VLOOKUP(CONCATENATE(M$3,\"-\",$B22),Werk1!$AE$2:$AG$191,3,FALSE)),FALSE),\"\"))","v":{"$error":"#N/A"}},{"$f":"IF($A22=\"\",\"--\",IF(VLOOKUP(CONCATENATE(N$3,\"-\",$B22),Werk1!$V$2:$W$191,2,FALSE)=1,VLOOKUP(CONCATENATE(N$3,\"-\",$B22),Uitslag,(VLOOKUP(CONCATENATE(N$3,\"-\",$B22),Werk1!$AE$2:$AG$191,3,FALSE)),FALSE),\"\"))","v":{"$error":"#N/A"}},{"$f":"IF($A22=\"\",\"--\",IF(VLOOKUP(CONCATENATE(O$3,\"-\",$B22),Werk1!$V$2:$W$191,2,FALSE)=1,VLOOKUP(CONCATENATE(O$3,\"-\",$B22),Uitslag,(VLOOKUP(CONCATENATE(O$3,\"-\",$B22),Werk1!$AE$2:$AG$191,3,FALSE)),FALSE),\"\"))","v":{"$error":"#N/A"}},{"$f":"IF($A22=\"\",\"--\",IF(VLOOKUP(CONCATENATE(P$3,\"-\",$B22),Werk1!$V$2:$W$191,2,FALSE)=1,VLOOKUP(CONCATENATE(P$3,\"-\",$B22),Uitslag,(VLOOKUP(CONCATENATE(P$3,\"-\",$B22),Werk1!$AE$2:$AG$191,3,FALSE)),FALSE),\"\"))","v":{"$error":"#N/A"}},{"$f":"IF($A22=\"\",\"--\",IF(VLOOKUP(CONCATENATE(Q$3,\"-\",$B22),Werk1!$V$2:$W$191,2,FALSE)=1,VLOOKUP(CONCATENATE(Q$3,\"-\",$B22),Uitslag,(VLOOKUP(CONCATENATE(Q$3,\"-\",$B22),Werk1!$AE$2:$AG$191,3,FALSE)),FALSE),\"\"))","v":{"$error":"#N/A"}},{"$f":"IF($A22=\"\",\"--\",IF(VLOOKUP(CONCATENATE(R$3,\"-\",$B22),Werk1!$V$2:$W$191,2,FALSE)=1,VLOOKUP(CONCATENATE(R$3,\"-\",$B22),Uitslag,(VLOOKUP(CONCATENATE(R$3,\"-\",$B22),Werk1!$AE$2:$AG$191,3,FALSE)),FALSE),\"\"))","v":{"$error":"#N/A"}},{"$f":"IF($A22=\"\",\"--\",IF(VLOOKUP(CONCATENATE(S$3,\"-\",$B22),Werk1!$V$2:$W$191,2,FALSE)=1,VLOOKUP(CONCATENATE(S$3,\"-\",$B22),Uitslag,(VLOOKUP(CONCATENATE(S$3,\"-\",$B22),Werk1!$AE$2:$AG$191,3,FALSE)),FALSE),\"\"))","v":{"$error":"#N/A"}},{"$f":"IF($A22=\"\",\"--\",IF(VLOOKUP(CONCATENATE(T$3,\"-\",$B22),Werk1!$V$2:$W$191,2,FALSE)=1,VLOOKUP(CONCATENATE(T$3,\"-\",$B22),Uitslag,(VLOOKUP(CONCATENATE(T$3,\"-\",$B22),Werk1!$AE$2:$AG$191,3,FALSE)),FALSE),\"\"))","v":{"$error":"#N/A"}},{"$f":"IF($A22=\"\",\"--\",IF(VLOOKUP(CONCATENATE(U$3,\"-\",$B22),Werk1!$V$2:$W$191,2,FALSE)=1,VLOOKUP(CONCATENATE(U$3,\"-\",$B22),Uitslag,(VLOOKUP(CONCATENATE(U$3,\"-\",$B22),Werk1!$AE$2:$AG$191,3,FALSE)),FALSE),\"\"))","v":{"$error":"#N/A"}},null,{"$f":"IF(W$2=\"\",\"--\",IF(VLOOKUP(CONCATENATE($B22,\"-\",W$3),Werk1!$V$2:$W$191,2,FALSE)=1,VLOOKUP(CONCATENATE($B22,\"-\",W$3),Uitslag,(VLOOKUP(CONCATENATE($B22,\"-\",W$3),Werk1!$AE$2:$AG$191,2,FALSE)),FALSE),\"\"))","v":{"$error":"#N/A"}},{"$f":"IF(A22=\"\",0,IF(VLOOKUP(VLOOKUP(B22,Werk1!$AA$2:$AB$21,2,FALSE),Leden,9,FALSE)=-1,1,0))","v":{"$error":"#N/A"}}]
[{"$f":"CONCATENATE(VLOOKUP(B23,Werk1!$AA$2:$AB$21,2,FALSE),\" \")","v":{"$error":"#N/A"}},{"$f":"B22+1","v":20},{"$f":"IF(A23=\"\",\"--\",IF($AS23=1,\"XX\",VLOOKUP(B23,Leden!$B$3:$C$22,2,FALSE)))","v":{"$error":"#N/A"}},{"$f":"IF($A23=\" \",\"--\",IF($AS23=1,\"XX\",IF(D$25=1,\"XX\",IF(VLOOKUP(CONCATENATE(D$3,\"-\",$B23),Werk1!$V$2:$W$191,2,FALSE)=1,VLOOKUP(CONCATENATE(D$3,\"-\",$B23),Uitslag,VLOOKUP(CONCATENATE(D$3,\"-\",$B23),Werk1!$V$2:$Y$191,3,FALSE),FALSE),\"\"))))","v":{"$error":"#N/A"}},{"$f":"IF($A23=\" \",\"--\",IF($AS23=1,\"XX\",IF(E$25=1,\"XX\",IF(VLOOKUP(CONCATENATE(E$3,\"-\",$B23),Werk1!$V$2:$W$191,2,FALSE)=1,VLOOKUP(CONCATENATE(E$3,\"-\",$B23),Uitslag,VLOOKUP(CONCATENATE(E$3,\"-\",$B23),Werk1!$V$2:$Y$191,3,FALSE),FALSE),\"\"))))","v":{"$error":"#N/A"}},{"$f":"IF($A23=\" \",\"--\",IF($AS23=1,\"XX\",IF(F$25=1,\"XX\",IF(VLOOKUP(CONCATENATE(F$3,\"-\",$B23),Werk1!$V$2:$W$191,2,FALSE)=1,VLOOKUP(CONCATENATE(F$3,\"-\",$B23),Uitslag,VLOOKUP(CONCATENATE(F$3,\"-\",$B23),Werk1!$V$2:$Y$191,3,FALSE),FALSE),\"\"))))","v":{"$error":"#N/A"}},{"$f":"IF($A23=\" \",\"--\",IF($AS23=1,\"XX\",IF(G$25=1,\"XX\",IF(VLOOKUP(CONCATENATE(G$3,\"-\",$B23),Werk1!$V$2:$W$191,2,FALSE)=1,VLOOKUP(CONCATENATE(G$3,\"-\",$B23),Uitslag,VLOOKUP(CONCATENATE(G$3,\"-\",$B23),Werk1!$V$2:$Y$191,3,FALSE),FALSE),\"\"))))","v":{"$error":"#N/A"}},{"$f":"IF($A23=\" \",\"--\",IF($AS23=1,\"XX\",IF(H$25=1,\"XX\",IF(VLOOKUP(CONCATENATE(H$3,\"-\",$B23),Werk1!$V$2:$W$191,2,FALSE)=1,VLOOKUP(CONCATENATE(H$3,\"-\",$B23),Uitslag,VLOOKUP(CONCATENATE(H$3,\"-\",$B23),Werk1!$V$2:$Y$191,3,FALSE),FALSE),\"\"))))","v":{"$error":"#N/A"}},{"$f":"IF($A23=\" \",\"--\",IF($AS23=1,\"XX\",IF(I$25=1,\"XX\",IF(VLOOKUP(CONCATENATE(I$3,\"-\",$B23),Werk1!$V$2:$W$191,2,FALSE)=1,VLOOKUP(CONCATENATE(I$3,\"-\",$B23),Uitslag,VLOOKUP(CONCATENATE(I$3,\"-\",$B23),Werk1!$V$2:$Y$191,3,FALSE),FALSE),\"\"))))","v":{"$error":"#N/A"}},{"$f":"IF($A23=\" \",\"--\",IF($AS23=1,\"XX\",IF(J$25=1,\"XX\",IF(VLOOKUP(CONCATENATE(J$3,\"-\",$B23),Werk1!$V$2:$W$191,2,FALSE)=1,VLOOKUP(CONCATENATE(J$3,\"-\",$B23),Uitslag,VLOOKUP(CONCATENATE(J$3,\"-\",$B23),Werk1!$V$2:$Y$191,3,FALSE),FALSE),\"\"))))","v":{"$error":"#N/A"}},{"$f":"IF($A23=\" \",\"--\",IF($AS23=1,\"XX\",IF(K$25=1,\"XX\",IF(VLOOKUP(CONCATENATE(K$3,\"-\",$B23),Werk1!$V$2:$W$191,2,FALSE)=1,VLOOKUP(CONCATENATE(K$3,\"-\",$B23),Uitslag,VLOOKUP(CONCATENATE(K$3,\"-\",$B23),Werk1!$V$2:$Y$191,3,FALSE),FALSE),\"\"))))","v":{"$error":"#N/A"}},{"$f":"IF($A23=\" \",\"--\",IF($AS23=1,\"XX\",IF(L$25=1,\"XX\",IF(VLOOKUP(CONCATENATE(L$3,\"-\",$B23),Werk1!$V$2:$W$191,2,FALSE)=1,VLOOKUP(CONCATENATE(L$3,\"-\",$B23),Uitslag,VLOOKUP(CONCATENATE(L$3,\"-\",$B23),Werk1!$V$2:$Y$191,3,FALSE),FALSE),\"\"))))","v":{"$error":"#N/A"}},{"$f":"IF($A23=\" \",\"--\",IF($AS23=1,\"XX\",IF(M$25=1,\"XX\",IF(VLOOKUP(CONCATENATE(M$3,\"-\",$B23),Werk1!$V$2:$W$191,2,FALSE)=1,VLOOKUP(CONCATENATE(M$3,\"-\",$B23),Uitslag,VLOOKUP(CONCATENATE(M$3,\"-\",$B23),Werk1!$V$2:$Y$191,3,FALSE),FALSE),\"\"))))","v":{"$error":"#N/A"}},{"$f":"IF($A23=\" \",\"--\",IF($AS23=1,\"XX\",IF(N$25=1,\"XX\",IF(VLOOKUP(CONCATENATE(N$3,\"-\",$B23),Werk1!$V$2:$W$191,2,FALSE)=1,VLOOKUP(CONCATENATE(N$3,\"-\",$B23),Uitslag,VLOOKUP(CONCATENATE(N$3,\"-\",$B23),Werk1!$V$2:$Y$191,3,FALSE),FALSE),\"\"))))","v":{"$error":"#N/A"}},{"$f":"IF($A23=\" \",\"--\",IF($AS23=1,\"XX\",IF(O$25=1,\"XX\",IF(VLOOKUP(CONCATENATE(O$3,\"-\",$B23),Werk1!$V$2:$W$191,2,FALSE)=1,VLOOKUP(CONCATENATE(O$3,\"-\",$B23),Uitslag,VLOOKUP(CONCATENATE(O$3,\"-\",$B23),Werk1!$V$2:$Y$191,3,FALSE),FALSE),\"\"))))","v":{"$error":"#N/A"}},{"$f":"IF($A23=\" \",\"--\",IF($AS23=1,\"XX\",IF(P$25=1,\"XX\",IF(VLOOKUP(CONCATENATE(P$3,\"-\",$B23),Werk1!$V$2:$W$191,2,FALSE)=1,VLOOKUP(CONCATENATE(P$3,\"-\",$B23),Uitslag,VLOOKUP(CONCATENATE(P$3,\"-\",$B23),Werk1!$V$2:$Y$191,3,FALSE),FALSE),\"\"))))","v":{"$error":"#N/A"}},{"$f":"IF($A23=\" \",\"--\",IF($AS23=1,\"XX\",IF(Q$25=1,\"XX\",IF(VLOOKUP(CONCATENATE(Q$3,\"-\",$B23),Werk1!$V$2:$W$191,2,FALSE)=1,VLOOKUP(CONCATENATE(Q$3,\"-\",$B23),Uitslag,VLOOKUP(CONCATENATE(Q$3,\"-\",$B23),Werk1!$V$2:$Y$191,3,FALSE),FALSE),\"\"))))","v":{"$error":"#N/A"}},{"$f":"IF($A23=\" \",\"--\",IF($AS23=1,\"XX\",IF(R$25=1,\"XX\",IF(VLOOKUP(CONCATENATE(R$3,\"-\",$B23),Werk1!$V$2:$W$191,2,FALSE)=1,VLOOKUP(CONCATENATE(R$3,\"-\",$B23),Uitslag,VLOOKUP(CONCATENATE(R$3,\"-\",$B23),Werk1!$V$2:$Y$191,3,FALSE),FALSE),\"\"))))","v":{"$error":"#N/A"}},{"$f":"IF($A23=\" \",\"--\",IF($AS23=1,\"XX\",IF(S$25=1,\"XX\",IF(VLOOKUP(CONCATENATE(S$3,\"-\",$B23),Werk1!$V$2:$W$191,2,FALSE)=1,VLOOKUP(CONCATENATE(S$3,\"-\",$B23),Uitslag,VLOOKUP(CONCATENATE(S$3,\"-\",$B23),Werk1!$V$2:$Y$191,3,FALSE),FALSE),\"\"))))","v":{"$error":"#N/A"}},{"$f":"IF($A23=\" \",\"--\",IF($AS23=1,\"XX\",IF(T$25=1,\"XX\",IF(VLOOKUP(CONCATENATE(T$3,\"-\",$B23),Werk1!$V$2:$W$191,2,FALSE)=1,VLOOKUP(CONCATENATE(T$3,\"-\",$B23),Uitslag,VLOOKUP(CONCATENATE(T$3,\"-\",$B23),Werk1!$V$2:$Y$191,3,FALSE),FALSE),\"\"))))","v":{"$error":"#N/A"}},{"$f":"IF($A23=\" \",\"--\",IF($AS23=1,\"XX\",IF(U$25=1,\"XX\",IF(VLOOKUP(CONCATENATE(U$3,\"-\",$B23),Werk1!$V$2:$W$191,2,FALSE)=1,VLOOKUP(CONCATENATE(U$3,\"-\",$B23),Uitslag,VLOOKUP(CONCATENATE(U$3,\"-\",$B23),Werk1!$V$2:$Y$191,3,FALSE),FALSE),\"\"))))","v":{"$error":"#N/A"}},{"$f":"IF($A23=\" \",\"--\",IF($AS23=1,\"XX\",IF(V$25=1,\"XX\",IF(VLOOKUP(CONCATENATE(V$3,\"-\",$B23),Werk1!$V$2:$W$191,2,FALSE)=1,VLOOKUP(CONCATENATE(V$3,\"-\",$B23),Uitslag,VLOOKUP(CONCATENATE(V$3,\"-\",$B23),Werk1!$V$2:$Y$191,3,FALSE),FALSE),\"\"))))","v":{"$error":"#N/A"}},null,null,{"$f":"IF($A23=\"\",\"--\",IF(VLOOKUP(CONCATENATE(D$3,\"-\",$B23),Werk1!$V$2:$W$191,2,FALSE)=1,VLOOKUP(CONCATENATE(D$3,\"-\",$B23),Uitslag,(VLOOKUP(CONCATENATE(D$3,\"-\",$B23),Werk1!$AE$2:$AG$191,3,FALSE)),FALSE),\"\"))","v":{"$error":"#N/A"}},{"$f":"IF($A23=\"\",\"--\",IF(VLOOKUP(CONCATENATE(E$3,\"-\",$B23),Werk1!$V$2:$W$191,2,FALSE)=1,VLOOKUP(CONCATENATE(E$3,\"-\",$B23),Uitslag,(VLOOKUP(CONCATENATE(E$3,\"-\",$B23),Werk1!$AE$2:$AG$191,3,FALSE)),FALSE),\"\"))","v":{"$error":"#N/A"}},{"$f":"IF($A23=\"\",\"--\",IF(VLOOKUP(CONCATENATE(F$3,\"-\",$B23),Werk1!$V$2:$W$191,2,FALSE)=1,VLOOKUP(CONCATENATE(F$3,\"-\",$B23),Uitslag,(VLOOKUP(CONCATENATE(F$3,\"-\",$B23),Werk1!$AE$2:$AG$191,3,FALSE)),FALSE),\"\"))","v":{"$error":"#N/A"}},{"$f":"IF($A23=\"\",\"--\",IF(VLOOKUP(CONCATENATE(G$3,\"-\",$B23),Werk1!$V$2:$W$191,2,FALSE)=1,VLOOKUP(CONCATENATE(G$3,\"-\",$B23),Uitslag,(VLOOKUP(CONCATENATE(G$3,\"-\",$B23),Werk1!$AE$2:$AG$191,3,FALSE)),FALSE),\"\"))","v":{"$error":"#N/A"}},{"$f":"IF($A23=\"\",\"--\",IF(VLOOKUP(CONCATENATE(H$3,\"-\",$B23),Werk1!$V$2:$W$191,2,FALSE)=1,VLOOKUP(CONCATENATE(H$3,\"-\",$B23),Uitslag,(VLOOKUP(CONCATENATE(H$3,\"-\",$B23),Werk1!$AE$2:$AG$191,3,FALSE)),FALSE),\"\"))","v":{"$error":"#N/A"}},{"$f":"IF($A23=\"\",\"--\",IF(VLOOKUP(CONCATENATE(I$3,\"-\",$B23),Werk1!$V$2:$W$191,2,FALSE)=1,VLOOKUP(CONCATENATE(I$3,\"-\",$B23),Uitslag,(VLOOKUP(CONCATENATE(I$3,\"-\",$B23),Werk1!$AE$2:$AG$191,3,FALSE)),FALSE),\"\"))","v":{"$error":"#N/A"}},{"$f":"IF($A23=\"\",\"--\",IF(VLOOKUP(CONCATENATE(J$3,\"-\",$B23),Werk1!$V$2:$W$191,2,FALSE)=1,VLOOKUP(CONCATENATE(J$3,\"-\",$B23),Uitslag,(VLOOKUP(CONCATENATE(J$3,\"-\",$B23),Werk1!$AE$2:$AG$191,3,FALSE)),FALSE),\"\"))","v":{"$error":"#N/A"}},{"$f":"IF($A23=\"\",\"--\",IF(VLOOKUP(CONCATENATE(K$3,\"-\",$B23),Werk1!$V$2:$W$191,2,FALSE)=1,VLOOKUP(CONCATENATE(K$3,\"-\",$B23),Uitslag,(VLOOKUP(CONCATENATE(K$3,\"-\",$B23),Werk1!$AE$2:$AG$191,3,FALSE)),FALSE),\"\"))","v":{"$error":"#N/A"}},{"$f":"IF($A23=\"\",\"--\",IF(VLOOKUP(CONCATENATE(L$3,\"-\",$B23),Werk1!$V$2:$W$191,2,FALSE)=1,VLOOKUP(CONCATENATE(L$3,\"-\",$B23),Uitslag,(VLOOKUP(CONCATENATE(L$3,\"-\",$B23),Werk1!$AE$2:$AG$191,3,FALSE)),FALSE),\"\"))","v":{"$error":"#N/A"}},{"$f":"IF($A23=\"\",\"--\",IF(VLOOKUP(CONCATENATE(M$3,\"-\",$B23),Werk1!$V$2:$W$191,2,FALSE)=1,VLOOKUP(CONCATENATE(M$3,\"-\",$B23),Uitslag,(VLOOKUP(CONCATENATE(M$3,\"-\",$B23),Werk1!$AE$2:$AG$191,3,FALSE)),FALSE),\"\"))","v":{"$error":"#N/A"}},{"$f":"IF($A23=\"\",\"--\",IF(VLOOKUP(CONCATENATE(N$3,\"-\",$B23),Werk1!$V$2:$W$191,2,FALSE)=1,VLOOKUP(CONCATENATE(N$3,\"-\",$B23),Uitslag,(VLOOKUP(CONCATENATE(N$3,\"-\",$B23),Werk1!$AE$2:$AG$191,3,FALSE)),FALSE),\"\"))","v":{"$error":"#N/A"}},{"$f":"IF($A23=\"\",\"--\",IF(VLOOKUP(CONCATENATE(O$3,\"-\",$B23),Werk1!$V$2:$W$191,2,FALSE)=1,VLOOKUP(CONCATENATE(O$3,\"-\",$B23),Uitslag,(VLOOKUP(CONCATENATE(O$3,\"-\",$B23),Werk1!$AE$2:$AG$191,3,FALSE)),FALSE),\"\"))","v":{"$error":"#N/A"}},{"$f":"IF($A23=\"\",\"--\",IF(VLOOKUP(CONCATENATE(P$3,\"-\",$B23),Werk1!$V$2:$W$191,2,FALSE)=1,VLOOKUP(CONCATENATE(P$3,\"-\",$B23),Uitslag,(VLOOKUP(CONCATENATE(P$3,\"-\",$B23),Werk1!$AE$2:$AG$191,3,FALSE)),FALSE),\"\"))","v":{"$error":"#N/A"}},{"$f":"IF($A23=\"\",\"--\",IF(VLOOKUP(CONCATENATE(Q$3,\"-\",$B23),Werk1!$V$2:$W$191,2,FALSE)=1,VLOOKUP(CONCATENATE(Q$3,\"-\",$B23),Uitslag,(VLOOKUP(CONCATENATE(Q$3,\"-\",$B23),Werk1!$AE$2:$AG$191,3,FALSE)),FALSE),\"\"))","v":{"$error":"#N/A"}},{"$f":"IF($A23=\"\",\"--\",IF(VLOOKUP(CONCATENATE(R$3,\"-\",$B23),Werk1!$V$2:$W$191,2,FALSE)=1,VLOOKUP(CONCATENATE(R$3,\"-\",$B23),Uitslag,(VLOOKUP(CONCATENATE(R$3,\"-\",$B23),Werk1!$AE$2:$AG$191,3,FALSE)),FALSE),\"\"))","v":{"$error":"#N/A"}},{"$f":"IF($A23=\"\",\"--\",IF(VLOOKUP(CONCATENATE(S$3,\"-\",$B23),Werk1!$V$2:$W$191,2,FALSE)=1,VLOOKUP(CONCATENATE(S$3,\"-\",$B23),Uitslag,(VLOOKUP(CONCATENATE(S$3,\"-\",$B23),Werk1!$AE$2:$AG$191,3,FALSE)),FALSE),\"\"))","v":{"$error":"#N/A"}},{"$f":"IF($A23=\"\",\"--\",IF(VLOOKUP(CONCATENATE(T$3,\"-\",$B23),Werk1!$V$2:$W$191,2,FALSE)=1,VLOOKUP(CONCATENATE(T$3,\"-\",$B23),Uitslag,(VLOOKUP(CONCATENATE(T$3,\"-\",$B23),Werk1!$AE$2:$AG$191,3,FALSE)),FALSE),\"\"))","v":{"$error":"#N/A"}},{"$f":"IF($A23=\"\",\"--\",IF(VLOOKUP(CONCATENATE(U$3,\"-\",$B23),Werk1!$V$2:$W$191,2,FALSE)=1,VLOOKUP(CONCATENATE(U$3,\"-\",$B23),Uitslag,(VLOOKUP(CONCATENATE(U$3,\"-\",$B23),Werk1!$AE$2:$AG$191,3,FALSE)),FALSE),\"\"))","v":{"$error":"#N/A"}},{"$f":"IF($A23=\"\",\"--\",IF(VLOOKUP(CONCATENATE(V$3,\"-\",$B23),Werk1!$V$2:$W$191,2,FALSE)=1,VLOOKUP(CONCATENATE(V$3,\"-\",$B23),Uitslag,(VLOOKUP(CONCATENATE(V$3,\"-\",$B23),Werk1!$AE$2:$AG$191,3,FALSE)),FALSE),\"\"))","v":{"$error":"#N/A"}},null,{"$f":"IF(A23=\"\",0,IF(VLOOKUP(VLOOKUP(B23,Werk1!$AA$2:$AB$21,2,FALSE),Leden,9,FALSE)=-1,1,0))","v":{"$error":"#N/A"}}]
[]
["lid actief?",null,null,{"$f":"+AS4","v":{"$error":"#N/A"}},{"$f":"+AS5","v":{"$error":"#N/A"}},{"$f":"+AS6","v":{"$error":"#N/A"}},{"$f":"+AS7","v":{"$error":"#N/A"}},{"$f":"+AS8","v":{"$error":"#N/A"}},{"$f":"+AS9","v":{"$error":"#N/A"}},{"$f":"+AS10","v":{"$error":"#N/A"}},{"$f":"+$AS11","v":{"$error":"#N/A"}},{"$f":"+$AS12","v":{"$error":"#N/A"}},{"$f":"+$AS13","v":{"$error":"#N/A"}},{"$f":"+$AS14","v":{"$error":"#N/A"}},{"$f":"+$AS15","v":{"$error":"#N/A"}},{"$f":"+$AS16","v":{"$error":"#N/A"}},{"$f":"+$AS17","v":{"$error":"#N/A"}},{"$f":"+$AS18","v":{"$error":"#N/A"}},{"$f":"+$AS19","v":{"$error":"#N/A"}},{"$f":"+$AS20","v":{"$error":"#N/A"}},{"$f":"+$AS21","v":{"$error":"#N/A"}},{"$f":"+$AS22","v":{"$error":"#N/A"}},{"$f":"+$AS23","v":{"$error":"#N/A"}}]
[null,null,null,"Opmerkingen:"]
[]
[]
[]
[]
[{"$f":"IF(Vorigpunt!H23=0,\"Ranglijst competitie:\",CONCATENATE(\"Ranglijst competitie: \",Instellingen!J6))","v":"Ranglijst competitie:"}]
["        Naam",null,"Weds.n","GW","GL","VL","PTN"]
[{"$f":"IF(Rang1!A4=\"\",\"\",CONCATENATE(\"  \",+Rang1!A4,\"  \",+Rang1!B4))","v":""},null,{"$f":"IF($A33=\"\",\"\",+Rang1!C4)","v":""},{"$f":"IF($A33=\"\",\"\",+Rang1!D4)","v":""},{"$f":"IF($A33=\"\",\"\",+Rang1!E4)","v":""},{"$f":"IF($A33=\"\",\"\",+Rang1!F4)","v":""},{"$f":"IF($A33=\"\",\"\",+Rang1!G4)","v":""}]
[{"$f":"IF(Rang1!A5=\"\",\"\",CONCATENATE(\"  \",+Rang1!A5,\"  \",+Rang1!B5))","v":""},null,{"$f":"IF($A34=\"\",\"\",+Rang1!C5)","v":""},{"$f":"IF($A34=\"\",\"\",+Rang1!D5)","v":""},{"$f":"IF($A34=\"\",\"\",+Rang1!E5)","v":""},{"$f":"IF($A34=\"\",\"\",+Rang1!F5)","v":""},{"$f":"IF($A34=\"\",\"\",+Rang1!G5)","v":""}]
[{"$f":"IF(Rang1!A6=\"\",\"\",CONCATENATE(\"  \",+Rang1!A6,\"  \",+Rang1!B6))","v":""},null,{"$f":"IF($A35=\"\",\"\",+Rang1!C6)","v":""},{"$f":"IF($A35=\"\",\"\",+Rang1!D6)","v":""},{"$f":"IF($A35=\"\",\"\",+Rang1!E6)","v":""},{"$f":"IF($A35=\"\",\"\",+Rang1!F6)","v":""},{"$f":"IF($A35=\"\",\"\",+Rang1!G6)","v":""}]
[{"$f":"IF(Rang1!A7=\"\",\"\",CONCATENATE(\"  \",+Rang1!A7,\"  \",+Rang1!B7))","v":""},null,{"$f":"IF($A36=\"\",\"\",+Rang1!C7)","v":""},{"$f":"IF($A36=\"\",\"\",+Rang1!D7)","v":""},{"$f":"IF($A36=\"\",\"\",+Rang1!E7)","v":""},{"$f":"IF($A36=\"\",\"\",+Rang1!F7)","v":""},{"$f":"IF($A36=\"\",\"\",+Rang1!G7)","v":""}]
[{"$f":"IF(Rang1!A8=\"\",\"\",CONCATENATE(\"  \",+Rang1!A8,\"  \",+Rang1!B8))","v":""},null,{"$f":"IF($A37=\"\",\"\",+Rang1!C8)","v":""},{"$f":"IF($A37=\"\",\"\",+Rang1!D8)","v":""},{"$f":"IF($A37=\"\",\"\",+Rang1!E8)","v":""},{"$f":"IF($A37=\"\",\"\",+Rang1!F8)","v":""},{"$f":"IF($A37=\"\",\"\",+Rang1!G8)","v":""}]
[{"$f":"IF(Rang1!A9=\"\",\"\",CONCATENATE(\"  \",+Rang1!A9,\"  \",+Rang1!B9))","v":""},null,{"$f":"IF($A38=\"\",\"\",+Rang1!C9)","v":""},{"$f":"IF($A38=\"\",\"\",+Rang1!D9)","v":""},{"$f":"IF($A38=\"\",\"\",+Rang1!E9)","v":""},{"$f":"IF($A38=\"\",\"\",+Rang1!F9)","v":""},{"$f":"IF($A38=\"\",\"\",+Rang1!G9)","v":""}]
[{"$f":"IF(Rang1!A10=\"\",\"\",CONCATENATE(\"  \",+Rang1!A10,\"  \",+Rang1!B10))","v":""},null,{"$f":"IF($A39=\"\",\"\",+Rang1!C10)","v":""},{"$f":"IF($A39=\"\",\"\",+Rang1!D10)","v":""},{"$f":"IF($A39=\"\",\"\",+Rang1!E10)","v":""},{"$f":"IF($A39=\"\",\"\",+Rang1!F10)","v":""},{"$f":"IF($A39=\"\",\"\",+Rang1!G10)","v":""}]
[{"$f":"IF(Rang1!A11=\"\",\"\",CONCATENATE(\"  \",+Rang1!A11,\"  \",+Rang1!B11))","v":""},null,{"$f":"IF($A40=\"\",\"\",+Rang1!C11)","v":""},{"$f":"IF($A40=\"\",\"\",+Rang1!D11)","v":""},{"$f":"IF($A40=\"\",\"\",+Rang1!E11)","v":""},{"$f":"IF($A40=\"\",\"\",+Rang1!F11)","v":""},{"$f":"IF($A40=\"\",\"\",+Rang1!G11)","v":""}]
[{"$f":"IF(Rang1!A12=\"\",\"\",CONCATENATE(\"  \",+Rang1!A12,\"  \",+Rang1!B12))","v":""},null,{"$f":"IF($A41=\"\",\"\",+Rang1!C12)","v":""},{"$f":"IF($A41=\"\",\"\",+Rang1!D12)","v":""},{"$f":"IF($A41=\"\",\"\",+Rang1!E12)","v":""},{"$f":"IF($A41=\"\",\"\",+Rang1!F12)","v":""},{"$f":"IF($A41=\"\",\"\",+Rang1!G12)","v":""}]
[{"$f":"IF(Rang1!A13=\"\",\"\",CONCATENATE(+Rang1!A13,\"  \",+Rang1!B13))","v":""},null,{"$f":"IF($A42=\"\",\"\",+Rang1!C13)","v":""},{"$f":"IF($A42=\"\",\"\",+Rang1!D13)","v":""},{"$f":"IF($A42=\"\",\"\",+Rang1!E13)","v":""},{"$f":"IF($A42=\"\",\"\",+Rang1!F13)","v":""},{"$f":"IF($A42=\"\",\"\",+Rang1!G13)","v":""}]
[{"$f":"IF(Rang1!A14=\"\",\"\",CONCATENATE(+Rang1!A14,\"  \",+Rang1!B14))","v":""},null,{"$f":"IF($A43=\"\",\"\",+Rang1!C14)","v":""},{"$f":"IF($A43=\"\",\"\",+Rang1!D14)","v":""},{"$f":"IF($A43=\"\",\"\",+Rang1!E14)","v":""},{"$f":"IF($A43=\"\",\"\",+Rang1!F14)","v":""},{"$f":"IF($A43=\"\",\"\",+Rang1!G14)","v":""}]
[{"$f":"IF(Rang1!A15=\"\",\"\",CONCATENATE(+Rang1!A15,\"  \",+Rang1!B15))","v":""},null,{"$f":"IF($A44=\"\",\"\",+Rang1!C15)","v":""},{"$f":"IF($A44=\"\",\"\",+Rang1!D15)","v":""},{"$f":"IF($A44=\"\",\"\",+Rang1!E15)","v":""},{"$f":"IF($A44=\"\",\"\",+Rang1!F15)","v":""},{"$f":"IF($A44=\"\",\"\",+Rang1!G15)","v":""}]
[{"$f":"IF(Rang1!A16=\"\",\"\",CONCATENATE(+Rang1!A16,\"  \",+Rang1!B16))","v":""},null,{"$f":"IF($A45=\"\",\"\",+Rang1!C16)","v":""},{"$f":"IF($A45=\"\",\"\",+Rang1!D16)","v":""},{"$f":"IF($A45=\"\",\"\",+Rang1!E16)","v":""},{"$f":"IF($A45=\"\",\"\",+Rang1!F16)","v":""},{"$f":"IF($A45=\"\",\"\",+Rang1!G16)","v":""}]
[{"$f":"IF(Rang1!A17=\"\",\"\",CONCATENATE(+Rang1!A17,\"  \",+Rang1!B17))","v":""},null,{"$f":"IF($A46=\"\",\"\",+Rang1!C17)","v":""},{"$f":"IF($A46=\"\",\"\",+Rang1!D17)","v":""},{"$f":"IF($A46=\"\",\"\",+Rang1!E17)","v":""},{"$f":"IF($A46=\"\",\"\",+Rang1!F17)","v":""},{"$f":"IF($A46=\"\",\"\",+Rang1!G17)","v":""}]
[{"$f":"IF(Rang1!A18=\"\",\"\",CONCATENATE(+Rang1!A18,\"  \",+Rang1!B18))","v":""},null,{"$f":"IF($A47=\"\",\"\",+Rang1!C18)","v":""},{"$f":"IF($A47=\"\",\"\",+Rang1!D18)","v":""},{"$f":"IF($A47=\"\",\"\",+Rang1!E18)","v":""},{"$f":"IF($A47=\"\",\"\",+Rang1!F18)","v":""},{"$f":"IF($A47=\"\",\"\",+Rang1!G18)","v":""}]
[{"$f":"IF(Rang1!A19=\"\",\"\",CONCATENATE(+Rang1!A19,\"  \",+Rang1!B19))","v":""},null,{"$f":"IF($A48=\"\",\"\",+Rang1!C19)","v":""},{"$f":"IF($A48=\"\",\"\",+Rang1!D19)","v":""},{"$f":"IF($A48=\"\",\"\",+Rang1!E19)","v":""},{"$f":"IF($A48=\"\",\"\",+Rang1!F19)","v":""},{"$f":"IF($A48=\"\",\"\",+Rang1!G19)","v":""}]
[{"$f":"IF(Rang1!A20=\"\",\"\",CONCATENATE(+Rang1!A20,\"  \",+Rang1!B20))","v":""},null,{"$f":"IF($A49=\"\",\"\",+Rang1!C20)","v":""},{"$f":"IF($A49=\"\",\"\",+Rang1!D20)","v":""},{"$f":"IF($A49=\"\",\"\",+Rang1!E20)","v":""},{"$f":"IF($A49=\"\",\"\",+Rang1!F20)","v":""},{"$f":"IF($A49=\"\",\"\",+Rang1!G20)","v":""}]
[{"$f":"IF(Rang1!A21=\"\",\"\",CONCATENATE(+Rang1!A21,\"  \",+Rang1!B21))","v":""},null,{"$f":"IF($A50=\"\",\"\",+Rang1!C21)","v":""},{"$f":"IF($A50=\"\",\"\",+Rang1!D21)","v":""},{"$f":"IF($A50=\"\",\"\",+Rang1!E21)","v":""},{"$f":"IF($A50=\"\",\"\",+Rang1!F21)","v":""},{"$f":"IF($A50=\"\",\"\",+Rang1!G21)","v":""}]
[{"$f":"IF(Rang1!A22=\"\",\"\",CONCATENATE(+Rang1!A22,\"  \",+Rang1!B22))","v":""},null,{"$f":"IF($A51=\"\",\"\",+Rang1!C22)","v":""},{"$f":"IF($A51=\"\",\"\",+Rang1!D22)","v":""},{"$f":"IF($A51=\"\",\"\",+Rang1!E22)","v":""},{"$f":"IF($A51=\"\",\"\",+Rang1!F22)","v":""},{"$f":"IF($A51=\"\",\"\",+Rang1!G22)","v":""}]
[{"$f":"IF(Rang1!A23=\"\",\"\",CONCATENATE(+Rang1!A23,\"  \",+Rang1!B23))","v":""},null,{"$f":"IF($A52=\"\",\"\",+Rang1!C23)","v":""},{"$f":"IF($A52=\"\",\"\",+Rang1!D23)","v":""},{"$f":"IF($A52=\"\",\"\",+Rang1!E23)","v":""},{"$f":"IF($A52=\"\",\"\",+Rang1!F23)","v":""},{"$f":"IF($A52=\"\",\"\",+Rang1!G23)","v":""}]

{"sheet":"Rang1","index":11,"n_rows":23,"n_cols":11,"rows_kept":23,"cut":false,"hidden":true,"merged":[[1,1,1,8],[0,0,0,8]]}
[{"$f":"IF(Vorigpunt!H23>0,IF(Werk1!B23=1,Instellingen!J6,Instellingen!J5),Instellingen!J5)","v":0}]
[null,"Standgegevens",null,null,null,null,null,null,null,null,"Sortering:"]
["Nr. ","Naam","Wedstrijden","Gewonnen","Gelijk","Verloren","Punten",{"$f":"IF(Instellingen!$L$28=0,\"Gemiddelde\",\"Percentage\")","v":"Percentage"},"Hoogste",null,"1e  punten"]
[{"$f":"IF(B4=\"\",\"\",ROW() -3 & \". \")","v":""},null,null,null,null,null,null,null,null,null,"2e  wedstrijden"]
[{"$f":"IF(B5=\"\",\"\",ROW() -3 & \". \")","v":""},null,null,null,null,null,null,null,null,null,{"$f":"IF(Instellingen!$L$28=0,\"3e  gemiddelde\",\"3e  percentage\")","v":"3e  percentage"}]
[""]
[""]
[""]
[""]
[""]
[""]
[""]
[""]
[""]
[""]
[""]
[""]
[""]
[""]
[""]
[""]
[""]
[""]

{"sheet":"Uitslagen","index":12,"n_rows":192,"n_cols":30,"rows_kept":192,"cut":false,"hidden":true,"merged":[[0,0,0,9]]}
[{"$f":"CONCATENATE(\"Gespeelde wedstrijden \",Instellingen!J5)","v":"Gespeelde wedstrijden "},null,null,null,null,null,null,null,null,null,"Aantal partijen met 30 of meer beurten:  ",null,null,{"$f":"COUNTIF(G3:G386,30)","v":0},{"$f":"IF(N2=0,0,N1/N2)","v":0},null,null,null,null,null,null,null,null,null,null,null,null,null,"Hulpvelden"]
["nr.","Datum",null,"Speler1",null,"Speler2","Beurten","S1",null,"S2","Totaal aantal gespeelde partijen:  ",null,null,{"$f":"COUNTIF(G3:G386,\">0\")","v":0},null,null,null,null,null,null,null,null,null,null,null,null,null,"s1","s2"]
[{"$f":"+Uitslagen1!A2","v":""},{"$f":"IF(Uitslagen1!A2<>\"\",Uitslagen1!B2,\"\")","v":""},null,{"$f":"IF(B3<>\"\",CONCATENATE(+Uitslagen1!E2,\" (\",Uitslagen1!H2,\")\"),\"\")","v":""},{"$f":"IF(B3<>\"\",\"-\",\"\")","v":""},{"$f":"IF(B3<>\"\",CONCATENATE(+Uitslagen1!L2,\" (\",Uitslagen1!O2,\")\"),\"\")","v":""},{"$f":"IF(B3<>\"\",+Uitslagen1!D2,\"\")","v":""},{"$f":"IF(B3<>\"\",+Uitslagen1!G2,\"\")","v":""},{"$f":"IF(B3<>\"\",\"-\",\"\")","v":""},{"$f":"IF(B3<>\"\",+Uitslagen1!N2,\"\")","v":""},null,null,null,null,null,null,null,null,null,null,null,null,null,null,null,null,null,{"$f":"IF(B3<>\"\",+Uitslagen1!Y2,\"\")","v":""},{"$f":"IF(B3<>\"\",+Uitslagen1!Z2,\"\")","v":""},{"$f":"IF(B3<>\"\",1,\"\")","v":""}]
[{"$f":"+Uitslagen1!A3","v":""},{"$f":"IF(Uitslagen1!A3<>\"\",Uitslagen1!B3,\"\")","v":""},null,{"$f":"IF(B4<>\"\",CONCATENATE(+Uitslagen1!E3,\" (\",Uitslagen1!H3,\")\"),\"\")","v":""},{"$f":"IF(B4<>\"\",\"-\",\"\")","v":""},{"$f":"IF(B4<>\"\",CONCATENATE(+Uitslagen1!L3,\" (\",Uitslagen1!O3,\")\"),\"\")","v":""},{"$f":"IF(B4<>\"\",+Uitslagen1!D3,\"\")","v":""},{"$f":"IF(B4<>\"\",+Uitslagen1!G3,\"\")","v":""},{"$f":"IF(B4<>\"\",\"-\",\"\")","v":""},{"$f":"IF(B4<>\"\",+Uitslagen1!N3,\"\")","v":""},null,null,null,null,null,null,null,null,null,null,null,null,null,null,null,null,null,{"$f":"IF(B4<>\"\",+Uitslagen1!Y3,\"\")","v":""},{"$f":"IF(B4<>\"\",+Uitslagen1!Z3,\"\")","v":""},{"$f":"IF(B4<>\"\",IF(B4=B3,AD3,AD3+1),\"\")","v":""}]
[{"$f":"+Uitslagen1!A4","v":""},{"$f":"IF(Uitslagen1!A4<>\"\",Uitslagen1!B4,\"\")","v":""},null,{"$f":"IF(B5<>\"\",CONCATENATE(+Uitslagen1!E4,\" (\",Uitslagen1!H4,\")\"),\"\")","v":""},"",{"$f":"IF(B5<>\"\",CONCATENATE(+Uitslagen1!L4,\" (\",Uitslagen1!O4,\")\"),\"\")","v":""},{"$f":"IF(B5<>\"\",+Uitslagen1!D4,\"\")","v":""},{"$f":"IF(B5<>\"\",+Uitslagen1!G4,\"\")","v":""},"",{"$f":"IF(B5<>\"\",+Uitslagen1!N4,\"\")","v":""},null,null,null,null,null,null,null,null,null,null,null,null,null,null,null,null,null,{"$f":"IF(B5<>\"\",+Uitslagen1!Y4,\"\")","v":""},{"$f":"IF(B5<>\"\",+Uitslagen1!Z4,\"\")","v":""},{"$f":"IF(B5<>\"\",IF(B5=B4,AD4,AD4+1),\"\")","v":""}]
[{"$f":"+Uitslagen1!A5","v":""},{"$f":"IF(Uitslagen1!A5<>\"\",Uitslagen1!B5,\"\")","v":""},null,{"$f":"IF(B6<>\"\",CONCATENATE(+Uitslagen1!E5,\" (\",Uitslagen1!H5,\")\"),\"\")","v":""},"",{"$f":"IF(B6<>\"\",CONCATENATE(+Uitslagen1!L5,\" (\",Uitslagen1!O5,\")\"),\"\")","v":""},{"$f":"IF(B6<>\"\",+Uitslagen1!D5,\"\")","v":""},{"$f":"IF(B6<>\"\",+Uitslagen1!G5,\"\")","v":""},"",{"$f":"IF(B6<>\"\",+Uitslagen1!N5,\"\")","v":""},null,null,null,null,null,null,null,null,null,null,null,null,null,null,null,null,null,{"$f":"IF(B6<>\"\",+Uitslagen1!Y5,\"\")","v":""},{"$f":"IF(B6<>\"\",+Uitslagen1!Z5,\"\")","v":""},""]
[{"$f":"+Uitslagen1!A6","v":""},{"$f":"IF(Uitslagen1!A6<>\"\",Uitslagen1!B6,\"\")","v":""},null,{"$f":"IF(B7<>\"\",CONCATENATE(+Uitslagen1!E6,\" (\",Uitslagen1!H6,\")\"),\"\")","v":""},"",{"$f":"IF(B7<>\"\",CONCATENATE(+Uitslagen1!L6,\" (\",Uitslagen1!O6,\")\"),\"\")","v":""},{"$f":"IF(B7<>\"\",+Uitslagen1!D6,\"\")","v":""},{"$f":"IF(B7<>\"\",+Uitslagen1!G6,\"\")","v":""},"",{"$f":"IF(B7<>\"\",+Uitslagen1!N6,\"\")","v":""},null,null,null,null,null,null,null,null,null,null,null,null,null,null,null,null,null,{"$f":"IF(B7<>\"\",+Uitslagen1!Y6,\"\")","v":""},{"$f":"IF(B7<>\"\",+Uitslagen1!Z6,\"\")","v":""},""]
[{"$f":"+Uitslagen1!A7","v":""},{"$f":"IF(Uitslagen1!A7<>\"\",Uitslagen1!B7,\"\")","v":""},null,{"$f":"IF(B8<>\"\",CONCATENATE(+Uitslagen1!E7,\" (\",Uitslagen1!H7,\")\"),\"\")","v":""},"",{"$f":"IF(B8<>\"\",CONCATENATE(+Uitslagen1!L7,\" (\",Uitslagen1!O7,\")\"),\"\")","v":""},{"$f":"IF(B8<>\"\",+Uitslagen1!D7,\"\")","v":""},{"$f":"IF(B8<>\"\",+Uitslagen1!G7,\"\")","v":""},"",{"$f":"IF(B8<>\"\",+Uitslagen1!N7,\"\")","v":""},null,null,null,null,null,null,null,null,null,null,null,null,null,null,null,null,null,{"$f":"IF(B8<>\"\",+Uitslagen1!Y7,\"\")","v":""},{"$f":"IF(B8<>\"\",+Uitslagen1!Z7,\"\")","v":""},""]
[{"$f":"+Uitslagen1!A8","v":""},{"$f":"IF(Uitslagen1!A8<>\"\",Uitslagen1!B8,\"\")","v":""},null,{"$f":"IF(B9<>\"\",CONCATENATE(+Uitslagen1!E8,\" (\",Uitslagen1!H8,\")\"),\"\")","v":""},"",{"$f":"IF(B9<>\"\",CONCATENATE(+Uitslagen1!L8,\" (\",Uitslagen1!O8,\")\"),\"\")","v":""},{"$f":"IF(B9<>\"\",+Uitslagen1!D8,\"\")","v":""},{"$f":"IF(B9<>\"\",+Uitslagen1!G8,\"\")","v":""},"",{"$f":"IF(B9<>\"\",+Uitslagen1!N8,\"\")","v":""},null,null,null,null,null,null,null,null,null,null,null,null,null,null,null,null,null,{"$f":"IF(B9<>\"\",+Uitslagen1!Y8,\"\")","v":""},{"$f":"IF(B9<>\"\",+Uitslagen1!Z8,\"\")","v":""},""]
[{"$f":"+Uitslagen1!A9","v":""},{"$f":"IF(Uitslagen1!A9<>\"\",Uitslagen1!B9,\"\")","v":""},null,{"$f":"IF(B10<>\"\",CONCATENATE(+Uitslagen1!E9,\" (\",Uitslagen1!H9,\")\"),\"\")","v":""},"",{"$f":"IF(B10<>\"\",CONCATENATE(+Uitslagen1!L9,\" (\",Uitslagen1!O9,\")\"),\"\")","v":""},{"$f":"IF(B10<>\"\",+Uitslagen1!D9,\"\")","v":""},{"$f":"IF(B10<>\"\",+Uitslagen1!G9,\"\")","v":""},"",{"$f":"IF(B10<>\"\",+Uitslagen1!N9,\"\")","v":""},null,null,null,null,null,null,null,null,null,null,null,null,null,null,null,null,null,{"$f":"IF(B10<>\"\",+Uitslagen1!Y9,\"\")","v":""},{"$f":"IF(B10<>\"\",+Uitslagen1!Z9,\"\")","v":""},""]
[{"$f":"+Uitslagen1!A10","v":""},{"$f":"IF(Uitslagen1!A10<>\"\",Uitslagen1!B10,\"\")","v":""},null,{"$f":"IF(B11<>\"\",CONCATENATE(+Uitslagen1!E10,\" (\",Uitslagen1!H10,\")\"),\"\")","v":""},"",{"$f":"IF(B11<>\"\",CONCATENATE(+Uitslagen1!L10,\" (\",Uitslagen1!O10,\")\"),\"\")","v":""},{"$f":"IF(B11<>\"\",+Uitslagen1!D10,\"\")","v":""},{"$f":"IF(B11<>\"\",+Uitslagen1!G10,\"\")","v":""},"",{"$f":"IF(B11<>\"\",+Uitslagen1!N10,\"\")","v":""},null,null,null,null,null,null,null,null,null,null,null,null,null,null,null,null,null,{"$f":"IF(B11<>\"\",+Uitslagen1!Y10,\"\")","v":""},{"$f":"IF(B11<>\"\",+Uitslagen1!Z10,\"\")","v":""},""]
[{"$f":"+Uitslagen1!A11","v":""},{"$f":"IF(Uitslagen1!A11<>\"\",Uitslagen1!B11,\"\")","v":""},null,{"$f":"IF(B12<>\"\",CONCATENATE(+Uitslagen1!E11,\" (\",Uitslagen1!H11,\")\"),\"\")","v":""},"",{"$f":"IF(B12<>\"\",CONCATENATE(+Uitslagen1!L11,\" (\",Uitslagen1!O11,\")\"),\"\")","v":""},{"$f":"IF(B12<>\"\",+Uitslagen1!D11,\"\")","v":""},{"$f":"IF(B12<>\"\",+Uitslagen1!G11,\"\")","v":""},"",{"$f":"IF(B12<>\"\",+Uitslagen1!N11,\"\")","v":""},null,null,null,null,null,null,null,null,null,null,null,null,null,null,null,null,null,{"$f":"IF(B12<>\"\",+Uitslagen1!Y11,\"\")","v":""},{"$f":"IF(B12<>\"\",+Uitslagen1!Z11,\"\")","v":""},""]
[{"$f":"+Uitslagen1!A12","v":""},{"$f":"IF(Uitslagen1!A12<>\"\",Uitslagen1!B12,\"\")","v":""},null,{"$f":"IF(B13<>\"\",CONCATENATE(+Uitslagen1!E12,\" (\",Uitslagen1!H12,\")\"),\"\")","v":""},"",{"$f":"IF(B13<>\"\",CONCATENATE(+Uitslagen1!L12,\" (\",Uitslagen1!O12,\")\"),\"\")","v":""},{"$f":"IF(B13<>\"\",+Uitslagen1!D12,\"\")","v":""},{"$f":"IF(B13<>\"\",+Uitslagen1!G12,\"\")","v":""},"",{"$f":"IF(B13<>\"\",+Uitslagen1!N12,\"\")","v":""},null,null,null,null,null,null,null,null,null,null,null,null,null,null,null,null,null,{"$f":"IF(B13<>\"\",+Uitslagen1!Y12,\"\")","v":""},{"$f":"IF(B13<>\"\",+Uitslagen1!Z12,\"\")","v":""},""]
[{"$f":"+Uitslagen1!A13","v":""},{"$f":"IF(Uitslagen1!A13<>\"\",Uitslagen1!B13,\"\")","v":""},null,{"$f":"IF(B14<>\"\",CONCATENATE(+Uitslagen1!E13,\" (\",Uitslagen1!H13,\")\"),\"\")","v":""},"",{"$f":"IF(B14<>\"\",CONCATENATE(+Uitslagen1!L13,\" (\",Uitslagen1!O13,\")\"),\"\")","v":""},{"$f":"IF(B14<>\"\",+Uitslagen1!D13,\"\")","v":""},{"$f":"IF(B14<>\"\",+Uitslagen1!G13,\"\")","v":""},"",{"$f":"IF(B14<>\"\",+Uitslagen1!N13,\"\")","v":""},null,null,null,null,null,null,null,null,null,null,null,null,null,null,null,null,null,{"$f":"IF(B14<>\"\",+Uitslagen1!Y13,\"\")","v":""},{"$f":"IF(B14<>\"\",+Uitslagen1!Z13,\"\")","v":""},""]
[{"$f":"+Uitslagen1!A14","v":""},{"$f":"IF(Uitslagen1!A14<>\"\",Uitslagen1!B14,\"\")","v":""},null,{"$f":"IF(B15<>\"\",CONCATENATE(+Uitslagen1!E14,\" (\",Uitslagen1!H14,\")\"),\"\")","v":""},"",{"$f":"IF(B15<>\"\",CONCATENATE(+Uitslagen1!L14,\" (\",Uitslagen1!O14,\")\"),\"\")","v":""},{"$f":"IF(B15<>\"\",+Uitslagen1!D14,\"\")","v":""},{"$f":"IF(B15<>\"\",+Uitslagen1!G14,\"\")","v":""},"",{"$f":"IF(B15<>\"\",+Uitslagen1!N14,\"\")","v":""},null,null,null,null,null,null,null,null,null,null,null,null,null,null,null,null,null,{"$f":"IF(B15<>\"\",+Uitslagen1!Y14,\"\")","v":""},{"$f":"IF(B15<>\"\",+Uitslagen1!Z14,\"\")","v":""},""]
[{"$f":"+Uitslagen1!A15","v":""},{"$f":"IF(Uitslagen1!A15<>\"\",Uitslagen1!B15,\"\")","v":""},null,{"$f":"IF(B16<>\"\",CONCATENATE(+Uitslagen1!E15,\" (\",Uitslagen1!H15,\")\"),\"\")","v":""},"",{"$f":"IF(B16<>\"\",CONCATENATE(+Uitslagen1!L15,\" (\",Uitslagen1!O15,\")\"),\"\")","v":""},{"$f":"IF(B16<>\"\",+Uitslagen1!D15,\"\")","v":""},{"$f":"IF(B16<>\"\",+Uitslagen1!G15,\"\")","v":""},"",{"$f":"IF(B16<>\"\",+Uitslagen1!N15,\"\")","v":""},null,null,null,null,null,null,null,null,null,null,null,null,null,null,null,null,null,{"$f":"IF(B16<>\"\",+Uitslagen1!Y15,\"\")","v":""},{"$f":"IF(B16<>\"\",+Uitslagen1!Z15,\"\")","v":""},""]
[{"$f":"+Uitslagen1!A16","v":""},{"$f":"IF(Uitslagen1!A16<>\"\",Uitslagen1!B16,\"\")","v":""},null,{"$f":"IF(B17<>\"\",CONCATENATE(+Uitslagen1!E16,\" (\",Uitslagen1!H16,\")\"),\"\")","v":""},"",{"$f":"IF(B17<>\"\",CONCATENATE(+Uitslagen1!L16,\" (\",Uitslagen1!O16,\")\"),\"\")","v":""},{"$f":"IF(B17<>\"\",+Uitslagen1!D16,\"\")","v":""},{"$f":"IF(B17<>\"\",+Uitslagen1!G16,\"\")","v":""},"",{"$f":"IF(B17<>\"\",+Uitslagen1!N16,\"\")","v":""},null,null,null,null,null,null,null,null,null,null,null,null,null,null,null,null,null,{"$f":"IF(B17<>\"\",+Uitslagen1!Y16,\"\")","v":""},{"$f":"IF(B17<>\"\",+Uitslagen1!Z16,\"\")","v":""},""]
[{"$f":"+Uitslagen1!A17","v":""},{"$f":"IF(Uitslagen1!A17<>\"\",Uitslagen1!B17,\"\")","v":""},null,{"$f":"IF(B18<>\"\",CONCATENATE(+Uitslagen1!E17,\" (\",Uitslagen1!H17,\")\"),\"\")","v":""},"",{"$f":"IF(B18<>\"\",CONCATENATE(+Uitslagen1!L17,\" (\",Uitslagen1!O17,\")\"),\"\")","v":""},{"$f":"IF(B18<>\"\",+Uitslagen1!D17,\"\")","v":""},{"$f":"IF(B18<>\"\",+Uitslagen1!G17,\"\")","v":""},"",{"$f":"IF(B18<>\"\",+Uitslagen1!N17,\"\")","v":""},null,null,null,null,null,null,null,null,null,null,null,null,null,null,null,null,null,{"$f":"IF(B18<>\"\",+Uitslagen1!Y17,\"\")","v":""},{"$f":"IF(B18<>\"\",+Uitslagen1!Z17,\"\")","v":""},""]
[{"$f":"+Uitslagen1!A18","v":""},{"$f":"IF(Uitslagen1!A18<>\"\",Uitslagen1!B18,\"\")","v":""},null,{"$f":"IF(B19<>\"\",CONCATENATE(+Uitslagen1!E18,\" (\",Uitslagen1!H18,\")\"),\"\")","v":""},"",{"$f":"IF(B19<>\"\",CONCATENATE(+Uitslagen1!L18,\" (\",Uitslagen1!O18,\")\"),\"\")","v":""},{"$f":"IF(B19<>\"\",+Uitslagen1!D18,\"\")","v":""},{"$f":"IF(B19<>\"\",+Uitslagen1!G18,\"\")","v":""},"",{"$f":"IF(B19<>\"\",+Uitslagen1!N18,\"\")","v":""},null,null,null,null,null,null,null,null,null,null,null,null,null,null,null,null,null,{"$f":"IF(B19<>\"\",+Uitslagen1!Y18,\"\")","v":""},{"$f":"IF(B19<>\"\",+Uitslagen1!Z18,\"\")","v":""},""]
[{"$f":"+Uitslagen1!A19","v":""},{"$f":"IF(Uitslagen1!A19<>\"\",Uitslagen1!B19,\"\")","v":""},null,{"$f":"IF(B20<>\"\",CONCATENATE(+Uitslagen1!E19,\" (\",Uitslagen1!H19,\")\"),\"\")","v":""},"",{"$f":"IF(B20<>\"\",CONCATENATE(+Uitslagen1!L19,\" (\",Uitslagen1!O19,\")\"),\"\")","v":""},{"$f":"IF(B20<>\"\",+Uitslagen1!D19,\"\")","v":""},{"$f":"IF(B20<>\"\",+Uitslagen1!G19,\"\")","v":""},"",{"$f":"IF(B20<>\"\",+Uitslagen1!N19,\"\")","v":""},null,null,null,null,null,null,null,null,null,null,null,null,null,null,null,null,null,{"$f":"IF(B20<>\"\",+Uitslagen1!Y19,\"\")","v":""},{"$f":"IF(B20<>\"\",+Uitslagen1!Z19,\"\")","v":""},""]
[{"$f":"+Uitslagen1!A20","v":""},{"$f":"IF(Uitslagen1!A20<>\"\",Uitslagen1!B20,\"\")","v":""},null,{"$f":"IF(B21<>\"\",CONCATENATE(+Uitslagen1!E20,\" (\",Uitslagen1!H20,\")\"),\"\")","v":""},"",{"$f":"IF(B21<>\"\",CONCATENATE(+Uitslagen1!L20,\" (\",Uitslagen1!O20,\")\"),\"\")","v":""},{"$f":"IF(B21<>\"\",+Uitslagen1!D20,\"\")","v":""},{"$f":"IF(B21<>\"\",+Uitslagen1!G20,\"\")","v":""},"",{"$f":"IF(B21<>\"\",+Uitslagen1!N20,\"\")","v":""},null,null,null,null,null,null,null,null,null,null,null,null,null,null,null,null,null,{"$f":"IF(B21<>\"\",+Uitslagen1!Y20,\"\")","v":""},{"$f":"IF(B21<>\"\",+Uitslagen1!Z20,\"\")","v":""},""]
[{"$f":"+Uitslagen1!A21","v":""},{"$f":"IF(Uitslagen1!A21<>\"\",Uitslagen1!B21,\"\")","v":""},null,{"$f":"IF(B22<>\"\",CONCATENATE(+Uitslagen1!E21,\" (\",Uitslagen1!H21,\")\"),\"\")","v":""},"",{"$f":"IF(B22<>\"\",CONCATENATE(+Uitslagen1!L21,\" (\",Uitslagen1!O21,\")\"),\"\")","v":""},{"$f":"IF(B22<>\"\",+Uitslagen1!D21,\"\")","v":""},{"$f":"IF(B22<>\"\",+Uitslagen1!G21,\"\")","v":""},"",{"$f":"IF(B22<>\"\",+Uitslagen1!N21,\"\")","v":""},null,null,null,null,null,null,null,null,null,null,null,null,null,null,null,null,null,{"$f":"IF(B22<>\"\",+Uitslagen1!Y21,\"\")","v":""},{"$f":"IF(B22<>\"\",+Uitslagen1!Z21,\"\")","v":""},""]
[{"$f":"+Uitslagen1!A22","v":""},{"$f":"IF(Uitslagen1!A22<>\"\",Uitslagen1!B22,\"\")","v":""},null,{"$f":"IF(B23<>\"\",CONCATENATE(+Uitslagen1!E22,\" (\",Uitslagen1!H22,\")\"),\"\")","v":""},"",{"$f":"IF(B23<>\"\",CONCATENATE(+Uitslagen1!L22,\" (\",Uitslagen1!O22,\")\"),\"\")","v":""},{"$f":"IF(B23<>\"\",+Uitslagen1!D22,\"\")","v":""},{"$f":"IF(B23<>\"\",+Uitslagen1!G22,\"\")","v":""},"",{"$f":"IF(B23<>\"\",+Uitslagen1!N22,\"\")","v":""},null,null,null,null,null,null,null,null,null,null,null,null,null,null,null,null,null,{"$f":"IF(B23<>\"\",+Uitslagen1!Y22,\"\")","v":""},{"$f":"IF(B23<>\"\",+Uitslagen1!Z22,\"\")","v":""},""]
[{"$f":"+Uitslagen1!A23","v":""},{"$f":"IF(Uitslagen1!A23<>\"\",Uitslagen1!B23,\"\")","v":""},null,{"$f":"IF(B24<>\"\",CONCATENATE(+Uitslagen1!E23,\" (\",Uitslagen1!H23,\")\"),\"\")","v":""},"",{"$f":"IF(B24<>\"\",CONCATENATE(+Uitslagen1!L23,\" (\",Uitslagen1!O23,\")\"),\"\")","v":""},{"$f":"IF(B24<>\"\",+Uitslagen1!D23,\"\")","v":""},{"$f":"IF(B24<>\"\",+Uitslagen1!G23,\"\")","v":""},"",{"$f":"IF(B24<>\"\",+Uitslagen1!N23,\"\")","v":""},null,null,null,null,null,null,null,null,null,null,null,null,null,null,null,null,null,{"$f":"IF(B24<>\"\",+Uitslagen1!Y23,\"\")","v":""},{"$f":"IF(B24<>\"\",+Uitslagen1!Z23,\"\")","v":""},""]
[{"$f":"+Uitslagen1!A24","v":""},{"$f":"IF(Uitslagen1!A24<>\"\",Uitslagen1!B24,\"\")","v":""},null,{"$f":"IF(B25<>\"\",CONCATENATE(+Uitslagen1!E24,\" (\",Uitslagen1!H24,\")\"),\"\")","v":""},"",{"$f":"IF(B25<>\"\",CONCATENATE(+Uitslagen1!L24,\" (\",Uitslagen1!O24,\")\"),\"\")","v":""},{"$f":"IF(B25<>\"\",+Uitslagen1!D24,\"\")","v":""},{"$f":"IF(B25<>\"\",+Uitslagen1!G24,\"\")","v":""},"",{"$f":"IF(B25<>\"\",+Uitslagen1!N24,\"\")","v":""},null,null,null,null,null,null,null,null,null,null,null,null,null,null,null,null,null,{"$f":"IF(B25<>\"\",+Uitslagen1!Y24,\"\")","v":""},{"$f":"IF(B25<>\"\",+Uitslagen1!Z24,\"\")","v":""},""]
[{"$f":"+Uitslagen1!A25","v":""},{"$f":"IF(Uitslagen1!A25<>\"\",Uitslagen1!B25,\"\")","v":""},null,{"$f":"IF(B26<>\"\",CONCATENATE(+Uitslagen1!E25,\" (\",Uitslagen1!H25,\")\"),\"\")","v":""},"",{"$f":"IF(B26<>\"\",CONCATENATE(+Uitslagen1!L25,\" (\",Uitslagen1!O25,\")\"),\"\")","v":""},{"$f":"IF(B26<>\"\",+Uitslagen1!D25,\"\")","v":""},{"$f":"IF(B26<>\"\",+Uitslagen1!G25,\"\")","v":""},"",{"$f":"IF(B26<>\"\",+Uitslagen1!N25,\"\")","v":""},null,null,null,null,null,null,null,null,null,null,null,null,null,null,null,null,null,{"$f":"IF(B26<>\"\",+Uitslagen1!Y25,\"\")","v":""},{"$f":"IF(B26<>\"\",+Uitslagen1!Z25,\"\")","v":""},""]
[{"$f":"+Uitslagen1!A26","v":""},{"$f":"IF(Uitslagen1!A26<>\"\",Uitslagen1!B26,\"\")","v":""},null,{"$f":"IF(B27<>\"\",CONCATENATE(+Uitslagen1!E26,\" (\",Uitslagen1!H26,\")\"),\"\")","v":""},"",{"$f":"IF(B27<>\"\",CONCATENATE(+Uitslagen1!L26,\" (\",Uitslagen1!O26,\")\"),\"\")","v":""},{"$f":"IF(B27<>\"\",+Uitslagen1!D26,\"\")","v":""},{"$f":"IF(B27<>\"\",+Uitslagen1!G26,\"\")","v":""},"",{"$f":"IF(B27<>\"\",+Uitslagen1!N26,\"\")","v":""},null,null,null,null,null,null,null,null,null,null,null,null,null,null,null,null,null,{"$f":"IF(B27<>\"\",+Uitslagen1!Y26,\"\")","v":""},{"$f":"IF(B27<>\"\",+Uitslagen1!Z26,\"\")","v":""},""]
[{"$f":"+Uitslagen1!A27","v":""},{"$f":"IF(Uitslagen1!A27<>\"\",Uitslagen1!B27,\"\")","v":""},null,{"$f":"IF(B28<>\"\",CONCATENATE(+Uitslagen1!E27,\" (\",Uitslagen1!H27,\")\"),\"\")","v":""},"",{"$f":"IF(B28<>\"\",CONCATENATE(+Uitslagen1!L27,\" (\",Uitslagen1!O27,\")\"),\"\")","v":""},{"$f":"IF(B28<>\"\",+Uitslagen1!D27,\"\")","v":""},{"$f":"IF(B28<>\"\",+Uitslagen1!G27,\"\")","v":""},"",{"$f":"IF(B28<>\"\",+Uitslagen1!N27,\"\")","v":""},null,null,null,null,null,null,null,null,null,null,null,null,null,null,null,null,null,{"$f":"IF(B28<>\"\",+Uitslagen1!Y27,\"\")","v":""},{"$f":"IF(B28<>\"\",+Uitslagen1!Z27,\"\")","v":""},""]
[{"$f":"+Uitslagen1!A28","v":""},{"$f":"IF(Uitslagen1!A28<>\"\",Uitslagen1!B28,\"\")","v":""},null,{"$f":"IF(B29<>\"\",CONCATENATE(+Uitslagen1!E28,\" (\",Uitslagen1!H28,\")\"),\"\")","v":""},"",{"$f":"IF(B29<>\"\",CONCATENATE(+Uitslagen1!L28,\" (\",Uitslagen1!O28,\")\"),\"\")","v":""},{"$f":"IF(B29<>\"\",+Uitslagen1!D28,\"\")","v":""},{"$f":"IF(B29<>\"\",+Uitslagen1!G28,\"\")","v":""},"",{"$f":"IF(B29<>\"\",+Uitslagen1!N28,\"\")","v":""},null,null,null,null,null,null,null,null,null,null,null,null,null,null,null,null,null,{"$f":"IF(B29<>\"\",+Uitslagen1!Y28,\"\")","v":""},{"$f":"IF(B29<>\"\",+Uitslagen1!Z28,\"\")","v":""},""]
[{"$f":"+Uitslagen1!A29","v":""},{"$f":"IF(Uitslagen1!A29<>\"\",Uitslagen1!B29,\"\")","v":""},null,{"$f":"IF(B30<>\"\",CONCATENATE(+Uitslagen1!E29,\" (\",Uitslagen1!H29,\")\"),\"\")","v":""},"",{"$f":"IF(B30<>\"\",CONCATENATE(+Uitslagen1!L29,\" (\",Uitslagen1!O29,\")\"),\"\")","v":""},{"$f":"IF(B30<>\"\",+Uitslagen1!D29,\"\")","v":""},{"$f":"IF(B30<>\"\",+Uitslagen1!G29,\"\")","v":""},"",{"$f":"IF(B30<>\"\",+Uitslagen1!N29,\"\")","v":""},null,null,null,null,null,null,null,null,null,null,null,null,null,null,null,null,null,{"$f":"IF(B30<>\"\",+Uitslagen1!Y29,\"\")","v":""},{"$f":"IF(B30<>\"\",+Uitslagen1!Z29,\"\")","v":""},""]
[{"$f":"+Uitslagen1!A30","v":""},{"$f":"IF(Uitslagen1!A30<>\"\",Uitslagen1!B30,\"\")","v":""},null,{"$f":"IF(B31<>\"\",CONCATENATE(+Uitslagen1!E30,\" (\",Uitslagen1!H30,\")\"),\"\")","v":""},"",{"$f":"IF(B31<>\"\",CONCATENATE(+Uitslagen1!L30,\" (\",Uitslagen1!O30,\")\"),\"\")","v":""},{"$f":"IF(B31<>\"\",+Uitslagen1!D30,\"\")","v":""},{"$f":"IF(B31<>\"\",+Uitslagen1!G30,\"\")","v":""},"",{"$f":"IF(B31<>\"\",+Uitslagen1!N30,\"\")","v":""},null,null,null,null,null,null,null,null,null,null,null,null,null,null,null,null,null,{"$f":"IF(B31<>\"\",+Uitslagen1!Y30,\"\")","v":""},{"$f":"IF(B31<>\"\",+Uitslagen1!Z30,\"\")","v":""},""]
[{"$f":"+Uitslagen1!A31","v":""},{"$f":"IF(Uitslagen1!A31<>\"\",Uitslagen1!B31,\"\")","v":""},null,{"$f":"IF(B32<>\"\",CONCATENATE(+Uitslagen1!E31,\" (\",Uitslagen1!H31,\")\"),\"\")","v":""},"",{"$f":"IF(B32<>\"\",CONCATENATE(+Uitslagen1!L31,\" (\",Uitslagen1!O31,\")\"),\"\")","v":""},{"$f":"IF(B32<>\"\",+Uitslagen1!D31,\"\")","v":""},{"$f":"IF(B32<>\"\",+Uitslagen1!G31,\"\")","v":""},"",{"$f":"IF(B32<>\"\",+Uitslagen1!N31,\"\")","v":""},null,null,null,null,null,null,null,null,null,null,null,null,null,null,null,null,null,{"$f":"IF(B32<>\"\",+Uitslagen1!Y31,\"\")","v":""},{"$f":"IF(B32<>\"\",+Uitslagen1!Z31,\"\")","v":""},""]
[{"$f":"+Uitslagen1!A32","v":""},{"$f":"IF(Uitslagen1!A32<>\"\",Uitslagen1!B32,\"\")","v":""},null,{"$f":"IF(B33<>\"\",CONCATENATE(+Uitslagen1!E32,\" (\",Uitslagen1!H32,\")\"),\"\")","v":""},"",{"$f":"IF(B33<>\"\",CONCATENATE(+Uitslagen1!L32,\" (\",Uitslagen1!O32,\")\"),\"\")","v":""},{"$f":"IF(B33<>\"\",+Uitslagen1!D32,\"\")","v":""},{"$f":"IF(B33<>\"\",+Uitslagen1!G32,\"\")","v":""},"",{"$f":"IF(B33<>\"\",+Uitslagen1!N32,\"\")","v":""},null,null,null,null,null,null,null,null,null,null,null,null,null,null,null,null,null,{"$f":"IF(B33<>\"\",+Uitslagen1!Y32,\"\")","v":""},{"$f":"IF(B33<>\"\",+Uitslagen1!Z32,\"\")","v":""},""]
[{"$f":"+Uitslagen1!A33","v":""},{"$f":"IF(Uitslagen1!A33<>\"\",Uitslagen1!B33,\"\")","v":""},null,{"$f":"IF(B34<>\"\",CONCATENATE(+Uitslagen1!E33,\" (\",Uitslagen1!H33,\")\"),\"\")","v":""},"",{"$f":"IF(B34<>\"\",CONCATENATE(+Uitslagen1!L33,\" (\",Uitslagen1!O33,\")\"),\"\")","v":""},{"$f":"IF(B34<>\"\",+Uitslagen1!D33,\"\")","v":""},{"$f":"IF(B34<>\"\",+Uitslagen1!G33,\"\")","v":""},"",{"$f":"IF(B34<>\"\",+Uitslagen1!N33,\"\")","v":""},null,null,null,null,null,null,null,null,null,null,null,null,null,null,null,null,null,{"$f":"IF(B34<>\"\",+Uitslagen1!Y33,\"\")","v":""},{"$f":"IF(B34<>\"\",+Uitslagen1!Z33,\"\")","v":""},""]
[{"$f":"+Uitslagen1!A34","v":""},{"$f":"IF(Uitslagen1!A34<>\"\",Uitslagen1!B34,\"\")","v":""},null,{"$f":"IF(B35<>\"\",CONCATENATE(+Uitslagen1!E34,\" (\",Uitslagen1!H34,\")\"),\"\")","v":""},"",{"$f":"IF(B35<>\"\",CONCATENATE(+Uitslagen1!L34,\" (\",Uitslagen1!O34,\")\"),\"\")","v":""},{"$f":"IF(B35<>\"\",+Uitslagen1!D34,\"\")","v":""},{"$f":"IF(B35<>\"\",+Uitslagen1!G34,\"\")","v":""},"",{"$f":"IF(B35<>\"\",+Uitslagen1!N34,\"\")","v":""},null,null,null,null,null,null,null,null,null,null,null,null,null,null,null,null,null,{"$f":"IF(B35<>\"\",+Uitslagen1!Y34,\"\")","v":""},{"$f":"IF(B35<>\"\",+Uitslagen1!Z34,\"\")","v":""},""]
[{"$f":"+Uitslagen1!A35","v":""},{"$f":"IF(Uitslagen1!A35<>\"\",Uitslagen1!B35,\"\")","v":""},null,{"$f":"IF(B36<>\"\",CONCATENATE(+Uitslagen1!E35,\" (\",Uitslagen1!H35,\")\"),\"\")","v":""},"",{"$f":"IF(B36<>\"\",CONCATENATE(+Uitslagen1!L35,\" (\",Uitslagen1!O35,\")\"),\"\")","v":""},{"$f":"IF(B36<>\"\",+Uitslagen1!D35,\"\")","v":""},{"$f":"IF(B36<>\"\",+Uitslagen1!G35,\"\")","v":""},"",{"$f":"IF(B36<>\"\",+Uitslagen1!N35,\"\")","v":""},null,null,null,null,null,null,null,null,null,null,null,null,null,null,null,null,null,{"$f":"IF(B36<>\"\",+Uitslagen1!Y35,\"\")","v":""},{"$f":"IF(B36<>\"\",+Uitslagen1!Z35,\"\")","v":""},""]
[{"$f":"+Uitslagen1!A36","v":""},{"$f":"IF(Uitslagen1!A36<>\"\",Uitslagen1!B36,\"\")","v":""},null,{"$f":"IF(B37<>\"\",CONCATENATE(+Uitslagen1!E36,\" (\",Uitslagen1!H36,\")\"),\"\")","v":""},"",{"$f":"IF(B37<>\"\",CONCATENATE(+Uitslagen1!L36,\" (\",Uitslagen1!O36,\")\"),\"\")","v":""},{"$f":"IF(B37<>\"\",+Uitslagen1!D36,\"\")","v":""},{"$f":"IF(B37<>\"\",+Uitslagen1!G36,\"\")","v":""},"",{"$f":"IF(B37<>\"\",+Uitslagen1!N36,\"\")","v":""},null,null,null,null,null,null,null,null,null,null,null,null,null,null,null,null,null,{"$f":"IF(B37<>\"\",+Uitslagen1!Y36,\"\")","v":""},{"$f":"IF(B37<>\"\",+Uitslagen1!Z36,\"\")","v":""},""]
[{"$f":"+Uitslagen1!A37","v":""},{"$f":"IF(Uitslagen1!A37<>\"\",Uitslagen1!B37,\"\")","v":""},null,{"$f":"IF(B38<>\"\",CONCATENATE(+Uitslagen1!E37,\" (\",Uitslagen1!H37,\")\"),\"\")","v":""},"",{"$f":"IF(B38<>\"\",CONCATENATE(+Uitslagen1!L37,\" (\",Uitslagen1!O37,\")\"),\"\")","v":""},{"$f":"IF(B38<>\"\",+Uitslagen1!D37,\"\")","v":""},{"$f":"IF(B38<>\"\",+Uitslagen1!G37,\"\")","v":""},"",{"$f":"IF(B38<>\"\",+Uitslagen1!N37,\"\")","v":""},null,null,null,null,null,null,null,null,null,null,null,null,null,null,null,null,null,{"$f":"IF(B38<>\"\",+Uitslagen1!Y37,\"\")","v":""},{"$f":"IF(B38<>\"\",+Uitslagen1!Z37,\"\")","v":""},""]
[{"$f":"+Uitslagen1!A38","v":""},{"$f":"IF(Uitslagen1!A38<>\"\",Uitslagen1!B38,\"\")","v":""},null,{"$f":"IF(B39<>\"\",CONCATENATE(+Uitslagen1!E38,\" (\",Uitslagen1!H38,\")\"),\"\")","v":""},"",{"$f":"IF(B39<>\"\",CONCATENATE(+Uitslagen1!L38,\" (\",Uitslagen1!O38,\")\"),\"\")","v":""},{"$f":"IF(B39<>\"\",+Uitslagen1!D38,\"\")","v":""},{"$f":"IF(B39<>\"\",+Uitslagen1!G38,\"\")","v":""},"",{"$f":"IF(B39<>\"\",+Uitslagen1!N38,\"\")","v":""},null,null,null,null,null,null,null,null,null,null,null,null,null,null,null,null,null,{"$f":"IF(B39<>\"\",+Uitslagen1!Y38,\"\")","v":""},{"$f":"IF(B39<>\"\",+Uitslagen1!Z38,\"\")","v":""},""]
[{"$f":"+Uitslagen1!A39","v":""},{"$f":"IF(Uitslagen1!A39<>\"\",Uitslagen1!B39,\"\")","v":""},null,{"$f":"IF(B40<>\"\",CONCATENATE(+Uitslagen1!E39,\" (\",Uitslagen1!H39,\")\"),\"\")","v":""},"",{"$f":"IF(B40<>\"\",CONCATENATE(+Uitslagen1!L39,\" (\",Uitslagen1!O39,\")\"),\"\")","v":""},{"$f":"IF(B40<>\"\",+Uitslagen1!D39,\"\")","v":""},{"$f":"IF(B40<>\"\",+Uitslagen1!G39,\"\")","v":""},"",{"$f":"IF(B40<>\"\",+Uitslagen1!N39,\"\")","v":""},null,null,null,null,null,null,null,null,null,null,null,null,null,null,null,null,null,{"$f":"IF(B40<>\"\",+Uitslagen1!Y39,\"\")","v":""},{"$f":"IF(B40<>\"\",+Uitslagen1!Z39,\"\")","v":""},""]
[{"$f":"+Uitslagen1!A40","v":""},{"$f":"IF(Uitslagen1!A40<>\"\",Uitslagen1!B40,\"\")","v":""},null,{"$f":"IF(B41<>\"\",CONCATENATE(+Uitslagen1!E40,\" (\",Uitslagen1!H40,\")\"),\"\")","v":""},"",{"$f":"IF(B41<>\"\",CONCATENATE(+Uitslagen1!L40,\" (\",Uitslagen1!O40,\")\"),\"\")","v":""},{"$f":"IF(B41<>\"\",+Uitslagen1!D40,\"\")","v":""},{"$f":"IF(B41<>\"\",+Uitslagen1!G40,\"\")","v":""},"",{"$f":"IF(B41<>\"\",+Uitslagen1!N40,\"\")","v":""},null,null,null,null,null,null,null,null,null,null,null,null,null,null,null,null,null,{"$f":"IF(B41<>\"\",+Uitslagen1!Y40,\"\")","v":""},{"$f":"IF(B41<>\"\",+Uitslagen1!Z40,\"\")","v":""},""]
[{"$f":"+Uitslagen1!A41","v":""},{"$f":"IF(Uitslagen1!A41<>\"\",Uitslagen1!B41,\"\")","v":""},null,{"$f":"IF(B42<>\"\",CONCATENATE(+Uitslagen1!E41,\" (\",Uitslagen1!H41,\")\"),\"\")","v":""},"",{"$f":"IF(B42<>\"\",CONCATENATE(+Uitslagen1!L41,\" (\",Uitslagen1!O41,\")\"),\"\")","v":""},{"$f":"IF(B42<>\"\",+Uitslagen1!D41,\"\")","v":""},{"$f":"IF(B42<>\"\",+Uitslagen1!G41,\"\")","v":""},"",{"$f":"IF(B42<>\"\",+Uitslagen1!N41,\"\")","v":""},null,null,null,null,null,null,null,null,null,null,null,null,null,null,null,null,null,{"$f":"IF(B42<>\"\",+Uitslagen1!Y41,\"\")","v":""},{"$f":"IF(B42<>\"\",+Uitslagen1!Z41,\"\")","v":""},""]
[{"$f":"+Uitslagen1!A42","v":""},{"$f":"IF(Uitslagen1!A42<>\"\",Uitslagen1!B42,\"\")","v":""},null,{"$f":"IF(B43<>\"\",CONCATENATE(+Uitslagen1!E42,\" (\",Uitslagen1!H42,\")\"),\"\")","v":""},"",{"$f":"IF(B43<>\"\",CONCATENATE(+Uitslagen1!L42,\" (\",Uitslagen1!O42,\")\"),\"\")","v":""},{"$f":"IF(B43<>\"\",+Uitslagen1!D42,\"\")","v":""},{"$f":"IF(B43<>\"\",+Uitslagen1!G42,\"\")","v":""},"",{"$f":"IF(B43<>\"\",+Uitslagen1!N42,\"\")","v":""},null,null,null,null,null,null,null,null,null,null,null,null,null,null,null,null,null,{"$f":"IF(B43<>\"\",+Uitslagen1!Y42,\"\")","v":""},{"$f":"IF(B43<>\"\",+Uitslagen1!Z42,\"\")","v":""},""]
[{"$f":"+Uitslagen1!A43","v":""},{"$f":"IF(Uitslagen1!A43<>\"\",Uitslagen1!B43,\"\")","v":""},null,{"$f":"IF(B44<>\"\",CONCATENATE(+Uitslagen1!E43,\" (\",Uitslagen1!H43,\")\"),\"\")","v":""},"",{"$f":"IF(B44<>\"\",CONCATENATE(+Uitslagen1!L43,\" (\",Uitslagen1!O43,\")\"),\"\")","v":""},{"$f":"IF(B44<>\"\",+Uitslagen1!D43,\"\")","v":""},{"$f":"IF(B44<>\"\",+Uitslagen1!G43,\"\")","v":""},"",{"$f":"IF(B44<>\"\",+Uitslagen1!N43,\"\")","v":""},null,null,null,null,null,null,null,null,null,null,null,null,null,null,null,null,null,{"$f":"IF(B44<>\"\",+Uitslagen1!Y43,\"\")","v":""},{"$f":"IF(B44<>\"\",+Uitslagen1!Z43,\"\")","v":""},""]
[{"$f":"+Uitslagen1!A44","v":""},{"$f":"IF(Uitslagen1!A44<>\"\",Uitslagen1!B44,\"\")","v":""},null,{"$f":"IF(B45<>\"\",CONCATENATE(+Uitslagen1!E44,\" (\",Uitslagen1!H44,\")\"),\"\")","v":""},"",{"$f":"IF(B45<>\"\",CONCATENATE(+Uitslagen1!L44,\" (\",Uitslagen1!O44,\")\"),\"\")","v":""},{"$f":"IF(B45<>\"\",+Uitslagen1!D44,\"\")","v":""},{"$f":"IF(B45<>\"\",+Uitslagen1!G44,\"\")","v":""},"",{"$f":"IF(B45<>\"\",+Uitslagen1!N44,\"\")","v":""},null,null,null,null,null,null,null,null,null,null,null,null,null,null,null,null,null,{"$f":"IF(B45<>\"\",+Uitslagen1!Y44,\"\")","v":""},{"$f":"IF(B45<>\"\",+Uitslagen1!Z44,\"\")","v":""},""]
[{"$f":"+Uitslagen1!A45","v":""},{"$f":"IF(Uitslagen1!A45<>\"\",Uitslagen1!B45,\"\")","v":""},null,{"$f":"IF(B46<>\"\",CONCATENATE(+Uitslagen1!E45,\" (\",Uitslagen1!H45,\")\"),\"\")","v":""},"",{"$f":"IF(B46<>\"\",CONCATENATE(+Uitslagen1!L45,\" (\",Uitslagen1!O45,\")\"),\"\")","v":""},{"$f":"IF(B46<>\"\",+Uitslagen1!D45,\"\")","v":""},{"$f":"IF(B46<>\"\",+Uitslagen1!G45,\"\")","v":""},"",{"$f":"IF(B46<>\"\",+Uitslagen1!N45,\"\")","v":""},null,null,null,null,null,null,null,null,null,null,null,null,null,null,null,null,null,{"$f":"IF(B46<>\"\",+Uitslagen1!Y45,\"\")","v":""},{"$f":"IF(B46<>\"\",+Uitslagen1!Z45,\"\")","v":""},""]
[{"$f":"+Uitslagen1!A46","v":""},{"$f":"IF(Uitslagen1!A46<>\"\",Uitslagen1!B46,\"\")","v":""},null,{"$f":"IF(B47<>\"\",CONCATENATE(+Uitslagen1!E46,\" (\",Uitslagen1!H46,\")\"),\"\")","v":""},"",{"$f":"IF(B47<>\"\",CONCATENATE(+Uitslagen1!L46,\" (\",Uitslagen1!O46,\")\"),\"\")","v":""},{"$f":"IF(B47<>\"\",+Uitslagen1!D46,\"\")","v":""},{"$f":"IF(B47<>\"\",+Uitslagen1!G46,\"\")","v":""},"",{"$f":"IF(B47<>\"\",+Uitslagen1!N46,\"\")","v":""},null,null,null,null,null,null,null,null,null,null,null,null,null,null,null,null,null,{"$f":"IF(B47<>\"\",+Uitslagen1!Y46,\"\")","v":""},{"$f":"IF(B47<>\"\",+Uitslagen1!Z46,\"\")","v":""},""]
[{"$f":"+Uitslagen1!A47","v":""},{"$f":"IF(Uitslagen1!A47<>\"\",Uitslagen1!B47,\"\")","v":""},null,{"$f":"IF(B48<>\"\",CONCATENATE(+Uitslagen1!E47,\" (\",Uitslagen1!H47,\")\"),\"\")","v":""},"",{"$f":"IF(B48<>\"\",CONCATENATE(+Uitslagen1!L47,\" (\",Uitslagen1!O47,\")\"),\"\")","v":""},{"$f":"IF(B48<>\"\",+Uitslagen1!D47,\"\")","v":""},{"$f":"IF(B48<>\"\",+Uitslagen1!G47,\"\")","v":""},"",{"$f":"IF(B48<>\"\",+Uitslagen1!N47,\"\")","v":""},null,null,null,null,null,null,null,null,null,null,null,null,null,null,null,null,null,{"$f":"IF(B48<>\"\",+Uitslagen1!Y47,\"\")","v":""},{"$f":"IF(B48<>\"\",+Uitslagen1!Z47,\"\")","v":""},""]
[{"$f":"+Uitslagen1!A48","v":""},{"$f":"IF(Uitslagen1!A48<>\"\",Uitslagen1!B48,\"\")","v":""},null,{"$f":"IF(B49<>\"\",CONCATENATE(+Uitslagen1!E48,\" (\",Uitslagen1!H48,\")\"),\"\")","v":""},"",{"$f":"IF(B49<>\"\",CONCATENATE(+Uitslagen1!L48,\" (\",Uitslagen1!O48,\")\"),\"\")","v":""},{"$f":"IF(B49<>\"\",+Uitslagen1!D48,\"\")","v":""},{"$f":"IF(B49<>\"\",+Uitslagen1!G48,\"\")","v":""},"",{"$f":"IF(B49<>\"\",+Uitslagen1!N48,\"\")","v":""},null,null,null,null,null,null,null,null,null,null,null,null,null,null,null,null,null,{"$f":"IF(B49<>\"\",+Uitslagen1!Y48,\"\")","v":""},{"$f":"IF(B49<>\"\",+Uitslagen1!Z48,\"\")","v":""},""]
[{"$f":"+Uitslagen1!A49","v":""},{"$f":"IF(Uitslagen1!A49<>\"\",Uitslagen1!B49,\"\")","v":""},null,{"$f":"IF(B50<>\"\",CONCATENATE(+Uitslagen1!E49,\" (\",Uitslagen1!H49,\")\"),\"\")","v":""},"",{"$f":"IF(B50<>\"\",CONCATENATE(+Uitslagen1!L49,\" (\",Uitslagen1!O49,\")\"),\"\")","v":""},{"$f":"IF(B50<>\"\",+Uitslagen1!D49,\"\")","v":""},{"$f":"IF(B50<>\"\",+Uitslagen1!G49,\"\")","v":""},"",{"$f":"IF(B50<>\"\",+Uitslagen1!N49,\"\")","v":""},null,null,null,null,null,null,null,null,null,null,null,null,null,null,null,null,null,{"$f":"IF(B50<>\"\",+Uitslagen1!Y49,\"\")","v":""},{"$f":"IF(B50<>\"\",+Uitslagen1!Z49,\"\")","v":""},""]
[{"$f":"+Uitslagen1!A50","v":""},{"$f":"IF(Uitslagen1!A50<>\"\",Uitslagen1!B50,\"\")","v":""},null,{"$f":"IF(B51<>\"\",CONCATENATE(+Uitslagen1!E50,\" (\",Uitslagen1!H50,\")\"),\"\")","v":""},"",{"$f":"IF(B51<>\"\",CONCATENATE(+Uitslagen1!L50,\" (\",Uitslagen1!O50,\")\"),\"\")","v":""},{"$f":"IF(B51<>\"\",+Uitslagen1!D50,\"\")","v":""},{"$f":"IF(B51<>\"\",+Uitslagen1!G50,\"\")","v":""},"",{"$f":"IF(B51<>\"\",+Uitslagen1!N50,\"\")","v":""},null,null,null,null,null,null,null,null,null,null,null,null,null,null,null,null,null,{"$f":"IF(B51<>\"\",+Uitslagen1!Y50,\"\")","v":""},{"$f":"IF(B51<>\"\",+Uitslagen1!Z50,\"\")","v":""},""]
[{"$f":"+Uitslagen1!A51","v":""},{"$f":"IF(Uitslagen1!A51<>\"\",Uitslagen1!B51,\"\")","v":""},null,{"$f":"IF(B52<>\"\",CONCATENATE(+Uitslagen1!E51,\" (\",Uitslagen1!H51,\")\"),\"\")","v":""},"",{"$f":"IF(B52<>\"\",CONCATENATE(+Uitslagen1!L51,\" (\",Uitslagen1!O51,\")\"),\"\")","v":""},{"$f":"IF(B52<>\"\",+Uitslagen1!D51,\"\")","v":""},{"$f":"IF(B52<>\"\",+Uitslagen1!G51,\"\")","v":""},"",{"$f":"IF(B52<>\"\",+Uitslagen1!N51,\"\")","v":""},null,null,null,null,null,null,null,null,null,null,null,null,null,null,null,null,null,{"$f":"IF(B52<>\"\",+Uitslagen1!Y51,\"\")","v":""},{"$f":"IF(B52<>\"\",+Uitslagen1!Z51,\"\")","v":""},""]
[{"$f":"+Uitslagen1!A52","v":""},{"$f":"IF(Uitslagen1!A52<>\"\",Uitslagen1!B52,\"\")","v":""},null,{"$f":"IF(B53<>\"\",CONCATENATE(+Uitslagen1!E52,\" (\",Uitslagen1!H52,\")\"),\"\")","v":""},"",{"$f":"IF(B53<>\"\",CONCATENATE(+Uitslagen1!L52,\" (\",Uitslagen1!O52,\")\"),\"\")","v":""},{"$f":"IF(B53<>\"\",+Uitslagen1!D52,\"\")","v":""},{"$f":"IF(B53<>\"\",+Uitslagen1!G52,\"\")","v":""},"",{"$f":"IF(B53<>\"\",+Uitslagen1!N52,\"\")","v":""},null,null,null,null,null,null,null,null,null,null,null,null,null,null,null,null,null,{"$f":"IF(B53<>\"\",+Uitslagen1!Y52,\"\")","v":""},{"$f":"IF(B53<>\"\",+Uitslagen1!Z52,\"\")","v":""},""]
[{"$f":"+Uitslagen1!A53","v":""},{"$f":"IF(Uitslagen1!A53<>\"\",Uitslagen1!B53,\"\")","v":""},null,{"$f":"IF(B54<>\"\",CONCATENATE(+Uitslagen1!E53,\" (\",Uitslagen1!H53,\")\"),\"\")","v":""},"",{"$f":"IF(B54<>\"\",CONCATENATE(+Uitslagen1!L53,\" (\",Uitslagen1!O53,\")\"),\"\")","v":""},{"$f":"IF(B54<>\"\",+Uitslagen1!D53,\"\")","v":""},{"$f":"IF(B54<>\"\",+Uitslagen1!G53,\"\")","v":""},"",{"$f":"IF(B54<>\"\",+Uitslagen1!N53,\"\")","v":""},null,null,null,null,null,null,null,null,null,null,null,null,null,null,null,null,null,{"$f":"IF(B54<>\"\",+Uitslagen1!Y53,\"\")","v":""},{"$f":"IF(B54<>\"\",+Uitslagen1!Z53,\"\")","v":""},""]
[{"$f":"+Uitslagen1!A54","v":""},{"$f":"IF(Uitslagen1!A54<>\"\",Uitslagen1!B54,\"\")","v":""},null,{"$f":"IF(B55<>\"\",CONCATENATE(+Uitslagen1!E54,\" (\",Uitslagen1!H54,\")\"),\"\")","v":""},"",{"$f":"IF(B55<>\"\",CONCATENATE(+Uitslagen1!L54,\" (\",Uitslagen1!O54,\")\"),\"\")","v":""},{"$f":"IF(B55<>\"\",+Uitslagen1!D54,\"\")","v":""},{"$f":"IF(B55<>\"\",+Uitslagen1!G54,\"\")","v":""},"",{"$f":"IF(B55<>\"\",+Uitslagen1!N54,\"\")","v":""},null,null,null,null,null,null,null,null,null,null,null,null,null,null,null,null,null,{"$f":"IF(B55<>\"\",+Uitslagen1!Y54,\"\")","v":""},{"$f":"IF(B55<>\"\",+Uitslagen1!Z54,\"\")","v":""},""]
[{"$f":"+Uitslagen1!A55","v":""},{"$f":"IF(Uitslagen1!A55<>\"\",Uitslagen1!B55,\"\")","v":""},null,{"$f":"IF(B56<>\"\",CONCATENATE(+Uitslagen1!E55,\" (\",Uitslagen1!H55,\")\"),\"\")","v":""},"",{"$f":"IF(B56<>\"\",CONCATENATE(+Uitslagen1!L55,\" (\",Uitslagen1!O55,\")\"),\"\")","v":""},{"$f":"IF(B56<>\"\",+Uitslagen1!D55,\"\")","v":""},{"$f":"IF(B56<>\"\",+Uitslagen1!G55,\"\")","v":""},"",{"$f":"IF(B56<>\"\",+Uitslagen1!N55,\"\")","v":""},null,null,null,null,null,null,null,null,null,null,null,null,null,null,null,null,null,{"$f":"IF(B56<>\"\",+Uitslagen1!Y55,\"\")","v":""},{"$f":"IF(B56<>\"\",+Uitslagen1!Z55,\"\")","v":""},""]
[{"$f":"+Uitslagen1!A56","v":""},{"$f":"IF(Uitslagen1!A56<>\"\",Uitslagen1!B56,\"\")","v":""},null,{"$f":"IF(B57<>\"\",CONCATENATE(+Uitslagen1!E56,\" (\",Uitslagen1!H56,\")\"),\"\")","v":""},"",{"$f":"IF(B57<>\"\",CONCATENATE(+Uitslagen1!L56,\" (\",Uitslagen1!O56,\")\"),\"\")","v":""},{"$f":"IF(B57<>\"\",+Uitslagen1!D56,\"\")","v":""},{"$f":"IF(B57<>\"\",+Uitslagen1!G56,\"\")","v":""},"",{"$f":"IF(B57<>\"\",+Uitslagen1!N56,\"\")","v":""},null,null,null,null,null,null,null,null,null,null,null,null,null,null,null,null,null,{"$f":"IF(B57<>\"\",+Uitslagen1!Y56,\"\")","v":""},{"$f":"IF(B57<>\"\",+Uitslagen1!Z56,\"\")","v":""},""]
[{"$f":"+Uitslagen1!A57","v":""},{"$f":"IF(Uitslagen1!A57<>\"\",Uitslagen1!B57,\"\")","v":""},null,{"$f":"IF(B58<>\"\",CONCATENATE(+Uitslagen1!E57,\" (\",Uitslagen1!H57,\")\"),\"\")","v":""},"",{"$f":"IF(B58<>\"\",CONCATENATE(+Uitslagen1!L57,\" (\",Uitslagen1!O57,\")\"),\"\")","v":""},{"$f":"IF(B58<>\"\",+Uitslagen1!D57,\"\")","v":""},{"$f":"IF(B58<>\"\",+Uitslagen1!G57,\"\")","v":""},"",{"$f":"IF(B58<>\"\",+Uitslagen1!N57,\"\")","v":""},null,null,null,null,null,null,null,null,null,null,null,null,null,null,null,null,null,{"$f":"IF(B58<>\"\",+Uitslagen1!Y57,\"\")","v":""},{"$f":"IF(B58<>\"\",+Uitslagen1!Z57,\"\")","v":""},""]
[{"$f":"+Uitslagen1!A58","v":""},{"$f":"IF(Uitslagen1!A58<>\"\",Uitslagen1!B58,\"\")","v":""},null,{"$f":"IF(B59<>\"\",CONCATENATE(+Uitslagen1!E58,\" (\",Uitslagen1!H58,\")\"),\"\")","v":""},"",{"$f":"IF(B59<>\"\",CONCATENATE(+Uitslagen1!L58,\" (\",Uitslagen1!O58,\")\"),\"\")","v":""},{"$f":"IF(B59<>\"\",+Uitslagen1!D58,\"\")","v":""},{"$f":"IF(B59<>\"\",+Uitslagen1!G58,\"\")","v":""},"",{"$f":"IF(B59<>\"\",+Uitslagen1!N58,\"\")","v":""},null,null,null,null,null,null,null,null,null,null,null,null,null,null,null,null,null,{"$f":"IF(B59<>\"\",+Uitslagen1!Y58,\"\")","v":""},{"$f":"IF(B59<>\"\",+Uitslagen1!Z58,\"\")","v":""},""]
[{"$f":"+Uitslagen1!A59","v":""},{"$f":"IF(Uitslagen1!A59<>\"\",Uitslagen1!B59,\"\")","v":""},null,{"$f":"IF(B60<>\"\",CONCATENATE(+Uitslagen1!E59,\" (\",Uitslagen1!H59,\")\"),\"\")","v":""},"",{"$f":"IF(B60<>\"\",CONCATENATE(+Uitslagen1!L59,\" (\",Uitslagen1!O59,\")\"),\"\")","v":""},{"$f":"IF(B60<>\"\",+Uitslagen1!D59,\"\")","v":""},{"$f":"IF(B60<>\"\",+Uitslagen1!G59,\"\")","v":""},"",{"$f":"IF(B60<>\"\",+Uitslagen1!N59,\"\")","v":""},null,null,null,null,null,null,null,null,null,null,null,null,null,null,null,null,null,{"$f":"IF(B60<>\"\",+Uitslagen1!Y59,\"\")","v":""},{"$f":"IF(B60<>\"\",+Uitslagen1!Z59,\"\")","v":""},""]
[{"$f":"+Uitslagen1!A60","v":""},{"$f":"IF(Uitslagen1!A60<>\"\",Uitslagen1!B60,\"\")","v":""},null,{"$f":"IF(B61<>\"\",CONCATENATE(+Uitslagen1!E60,\" (\",Uitslagen1!H60,\")\"),\"\")","v":""},"",{"$f":"IF(B61<>\"\",CONCATENATE(+Uitslagen1!L60,\" (\",Uitslagen1!O60,\")\"),\"\")","v":""},{"$f":"IF(B61<>\"\",+Uitslagen1!D60,\"\")","v":""},{"$f":"IF(B61<>\"\",+Uitslagen1!G60,\"\")","v":""},"",{"$f":"IF(B61<>\"\",+Uitslagen1!N60,\"\")","v":""},null,null,null,null,null,null,null,null,null,null,null,null,null,null,null,null,null,{"$f":"IF(B61<>\"\",+Uitslagen1!Y60,\"\")","v":""},{"$f":"IF(B61<>\"\",+Uitslagen1!Z60,\"\")","v":""},""]
[{"$f":"+Uitslagen1!A61","v":""},{"$f":"IF(Uitslagen1!A61<>\"\",Uitslagen1!B61,\"\")","v":""},null,{"$f":"IF(B62<>\"\",CONCATENATE(+Uitslagen1!E61,\" (\",Uitslagen1!H61,\")\"),\"\")","v":""},"",{"$f":"IF(B62<>\"\",CONCATENATE(+Uitslagen1!L61,\" (\",Uitslagen1!O61,\")\"),\"\")","v":""},{"$f":"IF(B62<>\"\",+Uitslagen1!D61,\"\")","v":""},{"$f":"IF(B62<>\"\",+Uitslagen1!G61,\"\")","v":""},"",{"$f":"IF(B62<>\"\",+Uitslagen1!N61,\"\")","v":""},null,null,null,null,null,null,null,null,null,null,null,null,null,null,null,null,null,{"$f":"IF(B62<>\"\",+Uitslagen1!Y61,\"\")","v":""},{"$f":"IF(B62<>\"\",+Uitslagen1!Z61,\"\")","v":""},""]
[{"$f":"+Uitslagen1!A62","v":""},{"$f":"IF(Uitslagen1!A62<>\"\",Uitslagen1!B62,\"\")","v":""},null,{"$f":"IF(B63<>\"\",CONCATENATE(+Uitslagen1!E62,\" (\",Uitslagen1!H62,\")\"),\"\")","v":""},"",{"$f":"IF(B63<>\"\",CONCATENATE(+Uitslagen1!L62,\" (\",Uitslagen1!O62,\")\"),\"\")","v":""},{"$f":"IF(B63<>\"\",+Uitslagen1!D62,\"\")","v":""},{"$f":"IF(B63<>\"\",+Uitslagen1!G62,\"\")","v":""},"",{"$f":"IF(B63<>\"\",+Uitslagen1!N62,\"\")","v":""},null,null,null,null,null,null,null,null,null,null,null,null,null,null,null,null,null,{"$f":"IF(B63<>\"\",+Uitslagen1!Y62,\"\")","v":""},{"$f":"IF(B63<>\"\",+Uitslagen1!Z62,\"\")","v":""},""]
[{"$f":"+Uitslagen1!A63","v":""},{"$f":"IF(Uitslagen1!A63<>\"\",Uitslagen1!B63,\"\")","v":""},null,{"$f":"IF(B64<>\"\",CONCATENATE(+Uitslagen1!E63,\" (\",Uitslagen1!H63,\")\"),\"\")","v":""},"",{"$f":"IF(B64<>\"\",CONCATENATE(+Uitslagen1!L63,\" (\",Uitslagen1!O63,\")\"),\"\")","v":""},{"$f":"IF(B64<>\"\",+Uitslagen1!D63,\"\")","v":""},{"$f":"IF(B64<>\"\",+Uitslagen1!G63,\"\")","v":""},"",{"$f":"IF(B64<>\"\",+Uitslagen1!N63,\"\")","v":""},null,null,null,null,null,null,null,null,null,null,null,null,null,null,null,null,null,{"$f":"IF(B64<>\"\",+Uitslagen1!Y63,\"\")","v":""},{"$f":"IF(B64<>\"\",+Uitslagen1!Z63,\"\")","v":""},""]
[{"$f":"+Uitslagen1!A64","v":""},{"$f":"IF(Uitslagen1!A64<>\"\",Uitslagen1!B64,\"\")","v":""},null,{"$f":"IF(B65<>\"\",CONCATENATE(+Uitslagen1!E64,\" (\",Uitslagen1!H64,\")\"),\"\")","v":""},"",{"$f":"IF(B65<>\"\",CONCATENATE(+Uitslagen1!L64,\" (\",Uitslagen1!O64,\")\"),\"\")","v":""},{"$f":"IF(B65<>\"\",+Uitslagen1!D64,\"\")","v":""},{"$f":"IF(B65<>\"\",+Uitslagen1!G64,\"\")","v":""},"",{"$f":"IF(B65<>\"\",+Uitslagen1!N64,\"\")","v":""},null,null,null,null,null,null,null,null,null,null,null,null,null,null,null,null,null,{"$f":"IF(B65<>\"\",+Uitslagen1!Y64,\"\")","v":""},{"$f":"IF(B65<>\"\",+Uitslagen1!Z64,\"\")","v":""},""]
[{"$f":"+Uitslagen1!A65","v":""},{"$f":"IF(Uitslagen1!A65<>\"\",Uitslagen1!B65,\"\")","v":""},null,{"$f":"IF(B66<>\"\",CONCATENATE(+Uitslagen1!E65,\" (\",Uitslagen1!H65,\")\"),\"\")","v":""},"",{"$f":"IF(B66<>\"\",CONCATENATE(+Uitslagen1!L65,\" (\",Uitslagen1!O65,\")\"),\"\")","v":""},{"$f":"IF(B66<>\"\",+Uitslagen1!D65,\"\")","v":""},{"$f":"IF(B66<>\"\",+Uitslagen1!G65,\"\")","v":""},"",{"$f":"IF(B66<>\"\",+Uitslagen1!N65,\"\")","v":""},null,null,null,null,null,null,null,null,null,null,null,null,null,null,null,null,null,{"$f":"IF(B66<>\"\",+Uitslagen1!Y65,\"\")","v":""},{"$f":"IF(B66<>\"\",+Uitslagen1!Z65,\"\")","v":""},""]
[{"$f":"+Uitslagen1!A66","v":""},{"$f":"IF(Uitslagen1!A66<>\"\",Uitslagen1!B66,\"\")","v":""},null,{"$f":"IF(B67<>\"\",CONCATENATE(+Uitslagen1!E66,\" (\",Uitslagen1!H66,\")\"),\"\")","v":""},"",{"$f":"IF(B67<>\"\",CONCATENATE(+Uitslagen1!L66,\" (\",Uitslagen1!O66,\")\"),\"\")","v":""},{"$f":"IF(B67<>\"\",+Uitslagen1!D66,\"\")","v":""},{"$f":"IF(B67<>\"\",+Uitslagen1!G66,\"\")","v":""},"",{"$f":"IF(B67<>\"\",+Uitslagen1!N66,\"\")","v":""},null,null,null,null,null,null,null,null,null,null,null,null,null,null,null,null,null,{"$f":"IF(B67<>\"\",+Uitslagen1!Y66,\"\")","v":""},{"$f":"IF(B67<>\"\",+Uitslagen1!Z66,\"\")","v":""},""]
[{"$f":"+Uitslagen1!A67","v":""},{"$f":"IF(Uitslagen1!A67<>\"\",Uitslagen1!B67,\"\")","v":""},null,{"$f":"IF(B68<>\"\",CONCATENATE(+Uitslagen1!E67,\" (\",Uitslagen1!H67,\")\"),\"\")","v":""},{"$f":"IF(B68<>\"\",\"-\",\"\")","v":""},{"$f":"IF(B68<>\"\",CONCATENATE(+Uitslagen1!L67,\" (\",Uitslagen1!O67,\")\"),\"\")","v":""},{"$f":"IF(B68<>\"\",+Uitslagen1!D67,\"\")","v":""},{"$f":"IF(B68<>\"\",+Uitslagen1!G67,\"\")","v":""},{"$f":"IF(B68<>\"\",\"-\",\"\")","v":""},{"$f":"IF(B68<>\"\",+Uitslagen1!N67,\"\")","v":""},null,null,null,null,null,null,null,null,null,null,null,null,null,null,null,null,null,{"$f":"IF(B68<>\"\",+Uitslagen1!Y67,\"\")","v":""},{"$f":"IF(B68<>\"\",+Uitslagen1!Z67,\"\")","v":""},""]
[{"$f":"+Uitslagen1!A68","v":""},{"$f":"IF(Uitslagen1!A68<>\"\",Uitslagen1!B68,\"\")","v":""},null,{"$f":"IF(B69<>\"\",CONCATENATE(+Uitslagen1!E68,\" (\",Uitslagen1!H68,\")\"),\"\")","v":""},"",{"$f":"IF(B69<>\"\",CONCATENATE(+Uitslagen1!L68,\" (\",Uitslagen1!O68,\")\"),\"\")","v":""},{"$f":"IF(B69<>\"\",+Uitslagen1!D68,\"\")","v":""},{"$f":"IF(B69<>\"\",+Uitslagen1!G68,\"\")","v":""},"",{"$f":"IF(B69<>\"\",+Uitslagen1!N68,\"\")","v":""},null,null,null,null,null,null,null,null,null,null,null,null,null,null,null,null,null,{"$f":"IF(B69<>\"\",+Uitslagen1!Y68,\"\")","v":""},{"$f":"IF(B69<>\"\",+Uitslagen1!Z68,\"\")","v":""},{"$f":"IF(B69<>\"\",IF(B69=B68,AD68,AD68+1),\"\")","v":""}]
[{"$f":"+Uitslagen1!A69","v":""},{"$f":"IF(Uitslagen1!A69<>\"\",Uitslagen1!B69,\"\")","v":""},null,{"$f":"IF(B70<>\"\",CONCATENATE(+Uitslagen1!E69,\" (\",Uitslagen1!H69,\")\"),\"\")","v":""},"",{"$f":"IF(B70<>\"\",CONCATENATE(+Uitslagen1!L69,\" (\",Uitslagen1!O69,\")\"),\"\")","v":""},{"$f":"IF(B70<>\"\",+Uitslagen1!D69,\"\")","v":""},{"$f":"IF(B70<>\"\",+Uitslagen1!G69,\"\")","v":""},"",{"$f":"IF(B70<>\"\",+Uitslagen1!N69,\"\")","v":""},null,null,null,null,null,null,null,null,null,null,null,null,null,null,null,null,null,{"$f":"IF(B70<>\"\",+Uitslagen1!Y69,\"\")","v":""},{"$f":"IF(B70<>\"\",+Uitslagen1!Z69,\"\")","v":""},""]
[{"$f":"+Uitslagen1!A70","v":""},{"$f":"IF(Uitslagen1!A70<>\"\",Uitslagen1!B70,\"\")","v":""},null,{"$f":"IF(B71<>\"\",CONCATENATE(+Uitslagen1!E70,\" (\",Uitslagen1!H70,\")\"),\"\")","v":""},"",{"$f":"IF(B71<>\"\",CONCATENATE(+Uitslagen1!L70,\" (\",Uitslagen1!O70,\")\"),\"\")","v":""},{"$f":"IF(B71<>\"\",+Uitslagen1!D70,\"\")","v":""},{"$f":"IF(B71<>\"\",+Uitslagen1!G70,\"\")","v":""},"",{"$f":"IF(B71<>\"\",+Uitslagen1!N70,\"\")","v":""},null,null,null,null,null,null,null,null,null,null,null,null,null,null,null,null,null,{"$f":"IF(B71<>\"\",+Uitslagen1!Y70,\"\")","v":""},{"$f":"IF(B71<>\"\",+Uitslagen1!Z70,\"\")","v":""},""]
[{"$f":"+Uitslagen1!A71","v":""},{"$f":"IF(Uitslagen1!A71<>\"\",Uitslagen1!B71,\"\")","v":""},null,{"$f":"IF(B72<>\"\",CONCATENATE(+Uitslagen1!E71,\" (\",Uitslagen1!H71,\")\"),\"\")","v":""},"",{"$f":"IF(B72<>\"\",CONCATENATE(+Uitslagen1!L71,\" (\",Uitslagen1!O71,\")\"),\"\")","v":""},{"$f":"IF(B72<>\"\",+Uitslagen1!D71,\"\")","v":""},{"$f":"IF(B72<>\"\",+Uitslagen1!G71,\"\")","v":""},"",{"$f":"IF(B72<>\"\",+Uitslagen1!N71,\"\")","v":""},null,null,null,null,null,null,null,null,null,null,null,null,null,null,null,null,null,{"$f":"IF(B72<>\"\",+Uitslagen1!Y71,\"\")","v":""},{"$f":"IF(B72<>\"\",+Uitslagen1!Z71,\"\")","v":""},""]
[{"$f":"+Uitslagen1!A72","v":""},{"$f":"IF(Uitslagen1!A72<>\"\",Uitslagen1!B72,\"\")","v":""},null,{"$f":"IF(B73<>\"\",CONCATENATE(+Uitslagen1!E72,\" (\",Uitslagen1!H72,\")\"),\"\")","v":""},"",{"$f":"IF(B73<>\"\",CONCATENATE(+Uitslagen1!L72,\" (\",Uitslagen1!O72,\")\"),\"\")","v":""},{"$f":"IF(B73<>\"\",+Uitslagen1!D72,\"\")","v":""},{"$f":"IF(B73<>\"\",+Uitslagen1!G72,\"\")","v":""},"",{"$f":"IF(B73<>\"\",+Uitslagen1!N72,\"\")","v":""},null,null,null,null,null,null,null,null,null,null,null,null,null,null,null,null,null,{"$f":"IF(B73<>\"\",+Uitslagen1!Y72,\"\")","v":""},{"$f":"IF(B73<>\"\",+Uitslagen1!Z72,\"\")","v":""},""]
[{"$f":"+Uitslagen1!A73","v":""},{"$f":"IF(Uitslagen1!A73<>\"\",Uitslagen1!B73,\"\")","v":""},null,{"$f":"IF(B74<>\"\",CONCATENATE(+Uitslagen1!E73,\" (\",Uitslagen1!H73,\")\"),\"\")","v":""},"",{"$f":"IF(B74<>\"\",CONCATENATE(+Uitslagen1!L73,\" (\",Uitslagen1!O73,\")\"),\"\")","v":""},{"$f":"IF(B74<>\"\",+Uitslagen1!D73,\"\")","v":""},{"$f":"IF(B74<>\"\",+Uitslagen1!G73,\"\")","v":""},"",{"$f":"IF(B74<>\"\",+Uitslagen1!N73,\"\")","v":""},null,null,null,null,null,null,null,null,null,null,null,null,null,null,null,null,null,{"$f":"IF(B74<>\"\",+Uitslagen1!Y73,\"\")","v":""},{"$f":"IF(B74<>\"\",+Uitslagen1!Z73,\"\")","v":""},""]
[{"$f":"+Uitslagen1!A74","v":""},{"$f":"IF(Uitslagen1!A74<>\"\",Uitslagen1!B74,\"\")","v":""},null,{"$f":"IF(B75<>\"\",CONCATENATE(+Uitslagen1!E74,\" (\",Uitslagen1!H74,\")\"),\"\")","v":""},"",{"$f":"IF(B75<>\"\",CONCATENATE(+Uitslagen1!L74,\" (\",Uitslagen1!O74,\")\"),\"\")","v":""},{"$f":"IF(B75<>\"\",+Uitslagen1!D74,\"\")","v":""},{"$f":"IF(B75<>\"\",+Uitslagen1!G74,\"\")","v":""},"",{"$f":"IF(B75<>\"\",+Uitslagen1!N74,\"\")","v":""},null,null,null,null,null,null,null,null,null,null,null,null,null,null,null,null,null,{"$f":"IF(B75<>\"\",+Uitslagen1!Y74,\"\")","v":""},{"$f":"IF(B75<>\"\",+Uitslagen1!Z74,\"\")","v":""},""]
[{"$f":"+Uitslagen1!A75","v":""},{"$f":"IF(Uitslagen1!A75<>\"\",Uitslagen1!B75,\"\")","v":""},null,{"$f":"IF(B76<>\"\",CONCATENATE(+Uitslagen1!E75,\" (\",Uitslagen1!H75,\")\"),\"\")","v":""},"",{"$f":"IF(B76<>\"\",CONCATENATE(+Uitslagen1!L75,\" (\",Uitslagen1!O75,\")\"),\"\")","v":""},{"$f":"IF(B76<>\"\",+Uitslagen1!D75,\"\")","v":""},{"$f":"IF(B76<>\"\",+Uitslagen1!G75,\"\")","v":""},"",{"$f":"IF(B76<>\"\",+Uitslagen1!N75,\"\")","v":""},null,null,null,null,null,null,null,null,null,null,null,null,null,null,null,null,null,{"$f":"IF(B76<>\"\",+Uitslagen1!Y75,\"\")","v":""},{"$f":"IF(B76<>\"\",+Uitslagen1!Z75,\"\")","v":""},""]
[{"$f":"+Uitslagen1!A76","v":""},{"$f":"IF(Uitslagen1!A76<>\"\",Uitslagen1!B76,\"\")","v":""},null,{"$f":"IF(B77<>\"\",CONCATENATE(+Uitslagen1!E76,\" (\",Uitslagen1!H76,\")\"),\"\")","v":""},"",{"$f":"IF(B77<>\"\",CONCATENATE(+Uitslagen1!L76,\" (\",Uitslagen1!O76,\")\"),\"\")","v":""},{"$f":"IF(B77<>\"\",+Uitslagen1!D76,\"\")","v":""},{"$f":"IF(B77<>\"\",+Uitslagen1!G76,\"\")","v":""},"",{"$f":"IF(B77<>\"\",+Uitslagen1!N76,\"\")","v":""},null,null,null,null,null,null,null,null,null,null,null,null,null,null,null,null,null,{"$f":"IF(B77<>\"\",+Uitslagen1!Y76,\"\")","v":""},{"$f":"IF(B77<>\"\",+Uitslagen1!Z76,\"\")","v":""},""]
[{"$f":"+Uitslagen1!A77","v":""},{"$f":"IF(Uitslagen1!A77<>\"\",Uitslagen1!B77,\"\")","v":""},null,{"$f":"IF(B78<>\"\",CONCATENATE(+Uitslagen1!E77,\" (\",Uitslagen1!H77,\")\"),\"\")","v":""},"",{"$f":"IF(B78<>\"\",CONCATENATE(+Uitslagen1!L77,\" (\",Uitslagen1!O77,\")\"),\"\")","v":""},{"$f":"IF(B78<>\"\",+Uitslagen1!D77,\"\")","v":""},{"$f":"IF(B78<>\"\",+Uitslagen1!G77,\"\")","v":""},"",{"$f":"IF(B78<>\"\",+Uitslagen1!N77,\"\")","v":""},null,null,null,null,null,null,null,null,null,null,null,null,null,null,null,null,null,{"$f":"IF(B78<>\"\",+Uitslagen1!Y77,\"\")","v":""},{"$f":"IF(B78<>\"\",+Uitslagen1!Z77,\"\")","v":""},""]
[{"$f":"+Uitslagen1!A78","v":""},{"$f":"IF(Uitslagen1!A78<>\"\",Uitslagen1!B78,\"\")","v":""},null,{"$f":"IF(B79<>\"\",CONCATENATE(+Uitslagen1!E78,\" (\",Uitslagen1!H78,\")\"),\"\")","v":""},"",{"$f":"IF(B79<>\"\",CONCATENATE(+Uitslagen1!L78,\" (\",Uitslagen1!O78,\")\"),\"\")","v":""},{"$f":"IF(B79<>\"\",+Uitslagen1!D78,\"\")","v":""},{"$f":"IF(B79<>\"\",+Uitslagen1!G78,\"\")","v":""},"",{"$f":"IF(B79<>\"\",+Uitslagen1!N78,\"\")","v":""},null,null,null,null,null,null,null,null,null,null,null,null,null,null,null,null,null,{"$f":"IF(B79<>\"\",+Uitslagen1!Y78,\"\")","v":""},{"$f":"IF(B79<>\"\",+Uitslagen1!Z78,\"\")","v":""},""]
[{"$f":"+Uitslagen1!A79","v":""},{"$f":"IF(Uitslagen1!A79<>\"\",Uitslagen1!B79,\"\")","v":""},null,{"$f":"IF(B80<>\"\",CONCATENATE(+Uitslagen1!E79,\" (\",Uitslagen1!H79,\")\"),\"\")","v":""},"",{"$f":"IF(B80<>\"\",CONCATENATE(+Uitslagen1!L79,\" (\",Uitslagen1!O79,\")\"),\"\")","v":""},{"$f":"IF(B80<>\"\",+Uitslagen1!D79,\"\")","v":""},{"$f":"IF(B80<>\"\",+Uitslagen1!G79,\"\")","v":""},"",{"$f":"IF(B80<>\"\",+Uitslagen1!N79,\"\")","v":""},null,null,null,null,null,null,null,null,null,null,null,null,null,null,null,null,null,{"$f":"IF(B80<>\"\",+Uitslagen1!Y79,\"\")","v":""},{"$f":"IF(B80<>\"\",+Uitslagen1!Z79,\"\")","v":""},""]
[{"$f":"+Uitslagen1!A80","v":""},{"$f":"IF(Uitslagen1!A80<>\"\",Uitslagen1!B80,\"\")","v":""},null,{"$f":"IF(B81<>\"\",CONCATENATE(+Uitslagen1!E80,\" (\",Uitslagen1!H80,\")\"),\"\")","v":""},"",{"$f":"IF(B81<>\"\",CONCATENATE(+Uitslagen1!L80,\" (\",Uitslagen1!O80,\")\"),\"\")","v":""},{"$f":"IF(B81<>\"\",+Uitslagen1!D80,\"\")","v":""},{"$f":"IF(B81<>\"\",+Uitslagen1!G80,\"\")","v":""},"",{"$f":"IF(B81<>\"\",+Uitslagen1!N80,\"\")","v":""},null,null,null,null,null,null,null,null,null,null,null,null,null,null,null,null,null,{"$f":"IF(B81<>\"\",+Uitslagen1!Y80,\"\")","v":""},{"$f":"IF(B81<>\"\",+Uitslagen1!Z80,\"\")","v":""},""]
[{"$f":"+Uitslagen1!A81","v":""},{"$f":"IF(Uitslagen1!A81<>\"\",Uitslagen1!B81,\"\")","v":""},null,{"$f":"IF(B82<>\"\",CONCATENATE(+Uitslagen1!E81,\" (\",Uitslagen1!H81,\")\"),\"\")","v":""},"",{"$f":"IF(B82<>\"\",CONCATENATE(+Uitslagen1!L81,\" (\",Uitslagen1!O81,\")\"),\"\")","v":""},{"$f":"IF(B82<>\"\",+Uitslagen1!D81,\"\")","v":""},{"$f":"IF(B82<>\"\",+Uitslagen1!G81,\"\")","v":""},"",{"$f":"IF(B82<>\"\",+Uitslagen1!N81,\"\")","v":""},null,null,null,null,null,null,null,null,null,null,null,null,null,null,null,null,null,{"$f":"IF(B82<>\"\",+Uitslagen1!Y81,\"\")","v":""},{"$f":"IF(B82<>\"\",+Uitslagen1!Z81,\"\")","v":""},""]
[{"$f":"+Uitslagen1!A82","v":""},{"$f":"IF(Uitslagen1!A82<>\"\",Uitslagen1!B82,\"\")","v":""},null,{"$f":"IF(B83<>\"\",CONCATENATE(+Uitslagen1!E82,\" (\",Uitslagen1!H82,\")\"),\"\")","v":""},"",{"$f":"IF(B83<>\"\",CONCATENATE(+Uitslagen1!L82,\" (\",Uitslagen1!O82,\")\"),\"\")","v":""},{"$f":"IF(B83<>\"\",+Uitslagen1!D82,\"\")","v":""},{"$f":"IF(B83<>\"\",+Uitslagen1!G82,\"\")","v":""},"",{"$f":"IF(B83<>\"\",+Uitslagen1!N82,\"\")","v":""},null,null,null,null,null,null,null,null,null,null,null,null,null,null,null,null,null,{"$f":"IF(B83<>\"\",+Uitslagen1!Y82,\"\")","v":""},{"$f":"IF(B83<>\"\",+Uitslagen1!Z82,\"\")","v":""},""]
[{"$f":"+Uitslagen1!A83","v":""},{"$f":"IF(Uitslagen1!A83<>\"\",Uitslagen1!B83,\"\")","v":""},null,{"$f":"IF(B84<>\"\",CONCATENATE(+Uitslagen1!E83,\" (\",Uitslagen1!H83,\")\"),\"\")","v":""},"",{"$f":"IF(B84<>\"\",CONCATENATE(+Uitslagen1!L83,\" (\",Uitslagen1!O83,\")\"),\"\")","v":""},{"$f":"IF(B84<>\"\",+Uitslagen1!D83,\"\")","v":""},{"$f":"IF(B84<>\"\",+Uitslagen1!G83,\"\")","v":""},"",{"$f":"IF(B84<>\"\",+Uitslagen1!N83,\"\")","v":""},null,null,null,null,null,null,null,null,null,null,null,null,null,null,null,null,null,{"$f":"IF(B84<>\"\",+Uitslagen1!Y83,\"\")","v":""},{"$f":"IF(B84<>\"\",+Uitslagen1!Z83,\"\")","v":""},""]
[{"$f":"+Uitslagen1!A84","v":""},{"$f":"IF(Uitslagen1!A84<>\"\",Uitslagen1!B84,\"\")","v":""},null,{"$f":"IF(B85<>\"\",CONCATENATE(+Uitslagen1!E84,\" (\",Uitslagen1!H84,\")\"),\"\")","v":""},"",{"$f":"IF(B85<>\"\",CONCATENATE(+Uitslagen1!L84,\" (\",Uitslagen1!O84,\")\"),\"\")","v":""},{"$f":"IF(B85<>\"\",+Uitslagen1!D84,\"\")","v":""},{"$f":"IF(B85<>\"\",+Uitslagen1!G84,\"\")","v":""},"",{"$f":"IF(B85<>\"\",+Uitslagen1!N84,\"\")","v":""},null,null,null,null,null,null,null,null,null,null,null,null,null,null,null,null,null,{"$f":"IF(B85<>\"\",+Uitslagen1!Y84,\"\")","v":""},{"$f":"IF(B85<>\"\",+Uitslagen1!Z84,\"\")","v":""},""]
[{"$f":"+Uitslagen1!A85","v":""},{"$f":"IF(Uitslagen1!A85<>\"\",Uitslagen1!B85,\"\")","v":""},null,{"$f":"IF(B86<>\"\",CONCATENATE(+Uitslagen1!E85,\" (\",Uitslagen1!H85,\")\"),\"\")","v":""},"",{"$f":"IF(B86<>\"\",CONCATENATE(+Uitslagen1!L85,\" (\",Uitslagen1!O85,\")\"),\"\")","v":""},{"$f":"IF(B86<>\"\",+Uitslagen1!D85,\"\")","v":""},{"$f":"IF(B86<>\"\",+Uitslagen1!G85,\"\")","v":""},"",{"$f":"IF(B86<>\"\",+Uitslagen1!N85,\"\")","v":""},null,null,null,null,null,null,null,null,null,null,null,null,null,null,null,null,null,{"$f":"IF(B86<>\"\",+Uitslagen1!Y85,\"\")","v":""},{"$f":"IF(B86<>\"\",+Uitslagen1!Z85,\"\")","v":""},""]
[{"$f":"+Uitslagen1!A86","v":""},{"$f":"IF(Uitslagen1!A86<>\"\",Uitslagen1!B86,\"\")","v":""},null,{"$f":"IF(B87<>\"\",CONCATENATE(+Uitslagen1!E86,\" (\",Uitslagen1!H86,\")\"),\"\")","v":""},"",{"$f":"IF(B87<>\"\",CONCATENATE(+Uitslagen1!L86,\" (\",Uitslagen1!O86,\")\"),\"\")","v":""},{"$f":"IF(B87<>\"\",+Uitslagen1!D86,\"\")","v":""},{"$f":"IF(B87<>\"\",+Uitslagen1!G86,\"\")","v":""},"",{"$f":"IF(B87<>\"\",+Uitslagen1!N86,\"\")","v":""},null,null,null,null,null,null,null,null,null,null,null,null,null,null,null,null,null,{"$f":"IF(B87<>\"\",+Uitslagen1!Y86,\"\")","v":""},{"$f":"IF(B87<>\"\",+Uitslagen1!Z86,\"\")","v":""},""]
[{"$f":"+Uitslagen1!A87","v":""},{"$f":"IF(Uitslagen1!A87<>\"\",Uitslagen1!B87,\"\")","v":""},null,{"$f":"IF(B88<>\"\",CONCATENATE(+Uitslagen1!E87,\" (\",Uitslagen1!H87,\")\"),\"\")","v":""},"",{"$f":"IF(B88<>\"\",CONCATENATE(+Uitslagen1!L87,\" (\",Uitslagen1!O87,\")\"),\"\")","v":""},{"$f":"IF(B88<>\"\",+Uitslagen1!D87,\"\")","v":""},{"$f":"IF(B88<>\"\",+Uitslagen1!G87,\"\")","v":""},"",{"$f":"IF(B88<>\"\",+Uitslagen1!N87,\"\")","v":""},null,null,null,null,null,null,null,null,null,null,null,null,null,null,null,null,null,{"$f":"IF(B88<>\"\",+Uitslagen1!Y87,\"\")","v":""},{"$f":"IF(B88<>\"\",+Uitslagen1!Z87,\"\")","v":""},""]
[{"$f":"+Uitslagen1!A88","v":""},{"$f":"IF(Uitslagen1!A88<>\"\",Uitslagen1!B88,\"\")","v":""},null,{"$f":"IF(B89<>\"\",CONCATENATE(+Uitslagen1!E88,\" (\",Uitslagen1!H88,\")\"),\"\")","v":""},"",{"$f":"IF(B89<>\"\",CONCATENATE(+Uitslagen1!L88,\" (\",Uitslagen1!O88,\")\"),\"\")","v":""},{"$f":"IF(B89<>\"\",+Uitslagen1!D88,\"\")","v":""},{"$f":"IF(B89<>\"\",+Uitslagen1!G88,\"\")","v":""},"",{"$f":"IF(B89<>\"\",+Uitslagen1!N88,\"\")","v":""},null,null,null,null,null,null,null,null,null,null,null,null,null,null,null,null,null,{"$f":"IF(B89<>\"\",+Uitslagen1!Y88,\"\")","v":""},{"$f":"IF(B89<>\"\",+Uitslagen1!Z88,\"\")","v":""},""]
[{"$f":"+Uitslagen1!A89","v":""},{"$f":"IF(Uitslagen1!A89<>\"\",Uitslagen1!B89,\"\")","v":""},null,{"$f":"IF(B90<>\"\",CONCATENATE(+Uitslagen1!E89,\" (\",Uitslagen1!H89,\")\"),\"\")","v":""},"",{"$f":"IF(B90<>\"\",CONCATENATE(+Uitslagen1!L89,\" (\",Uitslagen1!O89,\")\"),\"\")","v":""},{"$f":"IF(B90<>\"\",+Uitslagen1!D89,\"\")","v":""},{"$f":"IF(B90<>\"\",+Uitslagen1!G89,\"\")","v":""},"",{"$f":"IF(B90<>\"\",+Uitslagen1!N89,\"\")","v":""},null,null,null,null,null,null,null,null,null,null,null,null,null,null,null,null,null,{"$f":"IF(B90<>\"\",+Uitslagen1!Y89,\"\")","v":""},{"$f":"IF(B90<>\"\",+Uitslagen1!Z89,\"\")","v":""},""]
[{"$f":"+Uitslagen1!A90","v":""},{"$f":"IF(Uitslagen1!A90<>\"\",Uitslagen1!B90,\"\")","v":""},null,{"$f":"IF(B91<>\"\",CONCATENATE(+Uitslagen1!E90,\" (\",Uitslagen1!H90,\")\"),\"\")","v":""},"",{"$f":"IF(B91<>\"\",CONCATENATE(+Uitslagen1!L90,\" (\",Uitslagen1!O90,\")\"),\"\")","v":""},{"$f":"IF(B91<>\"\",+Uitslagen1!D90,\"\")","v":""},{"$f":"IF(B91<>\"\",+Uitslagen1!G90,\"\")","v":""},"",{"$f":"IF(B91<>\"\",+Uitslagen1!N90,\"\")","v":""},null,null,null,null,null,null,null,null,null,null,null,null,null,null,null,null,null,{"$f":"IF(B91<>\"\",+Uitslagen1!Y90,\"\")","v":""},{"$f":"IF(B91<>\"\",+Uitslagen1!Z90,\"\")","v":""},""]
[{"$f":"+Uitslagen1!A91","v":""},{"$f":"IF(Uitslagen1!A91<>\"\",Uitslagen1!B91,\"\")","v":""},null,{"$f":"IF(B92<>\"\",CONCATENATE(+Uitslagen1!E91,\" (\",Uitslagen1!H91,\")\"),\"\")","v":""},"",{"$f":"IF(B92<>\"\",CONCATENATE(+Uitslagen1!L91,\" (\",Uitslagen1!O91,\")\"),\"\")","v":""},{"$f":"IF(B92<>\"\",+Uitslagen1!D91,\"\")","v":""},{"$f":"IF(B92<>\"\",+Uitslagen1!G91,\"\")","v":""},"",{"$f":"IF(B92<>\"\",+Uitslagen1!N91,\"\")","v":""},null,null,null,null,null,null,null,null,null,null,null,null,null,null,null,null,null,{"$f":"IF(B92<>\"\",+Uitslagen1!Y91,\"\")","v":""},{"$f":"IF(B92<>\"\",+Uitslagen1!Z91,\"\")","v":""},""]
[{"$f":"+Uitslagen1!A92","v":""},{"$f":"IF(Uitslagen1!A92<>\"\",Uitslagen1!B92,\"\")","v":""},null,{"$f":"IF(B93<>\"\",CONCATENATE(+Uitslagen1!E92,\" (\",Uitslagen1!H92,\")\"),\"\")","v":""},"",{"$f":"IF(B93<>\"\",CONCATENATE(+Uitslagen1!L92,\" (\",Uitslagen1!O92,\")\"),\"\")","v":""},{"$f":"IF(B93<>\"\",+Uitslagen1!D92,\"\")","v":""},{"$f":"IF(B93<>\"\",+Uitslagen1!G92,\"\")","v":""},"",{"$f":"IF(B93<>\"\",+Uitslagen1!N92,\"\")","v":""},null,null,null,null,null,null,null,null,null,null,null,null,null,null,null,null,null,{"$f":"IF(B93<>\"\",+Uitslagen1!Y92,\"\")","v":""},{"$f":"IF(B93<>\"\",+Uitslagen1!Z92,\"\")","v":""},""]
[{"$f":"+Uitslagen1!A93","v":""},{"$f":"IF(Uitslagen1!A93<>\"\",Uitslagen1!B93,\"\")","v":""},null,{"$f":"IF(B94<>\"\",CONCATENATE(+Uitslagen1!E93,\" (\",Uitslagen1!H93,\")\"),\"\")","v":""},"",{"$f":"IF(B94<>\"\",CONCATENATE(+Uitslagen1!L93,\" (\",Uitslagen1!O93,\")\"),\"\")","v":""},{"$f":"IF(B94<>\"\",+Uitslagen1!D93,\"\")","v":""},{"$f":"IF(B94<>\"\",+Uitslagen1!G93,\"\")","v":""},"",{"$f":"IF(B94<>\"\",+Uitslagen1!N93,\"\")","v":""},null,null,null,null,null,null,null,null,null,null,null,null,null,null,null,null,null,{"$f":"IF(B94<>\"\",+Uitslagen1!Y93,\"\")","v":""},{"$f":"IF(B94<>\"\",+Uitslagen1!Z93,\"\")","v":""},""]
[{"$f":"+Uitslagen1!A94","v":""},{"$f":"IF(Uitslagen1!A94<>\"\",Uitslagen1!B94,\"\")","v":""},null,{"$f":"IF(B95<>\"\",CONCATENATE(+Uitslagen1!E94,\" (\",Uitslagen1!H94,\")\"),\"\")","v":""},"",{"$f":"IF(B95<>\"\",CONCATENATE(+Uitslagen1!L94,\" (\",Uitslagen1!O94,\")\"),\"\")","v":""},{"$f":"IF(B95<>\"\",+Uitslagen1!D94,\"\")","v":""},{"$f":"IF(B95<>\"\",+Uitslagen1!G94,\"\")","v":""},"",{"$f":"IF(B95<>\"\",+Uitslagen1!N94,\"\")","v":""},null,null,null,null,null,null,null,null,null,null,null,null,null,null,null,null,null,{"$f":"IF(B95<>\"\",+Uitslagen1!Y94,\"\")","v":""},{"$f":"IF(B95<>\"\",+Uitslagen1!Z94,\"\")","v":""},""]
[{"$f":"+Uitslagen1!A95","v":""},{"$f":"IF(Uitslagen1!A95<>\"\",Uitslagen1!B95,\"\")","v":""},null,{"$f":"IF(B96<>\"\",CONCATENATE(+Uitslagen1!E95,\" (\",Uitslagen1!H95,\")\"),\"\")","v":""},"",{"$f":"IF(B96<>\"\",CONCATENATE(+Uitslagen1!L95,\" (\",Uitslagen1!O95,\")\"),\"\")","v":""},{"$f":"IF(B96<>\"\",+Uitslagen1!D95,\"\")","v":""},{"$f":"IF(B96<>\"\",+Uitslagen1!G95,\"\")","v":""},"",{"$f":"IF(B96<>\"\",+Uitslagen1!N95,\"\")","v":""},null,null,null,null,null,null,null,null,null,null,null,null,null,null,null,null,null,{"$f":"IF(B96<>\"\",+Uitslagen1!Y95,\"\")","v":""},{"$f":"IF(B96<>\"\",+Uitslagen1!Z95,\"\")","v":""},""]
[{"$f":"+Uitslagen1!A96","v":""},{"$f":"IF(Uitslagen1!A96<>\"\",Uitslagen1!B96,\"\")","v":""},null,{"$f":"IF(B97<>\"\",CONCATENATE(+Uitslagen1!E96,\" (\",Uitslagen1!H96,\")\"),\"\")","v":""},"",{"$f":"IF(B97<>\"\",CONCATENATE(+Uitslagen1!L96,\" (\",Uitslagen1!O96,\")\"),\"\")","v":""},{"$f":"IF(B97<>\"\",+Uitslagen1!D96,\"\")","v":""},{"$f":"IF(B97<>\"\",+Uitslagen1!G96,\"\")","v":""},"",{"$f":"IF(B97<>\"\",+Uitslagen1!N96,\"\")","v":""},null,null,null,null,null,null,null,null,null,null,null,null,null,null,null,null,null,{"$f":"IF(B97<>\"\",+Uitslagen1!Y96,\"\")","v":""},{"$f":"IF(B97<>\"\",+Uitslagen1!Z96,\"\")","v":""},""]
[{"$f":"+Uitslagen1!A97","v":""},{"$f":"IF(Uitslagen1!A97<>\"\",Uitslagen1!B97,\"\")","v":""},null,{"$f":"IF(B98<>\"\",CONCATENATE(+Uitslagen1!E97,\" (\",Uitslagen1!H97,\")\"),\"\")","v":""},"",{"$f":"IF(B98<>\"\",CONCATENATE(+Uitslagen1!L97,\" (\",Uitslagen1!O97,\")\"),\"\")","v":""},{"$f":"IF(B98<>\"\",+Uitslagen1!D97,\"\")","v":""},{"$f":"IF(B98<>\"\",+Uitslagen1!G97,\"\")","v":""},"",{"$f":"IF(B98<>\"\",+Uitslagen1!N97,\"\")","v":""},null,null,null,null,null,null,null,null,null,null,null,null,null,null,null,null,null,{"$f":"IF(B98<>\"\",+Uitslagen1!Y97,\"\")","v":""},{"$f":"IF(B98<>\"\",+Uitslagen1!Z97,\"\")","v":""},""]
[{"$f":"+Uitslagen1!A98","v":""},{"$f":"IF(Uitslagen1!A98<>\"\",Uitslagen1!B98,\"\")","v":""},null,{"$f":"IF(B99<>\"\",CONCATENATE(+Uitslagen1!E98,\" (\",Uitslagen1!H98,\")\"),\"\")","v":""},"",{"$f":"IF(B99<>\"\",CONCATENATE(+Uitslagen1!L98,\" (\",Uitslagen1!O98,\")\"),\"\")","v":""},{"$f":"IF(B99<>\"\",+Uitslagen1!D98,\"\")","v":""},{"$f":"IF(B99<>\"\",+Uitslagen1!G98,\"\")","v":""},"",{"$f":"IF(B99<>\"\",+Uitslagen1!N98,\"\")","v":""},null,null,null,null,null,null,null,null,null,null,null,null,null,null,null,null,null,{"$f":"IF(B99<>\"\",+Uitslagen1!Y98,\"\")","v":""},{"$f":"IF(B99<>\"\",+Uitslagen1!Z98,\"\")","v":""},""]
[{"$f":"+Uitslagen1!A99","v":""},{"$f":"IF(Uitslagen1!A99<>\"\",Uitslagen1!B99,\"\")","v":""},null,{"$f":"IF(B100<>\"\",CONCATENATE(+Uitslagen1!E99,\" (\",Uitslagen1!H99,\")\"),\"\")","v":""},"",{"$f":"IF(B100<>\"\",CONCATENATE(+Uitslagen1!L99,\" (\",Uitslagen1!O99,\")\"),\"\")","v":""},{"$f":"IF(B100<>\"\",+Uitslagen1!D99,\"\")","v":""},{"$f":"IF(B100<>\"\",+Uitslagen1!G99,\"\")","v":""},"",{"$f":"IF(B100<>\"\",+Uitslagen1!N99,\"\")","v":""},null,null,null,null,null,null,null,null,null,null,null,null,null,null,null,null,null,{"$f":"IF(B100<>\"\",+Uitslagen1!Y99,\"\")","v":""},{"$f":"IF(B100<>\"\",+Uitslagen1!Z99,\"\")","v":""},""]
[{"$f":"+Uitslagen1!A100","v":""},{"$f":"IF(Uitslagen1!A100<>\"\",Uitslagen1!B100,\"\")","v":""},null,{"$f":"IF(B101<>\"\",CONCATENATE(+Uitslagen1!E100,\" (\",Uitslagen1!H100,\")\"),\"\")","v":""},"",{"$f":"IF(B101<>\"\",CONCATENATE(+Uitslagen1!L100,\" (\",Uitslagen1!O100,\")\"),\"\")","v":""},{"$f":"IF(B101<>\"\",+Uitslagen1!D100,\"\")","v":""},{"$f":"IF(B101<>\"\",+Uitslagen1!G100,\"\")","v":""},"",{"$f":"IF(B101<>\"\",+Uitslagen1!N100,\"\")","v":""},null,null,null,null,null,null,null,null,null,null,null,null,null,null,null,null,null,{"$f":"IF(B101<>\"\",+Uitslagen1!Y100,\"\")","v":""},{"$f":"IF(B101<>\"\",+Uitslagen1!Z100,\"\")","v":""},""]
[{"$f":"+Uitslagen1!A101","v":""},{"$f":"IF(Uitslagen1!A101<>\"\",Uitslagen1!B101,\"\")","v":""},null,{"$f":"IF(B102<>\"\",CONCATENATE(+Uitslagen1!E101,\" (\",Uitslagen1!H101,\")\"),\"\")","v":""},"",{"$f":"IF(B102<>\"\",CONCATENATE(+Uitslagen1!L101,\" (\",Uitslagen1!O101,\")\"),\"\")","v":""},{"$f":"IF(B102<>\"\",+Uitslagen1!D101,\"\")","v":""},{"$f":"IF(B102<>\"\",+Uitslagen1!G101,\"\")","v":""},"",{"$f":"IF(B102<>\"\",+Uitslagen1!N101,\"\")","v":""},null,null,null,null,null,null,null,null,null,null,null,null,null,null,null,null,null,{"$f":"IF(B102<>\"\",+Uitslagen1!Y101,\"\")","v":""},{"$f":"IF(B102<>\"\",+Uitslagen1!Z101,\"\")","v":""},""]
[{"$f":"+Uitslagen1!A102","v":""},{"$f":"IF(Uitslagen1!A102<>\"\",Uitslagen1!B102,\"\")","v":""},null,{"$f":"IF(B103<>\"\",CONCATENATE(+Uitslagen1!E102,\" (\",Uitslagen1!H102,\")\"),\"\")","v":""},"",{"$f":"IF(B103<>\"\",CONCATENATE(+Uitslagen1!L102,\" (\",Uitslagen1!O102,\")\"),\"\")","v":""},{"$f":"IF(B103<>\"\",+Uitslagen1!D102,\"\")","v":""},{"$f":"IF(B103<>\"\",+Uitslagen1!G102,\"\")","v":""},"",{"$f":"IF(B103<>\"\",+Uitslagen1!N102,\"\")","v":""},null,null,null,null,null,null,null,null,null,null,null,null,null,null,null,null,null,{"$f":"IF(B103<>\"\",+Uitslagen1!Y102,\"\")","v":""},{"$f":"IF(B103<>\"\",+Uitslagen1!Z102,\"\")","v":""},""]
[{"$f":"+Uitslagen1!A103","v":""},{"$f":"IF(Uitslagen1!A103<>\"\",Uitslagen1!B103,\"\")","v":""},null,{"$f":"IF(B104<>\"\",CONCATENATE(+Uitslagen1!E103,\" (\",Uitslagen1!H103,\")\"),\"\")","v":""},"",{"$f":"IF(B104<>\"\",CONCATENATE(+Uitslagen1!L103,\" (\",Uitslagen1!O103,\")\"),\"\")","v":""},{"$f":"IF(B104<>\"\",+Uitslagen1!D103,\"\")","v":""},{"$f":"IF(B104<>\"\",+Uitslagen1!G103,\"\")","v":""},"",{"$f":"IF(B104<>\"\",+Uitslagen1!N103,\"\")","v":""},null,null,null,null,null,null,null,null,null,null,null,null,null,null,null,null,null,{"$f":"IF(B104<>\"\",+Uitslagen1!Y103,\"\")","v":""},{"$f":"IF(B104<>\"\",+Uitslagen1!Z103,\"\")","v":""},""]
[{"$f":"+Uitslagen1!A104","v":""},{"$f":"IF(Uitslagen1!A104<>\"\",Uitslagen1!B104,\"\")","v":""},null,{"$f":"IF(B105<>\"\",CONCATENATE(+Uitslagen1!E104,\" (\",Uitslagen1!H104,\")\"),\"\")","v":""},"",{"$f":"IF(B105<>\"\",CONCATENATE(+Uitslagen1!L104,\" (\",Uitslagen1!O104,\")\"),\"\")","v":""},{"$f":"IF(B105<>\"\",+Uitslagen1!D104,\"\")","v":""},{"$f":"IF(B105<>\"\",+Uitslagen1!G104,\"\")","v":""},"",{"$f":"IF(B105<>\"\",+Uitslagen1!N104,\"\")","v":""},null,null,null,null,null,null,null,null,null,null,null,null,null,null,null,null,null,{"$f":"IF(B105<>\"\",+Uitslagen1!Y104,\"\")","v":""},{"$f":"IF(B105<>\"\",+Uitslagen1!Z104,\"\")","v":""},""]
[{"$f":"+Uitslagen1!A105","v":""},{"$f":"IF(Uitslagen1!A105<>\"\",Uitslagen1!B105,\"\")","v":""},null,{"$f":"IF(B106<>\"\",CONCATENATE(+Uitslagen1!E105,\" (\",Uitslagen1!H105,\")\"),\"\")","v":""},"",{"$f":"IF(B106<>\"\",CONCATENATE(+Uitslagen1!L105,\" (\",Uitslagen1!O105,\")\"),\"\")","v":""},{"$f":"IF(B106<>\"\",+Uitslagen1!D105,\"\")","v":""},{"$f":"IF(B106<>\"\",+Uitslagen1!G105,\"\")","v":""},"",{"$f":"IF(B106<>\"\",+Uitslagen1!N105,\"\")","v":""},null,null,null,null,null,null,null,null,null,null,null,null,null,null,null,null,null,{"$f":"IF(B106<>\"\",+Uitslagen1!Y105,\"\")","v":""},{"$f":"IF(B106<>\"\",+Uitslagen1!Z105,\"\")","v":""},""]
[{"$f":"+Uitslagen1!A106","v":""},{"$f":"IF(Uitslagen1!A106<>\"\",Uitslagen1!B106,\"\")","v":""},null,{"$f":"IF(B107<>\"\",CONCATENATE(+Uitslagen1!E106,\" (\",Uitslagen1!H106,\")\"),\"\")","v":""},"",{"$f":"IF(B107<>\"\",CONCATENATE(+Uitslagen1!L106,\" (\",Uitslagen1!O106,\")\"),\"\")","v":""},{"$f":"IF(B107<>\"\",+Uitslagen1!D106,\"\")","v":""},{"$f":"IF(B107<>\"\",+Uitslagen1!G106,\"\")","v":""},"",{"$f":"IF(B107<>\"\",+Uitslagen1!N106,\"\")","v":""},null,null,null,null,null,null,null,null,null,null,null,null,null,null,null,null,null,{"$f":"IF(B107<>\"\",+Uitslagen1!Y106,\"\")","v":""},{"$f":"IF(B107<>\"\",+Uitslagen1!Z106,\"\")","v":""},""]
[{"$f":"+Uitslagen1!A107","v":""},{"$f":"IF(Uitslagen1!A107<>\"\",Uitslagen1!B107,\"\")","v":""},null,{"$f":"IF(B108<>\"\",CONCATENATE(+Uitslagen1!E107,\" (\",Uitslagen1!H107,\")\"),\"\")","v":""},"",{"$f":"IF(B108<>\"\",CONCATENATE(+Uitslagen1!L107,\" (\",Uitslagen1!O107,\")\"),\"\")","v":""},{"$f":"IF(B108<>\"\",+Uitslagen1!D107,\"\")","v":""},{"$f":"IF(B108<>\"\",+Uitslagen1!G107,\"\")","v":""},"",{"$f":"IF(B108<>\"\",+Uitslagen1!N107,\"\")","v":""},null,null,null,null,null,null,null,null,null,null,null,null,null,null,null,null,null,{"$f":"IF(B108<>\"\",+Uitslagen1!Y107,\"\")","v":""},{"$f":"IF(B108<>\"\",+Uitslagen1!Z107,\"\")","v":""},""]
[{"$f":"+Uitslagen1!A108","v":""},{"$f":"IF(Uitslagen1!A108<>\"\",Uitslagen1!B108,\"\")","v":""},null,{"$f":"IF(B109<>\"\",CONCATENATE(+Uitslagen1!E108,\" (\",Uitslagen1!H108,\")\"),\"\")","v":""},"",{"$f":"IF(B109<>\"\",CONCATENATE(+Uitslagen1!L108,\" (\",Uitslagen1!O108,\")\"),\"\")","v":""},{"$f":"IF(B109<>\"\",+Uitslagen1!D108,\"\")","v":""},{"$f":"IF(B109<>\"\",+Uitslagen1!G108,\"\")","v":""},"",{"$f":"IF(B109<>\"\",+Uitslagen1!N108,\"\")","v":""},null,null,null,null,null,null,null,null,null,null,null,null,null,null,null,null,null,{"$f":"IF(B109<>\"\",+Uitslagen1!Y108,\"\")","v":""},{"$f":"IF(B109<>\"\",+Uitslagen1!Z108,\"\")","v":""},""]
[{"$f":"+Uitslagen1!A109","v":""},{"$f":"IF(Uitslagen1!A109<>\"\",Uitslagen1!B109,\"\")","v":""},null,{"$f":"IF(B110<>\"\",CONCATENATE(+Uitslagen1!E109,\" (\",Uitslagen1!H109,\")\"),\"\")","v":""},"",{"$f":"IF(B110<>\"\",CONCATENATE(+Uitslagen1!L109,\" (\",Uitslagen1!O109,\")\"),\"\")","v":""},{"$f":"IF(B110<>\"\",+Uitslagen1!D109,\"\")","v":""},{"$f":"IF(B110<>\"\",+Uitslagen1!G109,\"\")","v":""},"",{"$f":"IF(B110<>\"\",+Uitslagen1!N109,\"\")","v":""},null,null,null,null,null,null,null,null,null,null,null,null,null,null,null,null,null,{"$f":"IF(B110<>\"\",+Uitslagen1!Y109,\"\")","v":""},{"$f":"IF(B110<>\"\",+Uitslagen1!Z109,\"\")","v":""},""]
[{"$f":"+Uitslagen1!A110","v":""},{"$f":"IF(Uitslagen1!A110<>\"\",Uitslagen1!B110,\"\")","v":""},null,{"$f":"IF(B111<>\"\",CONCATENATE(+Uitslagen1!E110,\" (\",Uitslagen1!H110,\")\"),\"\")","v":""},"",{"$f":"IF(B111<>\"\",CONCATENATE(+Uitslagen1!L110,\" (\",Uitslagen1!O110,\")\"),\"\")","v":""},{"$f":"IF(B111<>\"\",+Uitslagen1!D110,\"\")","v":""},{"$f":"IF(B111<>\"\",+Uitslagen1!G110,\"\")","v":""},"",{"$f":"IF(B111<>\"\",+Uitslagen1!N110,\"\")","v":""},null,null,null,null,null,null,null,null,null,null,null,null,null,null,null,null,null,{"$f":"IF(B111<>\"\",+Uitslagen1!Y110,\"\")","v":""},{"$f":"IF(B111<>\"\",+Uitslagen1!Z110,\"\")","v":""},""]
[{"$f":"+Uitslagen1!A111","v":""},{"$f":"IF(Uitslagen1!A111<>\"\",Uitslagen1!B111,\"\")","v":""},null,{"$f":"IF(B112<>\"\",CONCATENATE(+Uitslagen1!E111,\" (\",Uitslagen1!H111,\")\"),\"\")","v":""},"",{"$f":"IF(B112<>\"\",CONCATENATE(+Uitslagen1!L111,\" (\",Uitslagen1!O111,\")\"),\"\")","v":""},{"$f":"IF(B112<>\"\",+Uitslagen1!D111,\"\")","v":""},{"$f":"IF(B112<>\"\",+Uitslagen1!G111,\"\")","v":""},"",{"$f":"IF(B112<>\"\",+Uitslagen1!N111,\"\")","v":""},null,null,null,null,null,null,null,null,null,null,null,null,null,null,null,null,null,{"$f":"IF(B112<>\"\",+Uitslagen1!Y111,\"\")","v":""},{"$f":"IF(B112<>\"\",+Uitslagen1!Z111,\"\")","v":""},""]
[{"$f":"+Uitslagen1!A112","v":""},{"$f":"IF(Uitslagen1!A112<>\"\",Uitslagen1!B112,\"\")","v":""},null,{"$f":"IF(B113<>\"\",CONCATENATE(+Uitslagen1!E112,\" (\",Uitslagen1!H112,\")\"),\"\")","v":""},"",{"$f":"IF(B113<>\"\",CONCATENATE(+Uitslagen1!L112,\" (\",Uitslagen1!O112,\")\"),\"\")","v":""},{"$f":"IF(B113<>\"\",+Uitslagen1!D112,\"\")","v":""},{"$f":"IF(B113<>\"\",+Uitslagen1!G112,\"\")","v":""},"",{"$f":"IF(B113<>\"\",+Uitslagen1!N112,\"\")","v":""},null,null,null,null,null,null,null,null,null,null,null,null,null,null,null,null,null,{"$f":"IF(B113<>\"\",+Uitslagen1!Y112,\"\")","v":""},{"$f":"IF(B113<>\"\",+Uitslagen1!Z112,\"\")","v":""},""]
[{"$f":"+Uitslagen1!A113","v":""},{"$f":"IF(Uitslagen1!A113<>\"\",Uitslagen1!B113,\"\")","v":""},null,{"$f":"IF(B114<>\"\",CONCATENATE(+Uitslagen1!E113,\" (\",Uitslagen1!H113,\")\"),\"\")","v":""},"",{"$f":"IF(B114<>\"\",CONCATENATE(+Uitslagen1!L113,\" (\",Uitslagen1!O113,\")\"),\"\")","v":""},{"$f":"IF(B114<>\"\",+Uitslagen1!D113,\"\")","v":""},{"$f":"IF(B114<>\"\",+Uitslagen1!G113,\"\")","v":""},"",{"$f":"IF(B114<>\"\",+Uitslagen1!N113,\"\")","v":""},null,null,null,null,null,null,null,null,null,null,null,null,null,null,null,null,null,{"$f":"IF(B114<>\"\",+Uitslagen1!Y113,\"\")","v":""},{"$f":"IF(B114<>\"\",+Uitslagen1!Z113,\"\")","v":""},""]
[{"$f":"+Uitslagen1!A114","v":""},{"$f":"IF(Uitslagen1!A114<>\"\",Uitslagen1!B114,\"\")","v":""},null,{"$f":"IF(B115<>\"\",CONCATENATE(+Uitslagen1!E114,\" (\",Uitslagen1!H114,\")\"),\"\")","v":""},"",{"$f":"IF(B115<>\"\",CONCATENATE(+Uitslagen1!L114,\" (\",Uitslagen1!O114,\")\"),\"\")","v":""},{"$f":"IF(B115<>\"\",+Uitslagen1!D114,\"\")","v":""},{"$f":"IF(B115<>\"\",+Uitslagen1!G114,\"\")","v":""},"",{"$f":"IF(B115<>\"\",+Uitslagen1!N114,\"\")","v":""},null,null,null,null,null,null,null,null,null,null,null,null,null,null,null,null,null,{"$f":"IF(B115<>\"\",+Uitslagen1!Y114,\"\")","v":""},{"$f":"IF(B115<>\"\",+Uitslagen1!Z114,\"\")","v":""},""]
[{"$f":"+Uitslagen1!A115","v":""},{"$f":"IF(Uitslagen1!A115<>\"\",Uitslagen1!B115,\"\")","v":""},null,{"$f":"IF(B116<>\"\",CONCATENATE(+Uitslagen1!E115,\" (\",Uitslagen1!H115,\")\"),\"\")","v":""},"",{"$f":"IF(B116<>\"\",CONCATENATE(+Uitslagen1!L115,\" (\",Uitslagen1!O115,\")\"),\"\")","v":""},{"$f":"IF(B116<>\"\",+Uitslagen1!D115,\"\")","v":""},{"$f":"IF(B116<>\"\",+Uitslagen1!G115,\"\")","v":""},"",{"$f":"IF(B116<>\"\",+Uitslagen1!N115,\"\")","v":""},null,null,null,null,null,null,null,null,null,null,null,null,null,null,null,null,null,{"$f":"IF(B116<>\"\",+Uitslagen1!Y115,\"\")","v":""},{"$f":"IF(B116<>\"\",+Uitslagen1!Z115,\"\")","v":""},""]
[{"$f":"+Uitslagen1!A116","v":""},{"$f":"IF(Uitslagen1!A116<>\"\",Uitslagen1!B116,\"\")","v":""},null,{"$f":"IF(B117<>\"\",CONCATENATE(+Uitslagen1!E116,\" (\",Uitslagen1!H116,\")\"),\"\")","v":""},"",{"$f":"IF(B117<>\"\",CONCATENATE(+Uitslagen1!L116,\" (\",Uitslagen1!O116,\")\"),\"\")","v":""},{"$f":"IF(B117<>\"\",+Uitslagen1!D116,\"\")","v":""},{"$f":"IF(B117<>\"\",+Uitslagen1!G116,\"\")","v":""},"",{"$f":"IF(B117<>\"\",+Uitslagen1!N116,\"\")","v":""},null,null,null,null,null,null,null,null,null,null,null,null,null,null,null,null,null,{"$f":"IF(B117<>\"\",+Uitslagen1!Y116,\"\")","v":""},{"$f":"IF(B117<>\"\",+Uitslagen1!Z116,\"\")","v":""},""]
[{"$f":"+Uitslagen1!A117","v":""},{"$f":"IF(Uitslagen1!A117<>\"\",Uitslagen1!B117,\"\")","v":""},null,{"$f":"IF(B118<>\"\",CONCATENATE(+Uitslagen1!E117,\" (\",Uitslagen1!H117,\")\"),\"\")","v":""},"",{"$f":"IF(B118<>\"\",CONCATENATE(+Uitslagen1!L117,\" (\",Uitslagen1!O117,\")\"),\"\")","v":""},{"$f":"IF(B118<>\"\",+Uitslagen1!D117,\"\")","v":""},{"$f":"IF(B118<>\"\",+Uitslagen1!G117,\"\")","v":""},"",{"$f":"IF(B118<>\"\",+Uitslagen1!N117,\"\")","v":""},null,null,null,null,null,null,null,null,null,null,null,null,null,null,null,null,null,{"$f":"IF(B118<>\"\",+Uitslagen1!Y117,\"\")","v":""},{"$f":"IF(B118<>\"\",+Uitslagen1!Z117,\"\")","v":""},""]
[{"$f":"+Uitslagen1!A118","v":""},{"$f":"IF(Uitslagen1!A118<>\"\",Uitslagen1!B118,\"\")","v":""},null,{"$f":"IF(B119<>\"\",CONCATENATE(+Uitslagen1!E118,\" (\",Uitslagen1!H118,\")\"),\"\")","v":""},"",{"$f":"IF(B119<>\"\",CONCATENATE(+Uitslagen1!L118,\" (\",Uitslagen1!O118,\")\"),\"\")","v":""},{"$f":"IF(B119<>\"\",+Uitslagen1!D118,\"\")","v":""},{"$f":"IF(B119<>\"\",+Uitslagen1!G118,\"\")","v":""},"",{"$f":"IF(B119<>\"\",+Uitslagen1!N118,\"\")","v":""},null,null,null,null,null,null,null,null,null,null,null,null,null,null,null,null,null,{"$f":"IF(B119<>\"\",+Uitslagen1!Y118,\"\")","v":""},{"$f":"IF(B119<>\"\",+Uitslagen1!Z118,\"\")","v":""},""]
[{"$f":"+Uitslagen1!A119","v":""},{"$f":"IF(Uitslagen1!A119<>\"\",Uitslagen1!B119,\"\")","v":""},null,{"$f":"IF(B120<>\"\",CONCATENATE(+Uitslagen1!E119,\" (\",Uitslagen1!H119,\")\"),\"\")","v":""},"",{"$f":"IF(B120<>\"\",CONCATENATE(+Uitslagen1!L119,\" (\",Uitslagen1!O119,\")\"),\"\")","v":""},{"$f":"IF(B120<>\"\",+Uitslagen1!D119,\"\")","v":""},{"$f":"IF(B120<>\"\",+Uitslagen1!G119,\"\")","v":""},"",{"$f":"IF(B120<>\"\",+Uitslagen1!N119,\"\")","v":""},null,null,null,null,null,null,null,null,null,null,null,null,null,null,null,null,null,{"$f":"IF(B120<>\"\",+Uitslagen1!Y119,\"\")","v":""},{"$f":"IF(B120<>\"\",+Uitslagen1!Z119,\"\")","v":""},""]
[{"$f":"+Uitslagen1!A120","v":""},{"$f":"IF(Uitslagen1!A120<>\"\",Uitslagen1!B120,\"\")","v":""},null,{"$f":"IF(B121<>\"\",CONCATENATE(+Uitslagen1!E120,\" (\",Uitslagen1!H120,\")\"),\"\")","v":""},"",{"$f":"IF(B121<>\"\",CONCATENATE(+Uitslagen1!L120,\" (\",Uitslagen1!O120,\")\"),\"\")","v":""},{"$f":"IF(B121<>\"\",+Uitslagen1!D120,\"\")","v":""},{"$f":"IF(B121<>\"\",+Uitslagen1!G120,\"\")","v":""},"",{"$f":"IF(B121<>\"\",+Uitslagen1!N120,\"\")","v":""},null,null,null,null,null,null,null,null,null,null,null,null,null,null,null,null,null,{"$f":"IF(B121<>\"\",+Uitslagen1!Y120,\"\")","v":""},{"$f":"IF(B121<>\"\",+Uitslagen1!Z120,\"\")","v":""},""]
[{"$f":"+Uitslagen1!A121","v":""},{"$f":"IF(Uitslagen1!A121<>\"\",Uitslagen1!B121,\"\")","v":""},null,{"$f":"IF(B122<>\"\",CONCATENATE(+Uitslagen1!E121,\" (\",Uitslagen1!H121,\")\"),\"\")","v":""},"",{"$f":"IF(B122<>\"\",CONCATENATE(+Uitslagen1!L121,\" (\",Uitslagen1!O121,\")\"),\"\")","v":""},{"$f":"IF(B122<>\"\",+Uitslagen1!D121,\"\")","v":""},{"$f":"IF(B122<>\"\",+Uitslagen1!G121,\"\")","v":""},"",{"$f":"IF(B122<>\"\",+Uitslagen1!N121,\"\")","v":""},null,null,null,null,null,null,null,null,null,null,null,null,null,null,null,null,null,{"$f":"IF(B122<>\"\",+Uitslagen1!Y121,\"\")","v":""},{"$f":"IF(B122<>\"\",+Uitslagen1!Z121,\"\")","v":""},""]
[{"$f":"+Uitslagen1!A122","v":""},{"$f":"IF(Uitslagen1!A122<>\"\",Uitslagen1!B122,\"\")","v":""},null,{"$f":"IF(B123<>\"\",CONCATENATE(+Uitslagen1!E122,\" (\",Uitslagen1!H122,\")\"),\"\")","v":""},"",{"$f":"IF(B123<>\"\",CONCATENATE(+Uitslagen1!L122,\" (\",Uitslagen1!O122,\")\"),\"\")","v":""},{"$f":"IF(B123<>\"\",+Uitslagen1!D122,\"\")","v":""},{"$f":"IF(B123<>\"\",+Uitslagen1!G122,\"\")","v":""},"",{"$f":"IF(B123<>\"\",+Uitslagen1!N122,\"\")","v":""},null,null,null,null,null,null,null,null,null,null,null,null,null,null,null,null,null,{"$f":"IF(B123<>\"\",+Uitslagen1!Y122,\"\")","v":""},{"$f":"IF(B123<>\"\",+Uitslagen1!Z122,\"\")","v":""},""]
[{"$f":"+Uitslagen1!A123","v":""},{"$f":"IF(Uitslagen1!A123<>\"\",Uitslagen1!B123,\"\")","v":""},null,{"$f":"IF(B124<>\"\",CONCATENATE(+Uitslagen1!E123,\" (\",Uitslagen1!H123,\")\"),\"\")","v":""},"",{"$f":"IF(B124<>\"\",CONCATENATE(+Uitslagen1!L123,\" (\",Uitslagen1!O123,\")\"),\"\")","v":""},{"$f":"IF(B124<>\"\",+Uitslagen1!D123,\"\")","v":""},{"$f":"IF(B124<>\"\",+Uitslagen1!G123,\"\")","v":""},"",{"$f":"IF(B124<>\"\",+Uitslagen1!N123,\"\")","v":""},null,null,null,null,null,null,null,null,null,null,null,null,null,null,null,null,null,{"$f":"IF(B124<>\"\",+Uitslagen1!Y123,\"\")","v":""},{"$f":"IF(B124<>\"\",+Uitslagen1!Z123,\"\")","v":""},""]
[{"$f":"+Uitslagen1!A124","v":""},{"$f":"IF(Uitslagen1!A124<>\"\",Uitslagen1!B124,\"\")","v":""},null,{"$f":"IF(B125<>\"\",CONCATENATE(+Uitslagen1!E124,\" (\",Uitslagen1!H124,\")\"),\"\")","v":""},"",{"$f":"IF(B125<>\"\",CONCATENATE(+Uitslagen1!L124,\" (\",Uitslagen1!O124,\")\"),\"\")","v":""},{"$f":"IF(B125<>\"\",+Uitslagen1!D124,\"\")","v":""},{"$f":"IF(B125<>\"\",+Uitslagen1!G124,\"\")","v":""},"",{"$f":"IF(B125<>\"\",+Uitslagen1!N124,\"\")","v":""},null,null,null,null,null,null,null,null,null,null,null,null,null,null,null,null,null,{"$f":"IF(B125<>\"\",+Uitslagen1!Y124,\"\")","v":""},{"$f":"IF(B125<>\"\",+Uitslagen1!Z124,\"\")","v":""},""]
[{"$f":"+Uitslagen1!A125","v":""},{"$f":"IF(Uitslagen1!A125<>\"\",Uitslagen1!B125,\"\")","v":""},null,{"$f":"IF(B126<>\"\",CONCATENATE(+Uitslagen1!E125,\" (\",Uitslagen1!H125,\")\"),\"\")","v":""},"",{"$f":"IF(B126<>\"\",CONCATENATE(+Uitslagen1!L125,\" (\",Uitslagen1!O125,\")\"),\"\")","v":""},{"$f":"IF(B126<>\"\",+Uitslagen1!D125,\"\")","v":""},{"$f":"IF(B126<>\"\",+Uitslagen1!G125,\"\")","v":""},"",{"$f":"IF(B126<>\"\",+Uitslagen1!N125,\"\")","v":""},null,null,null,null,null,null,null,null,null,null,null,null,null,null,null,null,null,{"$f":"IF(B126<>\"\",+Uitslagen1!Y125,\"\")","v":""},{"$f":"IF(B126<>\"\",+Uitslagen1!Z125,\"\")","v":""},""]
[{"$f":"+Uitslagen1!A126","v":""},{"$f":"IF(Uitslagen1!A126<>\"\",Uitslagen1!B126,\"\")","v":""},null,{"$f":"IF(B127<>\"\",CONCATENATE(+Uitslagen1!E126,\" (\",Uitslagen1!H126,\")\"),\"\")","v":""},"",{"$f":"IF(B127<>\"\",CONCATENATE(+Uitslagen1!L126,\" (\",Uitslagen1!O126,\")\"),\"\")","v":""},{"$f":"IF(B127<>\"\",+Uitslagen1!D126,\"\")","v":""},{"$f":"IF(B127<>\"\",+Uitslagen1!G126,\"\")","v":""},"",{"$f":"IF(B127<>\"\",+Uitslagen1!N126,\"\")","v":""},null,null,null,null,null,null,null,null,null,null,null,null,null,null,null,null,null,{"$f":"IF(B127<>\"\",+Uitslagen1!Y126,\"\")","v":""},{"$f":"IF(B127<>\"\",+Uitslagen1!Z126,\"\")","v":""},""]
[{"$f":"+Uitslagen1!A127","v":""},{"$f":"IF(Uitslagen1!A127<>\"\",Uitslagen1!B127,\"\")","v":""},null,{"$f":"IF(B128<>\"\",CONCATENATE(+Uitslagen1!E127,\" (\",Uitslagen1!H127,\")\"),\"\")","v":""},"",{"$f":"IF(B128<>\"\",CONCATENATE(+Uitslagen1!L127,\" (\",Uitslagen1!O127,\")\"),\"\")","v":""},{"$f":"IF(B128<>\"\",+Uitslagen1!D127,\"\")","v":""},{"$f":"IF(B128<>\"\",+Uitslagen1!G127,\"\")","v":""},"",{"$f":"IF(B128<>\"\",+Uitslagen1!N127,\"\")","v":""},null,null,null,null,null,null,null,null,null,null,null,null,null,null,null,null,null,{"$f":"IF(B128<>\"\",+Uitslagen1!Y127,\"\")","v":""},{"$f":"IF(B128<>\"\",+Uitslagen1!Z127,\"\")","v":""},""]
[{"$f":"+Uitslagen1!A128","v":""},{"$f":"IF(Uitslagen1!A128<>\"\",Uitslagen1!B128,\"\")","v":""},null,{"$f":"IF(B129<>\"\",CONCATENATE(+Uitslagen1!E128,\" (\",Uitslagen1!H128,\")\"),\"\")","v":""},"",{"$f":"IF(B129<>\"\",CONCATENATE(+Uitslagen1!L128,\" (\",Uitslagen1!O128,\")\"),\"\")","v":""},{"$f":"IF(B129<>\"\",+Uitslagen1!D128,\"\")","v":""},{"$f":"IF(B129<>\"\",+Uitslagen1!G128,\"\")","v":""},"",{"$f":"IF(B129<>\"\",+Uitslagen1!N128,\"\")","v":""},null,null,null,null,null,null,null,null,null,null,null,null,null,null,null,null,null,{"$f":"IF(B129<>\"\",+Uitslagen1!Y128,\"\")","v":""},{"$f":"IF(B129<>\"\",+Uitslagen1!Z128,\"\")","v":""},""]
[{"$f":"+Uitslagen1!A129","v":""},{"$f":"IF(Uitslagen1!A129<>\"\",Uitslagen1!B129,\"\")","v":""},null,{"$f":"IF(B130<>\"\",CONCATENATE(+Uitslagen1!E129,\" (\",Uitslagen1!H129,\")\"),\"\")","v":""},"",{"$f":"IF(B130<>\"\",CONCATENATE(+Uitslagen1!L129,\" (\",Uitslagen1!O129,\")\"),\"\")","v":""},{"$f":"IF(B130<>\"\",+Uitslagen1!D129,\"\")","v":""},{"$f":"IF(B130<>\"\",+Uitslagen1!G129,\"\")","v":""},"",{"$f":"IF(B130<>\"\",+Uitslagen1!N129,\"\")","v":""},null,null,null,null,null,null,null,null,null,null,null,null,null,null,null,null,null,{"$f":"IF(B130<>\"\",+Uitslagen1!Y129,\"\")","v":""},{"$f":"IF(B130<>\"\",+Uitslagen1!Z129,\"\")","v":""},""]
[{"$f":"+Uitslagen1!A130","v":""},{"$f":"IF(Uitslagen1!A130<>\"\",Uitslagen1!B130,\"\")","v":""},null,{"$f":"IF(B131<>\"\",CONCATENATE(+Uitslagen1!E130,\" (\",Uitslagen1!H130,\")\"),\"\")","v":""},"",{"$f":"IF(B131<>\"\",CONCATENATE(+Uitslagen1!L130,\" (\",Uitslagen1!O130,\")\"),\"\")","v":""},{"$f":"IF(B131<>\"\",+Uitslagen1!D130,\"\")","v":""},{"$f":"IF(B131<>\"\",+Uitslagen1!G130,\"\")","v":""},"",{"$f":"IF(B131<>\"\",+Uitslagen1!N130,\"\")","v":""},null,null,null,null,null,null,null,null,null,null,null,null,null,null,null,null,null,{"$f":"IF(B131<>\"\",+Uitslagen1!Y130,\"\")","v":""},{"$f":"IF(B131<>\"\",+Uitslagen1!Z130,\"\")","v":""},""]
[{"$f":"+Uitslagen1!A131","v":""},{"$f":"IF(Uitslagen1!A131<>\"\",Uitslagen1!B131,\"\")","v":""},null,{"$f":"IF(B132<>\"\",CONCATENATE(+Uitslagen1!E131,\" (\",Uitslagen1!H131,\")\"),\"\")","v":""},{"$f":"IF(B132<>\"\",\"-\",\"\")","v":""},{"$f":"IF(B132<>\"\",CONCATENATE(+Uitslagen1!L131,\" (\",Uitslagen1!O131,\")\"),\"\")","v":""},{"$f":"IF(B132<>\"\",+Uitslagen1!D131,\"\")","v":""},{"$f":"IF(B132<>\"\",+Uitslagen1!G131,\"\")","v":""},{"$f":"IF(B132<>\"\",\"-\",\"\")","v":""},{"$f":"IF(B132<>\"\",+Uitslagen1!N131,\"\")","v":""},null,null,null,null,null,null,null,null,null,null,null,null,null,null,null,null,null,{"$f":"IF(B132<>\"\",+Uitslagen1!Y131,\"\")","v":""},{"$f":"IF(B132<>\"\",+Uitslagen1!Z131,\"\")","v":""},""]
[{"$f":"+Uitslagen1!A132","v":""},{"$f":"IF(Uitslagen1!A132<>\"\",Uitslagen1!B132,\"\")","v":""},null,{"$f":"IF(B133<>\"\",CONCATENATE(+Uitslagen1!E132,\" (\",Uitslagen1!H132,\")\"),\"\")","v":""},"",{"$f":"IF(B133<>\"\",CONCATENATE(+Uitslagen1!L132,\" (\",Uitslagen1!O132,\")\"),\"\")","v":""},{"$f":"IF(B133<>\"\",+Uitslagen1!D132,\"\")","v":""},{"$f":"IF(B133<>\"\",+Uitslagen1!G132,\"\")","v":""},"",{"$f":"IF(B133<>\"\",+Uitslagen1!N132,\"\")","v":""},null,null,null,null,null,null,null,null,null,null,null,null,null,null,null,null,null,{"$f":"IF(B133<>\"\",+Uitslagen1!Y132,\"\")","v":""},{"$f":"IF(B133<>\"\",+Uitslagen1!Z132,\"\")","v":""},{"$f":"IF(B133<>\"\",IF(B133=B132,AD132,AD132+1),\"\")","v":""}]
[{"$f":"+Uitslagen1!A133","v":""},{"$f":"IF(Uitslagen1!A133<>\"\",Uitslagen1!B133,\"\")","v":""},null,{"$f":"IF(B134<>\"\",CONCATENATE(+Uitslagen1!E133,\" (\",Uitslagen1!H133,\")\"),\"\")","v":""},"",{"$f":"IF(B134<>\"\",CONCATENATE(+Uitslagen1!L133,\" (\",Uitslagen1!O133,\")\"),\"\")","v":""},{"$f":"IF(B134<>\"\",+Uitslagen1!D133,\"\")","v":""},{"$f":"IF(B134<>\"\",+Uitslagen1!G133,\"\")","v":""},"",{"$f":"IF(B134<>\"\",+Uitslagen1!N133,\"\")","v":""},null,null,null,null,null,null,null,null,null,null,null,null,null,null,null,null,null,{"$f":"IF(B134<>\"\",+Uitslagen1!Y133,\"\")","v":""},{"$f":"IF(B134<>\"\",+Uitslagen1!Z133,\"\")","v":""},""]
[{"$f":"+Uitslagen1!A134","v":""},{"$f":"IF(Uitslagen1!A134<>\"\",Uitslagen1!B134,\"\")","v":""},null,{"$f":"IF(B135<>\"\",CONCATENATE(+Uitslagen1!E134,\" (\",Uitslagen1!H134,\")\"),\"\")","v":""},"",{"$f":"IF(B135<>\"\",CONCATENATE(+Uitslagen1!L134,\" (\",Uitslagen1!O134,\")\"),\"\")","v":""},{"$f":"IF(B135<>\"\",+Uitslagen1!D134,\"\")","v":""},{"$f":"IF(B135<>\"\",+Uitslagen1!G134,\"\")","v":""},"",{"$f":"IF(B135<>\"\",+Uitslagen1!N134,\"\")","v":""},null,null,null,null,null,null,null,null,null,null,null,null,null,null,null,null,null,{"$f":"IF(B135<>\"\",+Uitslagen1!Y134,\"\")","v":""},{"$f":"IF(B135<>\"\",+Uitslagen1!Z134,\"\")","v":""},""]
[{"$f":"+Uitslagen1!A135","v":""},{"$f":"IF(Uitslagen1!A135<>\"\",Uitslagen1!B135,\"\")","v":""},null,{"$f":"IF(B136<>\"\",CONCATENATE(+Uitslagen1!E135,\" (\",Uitslagen1!H135,\")\"),\"\")","v":""},"",{"$f":"IF(B136<>\"\",CONCATENATE(+Uitslagen1!L135,\" (\",Uitslagen1!O135,\")\"),\"\")","v":""},{"$f":"IF(B136<>\"\",+Uitslagen1!D135,\"\")","v":""},{"$f":"IF(B136<>\"\",+Uitslagen1!G135,\"\")","v":""},"",{"$f":"IF(B136<>\"\",+Uitslagen1!N135,\"\")","v":""},null,null,null,null,null,null,null,null,null,null,null,null,null,null,null,null,null,{"$f":"IF(B136<>\"\",+Uitslagen1!Y135,\"\")","v":""},{"$f":"IF(B136<>\"\",+Uitslagen1!Z135,\"\")","v":""},""]
[{"$f":"+Uitslagen1!A136","v":""},{"$f":"IF(Uitslagen1!A136<>\"\",Uitslagen1!B136,\"\")","v":""},null,{"$f":"IF(B137<>\"\",CONCATENATE(+Uitslagen1!E136,\" (\",Uitslagen1!H136,\")\"),\"\")","v":""},"",{"$f":"IF(B137<>\"\",CONCATENATE(+Uitslagen1!L136,\" (\",Uitslagen1!O136,\")\"),\"\")","v":""},{"$f":"IF(B137<>\"\",+Uitslagen1!D136,\"\")","v":""},{"$f":"IF(B137<>\"\",+Uitslagen1!G136,\"\")","v":""},"",{"$f":"IF(B137<>\"\",+Uitslagen1!N136,\"\")","v":""},null,null,null,null,null,null,null,null,null,null,null,null,null,null,null,null,null,{"$f":"IF(B137<>\"\",+Uitslagen1!Y136,\"\")","v":""},{"$f":"IF(B137<>\"\",+Uitslagen1!Z136,\"\")","v":""},""]
[{"$f":"+Uitslagen1!A137","v":""},{"$f":"IF(Uitslagen1!A137<>\"\",Uitslagen1!B137,\"\")","v":""},null,{"$f":"IF(B138<>\"\",CONCATENATE(+Uitslagen1!E137,\" (\",Uitslagen1!H137,\")\"),\"\")","v":""},"",{"$f":"IF(B138<>\"\",CONCATENATE(+Uitslagen1!L137,\" (\",Uitslagen1!O137,\")\"),\"\")","v":""},{"$f":"IF(B138<>\"\",+Uitslagen1!D137,\"\")","v":""},{"$f":"IF(B138<>\"\",+Uitslagen1!G137,\"\")","v":""},"",{"$f":"IF(B138<>\"\",+Uitslagen1!N137,\"\")","v":""},null,null,null,null,null,null,null,null,null,null,null,null,null,null,null,null,null,{"$f":"IF(B138<>\"\",+Uitslagen1!Y137,\"\")","v":""},{"$f":"IF(B138<>\"\",+Uitslagen1!Z137,\"\")","v":""},""]
[{"$f":"+Uitslagen1!A138","v":""},{"$f":"IF(Uitslagen1!A138<>\"\",Uitslagen1!B138,\"\")","v":""},null,{"$f":"IF(B139<>\"\",CONCATENATE(+Uitslagen1!E138,\" (\",Uitslagen1!H138,\")\"),\"\")","v":""},"",{"$f":"IF(B139<>\"\",CONCATENATE(+Uitslagen1!L138,\" (\",Uitslagen1!O138,\")\"),\"\")","v":""},{"$f":"IF(B139<>\"\",+Uitslagen1!D138,\"\")","v":""},{"$f":"IF(B139<>\"\",+Uitslagen1!G138,\"\")","v":""},"",{"$f":"IF(B139<>\"\",+Uitslagen1!N138,\"\")","v":""},null,null,null,null,null,null,null,null,null,null,null,null,null,null,null,null,null,{"$f":"IF(B139<>\"\",+Uitslagen1!Y138,\"\")","v":""},{"$f":"IF(B139<>\"\",+Uitslagen1!Z138,\"\")","v":""},""]
[{"$f":"+Uitslagen1!A139","v":""},{"$f":"IF(Uitslagen1!A139<>\"\",Uitslagen1!B139,\"\")","v":""},null,{"$f":"IF(B140<>\"\",CONCATENATE(+Uitslagen1!E139,\" (\",Uitslagen1!H139,\")\"),\"\")","v":""},"",{"$f":"IF(B140<>\"\",CONCATENATE(+Uitslagen1!L139,\" (\",Uitslagen1!O139,\")\"),\"\")","v":""},{"$f":"IF(B140<>\"\",+Uitslagen1!D139,\"\")","v":""},{"$f":"IF(B140<>\"\",+Uitslagen1!G139,\"\")","v":""},"",{"$f":"IF(B140<>\"\",+Uitslagen1!N139,\"\")","v":""},null,null,null,null,null,null,null,null,null,null,null,null,null,null,null,null,null,{"$f":"IF(B140<>\"\",+Uitslagen1!Y139,\"\")","v":""},{"$f":"IF(B140<>\"\",+Uitslagen1!Z139,\"\")","v":""},""]
[{"$f":"+Uitslagen1!A140","v":""},{"$f":"IF(Uitslagen1!A140<>\"\",Uitslagen1!B140,\"\")","v":""},null,{"$f":"IF(B141<>\"\",CONCATENATE(+Uitslagen1!E140,\" (\",Uitslagen1!H140,\")\"),\"\")","v":""},"",{"$f":"IF(B141<>\"\",CONCATENATE(+Uitslagen1!L140,\" (\",Uitslagen1!O140,\")\"),\"\")","v":""},{"$f":"IF(B141<>\"\",+Uitslagen1!D140,\"\")","v":""},{"$f":"IF(B141<>\"\",+Uitslagen1!G140,\"\")","v":""},"",{"$f":"IF(B141<>\"\",+Uitslagen1!N140,\"\")","v":""},null,null,null,null,null,null,null,null,null,null,null,null,null,null,null,null,null,{"$f":"IF(B141<>\"\",+Uitslagen1!Y140,\"\")","v":""},{"$f":"IF(B141<>\"\",+Uitslagen1!Z140,\"\")","v":""},""]
[{"$f":"+Uitslagen1!A141","v":""},{"$f":"IF(Uitslagen1!A141<>\"\",Uitslagen1!B141,\"\")","v":""},null,{"$f":"IF(B142<>\"\",CONCATENATE(+Uitslagen1!E141,\" (\",Uitslagen1!H141,\")\"),\"\")","v":""},"",{"$f":"IF(B142<>\"\",CONCATENATE(+Uitslagen1!L141,\" (\",Uitslagen1!O141,\")\"),\"\")","v":""},{"$f":"IF(B142<>\"\",+Uitslagen1!D141,\"\")","v":""},{"$f":"IF(B142<>\"\",+Uitslagen1!G141,\"\")","v":""},"",{"$f":"IF(B142<>\"\",+Uitslagen1!N141,\"\")","v":""},null,null,null,null,null,null,null,null,null,null,null,null,null,null,null,null,null,{"$f":"IF(B142<>\"\",+Uitslagen1!Y141,\"\")","v":""},{"$f":"IF(B142<>\"\",+Uitslagen1!Z141,\"\")","v":""},""]
[{"$f":"+Uitslagen1!A142","v":""},{"$f":"IF(Uitslagen1!A142<>\"\",Uitslagen1!B142,\"\")","v":""},null,{"$f":"IF(B143<>\"\",CONCATENATE(+Uitslagen1!E142,\" (\",Uitslagen1!H142,\")\"),\"\")","v":""},"",{"$f":"IF(B143<>\"\",CONCATENATE(+Uitslagen1!L142,\" (\",Uitslagen1!O142,\")\"),\"\")","v":""},{"$f":"IF(B143<>\"\",+Uitslagen1!D142,\"\")","v":""},{"$f":"IF(B143<>\"\",+Uitslagen1!G142,\"\")","v":""},"",{"$f":"IF(B143<>\"\",+Uitslagen1!N142,\"\")","v":""},null,null,null,null,null,null,null,null,null,null,null,null,null,null,null,null,null,{"$f":"IF(B143<>\"\",+Uitslagen1!Y142,\"\")","v":""},{"$f":"IF(B143<>\"\",+Uitslagen1!Z142,\"\")","v":""},""]
[{"$f":"+Uitslagen1!A143","v":""},{"$f":"IF(Uitslagen1!A143<>\"\",Uitslagen1!B143,\"\")","v":""},null,{"$f":"IF(B144<>\"\",CONCATENATE(+Uitslagen1!E143,\" (\",Uitslagen1!H143,\")\"),\"\")","v":""},"",{"$f":"IF(B144<>\"\",CONCATENATE(+Uitslagen1!L143,\" (\",Uitslagen1!O143,\")\"),\"\")","v":""},{"$f":"IF(B144<>\"\",+Uitslagen1!D143,\"\")","v":""},{"$f":"IF(B144<>\"\",+Uitslagen1!G143,\"\")","v":""},"",{"$f":"IF(B144<>\"\",+Uitslagen1!N143,\"\")","v":""},null,null,null,null,null,null,null,null,null,null,null,null,null,null,null,null,null,{"$f":"IF(B144<>\"\",+Uitslagen1!Y143,\"\")","v":""},{"$f":"IF(B144<>\"\",+Uitslagen1!Z143,\"\")","v":""},""]
[{"$f":"+Uitslagen1!A144","v":""},{"$f":"IF(Uitslagen1!A144<>\"\",Uitslagen1!B144,\"\")","v":""},null,{"$f":"IF(B145<>\"\",CONCATENATE(+Uitslagen1!E144,\" (\",Uitslagen1!H144,\")\"),\"\")","v":""},"",{"$f":"IF(B145<>\"\",CONCATENATE(+Uitslagen1!L144,\" (\",Uitslagen1!O144,\")\"),\"\")","v":""},{"$f":"IF(B145<>\"\",+Uitslagen1!D144,\"\")","v":""},{"$f":"IF(B145<>\"\",+Uitslagen1!G144,\"\")","v":""},"",{"$f":"IF(B145<>\"\",+Uitslagen1!N144,\"\")","v":""},null,null,null,null,null,null,null,null,null,null,null,null,null,null,null,null,null,{"$f":"IF(B145<>\"\",+Uitslagen1!Y144,\"\")","v":""},{"$f":"IF(B145<>\"\",+Uitslagen1!Z144,\"\")","v":""},""]
[{"$f":"+Uitslagen1!A145","v":""},{"$f":"IF(Uitslagen1!A145<>\"\",Uitslagen1!B145,\"\")","v":""},null,{"$f":"IF(B146<>\"\",CONCATENATE(+Uitslagen1!E145,\" (\",Uitslagen1!H145,\")\"),\"\")","v":""},"",{"$f":"IF(B146<>\"\",CONCATENATE(+Uitslagen1!L145,\" (\",Uitslagen1!O145,\")\"),\"\")","v":""},{"$f":"IF(B146<>\"\",+Uitslagen1!D145,\"\")","v":""},{"$f":"IF(B146<>\"\",+Uitslagen1!G145,\"\")","v":""},"",{"$f":"IF(B146<>\"\",+Uitslagen1!N145,\"\")","v":""},null,null,null,null,null,null,null,null,null,null,null,null,null,null,null,null,null,{"$f":"IF(B146<>\"\",+Uitslagen1!Y145,\"\")","v":""},{"$f":"IF(B146<>\"\",+Uitslagen1!Z145,\"\")","v":""},""]
[{"$f":"+Uitslagen1!A146","v":""},{"$f":"IF(Uitslagen1!A146<>\"\",Uitslagen1!B146,\"\")","v":""},null,{"$f":"IF(B147<>\"\",CONCATENATE(+Uitslagen1!E146,\" (\",Uitslagen1!H146,\")\"),\"\")","v":""},"",{"$f":"IF(B147<>\"\",CONCATENATE(+Uitslagen1!L146,\" (\",Uitslagen1!O146,\")\"),\"\")","v":""},{"$f":"IF(B147<>\"\",+Uitslagen1!D146,\"\")","v":""},{"$f":"IF(B147<>\"\",+Uitslagen1!G146,\"\")","v":""},"",{"$f":"IF(B147<>\"\",+Uitslagen1!N146,\"\")","v":""},null,null,null,null,null,null,null,null,null,null,null,null,null,null,null,null,null,{"$f":"IF(B147<>\"\",+Uitslagen1!Y146,\"\")","v":""},{"$f":"IF(B147<>\"\",+Uitslagen1!Z146,\"\")","v":""},""]
[{"$f":"+Uitslagen1!A147","v":""},{"$f":"IF(Uitslagen1!A147<>\"\",Uitslagen1!B147,\"\")","v":""},null,{"$f":"IF(B148<>\"\",CONCATENATE(+Uitslagen1!E147,\" (\",Uitslagen1!H147,\")\"),\"\")","v":""},"",{"$f":"IF(B148<>\"\",CONCATENATE(+Uitslagen1!L147,\" (\",Uitslagen1!O147,\")\"),\"\")","v":""},{"$f":"IF(B148<>\"\",+Uitslagen1!D147,\"\")","v":""},{"$f":"IF(B148<>\"\",+Uitslagen1!G147,\"\")","v":""},"",{"$f":"IF(B148<>\"\",+Uitslagen1!N147,\"\")","v":""},null,null,null,null,null,null,null,null,null,null,null,null,null,null,null,null,null,{"$f":"IF(B148<>\"\",+Uitslagen1!Y147,\"\")","v":""},{"$f":"IF(B148<>\"\",+Uitslagen1!Z147,\"\")","v":""},""]
[{"$f":"+Uitslagen1!A148","v":""},{"$f":"IF(Uitslagen1!A148<>\"\",Uitslagen1!B148,\"\")","v":""},null,{"$f":"IF(B149<>\"\",CONCATENATE(+Uitslagen1!E148,\" (\",Uitslagen1!H148,\")\"),\"\")","v":""},"",{"$f":"IF(B149<>\"\",CONCATENATE(+Uitslagen1!L148,\" (\",Uitslagen1!O148,\")\"),\"\")","v":""},{"$f":"IF(B149<>\"\",+Uitslagen1!D148,\"\")","v":""},{"$f":"IF(B149<>\"\",+Uitslagen1!G148,\"\")","v":""},"",{"$f":"IF(B149<>\"\",+Uitslagen1!N148,\"\")","v":""},null,null,null,null,null,null,null,null,null,null,null,null,null,null,null,null,null,{"$f":"IF(B149<>\"\",+Uitslagen1!Y148,\"\")","v":""},{"$f":"IF(B149<>\"\",+Uitslagen1!Z148,\"\")","v":""},""]
[{"$f":"+Uitslagen1!A149","v":""},{"$f":"IF(Uitslagen1!A149<>\"\",Uitslagen1!B149,\"\")","v":""},null,{"$f":"IF(B150<>\"\",CONCATENATE(+Uitslagen1!E149,\" (\",Uitslagen1!H149,\")\"),\"\")","v":""},"",{"$f":"IF(B150<>\"\",CONCATENATE(+Uitslagen1!L149,\" (\",Uitslagen1!O149,\")\"),\"\")","v":""},{"$f":"IF(B150<>\"\",+Uitslagen1!D149,\"\")","v":""},{"$f":"IF(B150<>\"\",+Uitslagen1!G149,\"\")","v":""},"",{"$f":"IF(B150<>\"\",+Uitslagen1!N149,\"\")","v":""},null,null,null,null,null,null,null,null,null,null,null,null,null,null,null,null,null,{"$f":"IF(B150<>\"\",+Uitslagen1!Y149,\"\")","v":""},{"$f":"IF(B150<>\"\",+Uitslagen1!Z149,\"\")","v":""},""]
[{"$f":"+Uitslagen1!A150","v":""},{"$f":"IF(Uitslagen1!A150<>\"\",Uitslagen1!B150,\"\")","v":""},null,{"$f":"IF(B151<>\"\",CONCATENATE(+Uitslagen1!E150,\" (\",Uitslagen1!H150,\")\"),\"\")","v":""},"",{"$f":"IF(B151<>\"\",CONCATENATE(+Uitslagen1!L150,\" (\",Uitslagen1!O150,\")\"),\"\")","v":""},{"$f":"IF(B151<>\"\",+Uitslagen1!D150,\"\")","v":""},{"$f":"IF(B151<>\"\",+Uitslagen1!G150,\"\")","v":""},"",{"$f":"IF(B151<>\"\",+Uitslagen1!N150,\"\")","v":""},null,null,null,null,null,null,null,null,null,null,null,null,null,null,null,null,null,{"$f":"IF(B151<>\"\",+Uitslagen1!Y150,\"\")","v":""},{"$f":"IF(B151<>\"\",+Uitslagen1!Z150,\"\")","v":""},""]
[{"$f":"+Uitslagen1!A151","v":""},{"$f":"IF(Uitslagen1!A151<>\"\",Uitslagen1!B151,\"\")","v":""},null,{"$f":"IF(B152<>\"\",CONCATENATE(+Uitslagen1!E151,\" (\",Uitslagen1!H151,\")\"),\"\")","v":""},"",{"$f":"IF(B152<>\"\",CONCATENATE(+Uitslagen1!L151,\" (\",Uitslagen1!O151,\")\"),\"\")","v":""},{"$f":"IF(B152<>\"\",+Uitslagen1!D151,\"\")","v":""},{"$f":"IF(B152<>\"\",+Uitslagen1!G151,\"\")","v":""},"",{"$f":"IF(B152<>\"\",+Uitslagen1!N151,\"\")","v":""},null,null,null,null,null,null,null,null,null,null,null,null,null,null,null,null,null,{"$f":"IF(B152<>\"\",+Uitslagen1!Y151,\"\")","v":""},{"$f":"IF(B152<>\"\",+Uitslagen1!Z151,\"\")","v":""},""]
[{"$f":"+Uitslagen1!A152","v":""},{"$f":"IF(Uitslagen1!A152<>\"\",Uitslagen1!B152,\"\")","v":""},null,{"$f":"IF(B153<>\"\",CONCATENATE(+Uitslagen1!E152,\" (\",Uitslagen1!H152,\")\"),\"\")","v":""},"",{"$f":"IF(B153<>\"\",CONCATENATE(+Uitslagen1!L152,\" (\",Uitslagen1!O152,\")\"),\"\")","v":""},{"$f":"IF(B153<>\"\",+Uitslagen1!D152,\"\")","v":""},{"$f":"IF(B153<>\"\",+Uitslagen1!G152,\"\")","v":""},"",{"$f":"IF(B153<>\"\",+Uitslagen1!N152,\"\")","v":""},null,null,null,null,null,null,null,null,null,null,null,null,null,null,null,null,null,{"$f":"IF(B153<>\"\",+Uitslagen1!Y152,\"\")","v":""},{"$f":"IF(B153<>\"\",+Uitslagen1!Z152,\"\")","v":""},""]
[{"$f":"+Uitslagen1!A153","v":""},{"$f":"IF(Uitslagen1!A153<>\"\",Uitslagen1!B153,\"\")","v":""},null,{"$f":"IF(B154<>\"\",CONCATENATE(+Uitslagen1!E153,\" (\",Uitslagen1!H153,\")\"),\"\")","v":""},"",{"$f":"IF(B154<>\"\",CONCATENATE(+Uitslagen1!L153,\" (\",Uitslagen1!O153,\")\"),\"\")","v":""},{"$f":"IF(B154<>\"\",+Uitslagen1!D153,\"\")","v":""},{"$f":"IF(B154<>\"\",+Uitslagen1!G153,\"\")","v":""},"",{"$f":"IF(B154<>\"\",+Uitslagen1!N153,\"\")","v":""},null,null,null,null,null,null,null,null,null,null,null,null,null,null,null,null,null,{"$f":"IF(B154<>\"\",+Uitslagen1!Y153,\"\")","v":""},{"$f":"IF(B154<>\"\",+Uitslagen1!Z153,\"\")","v":""},""]
[{"$f":"+Uitslagen1!A154","v":""},{"$f":"IF(Uitslagen1!A154<>\"\",Uitslagen1!B154,\"\")","v":""},null,{"$f":"IF(B155<>\"\",CONCATENATE(+Uitslagen1!E154,\" (\",Uitslagen1!H154,\")\"),\"\")","v":""},"",{"$f":"IF(B155<>\"\",CONCATENATE(+Uitslagen1!L154,\" (\",Uitslagen1!O154,\")\"),\"\")","v":""},{"$f":"IF(B155<>\"\",+Uitslagen1!D154,\"\")","v":""},{"$f":"IF(B155<>\"\",+Uitslagen1!G154,\"\")","v":""},"",{"$f":"IF(B155<>\"\",+Uitslagen1!N154,\"\")","v":""},null,null,null,null,null,null,null,null,null,null,null,null,null,null,null,null,null,{"$f":"IF(B155<>\"\",+Uitslagen1!Y154,\"\")","v":""},{"$f":"IF(B155<>\"\",+Uitslagen1!Z154,\"\")","v":""},""]
[{"$f":"+Uitslagen1!A155","v":""},{"$f":"IF(Uitslagen1!A155<>\"\",Uitslagen1!B155,\"\")","v":""},null,{"$f":"IF(B156<>\"\",CONCATENATE(+Uitslagen1!E155,\" (\",Uitslagen1!H155,\")\"),\"\")","v":""},"",{"$f":"IF(B156<>\"\",CONCATENATE(+Uitslagen1!L155,\" (\",Uitslagen1!O155,\")\"),\"\")","v":""},{"$f":"IF(B156<>\"\",+Uitslagen1!D155,\"\")","v":""},{"$f":"IF(B156<>\"\",+Uitslagen1!G155,\"\")","v":""},"",{"$f":"IF(B156<>\"\",+Uitslagen1!N155,\"\")","v":""},null,null,null,null,null,null,null,null,null,null,null,null,null,null,null,null,null,{"$f":"IF(B156<>\"\",+Uitslagen1!Y155,\"\")","v":""},{"$f":"IF(B156<>\"\",+Uitslagen1!Z155,\"\")","v":""},""]
[{"$f":"+Uitslagen1!A156","v":""},{"$f":"IF(Uitslagen1!A156<>\"\",Uitslagen1!B156,\"\")","v":""},null,{"$f":"IF(B157<>\"\",CONCATENATE(+Uitslagen1!E156,\" (\",Uitslagen1!H156,\")\"),\"\")","v":""},"",{"$f":"IF(B157<>\"\",CONCATENATE(+Uitslagen1!L156,\" (\",Uitslagen1!O156,\")\"),\"\")","v":""},{"$f":"IF(B157<>\"\",+Uitslagen1!D156,\"\")","v":""},{"$f":"IF(B157<>\"\",+Uitslagen1!G156,\"\")","v":""},"",{"$f":"IF(B157<>\"\",+Uitslagen1!N156,\"\")","v":""},null,null,null,null,null,null,null,null,null,null,null,null,null,null,null,null,null,{"$f":"IF(B157<>\"\",+Uitslagen1!Y156,\"\")","v":""},{"$f":"IF(B157<>\"\",+Uitslagen1!Z156,\"\")","v":""},""]
[{"$f":"+Uitslagen1!A157","v":""},{"$f":"IF(Uitslagen1!A157<>\"\",Uitslagen1!B157,\"\")","v":""},null,{"$f":"IF(B158<>\"\",CONCATENATE(+Uitslagen1!E157,\" (\",Uitslagen1!H157,\")\"),\"\")","v":""},"",{"$f":"IF(B158<>\"\",CONCATENATE(+Uitslagen1!L157,\" (\",Uitslagen1!O157,\")\"),\"\")","v":""},{"$f":"IF(B158<>\"\",+Uitslagen1!D157,\"\")","v":""},{"$f":"IF(B158<>\"\",+Uitslagen1!G157,\"\")","v":""},"",{"$f":"IF(B158<>\"\",+Uitslagen1!N157,\"\")","v":""},null,null,null,null,null,null,null,null,null,null,null,null,null,null,null,null,null,{"$f":"IF(B158<>\"\",+Uitslagen1!Y157,\"\")","v":""},{"$f":"IF(B158<>\"\",+Uitslagen1!Z157,\"\")","v":""},""]
[{"$f":"+Uitslagen1!A158","v":""},{"$f":"IF(Uitslagen1!A158<>\"\",Uitslagen1!B158,\"\")","v":""},null,{"$f":"IF(B159<>\"\",CONCATENATE(+Uitslagen1!E158,\" (\",Uitslagen1!H158,\")\"),\"\")","v":""},"",{"$f":"IF(B159<>\"\",CONCATENATE(+Uitslagen1!L158,\" (\",Uitslagen1!O158,\")\"),\"\")","v":""},{"$f":"IF(B159<>\"\",+Uitslagen1!D158,\"\")","v":""},{"$f":"IF(B159<>\"\",+Uitslagen1!G158,\"\")","v":""},"",{"$f":"IF(B159<>\"\",+Uitslagen1!N158,\"\")","v":""},null,null,null,null,null,null,null,null,null,null,null,null,null,null,null,null,null,{"$f":"IF(B159<>\"\",+Uitslagen1!Y158,\"\")","v":""},{"$f":"IF(B159<>\"\",+Uitslagen1!Z158,\"\")","v":""},""]
[{"$f":"+Uitslagen1!A159","v":""},{"$f":"IF(Uitslagen1!A159<>\"\",Uitslagen1!B159,\"\")","v":""},null,{"$f":"IF(B160<>\"\",CONCATENATE(+Uitslagen1!E159,\" (\",Uitslagen1!H159,\")\"),\"\")","v":""},"",{"$f":"IF(B160<>\"\",CONCATENATE(+Uitslagen1!L159,\" (\",Uitslagen1!O159,\")\"),\"\")","v":""},{"$f":"IF(B160<>\"\",+Uitslagen1!D159,\"\")","v":""},{"$f":"IF(B160<>\"\",+Uitslagen1!G159,\"\")","v":""},"",{"$f":"IF(B160<>\"\",+Uitslagen1!N159,\"\")","v":""},null,null,null,null,null,null,null,null,null,null,null,null,null,null,null,null,null,{"$f":"IF(B160<>\"\",+Uitslagen1!Y159,\"\")","v":""},{"$f":"IF(B160<>\"\",+Uitslagen1!Z159,\"\")","v":""},""]
[{"$f":"+Uitslagen1!A160","v":""},{"$f":"IF(Uitslagen1!A160<>\"\",Uitslagen1!B160,\"\")","v":""},null,{"$f":"IF(B161<>\"\",CONCATENATE(+Uitslagen1!E160,\" (\",Uitslagen1!H160,\")\"),\"\")","v":""},"",{"$f":"IF(B161<>\"\",CONCATENATE(+Uitslagen1!L160,\" (\",Uitslagen1!O160,\")\"),\"\")","v":""},{"$f":"IF(B161<>\"\",+Uitslagen1!D160,\"\")","v":""},{"$f":"IF(B161<>\"\",+Uitslagen1!G160,\"\")","v":""},"",{"$f":"IF(B161<>\"\",+Uitslagen1!N160,\"\")","v":""},null,null,null,null,null,null,null,null,null,null,null,null,null,null,null,null,null,{"$f":"IF(B161<>\"\",+Uitslagen1!Y160,\"\")","v":""},{"$f":"IF(B161<>\"\",+Uitslagen1!Z160,\"\")","v":""},""]
[{"$f":"+Uitslagen1!A161","v":""},{"$f":"IF(Uitslagen1!A161<>\"\",Uitslagen1!B161,\"\")","v":""},null,{"$f":"IF(B162<>\"\",CONCATENATE(+Uitslagen1!E161,\" (\",Uitslagen1!H161,\")\"),\"\")","v":""},"",{"$f":"IF(B162<>\"\",CONCATENATE(+Uitslagen1!L161,\" (\",Uitslagen1!O161,\")\"),\"\")","v":""},{"$f":"IF(B162<>\"\",+Uitslagen1!D161,\"\")","v":""},{"$f":"IF(B162<>\"\",+Uitslagen1!G161,\"\")","v":""},"",{"$f":"IF(B162<>\"\",+Uitslagen1!N161,\"\")","v":""},null,null,null,null,null,null,null,null,null,null,null,null,null,null,null,null,null,{"$f":"IF(B162<>\"\",+Uitslagen1!Y161,\"\")","v":""},{"$f":"IF(B162<>\"\",+Uitslagen1!Z161,\"\")","v":""},""]
[{"$f":"+Uitslagen1!A162","v":""},{"$f":"IF(Uitslagen1!A162<>\"\",Uitslagen1!B162,\"\")","v":""},null,{"$f":"IF(B163<>\"\",CONCATENATE(+Uitslagen1!E162,\" (\",Uitslagen1!H162,\")\"),\"\")","v":""},"",{"$f":"IF(B163<>\"\",CONCATENATE(+Uitslagen1!L162,\" (\",Uitslagen1!O162,\")\"),\"\")","v":""},{"$f":"IF(B163<>\"\",+Uitslagen1!D162,\"\")","v":""},{"$f":"IF(B163<>\"\",+Uitslagen1!G162,\"\")","v":""},"",{"$f":"IF(B163<>\"\",+Uitslagen1!N162,\"\")","v":""},null,null,null,null,null,null,null,null,null,null,null,null,null,null,null,null,null,{"$f":"IF(B163<>\"\",+Uitslagen1!Y162,\"\")","v":""},{"$f":"IF(B163<>\"\",+Uitslagen1!Z162,\"\")","v":""},""]
[{"$f":"+Uitslagen1!A163","v":""},{"$f":"IF(Uitslagen1!A163<>\"\",Uitslagen1!B163,\"\")","v":""},null,{"$f":"IF(B164<>\"\",CONCATENATE(+Uitslagen1!E163,\" (\",Uitslagen1!H163,\")\"),\"\")","v":""},"",{"$f":"IF(B164<>\"\",CONCATENATE(+Uitslagen1!L163,\" (\",Uitslagen1!O163,\")\"),\"\")","v":""},{"$f":"IF(B164<>\"\",+Uitslagen1!D163,\"\")","v":""},{"$f":"IF(B164<>\"\",+Uitslagen1!G163,\"\")","v":""},"",{"$f":"IF(B164<>\"\",+Uitslagen1!N163,\"\")","v":""},null,null,null,null,null,null,null,null,null,null,null,null,null,null,null,null,null,{"$f":"IF(B164<>\"\",+Uitslagen1!Y163,\"\")","v":""},{"$f":"IF(B164<>\"\",+Uitslagen1!Z163,\"\")","v":""},""]
[{"$f":"+Uitslagen1!A164","v":""},{"$f":"IF(Uitslagen1!A164<>\"\",Uitslagen1!B164,\"\")","v":""},null,{"$f":"IF(B165<>\"\",CONCATENATE(+Uitslagen1!E164,\" (\",Uitslagen1!H164,\")\"),\"\")","v":""},"",{"$f":"IF(B165<>\"\",CONCATENATE(+Uitslagen1!L164,\" (\",Uitslagen1!O164,\")\"),\"\")","v":""},{"$f":"IF(B165<>\"\",+Uitslagen1!D164,\"\")","v":""},{"$f":"IF(B165<>\"\",+Uitslagen1!G164,\"\")","v":""},"",{"$f":"IF(B165<>\"\",+Uitslagen1!N164,\"\")","v":""},null,null,null,null,null,null,null,null,null,null,null,null,null,null,null,null,null,{"$f":"IF(B165<>\"\",+Uitslagen1!Y164,\"\")","v":""},{"$f":"IF(B165<>\"\",+Uitslagen1!Z164,\"\")","v":""},""]
[{"$f":"+Uitslagen1!A165","v":""},{"$f":"IF(Uitslagen1!A165<>\"\",Uitslagen1!B165,\"\")","v":""},null,{"$f":"IF(B166<>\"\",CONCATENATE(+Uitslagen1!E165,\" (\",Uitslagen1!H165,\")\"),\"\")","v":""},"",{"$f":"IF(B166<>\"\",CONCATENATE(+Uitslagen1!L165,\" (\",Uitslagen1!O165,\")\"),\"\")","v":""},{"$f":"IF(B166<>\"\",+Uitslagen1!D165,\"\")","v":""},{"$f":"IF(B166<>\"\",+Uitslagen1!G165,\"\")","v":""},"",{"$f":"IF(B166<>\"\",+Uitslagen1!N165,\"\")","v":""},null,null,null,null,null,null,null,null,null,null,null,null,null,null,null,null,null,{"$f":"IF(B166<>\"\",+Uitslagen1!Y165,\"\")","v":""},{"$f":"IF(B166<>\"\",+Uitslagen1!Z165,\"\")","v":""},""]
[{"$f":"+Uitslagen1!A166","v":""},{"$f":"IF(Uitslagen1!A166<>\"\",Uitslagen1!B166,\"\")","v":""},null,{"$f":"IF(B167<>\"\",CONCATENATE(+Uitslagen1!E166,\" (\",Uitslagen1!H166,\")\"),\"\")","v":""},"",{"$f":"IF(B167<>\"\",CONCATENATE(+Uitslagen1!L166,\" (\",Uitslagen1!O166,\")\"),\"\")","v":""},{"$f":"IF(B167<>\"\",+Uitslagen1!D166,\"\")","v":""},{"$f":"IF(B167<>\"\",+Uitslagen1!G166,\"\")","v":""},"",{"$f":"IF(B167<>\"\",+Uitslagen1!N166,\"\")","v":""},null,null,null,null,null,null,null,null,null,null,null,null,null,null,null,null,null,{"$f":"IF(B167<>\"\",+Uitslagen1!Y166,\"\")","v":""},{"$f":"IF(B167<>\"\",+Uitslagen1!Z166,\"\")","v":""},""]
[{"$f":"+Uitslagen1!A167","v":""},{"$f":"IF(Uitslagen1!A167<>\"\",Uitslagen1!B167,\"\")","v":""},null,{"$f":"IF(B168<>\"\",CONCATENATE(+Uitslagen1!E167,\" (\",Uitslagen1!H167,\")\"),\"\")","v":""},"",{"$f":"IF(B168<>\"\",CONCATENATE(+Uitslagen1!L167,\" (\",Uitslagen1!O167,\")\"),\"\")","v":""},{"$f":"IF(B168<>\"\",+Uitslagen1!D167,\"\")","v":""},{"$f":"IF(B168<>\"\",+Uitslagen1!G167,\"\")","v":""},"",{"$f":"IF(B168<>\"\",+Uitslagen1!N167,\"\")","v":""},null,null,null,null,null,null,null,null,null,null,null,null,null,null,null,null,null,{"$f":"IF(B168<>\"\",+Uitslagen1!Y167,\"\")","v":""},{"$f":"IF(B168<>\"\",+Uitslagen1!Z167,\"\")","v":""},""]
[{"$f":"+Uitslagen1!A168","v":""},{"$f":"IF(Uitslagen1!A168<>\"\",Uitslagen1!B168,\"\")","v":""},null,{"$f":"IF(B169<>\"\",CONCATENATE(+Uitslagen1!E168,\" (\",Uitslagen1!H168,\")\"),\"\")","v":""},"",{"$f":"IF(B169<>\"\",CONCATENATE(+Uitslagen1!L168,\" (\",Uitslagen1!O168,\")\"),\"\")","v":""},{"$f":"IF(B169<>\"\",+Uitslagen1!D168,\"\")","v":""},{"$f":"IF(B169<>\"\",+Uitslagen1!G168,\"\")","v":""},"",{"$f":"IF(B169<>\"\",+Uitslagen1!N168,\"\")","v":""},null,null,null,null,null,null,null,null,null,null,null,null,null,null,null,null,null,{"$f":"IF(B169<>\"\",+Uitslagen1!Y168,\"\")","v":""},{"$f":"IF(B169<>\"\",+Uitslagen1!Z168,\"\")","v":""},""]
[{"$f":"+Uitslagen1!A169","v":""},{"$f":"IF(Uitslagen1!A169<>\"\",Uitslagen1!B169,\"\")","v":""},null,{"$f":"IF(B170<>\"\",CONCATENATE(+Uitslagen1!E169,\" (\",Uitslagen1!H169,\")\"),\"\")","v":""},"",{"$f":"IF(B170<>\"\",CONCATENATE(+Uitslagen1!L169,\" (\",Uitslagen1!O169,\")\"),\"\")","v":""},{"$f":"IF(B170<>\"\",+Uitslagen1!D169,\"\")","v":""},{"$f":"IF(B170<>\"\",+Uitslagen1!G169,\"\")","v":""},"",{"$f":"IF(B170<>\"\",+Uitslagen1!N169,\"\")","v":""},null,null,null,null,null,null,null,null,null,null,null,null,null,null,null,null,null,{"$f":"IF(B170<>\"\",+Uitslagen1!Y169,\"\")","v":""},{"$f":"IF(B170<>\"\",+Uitslagen1!Z169,\"\")","v":""},""]
[{"$f":"+Uitslagen1!A170","v":""},{"$f":"IF(Uitslagen1!A170<>\"\",Uitslagen1!B170,\"\")","v":""},null,{"$f":"IF(B171<>\"\",CONCATENATE(+Uitslagen1!E170,\" (\",Uitslagen1!H170,\")\"),\"\")","v":""},"",{"$f":"IF(B171<>\"\",CONCATENATE(+Uitslagen1!L170,\" (\",Uitslagen1!O170,\")\"),\"\")","v":""},{"$f":"IF(B171<>\"\",+Uitslagen1!D170,\"\")","v":""},{"$f":"IF(B171<>\"\",+Uitslagen1!G170,\"\")","v":""},"",{"$f":"IF(B171<>\"\",+Uitslagen1!N170,\"\")","v":""},null,null,null,null,null,null,null,null,null,null,null,null,null,null,null,null,null,{"$f":"IF(B171<>\"\",+Uitslagen1!Y170,\"\")","v":""},{"$f":"IF(B171<>\"\",+Uitslagen1!Z170,\"\")","v":""},""]
[{"$f":"+Uitslagen1!A171","v":""},{"$f":"IF(Uitslagen1!A171<>\"\",Uitslagen1!B171,\"\")","v":""},null,{"$f":"IF(B172<>\"\",CONCATENATE(+Uitslagen1!E171,\" (\",Uitslagen1!H171,\")\"),\"\")","v":""},"",{"$f":"IF(B172<>\"\",CONCATENATE(+Uitslagen1!L171,\" (\",Uitslagen1!O171,\")\"),\"\")","v":""},{"$f":"IF(B172<>\"\",+Uitslagen1!D171,\"\")","v":""},{"$f":"IF(B172<>\"\",+Uitslagen1!G171,\"\")","v":""},"",{"$f":"IF(B172<>\"\",+Uitslagen1!N171,\"\")","v":""},null,null,null,null,null,null,null,null,null,null,null,null,null,null,null,null,null,{"$f":"IF(B172<>\"\",+Uitslagen1!Y171,\"\")","v":""},{"$f":"IF(B172<>\"\",+Uitslagen1!Z171,\"\")","v":""},""]
[{"$f":"+Uitslagen1!A172","v":""},{"$f":"IF(Uitslagen1!A172<>\"\",Uitslagen1!B172,\"\")","v":""},null,{"$f":"IF(B173<>\"\",CONCATENATE(+Uitslagen1!E172,\" (\",Uitslagen1!H172,\")\"),\"\")","v":""},"",{"$f":"IF(B173<>\"\",CONCATENATE(+Uitslagen1!L172,\" (\",Uitslagen1!O172,\")\"),\"\")","v":""},{"$f":"IF(B173<>\"\",+Uitslagen1!D172,\"\")","v":""},{"$f":"IF(B173<>\"\",+Uitslagen1!G172,\"\")","v":""},"",{"$f":"IF(B173<>\"\",+Uitslagen1!N172,\"\")","v":""},null,null,null,null,null,null,null,null,null,null,null,null,null,null,null,null,null,{"$f":"IF(B173<>\"\",+Uitslagen1!Y172,\"\")","v":""},{"$f":"IF(B173<>\"\",+Uitslagen1!Z172,\"\")","v":""},""]
[{"$f":"+Uitslagen1!A173","v":""},{"$f":"IF(Uitslagen1!A173<>\"\",Uitslagen1!B173,\"\")","v":""},null,{"$f":"IF(B174<>\"\",CONCATENATE(+Uitslagen1!E173,\" (\",Uitslagen1!H173,\")\"),\"\")","v":""},"",{"$f":"IF(B174<>\"\",CONCATENATE(+Uitslagen1!L173,\" (\",Uitslagen1!O173,\")\"),\"\")","v":""},{"$f":"IF(B174<>\"\",+Uitslagen1!D173,\"\")","v":""},{"$f":"IF(B174<>\"\",+Uitslagen1!G173,\"\")","v":""},"",{"$f":"IF(B174<>\"\",+Uitslagen1!N173,\"\")","v":""},null,null,null,null,null,null,null,null,null,null,null,null,null,null,null,null,null,{"$f":"IF(B174<>\"\",+Uitslagen1!Y173,\"\")","v":""},{"$f":"IF(B174<>\"\",+Uitslagen1!Z173,\"\")","v":""},""]
[{"$f":"+Uitslagen1!A174","v":""},{"$f":"IF(Uitslagen1!A174<>\"\",Uitslagen1!B174,\"\")","v":""},null,{"$f":"IF(B175<>\"\",CONCATENATE(+Uitslagen1!E174,\" (\",Uitslagen1!H174,\")\"),\"\")","v":""},"",{"$f":"IF(B175<>\"\",CONCATENATE(+Uitslagen1!L174,\" (\",Uitslagen1!O174,\")\"),\"\")","v":""},{"$f":"IF(B175<>\"\",+Uitslagen1!D174,\"\")","v":""},{"$f":"IF(B175<>\"\",+Uitslagen1!G174,\"\")","v":""},"",{"$f":"IF(B175<>\"\",+Uitslagen1!N174,\"\")","v":""},null,null,null,null,null,null,null,null,null,null,null,null,null,null,null,null,null,{"$f":"IF(B175<>\"\",+Uitslagen1!Y174,\"\")","v":""},{"$f":"IF(B175<>\"\",+Uitslagen1!Z174,\"\")","v":""},""]
[{"$f":"+Uitslagen1!A175","v":""},{"$f":"IF(Uitslagen1!A175<>\"\",Uitslagen1!B175,\"\")","v":""},null,{"$f":"IF(B176<>\"\",CONCATENATE(+Uitslagen1!E175,\" (\",Uitslagen1!H175,\")\"),\"\")","v":""},"",{"$f":"IF(B176<>\"\",CONCATENATE(+Uitslagen1!L175,\" (\",Uitslagen1!O175,\")\"),\"\")","v":""},{"$f":"IF(B176<>\"\",+Uitslagen1!D175,\"\")","v":""},{"$f":"IF(B176<>\"\",+Uitslagen1!G175,\"\")","v":""},"",{"$f":"IF(B176<>\"\",+Uitslagen1!N175,\"\")","v":""},null,null,null,null,null,null,null,null,null,null,null,null,null,null,null,null,null,{"$f":"IF(B176<>\"\",+Uitslagen1!Y175,\"\")","v":""},{"$f":"IF(B176<>\"\",+Uitslagen1!Z175,\"\")","v":""},""]
[{"$f":"+Uitslagen1!A176","v":""},{"$f":"IF(Uitslagen1!A176<>\"\",Uitslagen1!B176,\"\")","v":""},null,{"$f":"IF(B177<>\"\",CONCATENATE(+Uitslagen1!E176,\" (\",Uitslagen1!H176,\")\"),\"\")","v":""},"",{"$f":"IF(B177<>\"\",CONCATENATE(+Uitslagen1!L176,\" (\",Uitslagen1!O176,\")\"),\"\")","v":""},{"$f":"IF(B177<>\"\",+Uitslagen1!D176,\"\")","v":""},{"$f":"IF(B177<>\"\",+Uitslagen1!G176,\"\")","v":""},"",{"$f":"IF(B177<>\"\",+Uitslagen1!N176,\"\")","v":""},null,null,null,null,null,null,null,null,null,null,null,null,null,null,null,null,null,{"$f":"IF(B177<>\"\",+Uitslagen1!Y176,\"\")","v":""},{"$f":"IF(B177<>\"\",+Uitslagen1!Z176,\"\")","v":""},""]
[{"$f":"+Uitslagen1!A177","v":""},{"$f":"IF(Uitslagen1!A177<>\"\",Uitslagen1!B177,\"\")","v":""},null,{"$f":"IF(B178<>\"\",CONCATENATE(+Uitslagen1!E177,\" (\",Uitslagen1!H177,\")\"),\"\")","v":""},"",{"$f":"IF(B178<>\"\",CONCATENATE(+Uitslagen1!L177,\" (\",Uitslagen1!O177,\")\"),\"\")","v":""},{"$f":"IF(B178<>\"\",+Uitslagen1!D177,\"\")","v":""},{"$f":"IF(B178<>\"\",+Uitslagen1!G177,\"\")","v":""},"",{"$f":"IF(B178<>\"\",+Uitslagen1!N177,\"\")","v":""},null,null,null,null,null,null,null,null,null,null,null,null,null,null,null,null,null,{"$f":"IF(B178<>\"\",+Uitslagen1!Y177,\"\")","v":""},{"$f":"IF(B178<>\"\",+Uitslagen1!Z177,\"\")","v":""},""]
[{"$f":"+Uitslagen1!A178","v":""},{"$f":"IF(Uitslagen1!A178<>\"\",Uitslagen1!B178,\"\")","v":""},null,{"$f":"IF(B179<>\"\",CONCATENATE(+Uitslagen1!E178,\" (\",Uitslagen1!H178,\")\"),\"\")","v":""},"",{"$f":"IF(B179<>\"\",CONCATENATE(+Uitslagen1!L178,\" (\",Uitslagen1!O178,\")\"),\"\")","v":""},{"$f":"IF(B179<>\"\",+Uitslagen1!D178,\"\")","v":""},{"$f":"IF(B179<>\"\",+Uitslagen1!G178,\"\")","v":""},"",{"$f":"IF(B179<>\"\",+Uitslagen1!N178,\"\")","v":""},null,null,null,null,null,null,null,null,null,null,null,null,null,null,null,null,null,{"$f":"IF(B179<>\"\",+Uitslagen1!Y178,\"\")","v":""},{"$f":"IF(B179<>\"\",+Uitslagen1!Z178,\"\")","v":""},""]
[{"$f":"+Uitslagen1!A179","v":""},{"$f":"IF(Uitslagen1!A179<>\"\",Uitslagen1!B179,\"\")","v":""},null,{"$f":"IF(B180<>\"\",CONCATENATE(+Uitslagen1!E179,\" (\",Uitslagen1!H179,\")\"),\"\")","v":""},"",{"$f":"IF(B180<>\"\",CONCATENATE(+Uitslagen1!L179,\" (\",Uitslagen1!O179,\")\"),\"\")","v":""},{"$f":"IF(B180<>\"\",+Uitslagen1!D179,\"\")","v":""},{"$f":"IF(B180<>\"\",+Uitslagen1!G179,\"\")","v":""},"",{"$f":"IF(B180<>\"\",+Uitslagen1!N179,\"\")","v":""},null,null,null,null,null,null,null,null,null,null,null,null,null,null,null,null,null,{"$f":"IF(B180<>\"\",+Uitslagen1!Y179,\"\")","v":""},{"$f":"IF(B180<>\"\",+Uitslagen1!Z179,\"\")","v":""},""]
[{"$f":"+Uitslagen1!A180","v":""},{"$f":"IF(Uitslagen1!A180<>\"\",Uitslagen1!B180,\"\")","v":""},null,{"$f":"IF(B181<>\"\",CONCATENATE(+Uitslagen1!E180,\" (\",Uitslagen1!H180,\")\"),\"\")","v":""},"",{"$f":"IF(B181<>\"\",CONCATENATE(+Uitslagen1!L180,\" (\",Uitslagen1!O180,\")\"),\"\")","v":""},{"$f":"IF(B181<>\"\",+Uitslagen1!D180,\"\")","v":""},{"$f":"IF(B181<>\"\",+Uitslagen1!G180,\"\")","v":""},"",{"$f":"IF(B181<>\"\",+Uitslagen1!N180,\"\")","v":""},null,null,null,null,null,null,null,null,null,null,null,null,null,null,null,null,null,{"$f":"IF(B181<>\"\",+Uitslagen1!Y180,\"\")","v":""},{"$f":"IF(B181<>\"\",+Uitslagen1!Z180,\"\")","v":""},""]
[{"$f":"+Uitslagen1!A181","v":""},{"$f":"IF(Uitslagen1!A181<>\"\",Uitslagen1!B181,\"\")","v":""},null,{"$f":"IF(B182<>\"\",CONCATENATE(+Uitslagen1!E181,\" (\",Uitslagen1!H181,\")\"),\"\")","v":""},"",{"$f":"IF(B182<>\"\",CONCATENATE(+Uitslagen1!L181,\" (\",Uitslagen1!O181,\")\"),\"\")","v":""},{"$f":"IF(B182<>\"\",+Uitslagen1!D181,\"\")","v":""},{"$f":"IF(B182<>\"\",+Uitslagen1!G181,\"\")","v":""},"",{"$f":"IF(B182<>\"\",+Uitslagen1!N181,\"\")","v":""},null,null,null,null,null,null,null,null,null,null,null,null,null,null,null,null,null,{"$f":"IF(B182<>\"\",+Uitslagen1!Y181,\"\")","v":""},{"$f":"IF(B182<>\"\",+Uitslagen1!Z181,\"\")","v":""},""]
[{"$f":"+Uitslagen1!A182","v":""},{"$f":"IF(Uitslagen1!A182<>\"\",Uitslagen1!B182,\"\")","v":""},null,{"$f":"IF(B183<>\"\",CONCATENATE(+Uitslagen1!E182,\" (\",Uitslagen1!H182,\")\"),\"\")","v":""},"",{"$f":"IF(B183<>\"\",CONCATENATE(+Uitslagen1!L182,\" (\",Uitslagen1!O182,\")\"),\"\")","v":""},{"$f":"IF(B183<>\"\",+Uitslagen1!D182,\"\")","v":""},{"$f":"IF(B183<>\"\",+Uitslagen1!G182,\"\")","v":""},"",{"$f":"IF(B183<>\"\",+Uitslagen1!N182,\"\")","v":""},null,null,null,null,null,null,null,null,null,null,null,null,null,null,null,null,null,{"$f":"IF(B183<>\"\",+Uitslagen1!Y182,\"\")","v":""},{"$f":"IF(B183<>\"\",+Uitslagen1!Z182,\"\")","v":""},""]
[{"$f":"+Uitslagen1!A183","v":""},{"$f":"IF(Uitslagen1!A183<>\"\",Uitslagen1!B183,\"\")","v":""},null,{"$f":"IF(B184<>\"\",CONCATENATE(+Uitslagen1!E183,\" (\",Uitslagen1!H183,\")\"),\"\")","v":""},"",{"$f":"IF(B184<>\"\",CONCATENATE(+Uitslagen1!L183,\" (\",Uitslagen1!O183,\")\"),\"\")","v":""},{"$f":"IF(B184<>\"\",+Uitslagen1!D183,\"\")","v":""},{"$f":"IF(B184<>\"\",+Uitslagen1!G183,\"\")","v":""},"",{"$f":"IF(B184<>\"\",+Uitslagen1!N183,\"\")","v":""},null,null,null,null,null,null,null,null,null,null,null,null,null,null,null,null,null,{"$f":"IF(B184<>\"\",+Uitslagen1!Y183,\"\")","v":""},{"$f":"IF(B184<>\"\",+Uitslagen1!Z183,\"\")","v":""},""]
[{"$f":"+Uitslagen1!A184","v":""},{"$f":"IF(Uitslagen1!A184<>\"\",Uitslagen1!B184,\"\")","v":""},null,{"$f":"IF(B185<>\"\",CONCATENATE(+Uitslagen1!E184,\" (\",Uitslagen1!H184,\")\"),\"\")","v":""},"",{"$f":"IF(B185<>\"\",CONCATENATE(+Uitslagen1!L184,\" (\",Uitslagen1!O184,\")\"),\"\")","v":""},{"$f":"IF(B185<>\"\",+Uitslagen1!D184,\"\")","v":""},{"$f":"IF(B185<>\"\",+Uitslagen1!G184,\"\")","v":""},"",{"$f":"IF(B185<>\"\",+Uitslagen1!N184,\"\")","v":""},null,null,null,null,null,null,null,null,null,null,null,null,null,null,null,null,null,{"$f":"IF(B185<>\"\",+Uitslagen1!Y184,\"\")","v":""},{"$f":"IF(B185<>\"\",+Uitslagen1!Z184,\"\")","v":""},""]
[{"$f":"+Uitslagen1!A185","v":""},{"$f":"IF(Uitslagen1!A185<>\"\",Uitslagen1!B185,\"\")","v":""},null,{"$f":"IF(B186<>\"\",CONCATENATE(+Uitslagen1!E185,\" (\",Uitslagen1!H185,\")\"),\"\")","v":""},"",{"$f":"IF(B186<>\"\",CONCATENATE(+Uitslagen1!L185,\" (\",Uitslagen1!O185,\")\"),\"\")","v":""},{"$f":"IF(B186<>\"\",+Uitslagen1!D185,\"\")","v":""},{"$f":"IF(B186<>\"\",+Uitslagen1!G185,\"\")","v":""},"",{"$f":"IF(B186<>\"\",+Uitslagen1!N185,\"\")","v":""},null,null,null,null,null,null,null,null,null,null,null,null,null,null,null,null,null,{"$f":"IF(B186<>\"\",+Uitslagen1!Y185,\"\")","v":""},{"$f":"IF(B186<>\"\",+Uitslagen1!Z185,\"\")","v":""},""]
[{"$f":"+Uitslagen1!A186","v":""},{"$f":"IF(Uitslagen1!A186<>\"\",Uitslagen1!B186,\"\")","v":""},null,{"$f":"IF(B187<>\"\",CONCATENATE(+Uitslagen1!E186,\" (\",Uitslagen1!H186,\")\"),\"\")","v":""},"",{"$f":"IF(B187<>\"\",CONCATENATE(+Uitslagen1!L186,\" (\",Uitslagen1!O186,\")\"),\"\")","v":""},{"$f":"IF(B187<>\"\",+Uitslagen1!D186,\"\")","v":""},{"$f":"IF(B187<>\"\",+Uitslagen1!G186,\"\")","v":""},"",{"$f":"IF(B187<>\"\",+Uitslagen1!N186,\"\")","v":""},null,null,null,null,null,null,null,null,null,null,null,null,null,null,null,null,null,{"$f":"IF(B187<>\"\",+Uitslagen1!Y186,\"\")","v":""},{"$f":"IF(B187<>\"\",+Uitslagen1!Z186,\"\")","v":""},""]
[{"$f":"+Uitslagen1!A187","v":""},{"$f":"IF(Uitslagen1!A187<>\"\",Uitslagen1!B187,\"\")","v":""},null,{"$f":"IF(B188<>\"\",CONCATENATE(+Uitslagen1!E187,\" (\",Uitslagen1!H187,\")\"),\"\")","v":""},"",{"$f":"IF(B188<>\"\",CONCATENATE(+Uitslagen1!L187,\" (\",Uitslagen1!O187,\")\"),\"\")","v":""},{"$f":"IF(B188<>\"\",+Uitslagen1!D187,\"\")","v":""},{"$f":"IF(B188<>\"\",+Uitslagen1!G187,\"\")","v":""},"",{"$f":"IF(B188<>\"\",+Uitslagen1!N187,\"\")","v":""},null,null,null,null,null,null,null,null,null,null,null,null,null,null,null,null,null,{"$f":"IF(B188<>\"\",+Uitslagen1!Y187,\"\")","v":""},{"$f":"IF(B188<>\"\",+Uitslagen1!Z187,\"\")","v":""},""]
[{"$f":"+Uitslagen1!A188","v":""},{"$f":"IF(Uitslagen1!A188<>\"\",Uitslagen1!B188,\"\")","v":""},null,{"$f":"IF(B189<>\"\",CONCATENATE(+Uitslagen1!E188,\" (\",Uitslagen1!H188,\")\"),\"\")","v":""},"",{"$f":"IF(B189<>\"\",CONCATENATE(+Uitslagen1!L188,\" (\",Uitslagen1!O188,\")\"),\"\")","v":""},{"$f":"IF(B189<>\"\",+Uitslagen1!D188,\"\")","v":""},{"$f":"IF(B189<>\"\",+Uitslagen1!G188,\"\")","v":""},"",{"$f":"IF(B189<>\"\",+Uitslagen1!N188,\"\")","v":""},null,null,null,null,null,null,null,null,null,null,null,null,null,null,null,null,null,{"$f":"IF(B189<>\"\",+Uitslagen1!Y188,\"\")","v":""},{"$f":"IF(B189<>\"\",+Uitslagen1!Z188,\"\")","v":""},""]
[{"$f":"+Uitslagen1!A189","v":""},{"$f":"IF(Uitslagen1!A189<>\"\",Uitslagen1!B189,\"\")","v":""},null,{"$f":"IF(B190<>\"\",CONCATENATE(+Uitslagen1!E189,\" (\",Uitslagen1!H189,\")\"),\"\")","v":""},"",{"$f":"IF(B190<>\"\",CONCATENATE(+Uitslagen1!L189,\" (\",Uitslagen1!O189,\")\"),\"\")","v":""},{"$f":"IF(B190<>\"\",+Uitslagen1!D189,\"\")","v":""},{"$f":"IF(B190<>\"\",+Uitslagen1!G189,\"\")","v":""},"",{"$f":"IF(B190<>\"\",+Uitslagen1!N189,\"\")","v":""},null,null,null,null,null,null,null,null,null,null,null,null,null,null,null,null,null,{"$f":"IF(B190<>\"\",+Uitslagen1!Y189,\"\")","v":""},{"$f":"IF(B190<>\"\",+Uitslagen1!Z189,\"\")","v":""},""]
[{"$f":"+Uitslagen1!A190","v":""},{"$f":"IF(Uitslagen1!A190<>\"\",Uitslagen1!B190,\"\")","v":""},null,{"$f":"IF(B191<>\"\",CONCATENATE(+Uitslagen1!E190,\" (\",Uitslagen1!H190,\")\"),\"\")","v":""},"",{"$f":"IF(B191<>\"\",CONCATENATE(+Uitslagen1!L190,\" (\",Uitslagen1!O190,\")\"),\"\")","v":""},{"$f":"IF(B191<>\"\",+Uitslagen1!D190,\"\")","v":""},{"$f":"IF(B191<>\"\",+Uitslagen1!G190,\"\")","v":""},"",{"$f":"IF(B191<>\"\",+Uitslagen1!N190,\"\")","v":""},null,null,null,null,null,null,null,null,null,null,null,null,null,null,null,null,null,{"$f":"IF(B191<>\"\",+Uitslagen1!Y190,\"\")","v":""},{"$f":"IF(B191<>\"\",+Uitslagen1!Z190,\"\")","v":""},""]
[{"$f":"+Uitslagen1!A191","v":""},{"$f":"IF(Uitslagen1!A191<>\"\",Uitslagen1!B191,\"\")","v":""},null,{"$f":"IF(B192<>\"\",CONCATENATE(+Uitslagen1!E191,\" (\",Uitslagen1!H191,\")\"),\"\")","v":""},"",{"$f":"IF(B192<>\"\",CONCATENATE(+Uitslagen1!L191,\" (\",Uitslagen1!O191,\")\"),\"\")","v":""},{"$f":"IF(B192<>\"\",+Uitslagen1!D191,\"\")","v":""},{"$f":"IF(B192<>\"\",+Uitslagen1!G191,\"\")","v":""},"",{"$f":"IF(B192<>\"\",+Uitslagen1!N191,\"\")","v":""},null,null,null,null,null,null,null,null,null,null,null,null,null,null,null,null,null,{"$f":"IF(B192<>\"\",+Uitslagen1!Y191,\"\")","v":""},{"$f":"IF(B192<>\"\",+Uitslagen1!Z191,\"\")","v":""},""]

{"sheet":"Uitslagen1","index":13,"n_rows":191,"n_cols":40,"rows_kept":191,"cut":false,"hidden":true,"merged":[[0,18,0,19]]}
["Wedstrijdnr.","Datum","Wed.code","Beurten","Naam","nr.","Caramboles","Hoogste","score","Soort","Punten","Naam","nr.","Caramboles","Hoogste","score","Soort","Punten","Index Schema",null,"Car1","Car2","Soort uitslag","Nrherhaling","Soorta","Soortb",null,null,null,null,null,"Car1","Car2","belgische score",null,"1e speler","2e speler","Score bij meer dan",null,{"$f":"IF(hpercvraag=\"Ja\",hperc/100,\"nvt\")","v":"nvt"}]
[{"$f":"IF(E2=\"\",\"\",1)","v":""},null,{"$f":"IF(E2=\"\",\"\",CONCATENATE(MIN(F2,M2),\"-\",MAX(F2,M2)))","v":""},null,null,{"$f":"IF($E2=\"\",\"\",VLOOKUP($E2,Leden,2,FALSE))","v":""},null,null,{"$f":"IF(E2=\"\",\"\",CONCATENATE(G2,\"/\",$D2))","v":""},{"$f":"IF($E2=\"\",\"\",IF($W2=1,IF($G2=$U2,1,0),IF($W2=2,IF($U2>=$V2,1,0),1)))","v":""},{"$f":"IF(E2=\"\",\"\",IF(J2=0,0,IF(W2=2,IF(Q2=1,IF(J2=1,$AC$17,0),$AB$17),IF(Q2=1,$AC$16,$AB$16)))+AH2+AL2)","v":""},null,{"$f":"IF($L2=\"\",\"\",VLOOKUP($L2,Leden,2,FALSE))","v":""},null,null,{"$f":"IF(E2=\"\",\"\",CONCATENATE(N2,\"/\",$D2))","v":""},{"$f":"IF($E2=\"\",\"\",IF($W2=1,IF($N2=$V2,1,0),IF(W2=2,IF(V2>=U2,1,0),1)))","v":""},{"$f":"IF(E2=\"\",\"\",IF(Q2=0,0,IF(W2=2,IF(J2=1,IF(Q2=1,$AC$17,0),$AB$17),IF(J2=1,$AC$16,$AB$16)))+AI2+AM2)","v":""},{"$f":"IF(E2=\"\",\"\",IF(T2=7,14,7))","v":""},{"$f":"IF(E2=\"\",\"\",IF(F2=MIN(F2,M2),7,14))","v":""},null,null,null,{"$f":"IF(E2=\"\",\"\",A2)","v":""},{"$f":"IF(E2=\"\",\"\",IF(J2=0,0,IF($W2=2,IF(Q2=1,2,4),IF(Q2=1,1,3))))","v":""},{"$f":"IF(L2=\"\",\"\",IF(Q2=0,0,IF($W2=2,IF(J2=1,2,4),IF(J2=1,1,3))))","v":""},null,null,null,null,null,{"$f":"IF($E2=\"\",\"\",VLOOKUP(E2,Leden,3,FALSE))","v":""},{"$f":"IF($E2=\"\",\"\",VLOOKUP(L2,Leden,3,FALSE))","v":""},{"$f":"IF(AF2=\"\",\"\",IF(belgisch=\"Nee\",0,IF(AF2=0,0,MIN(10,INT(G2*10/AF2)))))","v":""},{"$f":"IF(AG2=\"\",\"\",IF(belgisch=\"Nee\",0,IF(AG2=0,0,MIN(10,INT(N2*10/AG2)))))","v":""},{"$f":"IF(E2=\"\",\"\",IF(AF2=0,0,(G2/D2)/(AF2/30)-1))","v":""},{"$f":"IF(E2=\"\",\"\",IF(AG2=0,0,(N2/D2)/(AG2/30)-1))","v":""},{"$f":"IF(AJ2=\"\",\"\",IF(hpercvraag=\"Ja\",IF(AJ2>hperc/100,hpercpunt,0),0))","v":""},{"$f":"IF(AK2=\"\",\"\",IF(hpercvraag=\"Ja\",IF(AK2>hperc/100,hpercpunt,0),0))","v":""}]
[{"$f":"IF(E3=\"\",\"\",A2+1)","v":""},null,{"$f":"IF(E3=\"\",\"\",CONCATENATE(MIN(F3,M3),\"-\",MAX(F3,M3)))","v":""},null,null,"",null,null,{"$f":"IF(E3=\"\",\"\",CONCATENATE(G3,\"/\",$D3))","v":""},{"$f":"IF($E3=\"\",\"\",IF($W3=1,IF($G3=$U3,1,0),IF($W3=2,IF($U3>=$V3,1,0),1)))","v":""},{"$f":"IF(E3=\"\",\"\",IF(J3=0,0,IF(W3=2,IF(Q3=1,IF(J3=1,$AC$17,0),$AB$17),IF(Q3=1,$AC$16,$AB$16)))+AH3+AL3)","v":""},null,"",null,null,{"$f":"IF(E3=\"\",\"\",CONCATENATE(N3,\"/\",$D3))","v":""},{"$f":"IF($E3=\"\",\"\",IF($W3=1,IF($N3=$V3,1,0),IF(W3=2,IF(V3>=U3,1,0),1)))","v":""},{"$f":"IF(E3=\"\",\"\",IF(Q3=0,0,IF(W3=2,IF(J3=1,IF(Q3=1,$AC$17,0),$AB$17),IF(J3=1,$AC$16,$AB$16)))+AI3+AM3)","v":""},{"$f":"IF(E3=\"\",\"\",IF(T3=7,14,7))","v":""},{"$f":"IF(E3=\"\",\"\",IF(F3=MIN(F3,M3),7,14))","v":""},null,null,null,{"$f":"IF(E3=\"\",\"\",A3)","v":""},{"$f":"IF(E3=\"\",\"\",IF(J3=0,0,IF($W3=2,IF(Q3=1,2,4),IF(Q3=1,1,3))))","v":""},{"$f":"IF(L3=\"\",\"\",IF(Q3=0,0,IF($W3=2,IF(J3=1,2,4),IF(J3=1,1,3))))","v":""},null,null,null,null,null,{"$f":"IF($E3=\"\",\"\",VLOOKUP(E3,Leden,3,FALSE))","v":""},{"$f":"IF($E3=\"\",\"\",VLOOKUP(L3,Leden,3,FALSE))","v":""},"","",{"$f":"IF(E3=\"\",\"\",IF(AF3=0,0,(G3/D3)/(AF3/30)-1))","v":""},{"$f":"IF(E3=\"\",\"\",IF(AG3=0,0,(N3/D3)/(AG3/30)-1))","v":""},{"$f":"IF(AJ3=\"\",\"\",IF(hpercvraag=\"Ja\",IF(AJ3>hperc/100,hpercpunt,0),0))","v":""},{"$f":"IF(AK3=\"\",\"\",IF(hpercvraag=\"Ja\",IF(AK3>hperc/100,hpercpunt,0),0))","v":""}]
["",null,"",null,null,"",null,null,{"$f":"IF(E4=\"\",\"\",CONCATENATE(G4,\"/\",$D4))","v":""},"","",null,"",null,null,{"$f":"IF(E4=\"\",\"\",CONCATENATE(N4,\"/\",$D4))","v":""},"","",{"$f":"IF(E4=\"\",\"\",IF(T4=7,14,7))","v":""},{"$f":"IF(E4=\"\",\"\",IF(F4=MIN(F4,M4),7,14))","v":""},null,null,null,{"$f":"IF(E4=\"\",\"\",A4)","v":""},"","",null,null,null,null,null,"","","","","","","",""]
["",null,"",null,null,"",null,null,{"$f":"IF(E5=\"\",\"\",CONCATENATE(G5,\"/\",$D5))","v":""},"","",null,"",null,null,{"$f":"IF(E5=\"\",\"\",CONCATENATE(N5,\"/\",$D5))","v":""},"","",{"$f":"IF(E5=\"\",\"\",IF(T5=7,14,7))","v":""},{"$f":"IF(E5=\"\",\"\",IF(F5=MIN(F5,M5),7,14))","v":""},null,null,null,{"$f":"IF(E5=\"\",\"\",A5)","v":""},"","",null,null,null,null,null,"","","","","","","",""]
["",null,"",null,null,"",null,null,{"$f":"IF(E6=\"\",\"\",CONCATENATE(G6,\"/\",$D6))","v":""},"","",null,"",null,null,{"$f":"IF(E6=\"\",\"\",CONCATENATE(N6,\"/\",$D6))","v":""},"","",{"$f":"IF(E6=\"\",\"\",IF(T6=7,14,7))","v":""},{"$f":"IF(E6=\"\",\"\",IF(F6=MIN(F6,M6),7,14))","v":""},null,null,null,{"$f":"IF(E6=\"\",\"\",A6)","v":""},"","",null,null,null,null,null,"","","","","","","",""]
["",null,"",null,null,"",null,null,"","","",null,"",null,null,"","","","","",null,null,null,"","","",null,null,null,null,null,"","","","","","","",""]
["",null,"",null,null,"",null,null,"","","",null,"",null,null,"","","","","",null,null,null,"","","",null,null,null,null,null,"","","","","","","",""]
["",null,"",null,null,"",null,null,"","","",null,"",null,null,"","","","","",null,null,null,"","","",null,null,null,null,null,"","","","","","","",""]
["",null,"",null,null,"",null,null,"","","",null,"",null,null,"","","","","",null,null,null,"","","",null,null,null,null,null,"","","","","","","",""]
["",null,"",null,null,"",null,null,"","","",null,"",null,null,"","","","","",null,null,null,"","","",null,null,null,null,null,"","","","","","","",""]
["",null,"",null,null,"",null,null,"","","",null,"",null,null,"","","","","",null,null,null,"","","",null,null,null,null,null,"","","","","","","",""]
["",null,"",null,null,"",null,null,"","","",null,"",null,null,"","","","","",null,null,null,"","","","Punten inbrengen begin competitie!!!!!",null,null,null,null,"","","","","","","",""]
["",null,"",null,null,"",null,null,"","","",null,"",null,null,"","","","","",null,null,null,"","","","Gespeelde wedstrijden worden nl. niet herrekend",null,null,null,null,"","","","","","","",""]
["",null,"",null,null,"",null,null,"","","",null,"",null,null,"","","","","",null,null,null,"","","","soort","overwinning","gelijk",null,null,"","","","","","","",""]
["",null,"",null,null,"",null,null,"","","",null,"",null,null,"","","","","",null,null,null,"","","","0 en 1",{"$f":"+Instellingen!L14","v":2},{"$f":"+Instellingen!M14","v":1},null,null,"","","","","","","",""]
["",null,"",null,null,"",null,null,"","","",null,"",null,null,"","","","","",null,null,null,"","","",2,{"$f":"+Instellingen!L15","v":2},{"$f":"+Instellingen!M15","v":1},null,null,"","","","","","","",""]
["",null,"",null,null,"",null,null,"","","",null,"",null,null,"","","","","",null,null,null,"","","",null,null,null,null,null,"","","","","","","",""]
["",null,"",null,null,"",null,null,"","","",null,"",null,null,"","","","","",null,null,null,"","","",null,null,null,null,null,"","","","","","","",""]
["",null,"",null,null,"",null,null,"","","",null,"",null,null,"","","","","",null,null,null,"","","",null,null,null,null,null,"","","","","","","",""]
[{"$f":"IF(E21=\"\",\"\",A20+1)","v":""},null,"",null,null,"",null,null,"","","",null,"",null,null,"","","","","",null,null,null,"","","",null,null,null,null,null,"","","","","","","",""]
["",null,"",null,null,"",null,null,"","","",null,"",null,null,"","","","","",null,null,null,"","","",null,null,null,null,null,"","","","","","","",""]
["",null,"",null,null,"",null,null,"","","",null,"",null,null,"","","","","",null,null,null,"","","",null,null,null,null,null,"","","","","","","",""]
["",null,"",null,null,"",null,null,"","","",null,"",null,null,"","","","","",null,null,null,"","","",null,null,null,null,null,"","","","","","","",""]
["",null,"",null,null,"",null,null,"","","",null,"",null,null,"","","","","",null,null,null,"","","",null,null,null,null,null,"","","","","","","",""]
["",null,"",null,null,"",null,null,"","","",null,"",null,null,"","","","","",null,null,null,"","","",null,null,null,null,null,"","","","","","","",""]
["",null,"",null,null,"",null,null,"","","",null,"",null,null,"","","","","",null,null,null,"","","",null,null,null,null,null,"","","","","","","",""]
["",null,"",null,null,"",null,null,"","","",null,"",null,null,"","","","","",null,null,null,"","","",null,null,null,null,null,"","","","","","","",""]
["",null,"",null,null,"",null,null,"","","",null,"",null,null,"","","","","",null,null,null,"","","",null,null,null,null,null,"","","","","","","",""]
["",null,"",null,null,"",null,null,"","","",null,"",null,null,"","","","","",null,null,null,"","","",null,null,null,null,null,"","","","","","","",""]
["",null,"",null,null,"",null,null,"","","",null,"",null,null,"","","","","",null,null,null,"","","",null,null,null,null,null,"","","","","","","",""]
["",null,"",null,null,"",null,null,"","","",null,"",null,null,"","","","","",null,null,null,"","","",null,null,null,null,null,"","","","","","","",""]
["",null,"",null,null,"",null,null,"","","",null,"",null,null,"","","","","",null,null,null,"","","",null,null,null,null,null,"","","","","","","",""]
["",null,"",null,null,"",null,null,"","","",null,"",null,null,"","","","","",null,null,null,"","","",null,null,null,null,null,"","",{"$f":"IF(AF34=\"\",\"\",IF(belgisch=\"Nee\",0,IF(AF34=0,0,MIN(10,INT(G34*10/AF34)))))","v":""},{"$f":"IF(AG34=\"\",\"\",IF(belgisch=\"Nee\",0,IF(AG34=0,0,MIN(10,INT(N34*10/AG34)))))","v":""},"","","",""]
["",null,"",null,null,"",null,null,"","","",null,"",null,null,"","","","","",null,null,null,"","","",null,null,null,null,null,"","","","","","","",""]
["",null,"",null,null,"",null,null,"","","",null,"",null,null,"","","","","",null,null,null,"","","",null,null,null,null,null,"","","","","","","",""]
["",null,"",null,null,"",null,null,"","","",null,"",null,null,"","","","","",null,null,null,"","","",null,null,null,null,null,"","","","","","","",""]
["",null,"",null,null,"",null,null,"","","",null,"",null,null,"","","","","",null,null,null,"","","",null,null,null,null,null,"","","","","","","",""]
["",null,"",null,null,"",null,null,"","","",null,"",null,null,"","","","","",null,null,null,"","","",null,null,null,null,null,"","","","","","","",""]
["",null,"",null,null,"",null,null,"","","",null,"",null,null,"","","","","",null,null,null,"","","",null,null,null,null,null,"","","","","","","",""]
["",null,"",null,null,"",null,null,"","","",null,"",null,null,"","","","","",null,null,null,"","","",null,null,null,null,null,"","","","","","","",""]
["",null,"",null,null,"",null,null,"","","",null,"",null,null,"","","","","",null,null,null,"","","",null,null,null,null,null,"","","","","","","",""]
["",null,"",null,null,"",null,null,"","","",null,"",null,null,"","","","","",null,null,null,"","","",null,null,null,null,null,"","","","","","","",""]
["",null,"",null,null,"",null,null,"","","",null,"",null,null,"","","","","",null,null,null,"","","",null,null,null,null,null,"","","","","","","",""]
["",null,"",null,null,"",null,null,"","","",null,"",null,null,"","","","","",null,null,null,"","","",null,null,null,null,null,"","","","","","","",""]
["",null,"",null,null,"",null,null,"","","",null,"",null,null,"","","","","",null,null,null,"","","",null,null,null,null,null,"","","","","","","",""]
["",null,"",null,null,"",null,null,"","","",null,"",null,null,"","","","","",null,null,null,"","","",null,null,null,null,null,"","","","","","","",""]
["",null,"",null,null,"",null,null,"","","",null,"",null,null,"","","","","",null,null,null,"","","",null,null,null,null,null,"","","","","","","",""]
["",null,"",null,null,"",null,null,"","","",null,"",null,null,"","","","","",null,null,null,"","","",null,null,null,null,null,"","","","","","","",""]
["",null,"",null,null,"",null,null,"","","",null,"",null,null,"","","","","",null,null,null,"","","",null,null,null,null,null,"","","","","","","",""]
["",null,"",null,null,"",null,null,"","","",null,"",null,null,"","","","","",null,null,null,"","","",null,null,null,null,null,"","","","","","","",""]
["",null,"",null,null,"",null,null,"","","",null,"",null,null,"","","","","",null,null,null,"","","",null,null,null,null,null,"","","","","","","",""]
["",null,"",null,null,"",null,null,"","","",null,"",null,null,"","","","","",null,null,null,"","","",null,null,null,null,null,"","","","","","","",""]
["",null,"",null,null,"",null,null,"","","",null,"",null,null,"","","","","",null,null,null,"","","",null,null,null,null,null,"","","","","","","",""]
["",null,"",null,null,"",null,null,"","","",null,"",null,null,"","","","","",null,null,null,"","","",null,null,null,null,null,"","","","","","","",""]
["",null,"",null,null,"",null,null,"","","",null,"",null,null,"","","","","",null,null,null,"","","",null,null,null,null,null,"","","","","","","",""]
["",null,"",null,null,"",null,null,"","","",null,"",null,null,"","","","","",null,null,null,"","","",null,null,null,null,null,"","","","","","","",""]
["",null,"",null,null,"",null,null,"","","",null,"",null,null,"","","","","",null,null,null,"","","",null,null,null,null,null,"","","","","","","",""]
["",null,"",null,null,"",null,null,"","","",null,"",null,null,"","","","","",null,null,null,"","","",null,null,null,null,null,"","","","","","","",""]
["",null,"",null,null,"",null,null,"","","",null,"",null,null,"","","","","",null,null,null,"","","",null,null,null,null,null,"","","","","","","",""]
["",null,"",null,null,"",null,null,"","","",null,"",null,null,"","","","","",null,null,null,"","","",null,null,null,null,null,"","","","","","","",""]
["",null,"",null,null,"",null,null,"","","",null,"",null,null,"","","","","",null,null,null,"","","",null,null,null,null,null,"","","","","","","",""]
["",null,"",null,null,"",null,null,"","","",null,"",null,null,"","","","","",null,null,null,"","","",null,null,null,null,null,"","","","","","","",""]
["",null,"",null,null,"",null,null,"","","",null,"",null,null,"","","","","",null,null,null,"","","",null,null,null,null,null,"","","","","","","",""]
["",null,"",null,null,"",null,null,"","","",null,"",null,null,"","","","","",null,null,null,"","","",null,null,null,null,null,"","","","","","","",""]
["",null,"",null,null,"",null,null,"","","",null,"",null,null,"","","","","",null,null,null,"","","",null,null,null,null,null,"","",{"$f":"IF(AF66=\"\",\"\",IF(belgisch=\"Nee\",0,IF(AF66=0,0,MIN(10,INT(G66*10/AF66)))))","v":""},{"$f":"IF(AG66=\"\",\"\",IF(belgisch=\"Nee\",0,IF(AG66=0,0,MIN(10,INT(N66*10/AG66)))))","v":""},"","","",""]
["",null,{"$f":"IF(E67=\"\",\"\",CONCATENATE(MIN(F67,M67),\"-\",MAX(F67,M67)))","v":""},null,null,"",null,null,"",{"$f":"IF($E67=\"\",\"\",IF($W67=1,IF($G67=$U67,1,0),IF($W67=2,IF($U67>=$V67,1,0),1)))","v":""},{"$f":"IF(E67=\"\",\"\",IF(J67=0,0,IF(W67=2,IF(Q67=1,IF(J67=1,$AC$17,0),$AB$17),IF(Q67=1,$AC$16,$AB$16)))+AH67+AL67)","v":""},null,"",null,null,"",{"$f":"IF($E67=\"\",\"\",IF($W67=1,IF($N67=$V67,1,0),IF(W67=2,IF(V67>=U67,1,0),1)))","v":""},{"$f":"IF(E67=\"\",\"\",IF(Q67=0,0,IF(W67=2,IF(J67=1,IF(Q67=1,$AC$17,0),$AB$17),IF(J67=1,$AC$16,$AB$16)))+AI67+AM67)","v":""},"","",null,null,null,"",{"$f":"IF(E67=\"\",\"\",IF(J67=0,0,IF($W67=2,IF(Q67=1,2,4),IF(Q67=1,1,3))))","v":""},{"$f":"IF(L67=\"\",\"\",IF(Q67=0,0,IF($W67=2,IF(J67=1,2,4),IF(J67=1,1,3))))","v":""},null,null,null,null,null,{"$f":"IF($E67=\"\",\"\",VLOOKUP(E67,Leden,3,FALSE))","v":""},{"$f":"IF($E67=\"\",\"\",VLOOKUP(L67,Leden,3,FALSE))","v":""},"","",{"$f":"IF(E67=\"\",\"\",IF(AF67=0,0,(G67/D67)/(AF67/30)-1))","v":""},{"$f":"IF(E67=\"\",\"\",IF(AG67=0,0,(N67/D67)/(AG67/30)-1))","v":""},{"$f":"IF(AJ67=\"\",\"\",IF(hpercvraag=\"Ja\",IF(AJ67>hperc/100,hpercpunt,0),0))","v":""},{"$f":"IF(AK67=\"\",\"\",IF(hpercvraag=\"Ja\",IF(AK67>hperc/100,hpercpunt,0),0))","v":""}]
["",null,"",null,null,"",null,null,"","","",null,"",null,null,"","","","","",null,null,null,"","","",null,null,null,null,null,"","","","","","","",""]
["",null,"",null,null,"",null,null,"","","",null,"",null,null,"","","","","",null,null,null,"","","",null,null,null,null,null,"","","","","","","",""]
["",null,"",null,null,"",null,null,{"$f":"IF(E70=\"\",\"\",CONCATENATE(G70,\"/\",$D70))","v":""},"","",null,"",null,null,{"$f":"IF(E70=\"\",\"\",CONCATENATE(N70,\"/\",$D70))","v":""},"","",{"$f":"IF(E70=\"\",\"\",IF(T70=7,14,7))","v":""},{"$f":"IF(E70=\"\",\"\",IF(F70=MIN(F70,M70),7,14))","v":""},null,null,null,{"$f":"IF(E70=\"\",\"\",A70)","v":""},"","",null,null,null,null,null,"","","","","","","",""]
["",null,"",null,null,"",null,null,"","","",null,"",null,null,"","","","","",null,null,null,"","","",null,null,null,null,null,"","","","","","","",""]
["",null,"",null,null,"",null,null,"","","",null,"",null,null,"","","","","",null,null,null,"","","",null,null,null,null,null,"","","","","","","",""]
["",null,"",null,null,"",null,null,"","","",null,"",null,null,"","","","","",null,null,null,"","","",null,null,null,null,null,"","","","","","","",""]
["",null,"",null,null,"",null,null,"","","",null,"",null,null,"","","","","",null,null,null,"","","",null,null,null,null,null,"","","","","","","",""]
["",null,"",null,null,"",null,null,"","","",null,"",null,null,"","","","","",null,null,null,"","","",null,null,null,null,null,"","","","","","","",""]
["",null,"",null,null,"",null,null,"","","",null,"",null,null,"","","","","",null,null,null,"","","",null,null,null,null,null,"","","","","","","",""]
["",null,"",null,null,"",null,null,"","","",null,"",null,null,"","","","","",null,null,null,"","","",null,null,null,null,null,"","","","","","","",""]
["",null,"",null,null,"",null,null,"","","",null,"",null,null,"","","","","",null,null,null,"","","",null,null,null,null,null,"","","","","","","",""]
["",null,"",null,null,"",null,null,"","","",null,"",null,null,"","","","","",null,null,null,"","","",null,null,null,null,null,"","","","","","","",""]
["",null,"",null,null,"",null,null,"","","",null,"",null,null,"","","","","",null,null,null,"","","",null,null,null,null,null,"","","","","","","",""]
["",null,"",null,null,"",null,null,"","","",null,"",null,null,"","","","","",null,null,null,"","","",null,null,null,null,null,"","","","","","","",""]
["",null,"",null,null,"",null,null,"","","",null,"",null,null,"","","","","",null,null,null,"","","",null,null,null,null,null,"","","","","","","",""]
["",null,"",null,null,"",null,null,"","","",null,"",null,null,"","","","","",null,null,null,"","","",null,null,null,null,null,"","","","","","","",""]
["",null,"",null,null,"",null,null,"","","",null,"",null,null,"","","","","",null,null,null,"","","",null,null,null,null,null,"","","","","","","",""]
[{"$f":"IF(E85=\"\",\"\",A84+1)","v":""},null,"",null,null,"",null,null,"","","",null,"",null,null,"","","","","",null,null,null,"","","",null,null,null,null,null,"","","","","","","",""]
["",null,"",null,null,"",null,null,"","","",null,"",null,null,"","","","","",null,null,null,"","","",null,null,null,null,null,"","","","","","","",""]
["",null,"",null,null,"",null,null,"","","",null,"",null,null,"","","","","",null,null,null,"","","",null,null,null,null,null,"","","","","","","",""]
["",null,"",null,null,"",null,null,"","","",null,"",null,null,"","","","","",null,null,null,"","","",null,null,null,null,null,"","","","","","","",""]
["",null,"",null,null,"",null,null,"","","",null,"",null,null,"","","","","",null,null,null,"","","",null,null,null,null,null,"","","","","","","",""]
["",null,"",null,null,"",null,null,"","","",null,"",null,null,"","","","","",null,null,null,"","","",null,null,null,null,null,"","","","","","","",""]
["",null,"",null,null,"",null,null,"","","",null,"",null,null,"","","","","",null,null,null,"","","",null,null,null,null,null,"","","","","","","",""]
["",null,"",null,null,"",null,null,"","","",null,"",null,null,"","","","","",null,null,null,"","","",null,null,null,null,null,"","","","","","","",""]
["",null,"",null,null,"",null,null,"","","",null,"",null,null,"","","","","",null,null,null,"","","",null,null,null,null,null,"","","","","","","",""]
["",null,"",null,null,"",null,null,"","","",null,"",null,null,"","","","","",null,null,null,"","","",null,null,null,null,null,"","","","","","","",""]
["",null,"",null,null,"",null,null,"","","",null,"",null,null,"","","","","",null,null,null,"","","",null,null,null,null,null,"","","","","","","",""]
["",null,"",null,null,"",null,null,"","","",null,"",null,null,"","","","","",null,null,null,"","","",null,null,null,null,null,"","","","","","","",""]
["",null,"",null,null,"",null,null,"","","",null,"",null,null,"","","","","",null,null,null,"","","",null,null,null,null,null,"","","","","","","",""]
["",null,"",null,null,"",null,null,"","","",null,"",null,null,"","","","","",null,null,null,"","","",null,null,null,null,null,"","",{"$f":"IF(AF98=\"\",\"\",IF(belgisch=\"Nee\",0,IF(AF98=0,0,MIN(10,INT(G98*10/AF98)))))","v":""},{"$f":"IF(AG98=\"\",\"\",IF(belgisch=\"Nee\",0,IF(AG98=0,0,MIN(10,INT(N98*10/AG98)))))","v":""},"","","",""]
["",null,"",null,null,"",null,null,"","","",null,"",null,null,"","","","","",null,null,null,"","","",null,null,null,null,null,"","","","","","","",""]
["",null,"",null,null,"",null,null,"","","",null,"",null,null,"","","","","",null,null,null,"","","",null,null,null,null,null,"","","","","","","",""]
["",null,"",null,null,"",null,null,"","","",null,"",null,null,"","","","","",null,null,null,"","","",null,null,null,null,null,"","","","","","","",""]
["",null,"",null,null,"",null,null,"","","",null,"",null,null,"","","","","",null,null,null,"","","",null,null,null,null,null,"","","","","","","",""]
["",null,"",null,null,"",null,null,"","","",null,"",null,null,"","","","","",null,null,null,"","","",null,null,null,null,null,"","","","","","","",""]
["",null,"",null,null,"",null,null,"","","",null,"",null,null,"","","","","",null,null,null,"","","",null,null,null,null,null,"","","","","","","",""]
["",null,"",null,null,"",null,null,"","","",null,"",null,null,"","","","","",null,null,null,"","","",null,null,null,null,null,"","","","","","","",""]
["",null,"",null,null,"",null,null,"","","",null,"",null,null,"","","","","",null,null,null,"","","",null,null,null,null,null,"","","","","","","",""]
["",null,"",null,null,"",null,null,"","","",null,"",null,null,"","","","","",null,null,null,"","","",null,null,null,null,null,"","","","","","","",""]
["",null,"",null,null,"",null,null,"","","",null,"",null,null,"","","","","",null,null,null,"","","",null,null,null,null,null,"","","","","","","",""]
["",null,"",null,null,"",null,null,"","","",null,"",null,null,"","","","","",null,null,null,"","","",null,null,null,null,null,"","","","","","","",""]
["",null,"",null,null,"",null,null,"","","",null,"",null,null,"","","","","",null,null,null,"","","",null,null,null,null,null,"","","","","","","",""]
["",null,"",null,null,"",null,null,"","","",null,"",null,null,"","","","","",null,null,null,"","","",null,null,null,null,null,"","","","","","","",""]
["",null,"",null,null,"",null,null,"","","",null,"",null,null,"","","","","",null,null,null,"","","",null,null,null,null,null,"","","","","","","",""]
["",null,"",null,null,"",null,null,"","","",null,"",null,null,"","","","","",null,null,null,"","","",null,null,null,null,null,"","","","","","","",""]
["",null,"",null,null,"",null,null,"","","",null,"",null,null,"","","","","",null,null,null,"","","",null,null,null,null,null,"","","","","","","",""]
["",null,"",null,null,"",null,null,"","","",null,"",null,null,"","","","","",null,null,null,"","","",null,null,null,null,null,"","","","","","","",""]
["",null,"",null,null,"",null,null,"","","",null,"",null,null,"","","","","",null,null,null,"","","",null,null,null,null,null,"","","","","","","",""]
["",null,"",null,null,"",null,null,"","","",null,"",null,null,"","","","","",null,null,null,"","","",null,null,null,null,null,"","","","","","","",""]
["",null,"",null,null,"",null,null,"","","",null,"",null,null,"","","","","",null,null,null,"","","",null,null,null,null,null,"","","","","","","",""]
["",null,"",null,null,"",null,null,"","","",null,"",null,null,"","","","","",null,null,null,"","","",null,null,null,null,null,"","","","","","","",""]
["",null,"",null,null,"",null,null,"","","",null,"",null,null,"","","","","",null,null,null,"","","",null,null,null,null,null,"","","","","","","",""]
["",null,"",null,null,"",null,null,"","","",null,"",null,null,"","","","","",null,null,null,"","","",null,null,null,null,null,"","","","","","","",""]
["",null,"",null,null,"",null,null,"","","",null,"",null,null,"","","","","",null,null,null,"","","",null,null,null,null,null,"","","","","","","",""]
["",null,"",null,null,"",null,null,"","","",null,"",null,null,"","","","","",null,null,null,"","","",null,null,null,null,null,"","","","","","","",""]
["",null,"",null,null,"",null,null,"","","",null,"",null,null,"","","","","",null,null,null,"","","",null,null,null,null,null,"","","","","","","",""]
["",null,"",null,null,"",null,null,"","","",null,"",null,null,"","","","","",null,null,null,"","","",null,null,null,null,null,"","","","","","","",""]
["",null,"",null,null,"",null,null,"","","",null,"",null,null,"","","","","",null,null,null,"","","",null,null,null,null,null,"","","","","","","",""]
["",null,"",null,null,"",null,null,"","","",null,"",null,null,"","","","","",null,null,null,"","","",null,null,null,null,null,"","","","","","","",""]
["",null,"",null,null,"",null,null,"","","",null,"",null,null,"","","","","",null,null,null,"","","",null,null,null,null,null,"","","","","","","",""]
["",null,"",null,null,"",null,null,"","","",null,"",null,null,"","","","","",null,null,null,"","","",null,null,null,null,null,"","","","","","","",""]
["",null,"",null,null,"",null,null,"","","",null,"",null,null,"","","","","",null,null,null,"","","",null,null,null,null,null,"","",{"$f":"IF(AF130=\"\",\"\",IF(belgisch=\"Nee\",0,IF(AF130=0,0,MIN(10,INT(G130*10/AF130)))))","v":""},{"$f":"IF(AG130=\"\",\"\",IF(belgisch=\"Nee\",0,IF(AG130=0,0,MIN(10,INT(N130*10/AG130)))))","v":""},"","","",""]
["",null,{"$f":"IF(E131=\"\",\"\",CONCATENATE(MIN(F131,M131),\"-\",MAX(F131,M131)))","v":""},null,null,"",null,null,"",{"$f":"IF($E131=\"\",\"\",IF($W131=1,IF($G131=$U131,1,0),IF($W131=2,IF($U131>=$V131,1,0),1)))","v":""},{"$f":"IF(E131=\"\",\"\",IF(J131=0,0,IF(W131=2,IF(Q131=1,IF(J131=1,$AC$17,0),$AB$17),IF(Q131=1,$AC$16,$AB$16)))+AH131+AL131)","v":""},null,"",null,null,"",{"$f":"IF($E131=\"\",\"\",IF($W131=1,IF($N131=$V131,1,0),IF(W131=2,IF(V131>=U131,1,0),1)))","v":""},{"$f":"IF(E131=\"\",\"\",IF(Q131=0,0,IF(W131=2,IF(J131=1,IF(Q131=1,$AC$17,0),$AB$17),IF(J131=1,$AC$16,$AB$16)))+AI131+AM131)","v":""},"","",null,null,null,"",{"$f":"IF(E131=\"\",\"\",IF(J131=0,0,IF($W131=2,IF(Q131=1,2,4),IF(Q131=1,1,3))))","v":""},{"$f":"IF(L131=\"\",\"\",IF(Q131=0,0,IF($W131=2,IF(J131=1,2,4),IF(J131=1,1,3))))","v":""},null,null,null,null,null,{"$f":"IF($E131=\"\",\"\",VLOOKUP(E131,Leden,3,FALSE))","v":""},{"$f":"IF($E131=\"\",\"\",VLOOKUP(L131,Leden,3,FALSE))","v":""},"","",{"$f":"IF(E131=\"\",\"\",IF(AF131=0,0,(G131/D131)/(AF131/30)-1))","v":""},{"$f":"IF(E131=\"\",\"\",IF(AG131=0,0,(N131/D131)/(AG131/30)-1))","v":""},{"$f":"IF(AJ131=\"\",\"\",IF(hpercvraag=\"Ja\",IF(AJ131>hperc/100,hpercpunt,0),0))","v":""},{"$f":"IF(AK131=\"\",\"\",IF(hpercvraag=\"Ja\",IF(AK131>hperc/100,hpercpunt,0),0))","v":""}]
["",null,"",null,null,"",null,null,"","","",null,"",null,null,"","","","","",null,null,null,"","","",null,null,null,null,null,"","","","","","","",""]
["",null,"",null,null,"",null,null,"","","",null,"",null,null,"","","","","",null,null,null,"","","",null,null,null,null,null,"","","","","","","",""]
["",null,"",null,null,"",null,null,{"$f":"IF(E134=\"\",\"\",CONCATENATE(G134,\"/\",$D134))","v":""},"","",null,"",null,null,{"$f":"IF(E134=\"\",\"\",CONCATENATE(N134,\"/\",$D134))","v":""},"","",{"$f":"IF(E134=\"\",\"\",IF(T134=7,14,7))","v":""},{"$f":"IF(E134=\"\",\"\",IF(F134=MIN(F134,M134),7,14))","v":""},null,null,null,{"$f":"IF(E134=\"\",\"\",A134)","v":""},"","",null,null,null,null,null,"","","","","","","",""]
["",null,"",null,null,"",null,null,"","","",null,"",null,null,"","","","","",null,null,null,"","","",null,null,null,null,null,"","","","","","","",""]
["",null,"",null,null,"",null,null,"","","",null,"",null,null,"","","","","",null,null,null,"","","",null,null,null,null,null,"","","","","","","",""]
["",null,"",null,null,"",null,null,"","","",null,"",null,null,"","","","","",null,null,null,"","","",null,null,null,null,null,"","","","","","","",""]
["",null,"",null,null,"",null,null,"","","",null,"",null,null,"","","","","",null,null,null,"","","",null,null,null,null,null,"","","","","","","",""]
["",null,"",null,null,"",null,null,"","","",null,"",null,null,"","","","","",null,null,null,"","","",null,null,null,null,null,"","","","","","","",""]
["",null,"",null,null,"",null,null,"","","",null,"",null,null,"","","","","",null,null,null,"","","",null,null,null,null,null,"","","","","","","",""]
["",null,"",null,null,"",null,null,"","","",null,"",null,null,"","","","","",null,null,null,"","","",null,null,null,null,null,"","","","","","","",""]
["",null,"",null,null,"",null,null,"","","",null,"",null,null,"","","","","",null,null,null,"","","",null,null,null,null,null,"","","","","","","",""]
["",null,"",null,null,"",null,null,"","","",null,"",null,null,"","","","","",null,null,null,"","","",null,null,null,null,null,"","","","","","","",""]
["",null,"",null,null,"",null,null,"","","",null,"",null,null,"","","","","",null,null,null,"","","",null,null,null,null,null,"","","","","","","",""]
["",null,"",null,null,"",null,null,"","","",null,"",null,null,"","","","","",null,null,null,"","","",null,null,null,null,null,"","","","","","","",""]
["",null,"",null,null,"",null,null,"","","",null,"",null,null,"","","","","",null,null,null,"","","",null,null,null,null,null,"","","","","","","",""]
["",null,"",null,null,"",null,null,"","","",null,"",null,null,"","","","","",null,null,null,"","","",null,null,null,null,null,"","","","","","","",""]
["",null,"",null,null,"",null,null,"","","",null,"",null,null,"","","","","",null,null,null,"","","",null,null,null,null,null,"","","","","","","",""]
[{"$f":"IF(E149=\"\",\"\",A148+1)","v":""},null,"",null,null,"",null,null,"","","",null,"",null,null,"","","","","",null,null,null,"","","",null,null,null,null,null,"","","","","","","",""]
["",null,"",null,null,"",null,null,"","","",null,"",null,null,"","","","","",null,null,null,"","","",null,null,null,null,null,"","","","","","","",""]
["",null,"",null,null,"",null,null,"","","",null,"",null,null,"","","","","",null,null,null,"","","",null,null,null,null,null,"","","","","","","",""]
["",null,"",null,null,"",null,null,"","","",null,"",null,null,"","","","","",null,null,null,"","","",null,null,null,null,null,"","","","","","","",""]
["",null,"",null,null,"",null,null,"","","",null,"",null,null,"","","","","",null,null,null,"","","",null,null,null,null,null,"","","","","","","",""]
["",null,"",null,null,"",null,null,"","","",null,"",null,null,"","","","","",null,null,null,"","","",null,null,null,null,null,"","","","","","","",""]
["",null,"",null,null,"",null,null,"","","",null,"",null,null,"","","","","",null,null,null,"","","",null,null,null,null,null,"","","","","","","",""]
["",null,"",null,null,"",null,null,"","","",null,"",null,null,"","","","","",null,null,null,"","","",null,null,null,null,null,"","","","","","","",""]
["",null,"",null,null,"",null,null,"","","",null,"",null,null,"","","","","",null,null,null,"","","",null,null,null,null,null,"","","","","","","",""]
["",null,"",null,null,"",null,null,"","","",null,"",null,null,"","","","","",null,null,null,"","","",null,null,null,null,null,"","","","","","","",""]
["",null,"",null,null,"",null,null,"","","",null,"",null,null,"","","","","",null,null,null,"","","",null,null,null,null,null,"","","","","","","",""]
["",null,"",null,null,"",null,null,"","","",null,"",null,null,"","","","","",null,null,null,"","","",null,null,null,null,null,"","","","","","","",""]
["",null,"",null,null,"",null,null,"","","",null,"",null,null,"","","","","",null,null,null,"","","",null,null,null,null,null,"","","","","","","",""]
["",null,"",null,null,"",null,null,"","","",null,"",null,null,"","","","","",null,null,null,"","","",null,null,null,null,null,"","",{"$f":"IF(AF162=\"\",\"\",IF(belgisch=\"Nee\",0,IF(AF162=0,0,MIN(10,INT(G162*10/AF162)))))","v":""},{"$f":"IF(AG162=\"\",\"\",IF(belgisch=\"Nee\",0,IF(AG162=0,0,MIN(10,INT(N162*10/AG162)))))","v":""},"","","",""]
["",null,"",null,null,"",null,null,"","","",null,"",null,null,"","","","","",null,null,null,"","","",null,null,null,null,null,"","","","","","","",""]
["",null,"",null,null,"",null,null,"","","",null,"",null,null,"","","","","",null,null,null,"","","",null,null,null,null,null,"","","","","","","",""]
["",null,"",null,null,"",null,null,"","","",null,"",null,null,"","","","","",null,null,null,"","","",null,null,null,null,null,"","","","","","","",""]
["",null,"",null,null,"",null,null,"","","",null,"",null,null,"","","","","",null,null,null,"","","",null,null,null,null,null,"","","","","","","",""]
["",null,"",null,null,"",null,null,"","","",null,"",null,null,"","","","","",null,null,null,"","","",null,null,null,null,null,"","","","","","","",""]
["",null,"",null,null,"",null,null,"","","",null,"",null,null,"","","","","",null,null,null,"","","",null,null,null,null,null,"","","","","","","",""]
["",null,"",null,null,"",null,null,"","","",null,"",null,null,"","","","","",null,null,null,"","","",null,null,null,null,null,"","","","","","","",""]
["",null,"",null,null,"",null,null,"","","",null,"",null,null,"","","","","",null,null,null,"","","",null,null,null,null,null,"","","","","","","",""]
["",null,"",null,null,"",null,null,"","","",null,"",null,null,"","","","","",null,null,null,"","","",null,null,null,null,null,"","","","","","","",""]
["",null,"",null,null,"",null,null,"","","",null,"",null,null,"","","","","",null,null,null,"","","",null,null,null,null,null,"","","","","","","",""]
["",null,"",null,null,"",null,null,"","","",null,"",null,null,"","","","","",null,null,null,"","","",null,null,null,null,null,"","","","","","","",""]
["",null,"",null,null,"",null,null,"","","",null,"",null,null,"","","","","",null,null,null,"","","",null,null,null,null,null,"","","","","","","",""]
["",null,"",null,null,"",null,null,"","","",null,"",null,null,"","","","","",null,null,null,"","","",null,null,null,null,null,"","","","","","","",""]
["",null,"",null,null,"",null,null,"","","",null,"",null,null,"","","","","",null,null,null,"","","",null,null,null,null,null,"","","","","","","",""]
["",null,"",null,null,"",null,null,"","","",null,"",null,null,"","","","","",null,null,null,"","","",null,null,null,null,null,"","","","","","","",""]
["",null,"",null,null,"",null,null,"","","",null,"",null,null,"","","","","",null,null,null,"","","",null,null,null,null,null,"","","","","","","",""]
["",null,"",null,null,"",null,null,"","","",null,"",null,null,"","","","","",null,null,null,"","","",null,null,null,null,null,"","","","","","","",""]
["",null,"",null,null,"",null,null,"","","",null,"",null,null,"","","","","",null,null,null,"","","",null,null,null,null,null,"","","","","","","",""]
["",null,"",null,null,"",null,null,"","","",null,"",null,null,"","","","","",null,null,null,"","","",null,null,null,null,null,"","","","","","","",""]
["",null,"",null,null,"",null,null,"","","",null,"",null,null,"","","","","",null,null,null,"","","",null,null,null,null,null,"","","","","","","",""]
["",null,"",null,null,"",null,null,"","","",null,"",null,null,"","","","","",null,null,null,"","","",null,null,null,null,null,"","","","","","","",""]
["",null,"",null,null,"",null,null,"","","",null,"",null,null,"","","","","",null,null,null,"","","",null,null,null,null,null,"","","","","","","",""]
["",null,"",null,null,"",null,null,"","","",null,"",null,null,"","","","","",null,null,null,"","","",null,null,null,null,null,"","","","","","","",""]
["",null,"",null,null,"",null,null,"","","",null,"",null,null,"","","","","",null,null,null,"","","",null,null,null,null,null,"","","","","","","",""]
["",null,"",null,null,"",null,null,"","","",null,"",null,null,"","","","","",null,null,null,"","","",null,null,null,null,null,"","","","","","","",""]
["",null,"",null,null,"",null,null,"","","",null,"",null,null,"","","","","",null,null,null,"","","",null,null,null,null,null,"","","","","","","",""]
["",null,"",null,null,"",null,null,"","","",null,"",null,null,"","","","","",null,null,null,"","","",null,null,null,null,null,"","","","","","","",""]
["",null,"",null,null,"",null,null,"","","",null,"",null,null,"","","","","",null,null,null,"","","",null,null,null,null,null,"","","","","","","",""]
["",null,"",null,null,"",null,null,"","","",null,"",null,null,"","","","","",null,null,null,"","","",null,null,null,null,null,"","","","","","","",""]

{"sheet":"Lidformat","index":14,"n_rows":46,"n_cols":26,"rows_kept":46,"cut":false,"hidden":true,"merged":[[24,1,24,3],[0,2,0,3],[3,1,3,2],[0,4,0,10],[3,9,3,10],[0,11,0,12],[3,13,3,14],[37,13,37,15],[30,13,30,15],[32,13,32,15],[31,13,31,15],[34,13,34,15],[36,13,36,15],[33,13,33,15],[2,15,2,16],[0,13,0,16],[0,24,0,25],[3,24,3,25],[45,13,45,15],[38,13,38,15],[39,13,39,15],[40,13,40,15],[41,13,41,15],[44,13,44,15],[25,12,25,15],[26,13,26,15],[27,13,27,15],[28,13,28,15],[29,13,29,15],[35,13,35,15],[42,13,42,15],[43,13,43,15]]}
[null,null,"Huidig",null,"Standgegevens",null,null,null,null,null,null,"Berekend gemiddelde",null,"Oorspronkelijk",null,null,null,null,null,"Wedstrijdgemiddelde",null,null,null,null,"Berekende  z. Min max"]
["Naam","Nummer","Caramboles","Gemiddelde","Wedstrijden","Gewonnen","Gelijk","Verloren","Punten","Gemiddelde","Hoogste","Totaal","Laatste 5","Caramboles","Gemiddelde","Naam",null,null,null,"Voortschrijdend gemiddelde",null,null,null,null,"Gemidddelde","Caramboles"]
[null,{"$f":"VLOOKUP(A3,Leden,2,FALSE)","v":{"$error":"#N/A"}},null,null,{"$f":"COUNTIF(B6:B24,\">0\")","v":0},{"$f":"COUNTIF(G6:G24,3)+COUNTIF(G6:G24,4)","v":0},{"$f":"COUNTIF(G6:G24,1)+COUNTIF(G6:G24,2)","v":0},{"$f":"COUNTIF(G6:G24,0)","v":0},{"$f":"SUM(H6:H24)","v":0},{"$f":"IF(E3=0,0,ROUND(SUM(E6:E24)/SUM(D6:D24),2))","v":0},{"$f":"MAX(F6:F24)","v":0},{"$f":"IF(J3=0,0,VLOOKUP(J3,Cartabel,3,TRUE))","v":0},{"$f":"MAX(L6:L24)","v":0},null,null,null,null,null,null,"Berekende totaal",null,null,{"$f":"IF(A3=\"\",\"\",IF(B3<10,CONCATENATE(\"  \",B3,\". \",A3),CONCATENATE(B3,\". \",A3)))","v":""},"Max en Min",{"$f":"IF(B6=\"\",\"\",SUMPRODUCT(Y6:Y24,Z6:Z24)/SUM(Z6:Z24))","v":""},{"$f":"SUM(Z6:Z24)","v":0}]
[null,"Wedstrijd",null,null,null,null,null,null,"Comp.","Berekende gemiddelde",null,null,{"$f":"MAX(P6:P24)","v":0},"gemiddelden",null,null,"Gem. per ",null,null,"Beurten",null,null,null,"uitsluiten","Zonder min en max score"]
["Datum","Nummer","Code","Beurten","Caramboles","Hoogste","Soort","Punten","soort","totaal","laatste 5",null,null,"totaal","laatste 5",null,"wedstrijd",null,null,"Hoogste serie",null,{"$f":"SUM(V6:V24)","v":0},{"$f":"SUM(W6:W24)","v":0},{"$f":"SUM(X6:X24)","v":0},"Gemiddelde","Moyenne"]
[null,{"$f":"IF(C6=\"\",\"\",VLOOKUP(C6,Uitslag,22,FALSE))","v":""},null,null,null,null,{"$f":"IF(B6=\"\",\"\",IF(VLOOKUP($C6,Uitslag,4,FALSE)=$B$3,VLOOKUP($C6,Uitslag,23,FALSE),VLOOKUP($C6,Uitslag,24,FALSE)))","v":""},{"$f":"IF($B6=\"\",\"\",IF(VLOOKUP($C6,Uitslag,4,FALSE)=$B$3,VLOOKUP($C6,Uitslag,9,FALSE),VLOOKUP($C6,Uitslag,16,FALSE)))","v":""},{"$f":"IF(C6=\"\",\"\",VLOOKUP(C6,Uitslag,21,FALSE))","v":""},{"$f":"IF(B6=\"\",\"\",VLOOKUP(ROUND(SUM($E$6:$E6)/SUM($D$6:$D6),2),Cartabel,3,TRUE))","v":""},{"$f":"IF(C6=\"\",\"\",VLOOKUP(ROUND(SUM($E$6:$E6)/SUM($D$6:$D6),2),Cartabel,3,TRUE))","v":""},{"$f":"IF(K7=\"\",K6,\"\")","v":""},null,{"$f":"IF($B6=\"\",\"\",ROUND(SUM($E$6:$E6)/SUM($D$6:$D6),2))","v":""},{"$f":"IF($C6=\"\",\"\",ROUND(SUM($E$6:$E6)/SUM($D$6:$D6),2))","v":""},{"$f":"IF(O7=\"\",O6,\"\")","v":""},{"$f":"IF(B6<>\"\",E6/D6,\"\")","v":""},null,null,null,null,{"$f":"IF($Q6=$U$7,2,0)","v":0},{"$f":"IF($Q6=$U$8,1,0)","v":0},{"$f":"IF(N6=\"\",\"\",IF(V6=2,0,IF(W6=1,0,1)))","v":""},{"$f":"IF(N6=\"\",\"\",N6)","v":""},{"$f":"IF(X7=\"\",IF(B6=\"\",\"\",VLOOKUP(Y6,Cartabel,3,TRUE)),\"\")","v":""}]
[null,"",null,null,null,null,"","","",{"$f":"IF(B7=\"\",\"\",VLOOKUP(ROUND(SUM($E$6:$E7)/SUM($D$6:$D7),2),Cartabel,3,TRUE))","v":""},{"$f":"IF(C7=\"\",\"\",VLOOKUP(ROUND(SUM($E$6:$E7)/SUM($D$6:$D7),2),Cartabel,3,TRUE))","v":""},"",null,{"$f":"IF($B7=\"\",\"\",ROUND(SUM($E$6:$E7)/SUM($D$6:$D7),2))","v":""},{"$f":"IF($C7=\"\",\"\",ROUND(SUM($E$6:$E7)/SUM($D$6:$D7),2))","v":""},"",{"$f":"IF(B7<>\"\",E7/D7,\"\")","v":""},null,null,"Maximum",{"$f":"MAX(Q6:Q24)","v":0},{"$f":"IF(SUM($V$6:V6)=0,IF($Q7=$U$7,2,0),0)","v":0},{"$f":"IF(SUM($W$6:W6)=0,IF($Q7=$U$8,1,0),0)","v":0},{"$f":"IF(N7=\"\",\"\",IF(V7=2,0,IF(W7=1,0,1)))","v":""},{"$f":"IF(N7=\"\",\"\",N7)","v":""},""]
[null,"",null,null,null,null,"","","",{"$f":"IF(B8=\"\",\"\",VLOOKUP(ROUND(SUM($E$6:$E8)/SUM($D$6:$D8),2),Cartabel,3,TRUE))","v":""},{"$f":"IF(C8=\"\",\"\",VLOOKUP(ROUND(SUM($E$6:$E8)/SUM($D$6:$D8),2),Cartabel,3,TRUE))","v":""},"",null,{"$f":"IF($B8=\"\",\"\",ROUND(SUM($E$6:$E8)/SUM($D$6:$D8),2))","v":""},{"$f":"IF($C8=\"\",\"\",ROUND(SUM($E$6:$E8)/SUM($D$6:$D8),2))","v":""},"","",null,null,"Minimum",{"$f":"MIN(Q6:Q24)","v":0},{"$f":"IF(SUM($V$6:V7)=0,IF($Q8=$U$7,2,0),0)","v":0},{"$f":"IF(SUM($W$6:W7)=0,IF($Q8=$U$8,1,0),0)","v":0},"",{"$f":"IF($B8=\"\",\"\",ROUND(SUMIF($X$6:$X8,1,$E$6:$E8)/SUMIF($X$6:$X8,1,$D$6:$D8),2))","v":""},""]
[null,"",null,null,null,null,"","","",{"$f":"IF(B9=\"\",\"\",VLOOKUP(ROUND(SUM($E$6:$E9)/SUM($D$6:$D9),2),Cartabel,3,TRUE))","v":""},{"$f":"IF(C9=\"\",\"\",VLOOKUP(ROUND(SUM($E$6:$E9)/SUM($D$6:$D9),2),Cartabel,3,TRUE))","v":""},"",null,{"$f":"IF($B9=\"\",\"\",ROUND(SUM($E$6:$E9)/SUM($D$6:$D9),2))","v":""},{"$f":"IF($C9=\"\",\"\",ROUND(SUM($E$6:$E9)/SUM($D$6:$D9),2))","v":""},"","",null,null,null,null,{"$f":"IF(SUM($V$6:V8)=0,IF($Q9=$U$7,2,0),0)","v":0},{"$f":"IF(SUM($W$6:W8)=0,IF($Q9=$U$8,1,0),0)","v":0},"",{"$f":"IF($B9=\"\",\"\",ROUND(SUMIF($X$6:$X9,1,$E$6:$E9)/SUMIF($X$6:$X9,1,$D$6:$D9),2))","v":""},""]
[null,"",null,null,null,null,"","","",{"$f":"IF(B10=\"\",\"\",VLOOKUP(ROUND(SUM($E$6:$E10)/SUM($D$6:$D10),2),Cartabel,3,TRUE))","v":""},{"$f":"IF(C10=\"\",\"\",VLOOKUP(ROUND(SUM($E$6:$E10)/SUM($D$6:$D10),2),Cartabel,3,TRUE))","v":""},"",null,{"$f":"IF($B10=\"\",\"\",ROUND(SUM($E$6:$E10)/SUM($D$6:$D10),2))","v":""},{"$f":"IF($C10=\"\",\"\",ROUND(SUM($E$6:$E10)/SUM($D$6:$D10),2))","v":""},"","",null,null,null,null,{"$f":"IF(SUM($V$6:V9)=0,IF($Q10=$U$7,2,0),0)","v":0},{"$f":"IF(SUM($W$6:W9)=0,IF($Q10=$U$8,1,0),0)","v":0},"",{"$f":"IF($B10=\"\",\"\",ROUND(SUMIF($X$6:$X10,1,$E$6:$E10)/SUMIF($X$6:$X10,1,$D$6:$D10),2))","v":""},""]
[null,"",null,null,null,null,"","","",{"$f":"IF(B11=\"\",\"\",VLOOKUP(ROUND(SUM($E$6:$E11)/SUM($D$6:$D11),2),Cartabel,3,TRUE))","v":""},{"$f":"IF(C11=\"\",\"\",VLOOKUP(ROUND(SUM($E7:$E11)/SUM($D7:$D11),2),Cartabel,3,TRUE))","v":""},"",null,{"$f":"IF($B11=\"\",\"\",ROUND(SUM($E$6:$E11)/SUM($D$6:$D11),2))","v":""},{"$f":"IF($C11=\"\",\"\",ROUND(SUM($E7:$E11)/SUM($D7:$D11),2))","v":""},"","",null,null,null,null,{"$f":"IF(SUM($V$6:V10)=0,IF($Q11=$U$7,2,0),0)","v":0},{"$f":"IF(SUM($W$6:W10)=0,IF($Q11=$U$8,1,0),0)","v":0},"",{"$f":"IF($B11=\"\",\"\",ROUND(SUMIF($X$6:$X11,1,$E$6:$E11)/SUMIF($X$6:$X11,1,$D$6:$D11),2))","v":""},""]
[null,"",null,null,null,null,"","","",{"$f":"IF(B12=\"\",\"\",VLOOKUP(ROUND(SUM($E$6:$E12)/SUM($D$6:$D12),2),Cartabel,3,TRUE))","v":""},"","",null,{"$f":"IF($B12=\"\",\"\",ROUND(SUM($E$6:$E12)/SUM($D$6:$D12),2))","v":""},{"$f":"IF($C12=\"\",\"\",ROUND(SUM($E8:$E12)/SUM($D8:$D12),2))","v":""},"","",null,null,null,null,{"$f":"IF(SUM($V$6:V11)=0,IF($Q12=$U$7,2,0),0)","v":0},{"$f":"IF(SUM($W$6:W11)=0,IF($Q12=$U$8,1,0),0)","v":0},"",{"$f":"IF($B12=\"\",\"\",ROUND(SUMIF($X$6:$X12,1,$E$6:$E12)/SUMIF($X$6:$X12,1,$D$6:$D12),2))","v":""},""]
[null,"",null,null,null,null,"","","",{"$f":"IF(B13=\"\",\"\",VLOOKUP(ROUND(SUM($E$6:$E13)/SUM($D$6:$D13),2),Cartabel,3,TRUE))","v":""},"","",null,{"$f":"IF($B13=\"\",\"\",ROUND(SUM($E$6:$E13)/SUM($D$6:$D13),2))","v":""},"",{"$f":"IF(O24=\"\",O13,\"\")","v":""},"",null,null,null,null,{"$f":"IF(SUM($V$6:V12)=0,IF($Q13=$U$7,2,0),0)","v":0},{"$f":"IF(SUM($W$6:W12)=0,IF($Q13=$U$8,1,0),0)","v":0},"",{"$f":"IF($B13=\"\",\"\",ROUND(SUMIF($X$6:$X13,1,$E$6:$E13)/SUMIF($X$6:$X13,1,$D$6:$D13),2))","v":""},""]
[null,"",null,null,null,null,"","","",{"$f":"IF(B14=\"\",\"\",VLOOKUP(ROUND(SUM($E$6:$E14)/SUM($D$6:$D14),2),Cartabel,3,TRUE))","v":""},"","",null,{"$f":"IF($B14=\"\",\"\",ROUND(SUM($E$6:$E14)/SUM($D$6:$D14),2))","v":""},"",{"$f":"IF(O25=\"\",O14,\"\")","v":""},"",null,null,null,null,{"$f":"IF(SUM($V$6:V13)=0,IF($Q14=$U$7,2,0),0)","v":0},{"$f":"IF(SUM($W$6:W13)=0,IF($Q14=$U$8,1,0),0)","v":0},"",{"$f":"IF($B14=\"\",\"\",ROUND(SUMIF($X$6:$X14,1,$E$6:$E14)/SUMIF($X$6:$X14,1,$D$6:$D14),2))","v":""},""]
[null,"",null,null,null,null,"","","",{"$f":"IF(B15=\"\",\"\",VLOOKUP(ROUND(SUM($E$6:$E15)/SUM($D$6:$D15),2),Cartabel,3,TRUE))","v":""},"","",null,{"$f":"IF($B15=\"\",\"\",ROUND(SUM($E$6:$E15)/SUM($D$6:$D15),2))","v":""},"",{"$f":"IF(P26=\"\",O15,\"\")","v":""},"",null,null,null,null,{"$f":"IF(SUM($V$6:V14)=0,IF($Q15=$U$7,2,0),0)","v":0},{"$f":"IF(SUM($W$6:W14)=0,IF($Q15=$U$8,1,0),0)","v":0},"",{"$f":"IF($B15=\"\",\"\",ROUND(SUMIF($X$6:$X15,1,$E$6:$E15)/SUMIF($X$6:$X15,1,$D$6:$D15),2))","v":""},""]
[null,"",null,null,null,null,"","","",{"$f":"IF(B16=\"\",\"\",VLOOKUP(ROUND(SUM($E$6:$E16)/SUM($D$6:$D16),2),Cartabel,3,TRUE))","v":""},"","",null,{"$f":"IF($B16=\"\",\"\",ROUND(SUM($E$6:$E16)/SUM($D$6:$D16),2))","v":""},"","","",null,null,null,null,{"$f":"IF(SUM($V$6:V15)=0,IF($Q16=$U$7,2,0),0)","v":0},{"$f":"IF(SUM($W$6:W15)=0,IF($Q16=$U$8,1,0),0)","v":0},"",{"$f":"IF($B16=\"\",\"\",ROUND(SUMIF($X$6:$X16,1,$E$6:$E16)/SUMIF($X$6:$X16,1,$D$6:$D16),2))","v":""},""]
[null,"",null,null,null,null,"","","",{"$f":"IF(B17=\"\",\"\",VLOOKUP(ROUND(SUM($E$6:$E17)/SUM($D$6:$D17),2),Cartabel,3,TRUE))","v":""},"","",null,{"$f":"IF($B17=\"\",\"\",ROUND(SUM($E$6:$E17)/SUM($D$6:$D17),2))","v":""},"","","",null,null,null,null,{"$f":"IF(SUM($V$6:V16)=0,IF($Q17=$U$7,2,0),0)","v":0},{"$f":"IF(SUM($W$6:W16)=0,IF($Q17=$U$8,1,0),0)","v":0},"",{"$f":"IF($B17=\"\",\"\",ROUND(SUMIF($X$6:$X17,1,$E$6:$E17)/SUMIF($X$6:$X17,1,$D$6:$D17),2))","v":""},""]
[null,"",null,null,null,null,"","","",{"$f":"IF(B18=\"\",\"\",VLOOKUP(ROUND(SUM($E$6:$E18)/SUM($D$6:$D18),2),Cartabel,3,TRUE))","v":""},"","",null,{"$f":"IF($B18=\"\",\"\",ROUND(SUM($E$6:$E18)/SUM($D$6:$D18),2))","v":""},"","","",null,null,null,null,{"$f":"IF(SUM($V$6:V17)=0,IF($Q18=$U$7,2,0),0)","v":0},{"$f":"IF(SUM($W$6:W17)=0,IF($Q18=$U$8,1,0),0)","v":0},"",{"$f":"IF($B18=\"\",\"\",ROUND(SUMIF($X$6:$X18,1,$E$6:$E18)/SUMIF($X$6:$X18,1,$D$6:$D18),2))","v":""},""]
[null,"",null,null,null,null,"","","",{"$f":"IF(B19=\"\",\"\",VLOOKUP(ROUND(SUM($E$6:$E19)/SUM($D$6:$D19),2),Cartabel,3,TRUE))","v":""},"","",null,{"$f":"IF($B19=\"\",\"\",ROUND(SUM($E$6:$E19)/SUM($D$6:$D19),2))","v":""},"","","",null,null,null,null,{"$f":"IF(SUM($V$6:V18)=0,IF($Q19=$U$7,2,0),0)","v":0},{"$f":"IF(SUM($W$6:W18)=0,IF($Q19=$U$8,1,0),0)","v":0},"",{"$f":"IF($B19=\"\",\"\",ROUND(SUMIF($X$6:$X19,1,$E$6:$E19)/SUMIF($X$6:$X19,1,$D$6:$D19),2))","v":""},""]
[null,"",null,null,null,null,"","","",{"$f":"IF(B20=\"\",\"\",VLOOKUP(ROUND(SUM($E$6:$E20)/SUM($D$6:$D20),2),Cartabel,3,TRUE))","v":""},"","",null,{"$f":"IF($B20=\"\",\"\",ROUND(SUM($E$6:$E20)/SUM($D$6:$D20),2))","v":""},"","","",null,null,null,null,{"$f":"IF(SUM($V$6:V19)=0,IF($Q20=$U$7,2,0),0)","v":0},{"$f":"IF(SUM($W$6:W19)=0,IF($Q20=$U$8,1,0),0)","v":0},"",{"$f":"IF($B20=\"\",\"\",ROUND(SUMIF($X$6:$X20,1,$E$6:$E20)/SUMIF($X$6:$X20,1,$D$6:$D20),2))","v":""},""]
[null,"",null,null,null,null,"","","",{"$f":"IF(B21=\"\",\"\",VLOOKUP(ROUND(SUM($E$6:$E21)/SUM($D$6:$D21),2),Cartabel,3,TRUE))","v":""},"","",null,{"$f":"IF($B21=\"\",\"\",ROUND(SUM($E$6:$E21)/SUM($D$6:$D21),2))","v":""},"","","",null,null,null,null,{"$f":"IF(SUM($V$6:V20)=0,IF($Q21=$U$7,2,0),0)","v":0},{"$f":"IF(SUM($W$6:W20)=0,IF($Q21=$U$8,1,0),0)","v":0},"",{"$f":"IF($B21=\"\",\"\",ROUND(SUMIF($X$6:$X21,1,$E$6:$E21)/SUMIF($X$6:$X21,1,$D$6:$D21),2))","v":""},""]
[null,"",null,null,null,null,"","","",{"$f":"IF(B22=\"\",\"\",VLOOKUP(ROUND(SUM($E$6:$E22)/SUM($D$6:$D22),2),Cartabel,3,TRUE))","v":""},"","",null,{"$f":"IF($B22=\"\",\"\",ROUND(SUM($E$6:$E22)/SUM($D$6:$D22),2))","v":""},"","","",null,null,null,null,{"$f":"IF(SUM($V$6:V21)=0,IF($Q22=$U$7,2,0),0)","v":0},{"$f":"IF(SUM($W$6:W21)=0,IF($Q22=$U$8,1,0),0)","v":0},"",{"$f":"IF($B22=\"\",\"\",ROUND(SUMIF($X$6:$X22,1,$E$6:$E22)/SUMIF($X$6:$X22,1,$D$6:$D22),2))","v":""},""]
[null,"",null,null,null,null,"","","",{"$f":"IF(B23=\"\",\"\",VLOOKUP(ROUND(SUM($E$6:$E23)/SUM($D$6:$D23),2),Cartabel,3,TRUE))","v":""},"","",null,{"$f":"IF($B23=\"\",\"\",ROUND(SUM($E$6:$E23)/SUM($D$6:$D23),2))","v":""},"","","",null,null,null,null,{"$f":"IF(SUM($V$6:V22)=0,IF($Q23=$U$7,2,0),0)","v":0},{"$f":"IF(SUM($W$6:W22)=0,IF($Q23=$U$8,1,0),0)","v":0},"",{"$f":"IF($B23=\"\",\"\",ROUND(SUMIF($X$6:$X23,1,$E$6:$E23)/SUMIF($X$6:$X23,1,$D$6:$D23),2))","v":""},""]
[null,"",null,null,null,null,"","","",{"$f":"IF(B24=\"\",\"\",VLOOKUP(ROUND(SUM($E$6:$E24)/SUM($D$6:$D24),2),Cartabel,3,TRUE))","v":""},"","",null,{"$f":"IF($B24=\"\",\"\",ROUND(SUM($E$6:$E24)/SUM($D$6:$D24),2))","v":""},"","","",null,null,null,null,{"$f":"IF(SUM($V$6:V23)=0,IF($Q24=$U$7,2,0),0)","v":0},{"$f":"IF(SUM($W$6:W23)=0,IF($Q24=$U$8,1,0),0)","v":0},"",{"$f":"IF($B24=\"\",\"\",ROUND(SUMIF($X$6:$X24,1,$E$6:$E24)/SUMIF($X$6:$X24,1,$D$6:$D24),2))","v":""},""]
["Soort grafiek","Berekende totaal"]
[null,null,null,null,null,null,null,null,null,null,null,null,"Medespelers:",null,null,null,"Partijen met 30 of meer beurten:"]
[null,null,null,null,null,null,null,null,null,null,null,null,null,{"$f":"IF(Leden!A3=\"\",\"\",IF(Leden!B3<10,CONCATENATE(\"  \",Leden!B3,\". \",Leden!A3),CONCATENATE(Leden!B3,\". \",Leden!A3)))","v":""},null,null,null,null,null,null,null,null,null,null,{"$f":"COUNTIF(D6:D24,\">=30\")","v":0},{"$f":"IF(Y30=0,0,Y27/Y30)","v":0}]
[null,null,null,null,null,null,null,null,null,null,null,null,null,{"$f":"IF(Leden!A4=\"\",\"\",IF(Leden!B4<10,CONCATENATE(\"  \",Leden!B4,\". \",Leden!A4),CONCATENATE(Leden!B4,\". \",Leden!A4)))","v":""}]
[null,null,null,null,null,null,null,null,null,null,null,null,null,{"$f":"IF(Leden!A5=\"\",\"\",IF(Leden!B5<10,CONCATENATE(\"  \",Leden!B5,\". \",Leden!A5),CONCATENATE(Leden!B5,\". \",Leden!A5)))","v":""},null,null,"Totaal aantal gespeelde partijen:"]
[null,null,null,null,null,null,null,null,null,null,null,null,null,{"$f":"IF(Leden!A6=\"\",\"\",IF(Leden!B6<10,CONCATENATE(\"  \",Leden!B6,\". \",Leden!A6),CONCATENATE(Leden!B6,\". \",Leden!A6)))","v":""},null,null,null,null,null,null,null,null,null,null,{"$f":"COUNTIF(D6:D24,\">0\")","v":0}]
[null,null,null,null,null,null,null,null,null,null,null,null,null,{"$f":"IF(Leden!A7=\"\",\"\",IF(Leden!B7<10,CONCATENATE(\"  \",Leden!B7,\". \",Leden!A7),CONCATENATE(Leden!B7,\". \",Leden!A7)))","v":""}]
[null,null,null,null,null,null,null,null,null,null,null,null,null,{"$f":"IF(Leden!A8=\"\",\"\",IF(Leden!B8<10,CONCATENATE(\"  \",Leden!B8,\". \",Leden!A8),CONCATENATE(Leden!B8,\". \",Leden!A8)))","v":""}]
[null,null,null,null,null,null,null,null,null,null,null,null,null,{"$f":"IF(Leden!A9=\"\",\"\",IF(Leden!B9<10,CONCATENATE(\"  \",Leden!B9,\". \",Leden!A9),CONCATENATE(Leden!B9,\". \",Leden!A9)))","v":""}]
[null,null,null,null,null,null,null,null,null,null,null,null,null,{"$f":"IF(Leden!A10=\"\",\"\",IF(Leden!B10<10,CONCATENATE(\"  \",Leden!B10,\". \",Leden!A10),CONCATENATE(Leden!B10,\". \",Leden!A10)))","v":""}]
[null,null,null,null,null,null,null,null,null,null,null,null,null,{"$f":"IF(Leden!A11=\"\",\"\",IF(Leden!B11<10,CONCATENATE(\"  \",Leden!B11,\". \",Leden!A11),CONCATENATE(Leden!B11,\". \",Leden!A11)))","v":""}]
[null,null,null,null,null,null,null,null,null,null,null,null,null,{"$f":"IF(Leden!A12=\"\",\"\",IF(Leden!B12<10,CONCATENATE(\"  \",Leden!B12,\". \",Leden!A12),CONCATENATE(Leden!B12,\". \",Leden!A12)))","v":""}]
[null,null,null,null,null,null,null,null,null,null,null,null,null,{"$f":"IF(Leden!A13=\"\",\"\",IF(Leden!B13<10,CONCATENATE(\"  \",Leden!B13,\". \",Leden!A13),CONCATENATE(Leden!B13,\". \",Leden!A13)))","v":""}]
[null,null,null,null,null,null,null,null,null,null,null,null,null,{"$f":"IF(Leden!A14=\"\",\"\",IF(Leden!B14<10,CONCATENATE(\"  \",Leden!B14,\". \",Leden!A14),CONCATENATE(Leden!B14,\". \",Leden!A14)))","v":""}]
[null,null,null,null,null,null,null,null,null,null,null,null,null,{"$f":"IF(Leden!A15=\"\",\"\",IF(Leden!B15<10,CONCATENATE(\"  \",Leden!B15,\". \",Leden!A15),CONCATENATE(Leden!B15,\". \",Leden!A15)))","v":""}]
[null,null,null,null,null,null,null,null,null,null,null,null,null,{"$f":"IF(Leden!A16=\"\",\"\",IF(Leden!B16<10,CONCATENATE(\"  \",Leden!B16,\". \",Leden!A16),CONCATENATE(Leden!B16,\". \",Leden!A16)))","v":""}]
[null,null,null,null,null,null,null,null,null,null,null,null,null,{"$f":"IF(Leden!A17=\"\",\"\",IF(Leden!B17<10,CONCATENATE(\"  \",Leden!B17,\". \",Leden!A17),CONCATENATE(Leden!B17,\". \",Leden!A17)))","v":""}]
[null,null,null,null,null,null,null,null,null,null,null,null,null,{"$f":"IF(Leden!A18=\"\",\"\",IF(Leden!B18<10,CONCATENATE(\"  \",Leden!B18,\". \",Leden!A18),CONCATENATE(Leden!B18,\". \",Leden!A18)))","v":""}]
[null,null,null,null,null,null,null,null,null,null,null,null,null,{"$f":"IF(Leden!A19=\"\",\"\",IF(Leden!B19<10,CONCATENATE(\"  \",Leden!B19,\". \",Leden!A19),CONCATENATE(Leden!B19,\". \",Leden!A19)))","v":""}]
[null,null,null,null,null,null,null,null,null,null,null,null,null,{"$f":"IF(Leden!A20=\"\",\"\",IF(Leden!B20<10,CONCATENATE(\"  \",Leden!B20,\". \",Leden!A20),CONCATENATE(Leden!B20,\". \",Leden!A20)))","v":""}]
[null,null,null,null,null,null,null,null,null,null,null,null,null,{"$f":"IF(Leden!A21=\"\",\"\",IF(Leden!B21<10,CONCATENATE(\"  \",Leden!B21,\". \",Leden!A21),CONCATENATE(Leden!B21,\". \",Leden!A21)))","v":""}]
[null,null,null,null,null,null,null,null,null,null,null,null,null,{"$f":"IF(Leden!A22=\"\",\"\",IF(Leden!B22<10,CONCATENATE(\"  \",Leden!B22,\". \",Leden!A22),CONCATENATE(Leden!B22,\". \",Leden!A22)))","v":""}]

{"sheet":"Wedstijden","index":15,"n_rows":191,"n_cols":40,"rows_kept":191,"cut":false,"hidden":true,"merged":[[0,23,0,24],[0,37,0,38],[0,27,0,28],[0,29,0,30],[0,31,0,32],[0,33,0,34],[0,35,0,36],[0,25,0,26],[0,21,0,22],[0,5,0,6],[0,9,0,10],[0,11,0,12],[0,19,0,20],[0,13,0,14],[0,15,0,16],[0,17,0,18]]}
["Aantal",2,null,3,null,4,null,5,null,6,null,7,null,8,null,9,null,10,null,11,null,12,null,13,null,14,null,15,null,16,null,17,null,18,null,19,null,20,null,"Aantal"]
[1,1,2,1,2,1,2,1,2,1,2,1,2,1,2,1,2,1,2,1,2,1,2,1,2,1,2,1,2,1,2,1,2,1,2,1,2,1,2,1]
[2,null,null,1,3,3,4,3,4,3,4,3,4,3,4,3,4,3,4,3,4,3,4,3,4,3,4,3,4,3,4,3,4,3,4,3,4,3,4,2]
[3,null,null,2,3,1,3,1,3,5,6,5,6,5,6,5,6,5,6,5,6,5,6,5,6,5,6,5,6,5,6,5,6,5,6,5,6,5,6,3]
[4,null,null,null,null,2,4,2,5,1,3,1,3,7,8,7,8,7,8,7,8,7,8,7,8,7,8,7,8,7,8,7,8,7,8,7,8,7,8,4]
[5,null,null,null,null,1,4,1,5,2,5,2,5,1,3,1,3,9,10,9,10,9,10,9,10,9,10,9,10,9,10,9,10,9,10,9,10,9,10,5]
[6,null,null,null,null,2,3,2,4,4,6,4,7,2,5,2,5,1,3,1,3,11,12,11,12,11,12,11,12,11,12,11,12,11,12,11,12,11,12,6]
[7,null,null,null,null,null,null,4,5,1,5,1,5,4,7,4,7,2,5,2,5,1,3,1,3,13,14,13,14,13,14,13,14,13,14,13,14,13,14,7]
[8,null,null,null,null,null,null,2,3,3,6,3,7,6,8,6,9,4,7,4,7,2,5,2,5,1,3,1,3,15,16,15,16,15,16,15,16,15,16,8]
[9,null,null,null,null,null,null,1,4,2,4,4,6,1,5,1,5,6,9,6,9,4,7,4,7,2,5,2,5,1,3,1,3,17,18,17,18,17,18,9]
[10,null,null,null,null,null,null,3,5,1,6,1,7,3,7,3,7,8,10,8,11,6,9,6,9,4,7,4,7,2,5,2,5,1,3,1,3,19,20,10]
[11,null,null,null,null,null,null,null,null,4,5,3,6,2,8,2,9,1,5,1,5,8,11,8,11,6,9,6,9,4,7,4,7,2,5,2,5,1,3,11]
[12,null,null,null,null,null,null,null,null,2,3,2,4,4,6,6,8,3,7,3,7,10,12,10,13,8,11,8,11,6,9,6,9,4,7,4,7,2,5,12]
[13,null,null,null,null,null,null,null,null,1,4,6,7,1,7,1,7,2,9,2,9,1,5,1,5,10,13,10,13,8,11,8,11,6,9,6,9,4,7,13]
[14,null,null,null,null,null,null,null,null,2,6,4,5,5,8,5,9,4,10,4,11,3,7,3,7,12,14,12,15,10,13,10,13,8,11,8,11,6,9,14]
[15,null,null,null,null,null,null,null,null,3,5,2,3,3,6,2,8,6,8,8,10,2,9,2,9,1,5,1,5,12,15,12,15,10,13,10,13,8,11,15]
[16,null,null,null,null,null,null,null,null,null,null,1,6,2,4,4,6,1,7,1,7,4,11,4,11,3,7,3,7,14,16,14,17,12,15,12,15,10,13,16]
[17,null,null,null,null,null,null,null,null,null,null,2,7,1,8,1,9,5,9,5,9,6,12,6,13,2,9,2,9,1,5,1,5,14,17,14,17,12,15,17]
[18,null,null,null,null,null,null,null,null,null,null,3,5,6,7,5,8,3,10,3,11,8,10,10,12,4,11,4,11,3,7,3,7,16,18,16,19,14,17,18]
[19,null,null,null,null,null,null,null,null,null,null,1,4,4,5,3,6,2,8,4,10,1,7,1,7,6,13,6,13,2,9,2,9,1,5,1,5,16,19,19]
[20,null,null,null,null,null,null,null,null,null,null,2,6,2,3,2,4,4,6,6,8,5,9,5,9,8,14,8,15,4,11,4,11,3,7,3,7,18,20,20]
[21,null,null,null,null,null,null,null,null,null,null,5,7,1,6,8,9,1,9,1,9,3,11,3,11,10,12,12,14,6,13,6,13,2,9,2,9,1,5,21]
[22,null,null,null,null,null,null,null,null,null,null,null,null,4,8,6,7,7,10,7,11,2,12,2,13,1,7,1,7,8,15,8,15,4,11,4,11,3,7,22]
[23,null,null,null,null,null,null,null,null,null,null,null,null,2,7,4,5,5,8,3,10,4,10,6,12,5,9,5,9,10,16,10,17,6,13,6,13,2,9,23]
[24,null,null,null,null,null,null,null,null,null,null,null,null,3,5,2,3,3,6,2,8,6,8,8,10,3,11,3,11,12,14,14,16,8,15,8,15,4,11,24]
[25,null,null,null,null,null,null,null,null,null,null,null,null,1,4,1,8,2,4,4,6,1,9,1,9,2,13,2,13,1,7,1,7,10,17,10,17,6,13,25]
[26,null,null,null,null,null,null,null,null,null,null,null,null,2,6,4,9,1,10,1,11,7,11,7,11,4,14,4,15,5,9,5,9,12,18,12,19,8,15,26]
[27,null,null,null,null,null,null,null,null,null,null,null,null,3,8,2,7,8,9,7,10,5,12,5,13,6,12,8,14,3,11,3,11,14,16,16,18,10,17,27]
[28,null,null,null,null,null,null,null,null,null,null,null,null,5,7,3,5,6,7,5,8,3,10,2,12,8,10,10,12,2,13,2,13,1,7,1,7,12,19,28]
[29,null,null,null,null,null,null,null,null,null,null,null,null,null,null,1,6,4,5,3,6,2,8,4,10,1,9,1,9,4,15,4,15,5,9,5,9,14,20,29]
[30,null,null,null,null,null,null,null,null,null,null,null,null,null,null,4,8,2,3,2,4,4,6,6,8,7,11,7,11,6,16,6,17,3,11,3,11,16,18,30]
[31,null,null,null,null,null,null,null,null,null,null,null,null,null,null,3,9,1,8,10,11,1,11,1,11,5,13,5,13,8,14,10,16,2,13,2,13,1,7,31]
[32,null,null,null,null,null,null,null,null,null,null,null,null,null,null,5,7,6,10,8,9,9,12,9,13,3,14,3,15,10,12,12,14,4,15,4,15,5,9,32]
[33,null,null,null,null,null,null,null,null,null,null,null,null,null,null,1,4,4,9,6,7,7,10,5,12,2,12,4,14,1,9,1,9,6,17,6,17,3,11,33]
[34,null,null,null,null,null,null,null,null,null,null,null,null,null,null,2,6,2,7,4,5,5,8,3,10,4,10,6,12,7,11,7,11,8,18,8,19,2,13,34]
[35,null,null,null,null,null,null,null,null,null,null,null,null,null,null,3,8,3,5,2,3,3,6,2,8,6,8,8,10,5,13,5,13,10,16,12,18,4,15,35]
[36,null,null,null,null,null,null,null,null,null,null,null,null,null,null,7,9,1,6,1,10,2,4,4,6,1,11,1,11,3,15,3,15,12,14,14,16,6,17,36]
[37,null,null,null,null,null,null,null,null,null,null,null,null,null,null,null,null,4,8,6,11,1,12,1,13,9,13,9,13,2,16,2,17,1,9,1,9,8,19,37]
[38,null,null,null,null,null,null,null,null,null,null,null,null,null,null,null,null,2,10,4,9,10,11,9,12,7,14,7,15,4,14,6,16,7,11,7,11,10,20,38]
[39,null,null,null,null,null,null,null,null,null,null,null,null,null,null,null,null,3,9,2,7,8,9,7,10,5,12,3,14,6,12,8,14,5,13,5,13,12,18,39]
[40,null,null,null,null,null,null,null,null,null,null,null,null,null,null,null,null,5,7,3,5,6,7,5,8,3,10,2,12,8,10,10,12,3,15,3,15,14,16,40]
[41,null,null,null,null,null,null,null,null,null,null,null,null,null,null,null,null,1,4,1,8,4,5,3,6,2,8,4,10,1,11,1,11,2,17,2,17,1,9,41]
[42,null,null,null,null,null,null,null,null,null,null,null,null,null,null,null,null,2,6,6,10,2,3,2,4,4,6,6,8,9,13,9,13,4,18,4,19,7,11,42]
[43,null,null,null,null,null,null,null,null,null,null,null,null,null,null,null,null,3,8,2,11,1,10,12,13,1,13,1,13,7,15,7,15,6,16,8,18,5,13,43]
[44,null,null,null,null,null,null,null,null,null,null,null,null,null,null,null,null,5,10,3,9,8,12,10,11,11,14,11,15,5,16,5,17,8,14,10,16,3,15,44]
[45,null,null,null,null,null,null,null,null,null,null,null,null,null,null,null,null,7,9,5,7,6,11,8,9,9,12,7,14,3,14,2,16,10,12,12,14,2,17,45]
[46,null,null,null,null,null,null,null,null,null,null,null,null,null,null,null,null,null,null,1,6,4,9,6,7,7,10,5,12,2,12,4,14,1,11,1,11,4,19,46]
[47,null,null,null,null,null,null,null,null,null,null,null,null,null,null,null,null,null,null,4,8,2,7,4,5,5,8,3,10,4,10,6,12,9,13,9,13,6,20,47]
[48,null,null,null,null,null,null,null,null,null,null,null,null,null,null,null,null,null,null,2,10,3,5,2,3,3,6,2,8,6,8,8,10,7,15,7,15,8,18,48]
[49,null,null,null,null,null,null,null,null,null,null,null,null,null,null,null,null,null,null,5,11,1,8,1,12,2,4,4,6,1,13,1,13,5,17,5,17,10,16,49]
[50,null,null,null,null,null,null,null,null,null,null,null,null,null,null,null,null,null,null,7,9,6,10,8,13,1,14,1,15,11,15,11,15,3,18,3,19,12,14,50]
[51,null,null,null,null,null,null,null,null,null,null,null,null,null,null,null,null,null,null,1,4,4,12,6,11,12,13,11,14,9,16,9,17,2,16,4,18,1,11,51]
[52,null,null,null,null,null,null,null,null,null,null,null,null,null,null,null,null,null,null,2,6,2,11,4,9,10,11,9,12,7,14,5,16,4,14,6,16,9,13,52]
[53,null,null,null,null,null,null,null,null,null,null,null,null,null,null,null,null,null,null,3,8,3,9,2,7,8,9,7,10,5,12,3,14,6,12,8,14,7,15,53]
[54,null,null,null,null,null,null,null,null,null,null,null,null,null,null,null,null,null,null,5,10,5,7,3,5,6,7,5,8,3,10,2,12,8,10,10,12,5,17,54]
[55,null,null,null,null,null,null,null,null,null,null,null,null,null,null,null,null,null,null,9,11,1,6,1,10,4,5,3,6,2,8,4,10,1,13,1,13,3,19,55]
[56,null,null,null,null,null,null,null,null,null,null,null,null,null,null,null,null,null,null,null,null,4,8,8,12,2,3,2,4,4,6,6,8,11,15,11,15,2,20,56]
[57,null,null,null,null,null,null,null,null,null,null,null,null,null,null,null,null,null,null,null,null,2,10,4,13,1,12,14,15,1,15,1,15,9,17,9,17,4,18,57]
[58,null,null,null,null,null,null,null,null,null,null,null,null,null,null,null,null,null,null,null,null,3,12,2,11,10,14,12,13,13,16,13,17,7,18,7,19,6,16,58]
[59,null,null,null,null,null,null,null,null,null,null,null,null,null,null,null,null,null,null,null,null,5,11,3,9,8,13,10,11,11,14,9,16,5,16,3,18,8,14,59]
[60,null,null,null,null,null,null,null,null,null,null,null,null,null,null,null,null,null,null,null,null,7,9,5,7,6,11,8,9,9,12,7,14,3,14,2,16,10,12,60]
[61,null,null,null,null,null,null,null,null,null,null,null,null,null,null,null,null,null,null,null,null,1,4,1,8,4,9,6,7,7,10,5,12,2,12,4,14,1,13,61]
[62,null,null,null,null,null,null,null,null,null,null,null,null,null,null,null,null,null,null,null,null,2,6,6,10,2,7,4,5,5,8,3,10,4,10,6,12,11,15,62]
[63,null,null,null,null,null,null,null,null,null,null,null,null,null,null,null,null,null,null,null,null,3,8,4,12,3,5,2,3,3,6,2,8,6,8,8,10,9,17,63]
[64,null,null,null,null,null,null,null,null,null,null,null,null,null,null,null,null,null,null,null,null,5,10,3,13,1,10,1,14,2,4,4,6,1,15,1,15,7,19,64]
[65,null,null,null,null,null,null,null,null,null,null,null,null,null,null,null,null,null,null,null,null,7,12,5,11,8,12,10,15,1,16,1,17,13,17,13,17,5,20,65]
[66,null,null,null,null,null,null,null,null,null,null,null,null,null,null,null,null,null,null,null,null,9,11,7,9,6,14,8,13,14,15,13,16,11,18,11,19,3,18,66]
[67,null,null,null,null,null,null,null,null,null,null,null,null,null,null,null,null,null,null,null,null,"","",1,6,4,13,6,11,12,13,11,14,9,16,7,18,2,16,67]
[68,null,null,null,null,null,null,null,null,null,null,null,null,null,null,null,null,null,null,null,null,null,null,4,8,2,11,4,9,10,11,9,12,7,14,5,16,4,14,68]
[69,null,null,null,null,null,null,null,null,null,null,null,null,null,null,null,null,null,null,null,null,null,null,2,10,3,9,2,7,8,9,7,10,5,12,3,14,6,12,69]
[70,null,null,null,null,null,null,null,null,null,null,null,null,null,null,null,null,null,null,null,null,null,null,3,12,5,7,3,5,6,7,5,8,3,10,2,12,8,10,70]
[71,null,null,null,null,null,null,null,null,null,null,null,null,null,null,null,null,null,null,null,null,null,null,7,13,1,8,1,12,4,5,3,6,2,8,4,10,1,15,71]
[72,null,null,null,null,null,null,null,null,null,null,null,null,null,null,null,null,null,null,null,null,null,null,9,11,6,10,10,14,2,3,2,4,4,6,6,8,13,17,72]
[73,null,null,null,null,null,null,null,null,null,null,null,null,null,null,null,null,null,null,null,null,null,null,1,4,4,12,6,15,1,14,16,17,1,17,1,17,11,19,73]
[74,null,null,null,null,null,null,null,null,null,null,null,null,null,null,null,null,null,null,null,null,null,null,2,6,2,14,4,13,12,16,14,15,15,18,15,19,9,20,74]
[75,null,null,null,null,null,null,null,null,null,null,null,null,null,null,null,null,null,null,null,null,null,null,3,8,3,13,2,11,10,15,12,13,13,16,11,18,7,18,75]
[76,null,null,null,null,null,null,null,null,null,null,null,null,null,null,null,null,null,null,null,null,null,null,5,10,5,11,3,9,8,13,10,11,11,14,9,16,5,16,76]
[77,null,null,null,null,null,null,null,null,null,null,null,null,null,null,null,null,null,null,null,null,null,null,7,12,7,9,5,7,6,11,8,9,9,12,7,14,3,14,77]
[78,null,null,null,null,null,null,null,null,null,null,null,null,null,null,null,null,null,null,null,null,null,null,11,13,1,6,1,10,4,9,6,7,7,10,5,12,2,12,78]
[79,null,null,null,null,null,null,null,null,null,null,null,null,null,null,null,null,null,null,null,null,null,null,null,null,4,8,8,12,2,7,4,5,5,8,3,10,4,10,79]
[80,null,null,null,null,null,null,null,null,null,null,null,null,null,null,null,null,null,null,null,null,null,null,null,null,2,10,6,14,3,5,2,3,3,6,2,8,6,8,80]
[81,null,null,null,null,null,null,null,null,null,null,null,null,null,null,null,null,null,null,null,null,null,null,null,null,3,12,2,15,1,12,1,16,2,4,4,6,1,17,81]
[82,null,null,null,null,null,null,null,null,null,null,null,null,null,null,null,null,null,null,null,null,null,null,null,null,5,14,3,13,10,14,12,17,1,18,1,19,15,19,82]
[83,null,null,null,null,null,null,null,null,null,null,null,null,null,null,null,null,null,null,null,null,null,null,null,null,7,13,5,11,8,16,10,15,16,17,15,18,13,20,83]
[84,null,null,null,null,null,null,null,null,null,null,null,null,null,null,null,null,null,null,null,null,null,null,null,null,9,11,7,9,6,15,8,13,14,15,13,16,11,18,84]
[85,null,null,null,null,null,null,null,null,null,null,null,null,null,null,null,null,null,null,null,null,null,null,null,null,1,4,1,8,4,13,6,11,12,13,11,14,9,16,85]
[86,null,null,null,null,null,null,null,null,null,null,null,null,null,null,null,null,null,null,null,null,null,null,null,null,2,6,6,10,2,11,4,9,10,11,9,12,7,14,86]
[87,null,null,null,null,null,null,null,null,null,null,null,null,null,null,null,null,null,null,null,null,null,null,null,null,3,8,4,12,3,9,2,7,8,9,7,10,5,12,87]
[88,null,null,null,null,null,null,null,null,null,null,null,null,null,null,null,null,null,null,null,null,null,null,null,null,5,10,2,14,5,7,3,5,6,7,5,8,3,10,88]
[89,null,null,null,null,null,null,null,null,null,null,null,null,null,null,null,null,null,null,null,null,null,null,null,null,7,12,5,15,1,10,1,14,4,5,3,6,2,8,89]
[90,null,null,null,null,null,null,null,null,null,null,null,null,null,null,null,null,null,null,null,null,null,null,null,null,9,14,7,13,8,12,12,16,2,3,2,4,4,6,90]
[91,null,null,null,null,null,null,null,null,null,null,null,null,null,null,null,null,null,null,null,null,null,null,null,null,11,13,9,11,6,14,8,17,1,16,18,19,1,19,91]
[92,null,null,null,null,null,null,null,null,null,null,null,null,null,null,null,null,null,null,null,null,null,null,null,null,null,null,1,6,4,16,6,15,14,18,16,17,17,20,92]
[93,null,null,null,null,null,null,null,null,null,null,null,null,null,null,null,null,null,null,null,null,null,null,null,null,null,null,4,8,2,15,4,13,12,17,14,15,15,18,93]
[94,null,null,null,null,null,null,null,null,null,null,null,null,null,null,null,null,null,null,null,null,null,null,null,null,null,null,2,10,3,13,2,11,10,15,12,13,13,16,94]
[95,null,null,null,null,null,null,null,null,null,null,null,null,null,null,null,null,null,null,null,null,null,null,null,null,null,null,3,12,5,11,3,9,8,13,10,11,11,14,95]
[96,null,null,null,null,null,null,null,null,null,null,null,null,null,null,null,null,null,null,null,null,null,null,null,null,null,null,5,14,7,9,5,7,6,11,8,9,9,12,96]
[97,null,null,null,null,null,null,null,null,null,null,null,null,null,null,null,null,null,null,null,null,null,null,null,null,null,null,9,15,1,8,1,12,4,9,6,7,7,10,97]
[98,null,null,null,null,null,null,null,null,null,null,null,null,null,null,null,null,null,null,null,null,null,null,null,null,null,null,11,13,6,10,10,14,2,7,4,5,5,8,98]
[99,null,null,null,null,null,null,null,null,null,null,null,null,null,null,null,null,null,null,null,null,null,null,null,null,null,null,1,4,4,12,8,16,3,5,2,3,3,6,99]
[100,null,null,null,null,null,null,null,null,null,null,null,null,null,null,null,null,null,null,null,null,null,null,null,null,null,null,2,6,2,14,4,17,1,14,1,18,2,4,100]
[101,null,null,null,null,null,null,null,null,null,null,null,null,null,null,null,null,null,null,null,null,null,null,null,null,null,null,3,8,3,16,2,15,12,16,14,19,1,20,101]
[102,null,null,null,null,null,null,null,null,null,null,null,null,null,null,null,null,null,null,null,null,null,null,null,null,null,null,5,10,5,15,3,13,10,18,12,17,18,19,102]
[103,null,null,null,null,null,null,null,null,null,null,null,null,null,null,null,null,null,null,null,null,null,null,null,null,null,null,7,12,7,13,5,11,8,17,10,15,16,17,103]
[104,null,null,null,null,null,null,null,null,null,null,null,null,null,null,null,null,null,null,null,null,null,null,null,null,null,null,9,14,9,11,7,9,6,15,8,13,14,15,104]
[105,null,null,null,null,null,null,null,null,null,null,null,null,null,null,null,null,null,null,null,null,null,null,null,null,null,null,13,15,1,6,1,10,4,13,6,11,12,13,105]
[106,null,null,null,null,null,null,null,null,null,null,null,null,null,null,null,null,null,null,null,null,null,null,null,null,null,null,null,null,4,8,8,12,2,11,4,9,10,11,106]
[107,null,null,null,null,null,null,null,null,null,null,null,null,null,null,null,null,null,null,null,null,null,null,null,null,null,null,null,null,2,10,6,14,3,9,2,7,8,9,107]
[108,null,null,null,null,null,null,null,null,null,null,null,null,null,null,null,null,null,null,null,null,null,null,null,null,null,null,null,null,3,12,4,16,5,7,3,5,6,7,108]
[109,null,null,null,null,null,null,null,null,null,null,null,null,null,null,null,null,null,null,null,null,null,null,null,null,null,null,null,null,5,14,3,17,1,12,1,16,4,5,109]
[110,null,null,null,null,null,null,null,null,null,null,null,null,null,null,null,null,null,null,null,null,null,null,null,null,null,null,null,null,7,16,5,15,10,14,14,18,2,3,110]
[111,null,null,null,null,null,null,null,null,null,null,null,null,null,null,null,null,null,null,null,null,null,null,null,null,null,null,null,null,9,15,7,13,8,16,10,19,1,18,111]
[112,null,null,null,null,null,null,null,null,null,null,null,null,null,null,null,null,null,null,null,null,null,null,null,null,null,null,null,null,11,13,9,11,6,18,8,17,16,20,112]
[113,null,null,null,null,null,null,null,null,null,null,null,null,null,null,null,null,null,null,null,null,null,null,null,null,null,null,null,null,1,4,1,8,4,17,6,15,14,19,113]
[114,null,null,null,null,null,null,null,null,null,null,null,null,null,null,null,null,null,null,null,null,null,null,null,null,null,null,null,null,2,6,6,10,2,15,4,13,12,17,114]
[115,null,null,null,null,null,null,null,null,null,null,null,null,null,null,null,null,null,null,null,null,null,null,null,null,null,null,null,null,3,8,4,12,3,13,2,11,10,15,115]
[116,null,null,null,null,null,null,null,null,null,null,null,null,null,null,null,null,null,null,null,null,null,null,null,null,null,null,null,null,5,10,2,14,5,11,3,9,8,13,116]
[117,null,null,null,null,null,null,null,null,null,null,null,null,null,null,null,null,null,null,null,null,null,null,null,null,null,null,null,null,7,12,3,16,7,9,5,7,6,11,117]
[118,null,null,null,null,null,null,null,null,null,null,null,null,null,null,null,null,null,null,null,null,null,null,null,null,null,null,null,null,9,14,7,17,1,10,1,14,4,9,118]
[119,null,null,null,null,null,null,null,null,null,null,null,null,null,null,null,null,null,null,null,null,null,null,null,null,null,null,null,null,11,16,9,15,8,12,12,16,2,7,119]
[120,null,null,null,null,null,null,null,null,null,null,null,null,null,null,null,null,null,null,null,null,null,null,null,null,null,null,null,null,13,15,11,13,6,14,10,18,3,5,120]
[121,null,null,null,null,null,null,null,null,null,null,null,null,null,null,null,null,null,null,null,null,null,null,null,null,null,null,null,null,null,null,1,6,4,16,6,19,1,16,121]
[122,null,null,null,null,null,null,null,null,null,null,null,null,null,null,null,null,null,null,null,null,null,null,null,null,null,null,null,null,null,null,4,8,2,18,4,17,14,18,122]
[123,null,null,null,null,null,null,null,null,null,null,null,null,null,null,null,null,null,null,null,null,null,null,null,null,null,null,null,null,null,null,2,10,3,17,2,15,12,20,123]
[124,null,null,null,null,null,null,null,null,null,null,null,null,null,null,null,null,null,null,null,null,null,null,null,null,null,null,null,null,null,null,3,12,5,15,3,13,10,19,124]
[125,null,null,null,null,null,null,null,null,null,null,null,null,null,null,null,null,null,null,null,null,null,null,null,null,null,null,null,null,null,null,5,14,7,13,5,11,8,17,125]
[126,null,null,null,null,null,null,null,null,null,null,null,null,null,null,null,null,null,null,null,null,null,null,null,null,null,null,null,null,null,null,7,16,9,11,7,9,6,15,126]
[127,null,null,null,null,null,null,null,null,null,null,null,null,null,null,null,null,null,null,null,null,null,null,null,null,null,null,null,null,null,null,11,17,1,8,1,12,4,13,127]
[128,null,null,null,null,null,null,null,null,null,null,null,null,null,null,null,null,null,null,null,null,null,null,null,null,null,null,null,null,null,null,13,15,6,10,10,14,2,11,128]
[129,null,null,null,null,null,null,null,null,null,null,null,null,null,null,null,null,null,null,null,null,null,null,null,null,null,null,null,null,null,null,1,4,4,12,8,16,3,9,129]
[130,null,null,null,null,null,null,null,null,null,null,null,null,null,null,null,null,null,null,null,null,null,null,null,null,null,null,null,null,null,null,2,6,2,14,6,18,5,7,130]
[131,null,null,null,null,null,null,null,null,null,null,null,null,null,null,null,null,null,null,null,null,null,null,null,null,null,null,null,null,null,null,3,8,3,16,2,19,1,14,131]
[132,null,null,null,null,null,null,null,null,null,null,null,null,null,null,null,null,null,null,null,null,null,null,null,null,null,null,null,null,null,null,5,10,5,18,3,17,12,16,132]
[133,null,null,null,null,null,null,null,null,null,null,null,null,null,null,null,null,null,null,null,null,null,null,null,null,null,null,null,null,null,null,7,12,7,17,5,15,10,18,133]
[134,null,null,null,null,null,null,null,null,null,null,null,null,null,null,null,null,null,null,null,null,null,null,null,null,null,null,null,null,null,null,9,14,9,15,7,13,8,20,134]
[135,null,null,null,null,null,null,null,null,null,null,null,null,null,null,null,null,null,null,null,null,null,null,null,null,null,null,null,null,null,null,11,16,11,13,9,11,6,19,135]
[136,null,null,null,null,null,null,null,null,null,null,null,null,null,null,null,null,null,null,null,null,null,null,null,null,null,null,null,null,null,null,15,17,1,6,1,10,4,17,136]
[137,null,null,null,null,null,null,null,null,null,null,null,null,null,null,null,null,null,null,null,null,null,null,null,null,null,null,null,null,null,null,null,null,4,8,8,12,2,15,137]
[138,null,null,null,null,null,null,null,null,null,null,null,null,null,null,null,null,null,null,null,null,null,null,null,null,null,null,null,null,null,null,null,null,2,10,6,14,3,13,138]
[139,null,null,null,null,null,null,null,null,null,null,null,null,null,null,null,null,null,null,null,null,null,null,null,null,null,null,null,null,null,null,null,null,3,12,4,16,5,11,139]
[140,null,null,null,null,null,null,null,null,null,null,null,null,null,null,null,null,null,null,null,null,null,null,null,null,null,null,null,null,null,null,null,null,5,14,2,18,7,9,140]
[141,null,null,null,null,null,null,null,null,null,null,null,null,null,null,null,null,null,null,null,null,null,null,null,null,null,null,null,null,null,null,null,null,7,16,5,19,1,12,141]
[142,null,null,null,null,null,null,null,null,null,null,null,null,null,null,null,null,null,null,null,null,null,null,null,null,null,null,null,null,null,null,null,null,9,18,7,17,10,14,142]
[143,null,null,null,null,null,null,null,null,null,null,null,null,null,null,null,null,null,null,null,null,null,null,null,null,null,null,null,null,null,null,null,null,11,17,9,15,8,16,143]
[144,null,null,null,null,null,null,null,null,null,null,null,null,null,null,null,null,null,null,null,null,null,null,null,null,null,null,null,null,null,null,null,null,13,15,11,13,6,18,144]
[145,null,null,null,null,null,null,null,null,null,null,null,null,null,null,null,null,null,null,null,null,null,null,null,null,null,null,null,null,null,null,null,null,1,4,1,8,4,20,145]
[146,null,null,null,null,null,null,null,null,null,null,null,null,null,null,null,null,null,null,null,null,null,null,null,null,null,null,null,null,null,null,null,null,2,6,6,10,2,19,146]
[147,null,null,null,null,null,null,null,null,null,null,null,null,null,null,null,null,null,null,null,null,null,null,null,null,null,null,null,null,null,null,null,null,3,8,4,12,3,17,147]
[148,null,null,null,null,null,null,null,null,null,null,null,null,null,null,null,null,null,null,null,null,null,null,null,null,null,null,null,null,null,null,null,null,5,10,2,14,5,15,148]
[149,null,null,null,null,null,null,null,null,null,null,null,null,null,null,null,null,null,null,null,null,null,null,null,null,null,null,null,null,null,null,null,null,7,12,3,16,7,13,149]
[150,null,null,null,null,null,null,null,null,null,null,null,null,null,null,null,null,null,null,null,null,null,null,null,null,null,null,null,null,null,null,null,null,9,14,5,18,9,11,150]
[151,null,null,null,null,null,null,null,null,null,null,null,null,null,null,null,null,null,null,null,null,null,null,null,null,null,null,null,null,null,null,null,null,11,16,9,19,1,10,151]
[152,null,null,null,null,null,null,null,null,null,null,null,null,null,null,null,null,null,null,null,null,null,null,null,null,null,null,null,null,null,null,null,null,13,18,11,17,8,12,152]
[153,null,null,null,null,null,null,null,null,null,null,null,null,null,null,null,null,null,null,null,null,null,null,null,null,null,null,null,null,null,null,null,null,15,17,13,15,6,14,153]
[154,null,null,null,null,null,null,null,null,null,null,null,null,null,null,null,null,null,null,null,null,null,null,null,null,null,null,null,null,null,null,null,null,null,null,1,6,4,16,154]
[155,null,null,null,null,null,null,null,null,null,null,null,null,null,null,null,null,null,null,null,null,null,null,null,null,null,null,null,null,null,null,null,null,null,null,4,8,2,18,155]
[156,null,null,null,null,null,null,null,null,null,null,null,null,null,null,null,null,null,null,null,null,null,null,null,null,null,null,null,null,null,null,null,null,null,null,2,10,3,20,156]
[157,null,null,null,null,null,null,null,null,null,null,null,null,null,null,null,null,null,null,null,null,null,null,null,null,null,null,null,null,null,null,null,null,null,null,3,12,5,19,157]
[158,null,null,null,null,null,null,null,null,null,null,null,null,null,null,null,null,null,null,null,null,null,null,null,null,null,null,null,null,null,null,null,null,null,null,5,14,7,17,158]
[159,null,null,null,null,null,null,null,null,null,null,null,null,null,null,null,null,null,null,null,null,null,null,null,null,null,null,null,null,null,null,null,null,null,null,7,16,9,15,159]
[160,null,null,null,null,null,null,null,null,null,null,null,null,null,null,null,null,null,null,null,null,null,null,null,null,null,null,null,null,null,null,null,null,null,null,9,18,11,13,160]
[161,null,null,null,null,null,null,null,null,null,null,null,null,null,null,null,null,null,null,null,null,null,null,null,null,null,null,null,null,null,null,null,null,null,null,13,19,1,8,161]
[162,null,null,null,null,null,null,null,null,null,null,null,null,null,null,null,null,null,null,null,null,null,null,null,null,null,null,null,null,null,null,null,null,null,null,15,17,6,10,162]
[163,null,null,null,null,null,null,null,null,null,null,null,null,null,null,null,null,null,null,null,null,null,null,null,null,null,null,null,null,null,null,null,null,null,null,1,4,4,12,163]
[164,null,null,null,null,null,null,null,null,null,null,null,null,null,null,null,null,null,null,null,null,null,null,null,null,null,null,null,null,null,null,null,null,null,null,2,6,2,14,164]
[165,null,null,null,null,null,null,null,null,null,null,null,null,null,null,null,null,null,null,null,null,null,null,null,null,null,null,null,null,null,null,null,null,null,null,3,8,3,16,165]
[166,null,null,null,null,null,null,null,null,null,null,null,null,null,null,null,null,null,null,null,null,null,null,null,null,null,null,null,null,null,null,null,null,null,null,5,10,5,18,166]
[167,null,null,null,null,null,null,null,null,null,null,null,null,null,null,null,null,null,null,null,null,null,null,null,null,null,null,null,null,null,null,null,null,null,null,7,12,7,20,167]
[168,null,null,null,null,null,null,null,null,null,null,null,null,null,null,null,null,null,null,null,null,null,null,null,null,null,null,null,null,null,null,null,null,null,null,9,14,9,19,168]
[169,null,null,null,null,null,null,null,null,null,null,null,null,null,null,null,null,null,null,null,null,null,null,null,null,null,null,null,null,null,null,null,null,null,null,11,16,11,17,169]
[170,null,null,null,null,null,null,null,null,null,null,null,null,null,null,null,null,null,null,null,null,null,null,null,null,null,null,null,null,null,null,null,null,null,null,13,18,13,15,170]
[171,null,null,null,null,null,null,null,null,null,null,null,null,null,null,null,null,null,null,null,null,null,null,null,null,null,null,null,null,null,null,null,null,null,null,17,19,1,6,171]
[172,null,null,null,null,null,null,null,null,null,null,null,null,null,null,null,null,null,null,null,null,null,null,null,null,null,null,null,null,null,null,null,null,null,null,"","",4,8,172]
[173,null,null,null,null,null,null,null,null,null,null,null,null,null,null,null,null,null,null,null,null,null,null,null,null,null,null,null,null,null,null,null,null,null,null,"","",2,10,173]
[174,null,null,null,null,null,null,null,null,null,null,null,null,null,null,null,null,null,null,null,null,null,null,null,null,null,null,null,null,null,null,null,null,null,null,"","",3,12,174]
[175,null,null,null,null,null,null,null,null,null,null,null,null,null,null,null,null,null,null,null,null,null,null,null,null,null,null,null,null,null,null,null,null,null,null,"","",5,14,175]
[176,null,null,null,null,null,null,null,null,null,null,null,null,null,null,null,null,null,null,null,null,null,null,null,null,null,null,null,null,null,null,null,null,null,null,"","",7,16,176]
[177,null,null,null,null,null,null,null,null,null,null,null,null,null,null,null,null,null,null,null,null,null,null,null,null,null,null,null,null,null,null,null,null,null,null,"","",9,18,177]
[178,null,null,null,null,null,null,null,null,null,null,null,null,null,null,null,null,null,null,null,null,null,null,null,null,null,null,null,null,null,null,null,null,null,null,"","",11,20,178]
[179,null,null,null,null,null,null,null,null,null,null,null,null,null,null,null,null,null,null,null,null,null,null,null,null,null,null,null,null,null,null,null,null,null,null,"","",13,19,179]
[180,null,null,null,null,null,null,null,null,null,null,null,null,null,null,null,null,null,null,null,null,null,null,null,null,null,null,null,null,null,null,null,null,null,null,"","",15,17,180]
[181,null,null,null,null,null,null,null,null,null,null,null,null,null,null,null,null,null,null,null,null,null,null,null,null,null,null,null,null,null,null,null,null,null,null,"","",1,4,181]
[182,null,null,null,null,null,null,null,null,null,null,null,null,null,null,null,null,null,null,null,null,null,null,null,null,null,null,null,null,null,null,null,null,null,null,"","",2,6,182]
[183,null,null,null,null,null,null,null,null,null,null,null,null,null,null,null,null,null,null,null,null,null,null,null,null,null,null,null,null,null,null,null,null,null,null,"","",3,8,183]
[184,null,null,null,null,null,null,null,null,null,null,null,null,null,null,null,null,null,null,null,null,null,null,null,null,null,null,null,null,null,null,null,null,null,null,"","",5,10,184]
[185,null,null,null,null,null,null,null,null,null,null,null,null,null,null,null,null,null,null,null,null,null,null,null,null,null,null,null,null,null,null,null,null,null,null,"","",7,12,185]
[186,null,null,null,null,null,null,null,null,null,null,null,null,null,null,null,null,null,null,null,null,null,null,null,null,null,null,null,null,null,null,null,null,null,null,"","",9,14,186]
[187,null,null,null,null,null,null,null,null,null,null,null,null,null,null,null,null,null,null,null,null,null,null,null,null,null,null,null,null,null,null,null,null,null,null,"","",11,16,187]
[188,null,null,null,null,null,null,null,null,null,null,null,null,null,null,null,null,null,null,null,null,null,null,null,null,null,null,null,null,null,null,null,null,null,null,"","",13,18,188]
[189,null,null,null,null,null,null,null,null,null,null,null,null,null,null,null,null,null,null,null,null,null,null,null,null,null,null,null,null,null,null,null,null,null,null,"","",15,20,189]
[190,null,null,null,null,null,null,null,null,null,null,null,null,null,null,null,null,null,null,null,null,null,null,null,null,null,null,null,null,null,null,null,null,null,null,"","",17,19,190]

{"sheet":"Releases","index":16,"n_rows":185,"n_cols":28,"rows_kept":185,"cut":false,"hidden":true,"merged":[[0,0,0,2]]}
["Release informatie en/of algemene opmerkingen",null,null,null,null,null,null,null,null,null,null,null,null,null,null,null,null,null,null,null,null,null,null,null,null,null,"Instellingen","Instellingen"]
["Release","Datum","Informatie"]
["8.3","2010-02-06","Uitbreiding maken html-bestand voor publicatie op het web"]
[null,null,"D.m.v. Instellingen (Ctrl-i)"]
[null,null,"Betrefte de tabbladen: Schema, Ranglijst en individuele leden"]
["8.4","2010-02-08","Uitbreiding met de optie kunnen omzetten naar HTML"]
[null,null,"Middels Ctrl-i Instellingen en omzetten. Opgave bestand en pad waarheen."]
[null,null,"Daarnaast ook Home geintroduceerd. En de mogelijkheid deze ook naar HTML om te zetten (immers alleen zichtbare Tab's worden omgezet."]
["8.5","2010-02-21","Inlezen uitslagen andere comeptities uitgebreid met gemiddelden"]
[null,null," - Deze worden nu ingelezen : gemiddelde * aantal wedstrijden en opgeteld bij eerder vermeldde."]
[null,null," - Vandaar uit vindt de berekening plaats."]
[null,null,"Map voor op te slaan html bestanden nu kiezen d.m.v. Button mogelijk"]
["8.6","2010-03-05","Apart tabblad voor de webapplicatie en aparte button op hoofdblad gemaakt."]
["8.7","2010-08-31","Bestandsnaam (excl. Extensie) als titel op hoofdblad weergegeven"]
[null,null,"Daarnaast 2 extra macro's opgenomen in functiesectie:"]
[null,null,"  -  Ctrl-l weergegen lint ofwel tabknoppen "]
[null,null,"  -  Ctrl-s volledig scherm geen menu/lint in beeld"]
[]
["9.0","2010-10-14","Uitbreiding met programmaopzet."]
[null,null,"D.m.v. button Programma kan een programma worden gemaakt."]
[null,null,"Daarbij wordt rekeneing gehouden met reeds gespeelde wedstrijden en inactieve deelnemers"]
[null,null,"3 extra werkbladen nl. Wedstrijdschema, Wedstrijdoverzicht en Gespeeld te benaderen via Instellingen "]
[null,null,"Kleine bugs opgelost. Zo was bij opslaan als xlsm (2007 versie) een probleem met lid200, lid300, lid400, lid500 en web050"]
[null,null,"                                Op de een of andere manier werkt deze naam niet in 2007. Nu dus hernoemt naar lid_200 etc."]
["9.1","2010-10-16","Paar kleine bugs opgelost. Achtergrond hoofdblad groter gemaakt. En een niet gekleurd deel in Schema1 opgelost."]
[]
["9.1.1","2011-01-17","Bij invoeren/wijzigen uitslagen de mogelijkheid ingebouwd om niet te controleren op behaalde caramboles door 1 van de spelers."]
[null,null,"dit terwijl het geen 30 beurten partij is."]
[null,null,"De speler met de meeste punten krijgt dan de overwinning. En krijgt 1 punt."]
[null,null,"Hebben de spelers beiden evenveel caramboles, dan krijgen ze beiden 1 punt."]
["9.1.2","2011-01-18","Mogelijkheid in Instellingen de punten op te geven welke verdiend kunnen worden met een overwinning en gelijkspel bij Normaal-spel en geen carambole controle"]
["9.1.3","2011-02-07","De mogelijkheid van 9.1.2 is via Instellingen uit te schakelen. Dan ook niet meer zichtbaar. Alleen als men wil dat keus zichtbaar is, dan verschijnt deze in beeld."]
[]
["9.2.0","2011-03-11","Bij samenstellen ranglijst de keus uit te gaan van 0 = huidige competitie of 1 = incl. geimporteerde uitslagen"]
["9.2.1.","2011-11-25","Bij lidoverzicht de mogelijkheid vooruit of terug te bladeren ipv steeds weer opnieuw vragen om een lidnaam"]
["9.2.2.","2011-11-26","Bij import kues=2 nu ook de web-onderdelen"]
["9.2.3","2011-12-28","Foutje bij ranglijst gerepareerd. De keus alleen de huiduge competitie werkte niet. Hij gaf altijd de totale competitie. "]
["9.3.0","2012-04-15","Foutje in uitslagen gerepareerd en daarbij ook de uitslag bij geen carambolecontrole aangepast"]
[null,null,"Foutje zat bij 1e speler. Bij geen carambole-controle kon er maximaal een gelijkspel uitkomen. Nu opgelost"]
[null,null,"Winnaar is nu degeven met de hoogste score/moyenne bij geen controle. "]
[null,null,"Daarnaast wordt soort uitslag nu door macro gevuld"]
["9.3.1","2012-04-22","Verbeterd wedstrijdschema door aanpassing tabblad Wedstrijden"]
[null,null,"Schema opgebouwd volgens bestand wedstrijdschema, waarbij het laagste nummer altijd als eerste"]
["9.3.2","2012-09-25","Wedstrijdschema uitgebried met meerdere rondes per wedstrijddag"]
["9.4.0","2012-10-24","De mogelijkheid ingebouwd om in de ranglijst niet uit te gaan van het overall-gemiddelde, maar uit te gaan van het overall-percentage waarbij dit berekend wordt"]
[null,null,"obv de nieuwe moyenne gedeeld door het bestaande moyenne"]
[null,null,"Instellingen aan te passen via button op hoofdblad"]
["9.5.0","2012-11-08","KNBB caramboles (tabel) aan te passen middels een factor. Soort correctiefactor om bv. partijen iets sneller te beeindigen. Dit ipv een maximaal aantal beurten of in combinatie met"]
[null,null,"maximaal aantal beurten."]
[null,null,"Versie titel op hoofdblad automatisch dmv formule (via tekstvak selecteren en in formulebalk formule opgeven)"]
["9.6.0","2012-11-15","Help bij bekijken KNBB scores aangepast naar ook eigen caramboles na correctie en tevens percentages bij leden bekijken en wijzigen, alsmede bij de laatsten bladeren"]
["9.6.1","2012-11-29","Mogelijkheid Tabblad Leden via button bij te werken. Dit nadat bv. de factor via ctrl-I is aangepast. Dan wordt Leden niet direct aangepast. Gebeurde daarna pas na nieuwe uitslagen!!"]
["9.6.2.","2013-01-07","In schema de overwinning Blauw, vet en onderstreept, gelijk Zwart en vet en verlies rood. Geeft ook bij Zwart wit een goed overzicht."]
["9.6.3","2013-01-25","Aanpassingen in berekeningen gemiddelde/percentages Werk1 in de kolommen G en O (de isfout funktie ingebracht)"]
[null,null,"Bovendien in de module rang500 de deelfout door 0 afgevangen. Dit is bij binnenhalen gegevens andere competitie."]
[null,null,"In form instellingen de instelling voor  correctiefactor KNBB altijd aan te passen gemaakt. "]
[null,null,"Sluitktruis niet meer te gebruiken gebruik van variabele sluitenOK"]
["10.0.0.","2013-06-23","Agenda functie onfhankelijk van Microsoft en dus werkend in alle versies ook 2010 en 2013"]
[null,"2013-10-16","Als bij uitslagensectie gekozen is voor geen carambolescontrole dan is er ook helemaal geen controle, ook niet op overschrijdingen."]
[null,null,"geldt niet voor de wedstrijden waarbij nog geen caramboles zijn!!!."]
["10.1.0.","2013-11-03","Nu keus om Ranglijst en/of Schema wel of niet te publicere op web"]
[null,null,"Daarnaast wordt het html-bestand geopend en kunnen d.m.v. een drietal macro's het HTML bestand opgemaakt worden"]
["10.2.0","2014-02-25","Uitbreiding nieuw moyennes en gemiddelden. Nu ook zichtbaar wat nieuwe scores moeten zijn als de hoogste en laagste score niet meetellen in de competitie."]
[null,null,"Geldt alleen voor gehele competitie en dus niet voor de laatste 5 wedstrijden."]
[null,null,"In grafiek is dit niet opgenomen, dat blijft altijd gehele competitie incl. hoogste en laagste."]
["10.2.1","2014-10-09","Op tabblad Werk1 formule in kolom W aangepast: =AANTAL.ALS(Uitslagen1!$C$2:$C$191;$V2\") naar =AANTAL.ALS(Uitslagen1!$C$2:$C$191;$V2&\"*\")"]
[null,null,"De uitbreiding is dus &\"*\". Als dit er niet staat wordt er een treffer geteld als in uitslagen 1-2 staat en in Werk1 2-14. Blijkbaar ziet deze formule dit als een treffer."]
[null,null,"Als je dit nl. inbrengt in datum-velden zijn deze waarden inn 2014 gelijk in 2015 dan dus 1-2 en 2-15. Maar dat is nu voorkomen."]
["10.3.0","2014-12-02","Programmaoverzicht uitgebreid met niet/onvolledig geplaatste spelers."]
[null,null,"Vooral bij grote competities is het handig dat je meteen weet welke spelers niet geplaatst zijn op de betreffende datum"]
[null,"2015-11-30","Sluiten macro kleine bugfixes gemaakt. Met name dat er uiteindelijk altijd naar de uniek auto_close() springt"]
[null,null,"Uitgebreid met: Application.Wait (Now + TimeValue(\"0:00:02\")) 'even wachten om de laatste DoEvents af te wachten"]
["10.4.0","2015-12-18","HELP functie aangepast. Oude methode werkte niet meer."]
[null,null,"Nu opgezet via hyperlink optie Zie macro Helpsectie en hulpveld in Werk1 A48"]
["10.5.0 ","2016-01-15","Bug in programma inzake bepaling gewonnen, gelijk en verloren wedstrijden."]
["   ",null,"Deze werd gemaakt obv de individuele tabblad met daarin obv punten behaald (nl 2 bij overwinning en 1 bij gelijk)"]
["   ",null,"Nu aangepast naar punten opgegeven in instellingen."]
[null,null,"Let wel als Gelijk toevallig nog een telling heeft die overeenkomt met bv een overwinning, dan gaat er nog iets mis. Hij telt hem namelijk dan als gelijk en overwinning. De score blijft overigens wel kloppen"]
[null,null,"Import ook aangepast vwb Instellingen de telling bij overwinning etc, alsmede de andere instellingen zoals correctiefactor"]
["10.5.1","2016-12-30","Bij import gegevens andere competities blijkt dat import bestand niet sluit. Dan blijkt ook daarna dat dit bestand als actief staat."]
[null,null,"En dat mag niet dus daaromeen regel toegevoegd: "]
[null,null,"Workbooks(sVarbest).Activate                  'voor als sluiten van sVarbestA mislukt?!?! miv 30-12-2016"]
["10.6.0","2017-07-30","Help nu d.m.v. Userform in beeld. Daarbij wordt gebruik gemaakt van gereedschap WebBrowser."]
[null,null,"Denk erom dat in Extra-Verwijzingen Microsoft Internet Controls  "]
[null,null,"aanstaat!!!"]
[]
[]
[]
[null,null,"Verder:"]
[null,null,"Na gebruik van import van of lidgegevens of uitslagen van eerdere competities de koppelingen"]
[null,null,"verbreken (Import999 en rang410)"]
[]
[]
[]
[]
[]
[]
["10.6.2","2017-10-03","Op individueel tabblad nu in cel Soort duidelijk of er sprake is van verlies, gelijkspel of winst"]
[null,null,"Nu wordt de gewonnen, gelijke en verloren wedstrijden goed vermeld in F3 - H3. De puntentelling is altijd goed geweest."]
[null,null,"Voorheen werd dit bepaald obv het aantal punten dat men behaald had per wedstrijd."]
[null,null,"Als dan een gelijkspel hetzelfde aantal had als een overwinning (bv bij een ongecontroleerde uitslag) dan werd er een gelijkspel en een overwinning vermeld in F3 - H3"]
["10.7.0","2017-10-04","Meerdere aanpassingen met name t.a.v. de opmaak."]
[null,null,"Uitslagen-ruw  (Uitslagen1) uitgebreid met kode per speler verloren, gelijk of winnaar (extra kolom) (0=verlies, 1=gelijk norm, 2=gelijk aang, 3=winst norm, 4=winst aangep)"]
[null,null,"Schema aangepast obv bovenstaande uitbreiding zodat de kleuring per soort verschillend is. Dus winst heeft verschillende kleuren evenals gelijk."]
[null,null,"Lidformat aangepast obv die kode zodat duidelijk is of speler heeft gewonnen, gelijk of verloren en duidelijk is welke telling gebruikt is. Is uitbreiding 10.6.2"]
["10.7.1","2017-10-07","In Lidformat kolom G6-G24 de inhoud vervangen door formule."]
[null,null,"Va versie 10.7.0 is de soort namelijk aangepast naar 5 soorten en bij een import uit een eerdere versie kan dat dan misgaan, omdat daar mogelijk de oude soort indeling nog"]
[null,null,"van kracht was."]
["10,7,2","2017-10-25","Kleine aanpassingen. "]
[null,null,"Inbrengen uitslagen een kleine aanpassing. In de vorige versie was namelijk de soort wedstrijd veranderd in een formule, doch het springen van cel naar cel was er nog wel"]
[null,null,"'  ActiveCell.Offset(0, 1).Select"]
[null,null,"'  ActiveCell.value = vSoort1"]
[null,null,"'  ActiveCell.Offset(0, 1).Select"]
[null,null,"  ActiveCell.Offset(0, 2).Select"]
[null,null,"Het bleek namelijk dat er soms een lege cel ontstaat in Soort en dat de formule weg was?!?!?"]
[null,null,"Daarnaast het inbrengen van de datum bij uitslagen alleen nog via button!!"]
["10.7.3","2017-11-29","Kleine buxfixes."]
[null,null," - Bij start bleek dat er na download vaak \"Fout 1004 bij uitvoering. \" inbeeld komt. Kan simpelweg weggeklikt worden maar toch.  Application.EnableEvents = False opgenomen in Auto-Open"]
[null,null," - Bij verwijdren uitslag, ook als gevolg van inactief maken van een lid worden betreffende wedstrijden verwijderd uit het overzicht van de tegenspelers."]
[null,null,"   alleen dan blijkt er iets mis te gaan met de formule in kolom G. Dat is hopelijk nu opgelost."]
[null,null,"   zie de sub's:   Uitslagen555   en   legen150"]
["11.0.0","2018-01-12","Het bleek dat aanpassing 29-11-2017 niet voldoende was. Ook bij het geheel legen van de uitslagen ging er iets fout  "]
[null,null,"   zie de sub's:    legen000"]
[null,null,"Daarnaast is bij binnenhalen uitslagen vorige competities kolom G nu een waarde was een formule met 2, 1 en nul punten."]
[null,null,"Dat werkt niet meer immers er kunnen voor een gewonnen wedstrijd etc andere tellingen gelden"]
[null,null,"   zie de sub's:    import200"]
["11.0.1","2018-04-24","Bij tabblad Individueel bij gemiddelde per wedstrijd de opmaak gemaakt waarbij lager dan start in               Rood, en hoger dan bij start in    Blauw"]
["11,0,2","2018-09-21","Modele Ledensectie bij Sub Lid000() toegevoegd de regel "]
[null,null,"Application.ScreenUpdating = True"]
[null,null,"voor de regel met:  Sheets(vNaam).Select"]
[null,null,"Sub weer afgesloten met "]
[null,null,"Application.ScreenUpdating = False"]
[null,null,"De reden is dat soms bij vooruit en achteruitbladeren bij individueel lid delen van blad Werk in beeld blijven staan en delen van huidig werkblad onzichtbaar werden."]
[null,null,"Dit lijkt het op te lossen."]
[null,null,"Tevens in Printsectie sub Printlid() een paar aanpassingen gemaakt nl. screenupdating niet meer actief en unprotect en protect toegevoegd."]
[null,null,"In printview ontstond grijs vlak in beeld, overigens de echte print was goed?!?"]
["11.0.3","2018-11-01","Bij tabblad wedstrijdschema de formule aangepast in kolom I, namelijk als in A niets gevuld is dan is deze cel 0"]
[null,null,"Daarnaast macro Schema000 herschreven er was afvraging op \"\" en nu is dat 0"]
["11.0.4","2018-12-10","HELP nu weer gebruik makend van oude Internet explorer en niet dus form Handleiding"]
["11.0.5 ","2019-01-08","Aanpassing 11.0.3 nog niet goed. Aanpassing in macro. "]
[null,null,"Als namelijk in macro Schema000 sp1 en/of sp2 spaties bevan gaat Vlookup de fout in."]
[null,"2021-04-26","Helpbutton verwijst nu naar Googledrive locatie. Andere methode werkt helaas niet meer."]
["12.0.0","2022-09-01","Mogelijkheid spelers buiten de programmaindeling te houden via Leden scherm. Bv. Als leden zich afmelden voor de volgende ronde. Nadeel blijft dan dat speler"]
[null,null,"helemaal niet meer wordt ingedeeld."]
["13.0.0","2022-12-12","Belgische systeem ingevoerd. Betekent dat de speler de normale score krijgt voor een overwinning of gelijkspel, doch bij keus voor Belgisch wordt deze telling vermeerderd"]
[null,null,"met score*10/moyenne. Daarbij wordt getal afgekapt voor de komma."]
[null,"2022-12-27","Bij macro \" Sub rang500() 'ranglijst importen uit eerdere versie/ander bestand\" bij fout afhandeling onderdeel ON ERROR RESUME NEXT toegevoegd."]
["14.0.0","2023-09-20","Wijzigen Naam mogelijk gemaakt en oplossen kleine bugfix"]
[null,null,"Bugfix had te maken met als een lid wordt verwijderd het lidnummer van de volgende leden niet meer klopte, omdat bij aanmaak van Lid dit nummer werd toegekend. Nu is dat een formule die het nummer ophaalt uit Leden"]
["15.0.0","2023-09-21","Extra punt(en) als een speler meer dan vooraf opgegeven percentage gemiddelde tov zijn/haar moyennegemiddelde scoort"]
["15.5.0","2023-09-25","Achteraf wijzigen van puntentelling vanaf nu mogelijk. Geldt voor telling, Belgisch en extra punt(en) bij moyenne overschrijding"]
["15.5.5","2023-10-03","Kleine schoonheids aanpassingen in tabblad import"]
["15.6.0","2023-10-05","Foutje mbt soort uitslag bijgewerkt. Is nu formule in tabblad Individueel lid overzicht kolom I"]
[null,null,"Daardoor zijn de overzichten gewonnen, gelijk en verloren ook weer goed. Punten zijn altijd wel goed geweest."]
["16.0.0","2023-10-17","Opstellen programma nu te wijzigen vwb de indeling. Dit kan nu via Instellingen. Programmacode 1 t/m 4. Zie oon tabblad instellingen voor duiding van de veschillende codes"]
["16.5.0","2023-10-18","Bij Instellingen wijzigen nu bij afsluiten Userform in beeld ipv MessageBox. Daarin mooier overzicht van de aangepaste instellingen"]
[null,null,"Plus wat kleine bug fixes"]
["16.5.5","2023-10-27","T.b.v. caramboles controle op uitsalgenformulieren nu keuzerondjes ipv lijst"]
["17.0.0","2023-10-28","Overzicht samengesteld van alle nog te spelen wedstrijden in een lijst. Is dus anders dan programma op datum."]
[null,null,"Dit is soms handig als overzicht. De inactieve leden van dat moment staan er ook niet in"]
["17.5.0","2023-11-08","Bug opgelost waarbij het fout ging bij wijzigen lidgegevens. Had te maken met de mogelijkheid de naam ook te wijzigen. Na die wijziging was er nog een aanpassing gemaakt in de bepaling van de puntenscore op het naam-tabblad. "]
["17.6.0","2024-01-11","Kleine bug aanpassing. Bij wijzigen bestaande uitslag werd de puntentelling van de eerste speler overschreven. Is echter formule en daarna niet meer."]
[null,null,"Dat is nu hersteld."]
[null,"2024-01-13","I-button geplaatst op Instellngen scherm. Informatie over moyenne intervallen."]
[null,"2024-01-15","Op individueel tabblad opgenomen aantal partijen analyse inzake beurten meer dan 30"]
["18.0.0","2024-01-17","Interval tabel voor bepalen persoonlijke moyennes obv gespeelde wedstrijden aangepast naar versie van \"WRLC vanaf 2023-2024 (versie 29-07-2023)\""]
[null,null,"daarbij met sommige moyennes iets creatief omgegaan. "]
[null,null,"Tweede tabel toegevoegd, namelijk een Eigen tabel gebaseerd op 30 uit 30 beurten bij 1 gemiddeld.  Verdere verklaring zie bij tabel in Instellingen"]
["18.1.0","2024-01-19","Moyenne tabel KNBB iets aangepast nu conform WRLC vanaf 2023-2024. Zie ook bestand \"Moyenne interval vergelijking.xlsx\" met ook een beetje andere intervallen."]
[null,null,"Tweede tabel blijft kwa verspringen ongewijzigd"]
[null,"2024-01-24","Extra macro in websectie gemaakt. Deze voert namelijk alle macro's in een keer uit"]
[null,"2024-01-25","Kleine tekortkoming opgelost bij import Instellingen"]
["18.5.0","2024-02-13","Aanpassingen in uitslagen telling. Er ontstond deleing door 0 als een speler 0 caramboles had gemaakt. Daarnaast bleek de puntentelling, vooral de belgische fout te gaan als"]
[null,null,"bij geen carambole controle de spelers meer maakten dan hun vereiste moyenne. Sommige clubs spelen altijd 25 beurten bv."]
[null,null,"Daarnaast ingebouwd dat de eigen tabel aangepast kan worden naar eigen goed dunken!!"]
["19.0.0","2024-04-22","Programma rondes per dag aangepast. Werke niet. Nu rondes apart aangeven voordat kalender in beeld komt"]
["19.5.0","2024-05-27","ingebouwd de mogelijkheid het wedstrijdschema speler1 en speler2 om te keren. Alsof de mogelijkeid er bestaat thuis en uit te spelen."]
[null,null,"blijft natuurlijk dat het 2 aparte competities blijven waarbij de gegevens van de eerste geimporteerd moet worden in de 2e, warbij dan die kode op 2 = uit staat."]
[null,null,"Paar kleine bugfixes in de porgrammalijst. Zoals de lettergrootte en de kleur. Ook importeren van zelf samengestelde moyennetabel."]
["19.6.0","2024-11-06","Bij verwijderen lid op inactief lid bij uislagen verwijderen kolom H en I niet meer legen is formule sinds 25-9-2023"]
[null,null,"Dit geldt ook bij alle uitslagen verwijderen."]
["19.7.0","2025-05-24","Op Importeren tabblad gegevens Uitslag andere competitie, ging er bij het verwijderen van die import iets mis met ledigen. Kolom G werd niet geleegd en dat is met deze"]
[null,null,"versie hersteld."]
[null,null,"Tevens bij importeren uitslagen extra button toegevoegd die alle import uitslagen ververst met de  uitslagen uit selectie bestand. "]
[null,null,"Is bedoeld als hulp om een uit en thuiswedstrijd te simuleren, door dan de uitslagen uit 1e bestand steeds te kunnen verversen"]

{"sheet":"Web","index":17,"n_rows":39,"n_cols":14,"rows_kept":39,"cut":false,"hidden":true,"merged":[[6,1,6,2],[8,1,8,6],[10,1,10,2],[14,2,14,4]]}
["Hier de mogelijkheid om een web-applicatie te bouwen."]
[]
[]
["Hieronder de mogelijkheden voor het creeren van een HTML-versie met daarin"]
["Schema, ranglijst en de tabbladen van de verschillende spelers (max. 20)."]
["Typ hieronder de naam van het te creeeren bestand zonder extensie"]
["Naam: ",null,null,null,"HTML Bestand na maken bewerken",null,null,null,"Ja","   Bij Ja wordt bestand geopend en is klaar voor bewerken"]
[]
["Pad :",null,null,null,null,null,null," als laatste altijd \\, én Pad moet bestaan!!!. D.m.v. button bestaat map altijd!!"]
[]
["Homekode",1,null,"      Hompagina-> 1 = niet zichtbaar; 2 wel zichtbaar",null,null,null,null,null,null,"Andere paginas in beeld"]
[null,null,null,null,null,null,null,null,null,null,"Ranglijst in beeld",null,"Ja","  Bij Ja wordt de ranglijst gepubliceerd"]
[null,null,null,null,null,null,null,null,null,null,"Schema in beeld",null,"Ja","  Bij Ja wordt het schema gepubliceerd"]
[null,null,null,null,null,null,null,null,null,null,"Uitslagen in beeld",null,"Ja","  Bij Ja worden de uitslagen gepubliceerd"]
["Bestand gemaakt op:",null,"8-12-2022  ||  15:03:30",null,null,null,null,null,null,null,"Individueel lid",null,"Altijd","  Individuele ledenoverzicht altijd in beeld"]
[]
[]
[]
[]
[null,null,null,null,null,null,null,null,"Opmerkingen:"]
[null,null,null,null,null,null,null,null,"Als er gekozen is voor openen HTML bestand zijn er kwa opmaak 3 op te starten makros"]
[null,null,null,null,null,null,null,null,"1. opmaken schema."]
[null,null,null,"   Terug vanuit Home middele Ctrl+h",null,null,null,null,"    alle verborgen kolommen worden verwijderd, plus alle buttons en de teksten mbt ranglijst"]
[null,null,null,null,null,null,null,null,"    makro controleert of het reeds gebeurd is en of de tab idd Schema1 is"]
[null,null,null,null,null,null,null,null,"2. opmaken lid tabblad."]
[null,null,null,null,null,null,null,null,"    buttons en opmerkingen worden verwijderd"]
[null,null,null,null,null,null,null,null,"    makro controleert of het reeds gebeurd is en of het wel een lid tab is"]
[null,null,null,null,null,null,null,null,"3. opmaken Ranglijst tabblad."]
[null,null,null,null,null,null,null,null,"    buttons en opmerkingen worden verwijderd"]
[null,null,null,null,null,null,null,null,"4. opmaken Uitslagen tabblad."]
[null,null,null,null,null,null,null,null,"   buttons en opmerkingen worden verwijderd"]
[null,null,null,null,null,null,null,null,"5. bovenstaande macro's kunnen worden uitgevoerd dmv  dmv ctrl+m"]
[]
[]
[null,null,null,null,null,null,null,null,"Handmatig aanpassen van de verschillende tabbladen etc. is ook mogelijk."]
[null,null,null,null,null,null,null,null,"Denk erom dat het tabblad in beeld onder excel zal ook als eerste verschijnen bij aanroepen op website!!"]
[null,null,null,null,null,null,null,null,"Na de aanpassingen bet bestand opslaan en publiceren op de site."]
[null,null,null,null,null,null,null,null,"Is er reeds een bestand gemaakt  en aangepast en wil je deze nog even bekijken/bewerken gebruik dan onderstaande "]
[null,null,null,null,null,null,null,null,"button"]